{"text_format":"1","workbook":"xlsx","n_sheets":4,"sheets":["見積書(1号)","見積書(2号)","出来高表紙","出来高内訳"],"not_rendered":{"charts":0,"images":0,"macros":1,"external_links":0,"defined_names":26,"comments":2,"pivot_tables":0},"unopened":[],"bounds":{"document_bytes":16777216,"sheet_cells":100000,"rows_first":2000,"rows_last":500,"rows_between":2000,"halvings":0,"cell_chars":16384,"cell_head_chars":4096},"cells_cut":0,"cells_raw":0,"read":"whole","date_system":"1900"}

{"sheet":"見積書(1号)","index":0,"n_rows":57,"n_cols":63,"rows_kept":57,"cut":false,"hidden":false,"merged":[[0,20,1,34],[19,48,19,54],[9,16,9,21],[18,20,18,21],[18,48,18,54],[2,42,3,42],[2,40,3,41],[18,18,18,19],[10,31,11,35],[4,8,5,21],[6,16,6,21],[18,0,18,3],[15,0,15,3],[7,0,7,3],[7,4,8,15],[2,43,3,46],[2,37,3,37],[2,31,3,35],[2,47,3,47],[2,36,3,36],[4,22,5,30],[2,39,3,39],[2,38,3,38],[9,7,11,15],[15,13,15,15],[13,38,13,42],[14,38,14,42],[15,38,15,42],[13,13,13,15],[14,4,15,12],[12,4,13,12],[2,3,3,6],[2,7,3,10],[2,11,3,16],[14,0,14,3],[26,4,27,11],[36,4,37,11],[30,4,31,11],[32,4,33,11],[9,0,9,2],[9,3,11,6],[7,17,7,21],[12,16,12,21],[20,4,21,11],[22,0,23,3],[16,6,17,37],[13,16,15,37],[18,4,18,11],[22,20,23,21],[20,0,21,3],[12,13,12,15],[18,12,18,17],[14,13,14,15],[10,17,10,21],[36,12,37,14],[36,15,37,15],[36,16,37,21],[17,0,17,3],[16,4,16,5],[50,0,51,3],[30,0,31,3],[32,0,33,3],[48,0,49,3],[42,0,43,3],[38,0,39,3],[46,0,47,3],[44,0,45,3],[56,12,57,17],[52,12,53,17],[54,0,55,3],[56,0,57,3],[56,4,57,11],[52,0,53,3],[40,0,41,3],[36,0,37,3],[34,0,35,3],[34,4,35,11],[38,4,39,11],[40,4,41,11],[48,4,49,11],[50,4,51,11],[52,4,53,11],[54,4,55,11],[52,46,53,47],[48,12,49,21],[48,34,49,39],[48,28,49,33],[50,34,51,39],[52,20,53,21],[50,12,51,17],[50,18,51,19],[50,20,51,21],[54,22,55,27],[54,12,55,17],[54,18,55,19],[54,20,55,21],[52,18,53,19],[50,48,51,53],[56,28,57,33],[56,34,57,39],[56,40,57,45],[56,46,57,47],[50,22,51,27],[54,28,55,33],[54,34,55,39],[54,46,55,47],[56,18,57,19],[56,20,57,21],[54,40,55,45],[56,22,57,27],[54,48,55,53],[56,48,57,53],[52,22,53,27],[52,28,53,33],[52,34,53,39],[52,40,53,45],[32,28,33,33],[32,15,33,21],[42,28,43,33],[42,34,43,39],[42,40,43,45],[42,46,43,47],[48,40,49,45],[48,46,49,47],[50,28,51,33],[48,22,49,27],[12,0,12,3],[22,46,23,47],[46,15,47,15],[46,16,47,21],[20,12,21,17],[20,18,21,19],[20,20,21,21],[26,12,27,17],[26,18,27,19],[26,20,27,21],[28,18,29,19],[18,46,18,47],[18,34,18,39],[22,22,23,27],[28,40,29,45],[28,46,29,47],[30,20,31,21],[20,46,21,47],[34,15,35,15],[34,40,35,45],[34,22,35,27],[34,28,35,33],[34,34,35,39],[32,22,33,27],[6,4,6,6],[6,7,6,10],[19,46,19,47],[6,11,6,15],[20,28,21,33],[20,34,21,39],[10,0,11,2],[40,46,41,47],[40,22,41,27],[40,28,41,33],[40,34,41,39],[24,22,25,27],[24,28,25,33],[24,46,25,47],[40,40,41,45],[36,22,37,27],[36,28,37,33],[18,28,18,33],[10,24,10,30],[22,12,23,17],[22,18,23,19],[20,40,21,45],[22,40,23,45],[19,40,19,45],[13,0,13,3],[17,4,17,5],[18,40,18,45],[19,34,19,39],[18,22,18,27],[20,22,21,27],[22,34,23,39],[22,28,23,33],[32,40,33,45],[30,40,31,45],[24,4,25,11],[24,0,25,3],[22,4,23,11],[28,4,29,11],[26,0,27,3],[28,0,29,3],[24,12,25,17],[24,18,25,19],[24,20,25,21],[24,34,25,39],[24,40,25,45],[28,34,29,39],[28,20,29,21],[30,12,31,17],[26,46,27,47],[28,22,29,27],[28,28,29,33],[38,15,39,15],[38,16,39,21],[40,12,41,14],[40,15,41,15],[40,16,41,21],[34,16,35,21],[38,12,39,14],[26,22,27,27],[26,28,27,33],[38,34,39,39],[38,22,39,27],[30,18,31,19],[34,12,35,14],[32,34,33,39],[36,34,37,39],[30,22,31,27],[30,28,31,33],[30,34,31,39],[28,12,29,17],[32,12,33,14],[38,28,39,33],[46,4,47,11],[46,22,47,27],[46,28,47,33],[46,12,47,14],[42,4,43,11],[44,40,45,45],[44,46,45,47],[44,22,45,27],[44,16,45,21],[44,15,45,15],[44,12,45,14],[44,4,45,11],[42,12,43,14],[42,15,43,15],[42,16,43,21],[42,22,43,27],[54,54,55,58],[56,54,57,58],[19,55,19,58],[18,55,18,58],[10,36,11,58],[4,31,9,58],[38,48,39,58],[46,34,47,39],[46,40,47,45],[46,46,47,47],[44,28,45,33],[44,34,45,39],[26,34,27,39],[26,40,27,45],[7,26,7,30],[34,46,35,47],[32,46,33,47],[38,40,39,45],[38,46,39,47],[36,40,37,45],[36,46,37,47],[50,40,51,45],[50,46,51,47],[30,46,31,47],[40,48,41,58],[42,48,43,58],[44,48,45,58],[46,48,47,58],[52,48,53,58],[50,54,51,58],[48,48,49,54],[2,52,3,58],[2,48,3,51],[32,48,33,58],[34,48,35,58],[36,48,37,58],[20,48,21,58],[22,48,23,58],[24,48,25,58],[26,48,27,58],[28,48,29,58],[30,48,31,58]]}
[null,null,null,null,null,null,null,null,null,null,null,null,null,null,null,null,null,null,null,null,"見　積　書"]
[]
[null,null,null,"株式会社",null,null,null,"福田組",null,null,null,"　御中",null,null,null,null,null,null,null,null,null,null,null,null,null,null,null,null,null,null,null,"建設業許可番号",null,null,null,null,null,"特",null,"般",null,null,"第",null,null,null,null,"号","取引先コード",null,null,null,null,null,null,null,null,null,null,null,false,null,false]
[]
[null,null,null,null,null,null,null,null,"下記の通り見積り致します。　　　　　提出日"]
[]
[null,null,null,null,"工事CD",null,null,null,null,null,null,null,null,null,null,null,"業者施工期間"]
["工事名",null,null,null,null,null,null,null,null,null,null,null,null,null,null,null,"自",null,null,null,null,null,null,"～",null,"至"]
[]
[null,null,null,"工事場所",null,null,null,null,null,null,null,null,null,null,null,null,"支　払　条　件"]
[null,null,null,null,null,null,null,null,null,null,null,null,null,null,null,null,null,"貴社規定",null,null,null,null,null,null,"その他（　　　　　　　　）",null,null,null,null,null,null,"担当部課・氏名",null,null,null,null,null,null,null,null,null,null,null,null,null,null,null,null,null,null,null,null,null,null,null,null,null,null,null,null,false,null,false]
[]
["見積金額",null,null,null,{"$f":"W57","v":0},null,null,null,null,null,null,null,null,"有効期限",null,null,"見　積　条　件",null,null,null,null,null,null,null,null,null,null,null,null,null,null,null,null,null,null,null,null,null,"社会保険加入状況"]
["（税込み）",null,null,null,null,null,null,null,null,null,null,null,null,null,null,null,null,null,null,null,null,null,null,null,null,null,null,null,null,null,null,null,null,null,null,null,null,null,"健康保険",null,null,null,null,null,null,"加入",null,null,null,"未加入",null,null,null,"適用除外"]
["注文金額",null,null,null,{"$f":"IF(AI57=0,IF(AC57=0,\"\",AC57),AI57)","v":""},null,null,null,null,null,null,null,null,"審 査 日",null,null,null,null,null,null,null,null,null,null,null,null,null,null,null,null,null,null,null,null,null,null,null,null,"厚生年金保険",null,null,null,null,null,null,"加入",null,null,null,"未加入",null,null,null,"適用除外"]
["（税込み）",null,null,null,null,null,null,null,null,null,null,null,null,null,null,null,null,null,null,null,null,null,null,null,null,null,null,null,null,null,null,null,null,null,null,null,null,null,"雇用保険",null,null,null,null,null,null,"加入",null,null,null,"未加入",null,null,null,"適用除外"]
[null,null,null,null,"ｺｰﾄﾞ"]
["工 種 名"]
["品目ｺｰﾄﾞ",null,null,null,"名　　　　　　称",null,null,null,null,null,null,null,"規　格・摘　要",null,null,null,null,null,"単位",null,"数量",null,"見 積 金 額",null,null,null,null,null,"注 文 金 額",null,null,null,null,null,"変更注文金額",null,null,null,null,null,null,null,null,null,null,null,"掛率",null,"備　　　　考"]
[null,null,null,null,null,null,null,null,null,null,null,null,null,null,null,null,null,null,null,null,null,null,null,null,null,null,null,null,null,null,null,null,null,null,"（第　 回）",null,null,null,null,null,null,null,null,null,null,null,"（％）",null,"メーカー・商社等"]
[null,null,null,null,"工事費"]
[]
[null,null,null,null,"⇒労務費総額"]
[]
[null,null,null,null,"労務費率",null,null,null,null,null,null,null,null,null,null,null,null,null,null,null,null,null,{"$f":"IF(W23=\"\",\"\",W23/W21)","v":""},null,null,null,null,null,{"$f":"IF(AC23=\"\",\"\",AC23/AC21)","v":""},null,null,null,null,null,{"$f":"IF(AI21=0,\"\",AI23/AI21)","v":""}]
[]
[]
[]
[null,null,null,null,"工事費　計",null,null,null,null,null,null,null,null,null,null,null,null,null,null,null,null,null,{"$f":"W21","v":0},null,null,null,null,null,{"$f":"AC21","v":0},null,null,null,null,null,{"$f":"AI21","v":0}]
[]
[]
[]
[null,null,null,null,"法定福利費（事業主負担分）",null,null,null,null,null,null,null,"料率"]
[]
[null,null,null,null,"健康保険料",null,null,null,null,null,null,null,null,null,null,null,null,null,null,null,null,null,{"$f":"ROUNDDOWN(W23*M35,0)","v":0},null,null,null,null,null,{"$f":"ROUNDDOWN(AC23*M35,0)","v":0},null,null,null,null,null,{"$f":"ROUNDDOWN(AI23*M35,0)","v":0}]
[]
[null,null,null,null,"介護保険料",null,null,null,null,null,null,null,null,null,null,null,null,null,null,null,null,null,{"$f":"ROUNDDOWN(W23*M37,0)","v":0},null,null,null,null,null,{"$f":"ROUNDDOWN(AC23*M37,0)","v":0},null,null,null,null,null,{"$f":"ROUNDDOWN(AI23*M37,0)","v":0}]
[]
[null,null,null,null,"厚生年金保険料",null,null,null,null,null,null,null,null,null,null,null,null,null,null,null,null,null,{"$f":"ROUNDDOWN(W23*M39,0)","v":0},null,null,null,null,null,{"$f":"ROUNDDOWN(AC23*M39,0)","v":0},null,null,null,null,null,{"$f":"ROUNDDOWN(AI23*M39,0)","v":0}]
[]
[null,null,null,null,"雇用保険料",null,null,null,null,null,null,null,null,null,null,null,null,null,null,null,null,null,{"$f":"ROUNDDOWN(W23*M41,0)","v":0},null,null,null,null,null,{"$f":"ROUNDDOWN(AC23*M41,0)","v":0},null,null,null,null,null,{"$f":"ROUNDDOWN(AI23*M41,0)","v":0}]
[]
[null,null,null,null,"子ども・子育て支援金",null,null,null,null,null,null,null,null,null,null,null,null,null,null,null,null,null,{"$f":"ROUNDDOWN(W23*M43,0)","v":0},null,null,null,null,null,{"$f":"ROUNDDOWN(AC23*M43,0)","v":0},null,null,null,null,null,{"$f":"ROUNDDOWN(AI23*M43,0)","v":0}]
[]
[]
[]
[null,null,null,null,"法定福利費　計",null,null,null,null,null,null,null,{"$f":"M35+M37+M39+M41+M43","v":0},null,null,null,null,null,null,null,null,null,{"$f":"W35+W37+W39+W41+W43","v":0},null,null,{"$f":"Z35+Z37+Z39+Z41+Z43","v":0},null,null,{"$f":"AC35+AC37+AC39+AC41+AC43","v":0},null,null,{"$f":"AF35+AF37+AF39+AF41+AF43","v":0},null,null,{"$f":"AI35+AI37+AI39+AI41+AI43","v":0},null,null,{"$f":"AL35+AL37+AL39+AL41+AL43","v":0}]
[]
[null,null,null,null,null,null,null,null,null,null,null,null,"法定保険料率⇒",null,null,null,null,null,null,null,null,null,{"$f":"IF(W23=\"\",\"\",W47/W23)","v":""},null,null,null,null,null,{"$f":"IF(AC23=\"\",\"\",AC47/AC23)","v":""},null,null,null,null,null,{"$f":"IF(AI23=0,\"\",AI47/AI23)","v":""},null,null,null,null,null,null,null,null,null,null,null,null,null,"法定福利費は工事費に含む"]
[]
[null,null,null,null,"合計",null,null,null,null,null,null,null,null,null,null,null,null,null,null,null,null,null,{"$f":"W29","v":0},null,null,null,null,null,{"$f":"AC29","v":0},null,null,null,null,null,{"$f":"AI29","v":0},null,null,null,null,null,{"$f":"SUM(AO19:AT50)","v":0},null,null,null,null,null,null,null,{"$f":"IF(AI51=0,\"\",AI51-AC51)","v":""},null,null,null,null,null,"←前回増減"]
[]
[null,null,null,null,"消費税率",null,null,null,null,null,null,null,null,null,null,null,null,null,"％",null,null,null,10,null,null,null,null,null,10,null,null,null,null,null,10]
[]
[null,null,null,null,"消費税",null,null,null,null,null,null,null,null,null,null,null,null,null,null,null,null,null,{"$f":"IFERROR(TRUNC(W51*10/100),)","v":0},null,null,null,null,null,{"$f":"IFERROR(TRUNC(AC51*10/100),)","v":0},null,null,null,null,null,{"$f":"IFERROR(TRUNC(AI51*10/100),)","v":0},null,null,null,null,null,{"$f":"ROUNDDOWN(AO51*(AO53/100),0)","v":0},null,null,null,null,null,null,null,{"$f":"IF(AI55=0,\"\",AI55-AC55)","v":""}]
[]
[null,null,null,null,"合　　　　計",null,null,null,null,null,null,null,null,null,null,null,null,null,null,null,null,null,{"$f":"IFERROR(W51+W55,\"\")","v":0},null,null,null,null,null,{"$f":"IFERROR(AC51+AC55,\"\")","v":0},null,null,null,null,null,{"$f":"IFERROR(+AI51+AI55,\"\")","v":0},null,null,null,null,null,{"$f":"+AO51+AO55","v":0},null,null,null,null,null,null,null,{"$f":"IF(AI57=0,\"\",AI57-AC57)","v":""}]

{"sheet":"見積書(2号)","index":1,"n_rows":1006,"n_cols":19,"rows_kept":1006,"cut":false,"hidden":false,"merged":[[3,15,3,16],[3,17,3,18],[3,10,3,12],[3,1,3,2],[3,7,3,9],[3,3,3,6],[3,13,3,14]]}
[]
[]
[]
["入力・　　　　　出力ｺｰﾄﾞ","項　　　　　　　　　　　　目",null,"見　　　積　　　金　　　額",null,null,null,"注　　　文　　　金　　　額",null,null,"変　更　注　文　金　額　　　　　　　　　　　　（第　1　回）",null,null,"見　積　単　価",null,"注　文　単　価",null,"変更注文単価"]
["項目ｺｰﾄﾞ","名　　　　　　　    　　　     称","規　     格 ・ 適 　    用","数 量","単位","単 価","金　　 額","数 量","単 価","金　　 額","数 量","単 価","金　 　額","材料費","手間賃","材料費","手間賃","材料費","手間賃"]
[null,null,null,null,null,null,{"$f":"IF(OR(D6=\"\",F6=\"\"),\"\",ROUND(D6*F6,0))","v":""},null,null,{"$f":"IF(OR(H6=\"\",I6=\"\"),\"\",ROUND(H6*I6,0))","v":""},null,null,{"$f":"IF(OR(K6=\"\",L6=\"\"),\"\",ROUND(K6*L6,0))","v":""}]
[null,null,null,null,null,null,"",null,null,"",null,null,""]
[null,null,null,null,null,null,"",null,null,"",null,null,""]
[null,null,null,null,null,null,"",null,null,"",null,null,""]
[null,null,null,null,null,null,"",null,null,"",null,null,""]
[null,null,null,null,null,null,"",null,null,"",null,null,""]
[null,null,null,null,null,null,"",null,null,"",null,null,""]
[null,null,null,null,null,null,"",null,null,"",null,null,""]
[null,null,null,null,null,null,"",null,null,"",null,null,""]
[null,null,null,null,null,null,"",null,null,"",null,null,""]
[null,null,null,null,null,null,"",null,null,"",null,null,""]
[null,null,null,null,null,null,"",null,null,"",null,null,""]
[null,null,null,null,null,null,"",null,null,"",null,null,""]
[null,null,null,null,null,null,"",null,null,"",null,null,""]
[null,null,null,null,null,null,"",null,null,"",null,null,""]
[null,null,null,null,null,null,"",null,null,"",null,null,""]
[null,null,null,null,null,null,"",null,null,"",null,null,""]
[null,null,null,null,null,null,"",null,null,"",null,null,""]
[null,null,null,null,null,null,"",null,null,"",null,null,""]
[null,null,null,null,null,null,"",null,null,"",null,null,""]
[null,null,null,null,null,null,"",null,null,"",null,null,""]
[null,null,null,null,null,null,"",null,null,"",null,null,""]
[null,null,null,null,null,null,"",null,null,"",null,null,""]
[null,null,null,null,null,null,"",null,null,"",null,null,""]
[null,null,null,null,null,null,"",null,null,"",null,null,""]
[null,null,null,null,null,null,"",null,null,"",null,null,""]
[null,null,null,null,null,null,"",null,null,"",null,null,""]
[null,null,null,null,null,null,"",null,null,"",null,null,""]
[null,null,null,null,null,null,"",null,null,"",null,null,""]
[null,null,null,null,null,null,"",null,null,"",null,null,""]
[null,null,null,null,null,null,"",null,null,"",null,null,""]
[null,null,null,null,null,null,"",null,null,"",null,null,""]
[null,null,null,null,null,null,"",null,null,"",null,null,""]
[null,null,null,null,null,null,"",null,null,"",null,null,""]
[null,null,null,null,null,null,"",null,null,"",null,null,""]
[null,null,null,null,null,null,"",null,null,"",null,null,""]
[null,null,null,null,null,null,"",null,null,"",null,null,""]
[null,null,null,null,null,null,"",null,null,"",null,null,""]
[null,null,null,null,null,null,"",null,null,"",null,null,""]
[null,null,null,null,null,null,"",null,null,"",null,null,""]
[null,null,null,null,null,null,"",null,null,"",null,null,""]
[null,null,null,null,null,null,"",null,null,"",null,null,""]
[null,null,null,null,null,null,"",null,null,"",null,null,""]
[null,null,null,null,null,null,"",null,null,"",null,null,""]
[null,null,null,null,null,null,"",null,null,"",null,null,""]
[null,null,null,null,null,null,"",null,null,"",null,null,""]
[null,null,null,null,null,null,"",null,null,"",null,null,""]
[null,null,null,null,null,null,"",null,null,"",null,null,""]
[null,null,null,null,null,null,"",null,null,"",null,null,""]
[null,null,null,null,null,null,"",null,null,"",null,null,""]
[null,null,null,null,null,null,"",null,null,"",null,null,""]
[null,null,null,null,null,null,"",null,null,"",null,null,""]
[null,null,null,null,null,null,"",null,null,"",null,null,""]
[null,null,null,null,null,null,"",null,null,"",null,null,""]
[null,null,null,null,null,null,"",null,null,"",null,null,""]
[null,null,null,null,null,null,"",null,null,"",null,null,""]
[null,null,null,null,null,null,"",null,null,"",null,null,""]
[null,null,null,null,null,null,"",null,null,"",null,null,""]
[null,null,null,null,null,null,"",null,null,"",null,null,""]
[null,null,null,null,null,null,"",null,null,"",null,null,""]
[null,null,null,null,null,null,"",null,null,"",null,null,""]
[null,null,null,null,null,null,"",null,null,"",null,null,""]
[null,null,null,null,null,null,"",null,null,"",null,null,""]
[null,null,null,null,null,null,"",null,null,"",null,null,""]
[null,null,null,null,null,null,{"$f":"IF(OR(D70=\"\",F70=\"\"),\"\",ROUND(D70*F70,0))","v":""},null,null,{"$f":"IF(OR(H70=\"\",I70=\"\"),\"\",ROUND(H70*I70,0))","v":""},null,null,{"$f":"IF(OR(K70=\"\",L70=\"\"),\"\",ROUND(K70*L70,0))","v":""}]
[null,null,null,null,null,null,"",null,null,"",null,null,""]
[null,null,null,null,null,null,"",null,null,"",null,null,""]
[null,null,null,null,null,null,"",null,null,"",null,null,""]
[null,null,null,null,null,null,"",null,null,"",null,null,""]
[null,null,null,null,null,null,"",null,null,"",null,null,""]
[null,null,null,null,null,null,"",null,null,"",null,null,""]
[null,null,null,null,null,null,"",null,null,"",null,null,""]
[null,null,null,null,null,null,"",null,null,"",null,null,""]
[null,null,null,null,null,null,"",null,null,"",null,null,""]
[null,null,null,null,null,null,"",null,null,"",null,null,""]
[null,null,null,null,null,null,"",null,null,"",null,null,""]
[null,null,null,null,null,null,"",null,null,"",null,null,""]
[null,null,null,null,null,null,"",null,null,"",null,null,""]
[null,null,null,null,null,null,"",null,null,"",null,null,""]
[null,null,null,null,null,null,"",null,null,"",null,null,""]
[null,null,null,null,null,null,"",null,null,"",null,null,""]
[null,null,null,null,null,null,"",null,null,"",null,null,""]
[null,null,null,null,null,null,"",null,null,"",null,null,""]
[null,null,null,null,null,null,"",null,null,"",null,null,""]
[null,null,null,null,null,null,"",null,null,"",null,null,""]
[null,null,null,null,null,null,"",null,null,"",null,null,""]
[null,null,null,null,null,null,"",null,null,"",null,null,""]
[null,null,null,null,null,null,"",null,null,"",null,null,""]
[null,null,null,null,null,null,"",null,null,"",null,null,""]
[null,null,null,null,null,null,"",null,null,"",null,null,""]
[null,null,null,null,null,null,"",null,null,"",null,null,""]
[null,null,null,null,null,null,"",null,null,"",null,null,""]
[null,null,null,null,null,null,"",null,null,"",null,null,""]
[null,null,null,null,null,null,"",null,null,"",null,null,""]
[null,null,null,null,null,null,"",null,null,"",null,null,""]
[null,null,null,null,null,null,"",null,null,"",null,null,""]
[null,null,null,null,null,null,"",null,null,"",null,null,""]
[null,null,null,null,null,null,"",null,null,"",null,null,""]
[null,null,null,null,null,null,"",null,null,"",null,null,""]
[null,null,null,null,null,null,"",null,null,"",null,null,""]
[null,null,null,null,null,null,"",null,null,"",null,null,""]
[null,null,null,null,null,null,"",null,null,"",null,null,""]
[null,null,null,null,null,null,"",null,null,"",null,null,""]
[null,null,null,null,null,null,"",null,null,"",null,null,""]
[null,null,null,null,null,null,"",null,null,"",null,null,""]
[null,null,null,null,null,null,"",null,null,"",null,null,""]
[null,null,null,null,null,null,"",null,null,"",null,null,""]
[null,null,null,null,null,null,"",null,null,"",null,null,""]
[null,null,null,null,null,null,"",null,null,"",null,null,""]
[null,null,null,null,null,null,"",null,null,"",null,null,""]
[null,null,null,null,null,null,"",null,null,"",null,null,""]
[null,null,null,null,null,null,"",null,null,"",null,null,""]
[null,null,null,null,null,null,"",null,null,"",null,null,""]
[null,null,null,null,null,null,"",null,null,"",null,null,""]
[null,null,null,null,null,null,"",null,null,"",null,null,""]
[null,null,null,null,null,null,"",null,null,"",null,null,""]
[null,null,null,null,null,null,"",null,null,"",null,null,""]
[null,null,null,null,null,null,"",null,null,"",null,null,""]
[null,null,null,null,null,null,"",null,null,"",null,null,""]
[null,null,null,null,null,null,"",null,null,"",null,null,""]
[null,null,null,null,null,null,"",null,null,"",null,null,""]
[null,null,null,null,null,null,"",null,null,"",null,null,""]
[null,null,null,null,null,null,"",null,null,"",null,null,""]
[null,null,null,null,null,null,"",null,null,"",null,null,""]
[null,null,null,null,null,null,"",null,null,"",null,null,""]
[null,null,null,null,null,null,"",null,null,"",null,null,""]
[null,null,null,null,null,null,"",null,null,"",null,null,""]
[null,null,null,null,null,null,"",null,null,"",null,null,""]
[null,null,null,null,null,null,{"$f":"IF(OR(D134=\"\",F134=\"\"),\"\",ROUND(D134*F134,0))","v":""},null,null,{"$f":"IF(OR(H134=\"\",I134=\"\"),\"\",ROUND(H134*I134,0))","v":""},null,null,{"$f":"IF(OR(K134=\"\",L134=\"\"),\"\",ROUND(K134*L134,0))","v":""}]
[null,null,null,null,null,null,"",null,null,"",null,null,""]
[null,null,null,null,null,null,"",null,null,"",null,null,""]
[null,null,null,null,null,null,"",null,null,"",null,null,""]
[null,null,null,null,null,null,"",null,null,"",null,null,""]
[null,null,null,null,null,null,"",null,null,"",null,null,""]
[null,null,null,null,null,null,"",null,null,"",null,null,""]
[null,null,null,null,null,null,"",null,null,"",null,null,""]
[null,null,null,null,null,null,"",null,null,"",null,null,""]
[null,null,null,null,null,null,"",null,null,"",null,null,""]
[null,null,null,null,null,null,"",null,null,"",null,null,""]
[null,null,null,null,null,null,"",null,null,"",null,null,""]
[null,null,null,null,null,null,"",null,null,"",null,null,""]
[null,null,null,null,null,null,"",null,null,"",null,null,""]
[null,null,null,null,null,null,"",null,null,"",null,null,""]
[null,null,null,null,null,null,"",null,null,"",null,null,""]
[null,null,null,null,null,null,"",null,null,"",null,null,""]
[null,null,null,null,null,null,"",null,null,"",null,null,""]
[null,null,null,null,null,null,"",null,null,"",null,null,""]
[null,null,null,null,null,null,"",null,null,"",null,null,""]
[null,null,null,null,null,null,"",null,null,"",null,null,""]
[null,null,null,null,null,null,"",null,null,"",null,null,""]
[null,null,null,null,null,null,"",null,null,"",null,null,""]
[null,null,null,null,null,null,"",null,null,"",null,null,""]
[null,null,null,null,null,null,"",null,null,"",null,null,""]
[null,null,null,null,null,null,"",null,null,"",null,null,""]
[null,null,null,null,null,null,"",null,null,"",null,null,""]
[null,null,null,null,null,null,"",null,null,"",null,null,""]
[null,null,null,null,null,null,"",null,null,"",null,null,""]
[null,null,null,null,null,null,"",null,null,"",null,null,""]
[null,null,null,null,null,null,"",null,null,"",null,null,""]
[null,null,null,null,null,null,"",null,null,"",null,null,""]
[null,null,null,null,null,null,"",null,null,"",null,null,""]
[null,null,null,null,null,null,"",null,null,"",null,null,""]
[null,null,null,null,null,null,"",null,null,"",null,null,""]
[null,null,null,null,null,null,"",null,null,"",null,null,""]
[null,null,null,null,null,null,"",null,null,"",null,null,""]
[null,null,null,null,null,null,"",null,null,"",null,null,""]
[null,null,null,null,null,null,"",null,null,"",null,null,""]
[null,null,null,null,null,null,"",null,null,"",null,null,""]
[null,null,null,null,null,null,"",null,null,"",null,null,""]
[null,null,null,null,null,null,"",null,null,"",null,null,""]
[null,null,null,null,null,null,"",null,null,"",null,null,""]
[null,null,null,null,null,null,"",null,null,"",null,null,""]
[null,null,null,null,null,null,"",null,null,"",null,null,""]
[null,null,null,null,null,null,"",null,null,"",null,null,""]
[null,null,null,null,null,null,"",null,null,"",null,null,""]
[null,null,null,null,null,null,"",null,null,"",null,null,""]
[null,null,null,null,null,null,"",null,null,"",null,null,""]
[null,null,null,null,null,null,"",null,null,"",null,null,""]
[null,null,null,null,null,null,"",null,null,"",null,null,""]
[null,null,null,null,null,null,"",null,null,"",null,null,""]
[null,null,null,null,null,null,"",null,null,"",null,null,""]
[null,null,null,null,null,null,"",null,null,"",null,null,""]
[null,null,null,null,null,null,"",null,null,"",null,null,""]
[null,null,null,null,null,null,"",null,null,"",null,null,""]
[null,null,null,null,null,null,"",null,null,"",null,null,""]
[null,null,null,null,null,null,"",null,null,"",null,null,""]
[null,null,null,null,null,null,"",null,null,"",null,null,""]
[null,null,null,null,null,null,"",null,null,"",null,null,""]
[null,null,null,null,null,null,"",null,null,"",null,null,""]
[null,null,null,null,null,null,"",null,null,"",null,null,""]
[null,null,null,null,null,null,"",null,null,"",null,null,""]
[null,null,null,null,null,null,"",null,null,"",null,null,""]
[null,null,null,null,null,null,{"$f":"IF(OR(D198=\"\",F198=\"\"),\"\",ROUND(D198*F198,0))","v":""},null,null,{"$f":"IF(OR(H198=\"\",I198=\"\"),\"\",ROUND(H198*I198,0))","v":""},null,null,{"$f":"IF(OR(K198=\"\",L198=\"\"),\"\",ROUND(K198*L198,0))","v":""}]
[null,null,null,null,null,null,{"$f":"IF(OR(D199=\"\",F199=\"\"),\"\",ROUND(D199*F199,0))","v":""},null,null,{"$f":"IF(OR(H199=\"\",I199=\"\"),\"\",ROUND(H199*I199,0))","v":""},null,null,{"$f":"IF(OR(K199=\"\",L199=\"\"),\"\",ROUND(K199*L199,0))","v":""}]
[null,null,null,null,null,null,"",null,null,"",null,null,""]
[null,null,null,null,null,null,"",null,null,"",null,null,""]
[null,null,null,null,null,null,"",null,null,"",null,null,""]
[null,null,null,null,null,null,"",null,null,"",null,null,""]
[null,null,null,null,null,null,"",null,null,"",null,null,""]
[null,null,null,null,null,null,"",null,null,"",null,null,""]
[null,null,null,null,null,null,"",null,null,"",null,null,""]
[null,null,null,null,null,null,"",null,null,"",null,null,""]
[null,null,null,null,null,null,"",null,null,"",null,null,""]
[null,null,null,null,null,null,"",null,null,"",null,null,""]
[null,null,null,null,null,null,"",null,null,"",null,null,""]
[null,null,null,null,null,null,"",null,null,"",null,null,""]
[null,null,null,null,null,null,"",null,null,"",null,null,""]
[null,null,null,null,null,null,"",null,null,"",null,null,""]
[null,null,null,null,null,null,"",null,null,"",null,null,""]
[null,null,null,null,null,null,"",null,null,"",null,null,""]
[null,null,null,null,null,null,"",null,null,"",null,null,""]
[null,null,null,null,null,null,"",null,null,"",null,null,""]
[null,null,null,null,null,null,"",null,null,"",null,null,""]
[null,null,null,null,null,null,"",null,null,"",null,null,""]
[null,null,null,null,null,null,"",null,null,"",null,null,""]
[null,null,null,null,null,null,"",null,null,"",null,null,""]
[null,null,null,null,null,null,"",null,null,"",null,null,""]
[null,null,null,null,null,null,"",null,null,"",null,null,""]
[null,null,null,null,null,null,"",null,null,"",null,null,""]
[null,null,null,null,null,null,"",null,null,"",null,null,""]
[null,null,null,null,null,null,"",null,null,"",null,null,""]
[null,null,null,null,null,null,"",null,null,"",null,null,""]
[null,null,null,null,null,null,"",null,null,"",null,null,""]
[null,null,null,null,null,null,"",null,null,"",null,null,""]
[null,null,null,null,null,null,"",null,null,"",null,null,""]
[null,null,null,null,null,null,"",null,null,"",null,null,""]
[null,null,null,null,null,null,"",null,null,"",null,null,""]
[null,null,null,null,null,null,"",null,null,"",null,null,""]
[null,null,null,null,null,null,"",null,null,"",null,null,""]
[null,null,null,null,null,null,"",null,null,"",null,null,""]
[null,null,null,null,null,null,"",null,null,"",null,null,""]
[null,null,null,null,null,null,"",null,null,"",null,null,""]
[null,null,null,null,null,null,"",null,null,"",null,null,""]
[null,null,null,null,null,null,"",null,null,"",null,null,""]
[null,null,null,null,null,null,"",null,null,"",null,null,""]
[null,null,null,null,null,null,"",null,null,"",null,null,""]
[null,null,null,null,null,null,"",null,null,"",null,null,""]
[null,null,null,null,null,null,"",null,null,"",null,null,""]
[null,null,null,null,null,null,"",null,null,"",null,null,""]
[null,null,null,null,null,null,"",null,null,"",null,null,""]
[null,null,null,null,null,null,"",null,null,"",null,null,""]
[null,null,null,null,null,null,"",null,null,"",null,null,""]
[null,null,null,null,null,null,"",null,null,"",null,null,""]
[null,null,null,null,null,null,"",null,null,"",null,null,""]
[null,null,null,null,null,null,"",null,null,"",null,null,""]
[null,null,null,null,null,null,"",null,null,"",null,null,""]
[null,null,null,null,null,null,"",null,null,"",null,null,""]
[null,null,null,null,null,null,"",null,null,"",null,null,""]
[null,null,null,null,null,null,"",null,null,"",null,null,""]
[null,null,null,null,null,null,"",null,null,"",null,null,""]
[null,null,null,null,null,null,"",null,null,"",null,null,""]
[null,null,null,null,null,null,"",null,null,"",null,null,""]
[null,null,null,null,null,null,"",null,null,"",null,null,""]
[null,null,null,null,null,null,"",null,null,"",null,null,""]
[null,null,null,null,null,null,"",null,null,"",null,null,""]
[null,null,null,null,null,null,"",null,null,"",null,null,""]
[null,null,null,null,null,null,"",null,null,"",null,null,""]
[null,null,null,null,null,null,{"$f":"IF(OR(D263=\"\",F263=\"\"),\"\",ROUND(D263*F263,0))","v":""},null,null,{"$f":"IF(OR(H263=\"\",I263=\"\"),\"\",ROUND(H263*I263,0))","v":""},null,null,{"$f":"IF(OR(K263=\"\",L263=\"\"),\"\",ROUND(K263*L263,0))","v":""}]
[null,null,null,null,null,null,"",null,null,"",null,null,""]
[null,null,null,null,null,null,"",null,null,"",null,null,""]
[null,null,null,null,null,null,"",null,null,"",null,null,""]
[null,null,null,null,null,null,"",null,null,"",null,null,""]
[null,null,null,null,null,null,"",null,null,"",null,null,""]
[null,null,null,null,null,null,"",null,null,"",null,null,""]
[null,null,null,null,null,null,"",null,null,"",null,null,""]
[null,null,null,null,null,null,"",null,null,"",null,null,""]
[null,null,null,null,null,null,"",null,null,"",null,null,""]
[null,null,null,null,null,null,"",null,null,"",null,null,""]
[null,null,null,null,null,null,"",null,null,"",null,null,""]
[null,null,null,null,null,null,"",null,null,"",null,null,""]
[null,null,null,null,null,null,"",null,null,"",null,null,""]
[null,null,null,null,null,null,"",null,null,"",null,null,""]
[null,null,null,null,null,null,"",null,null,"",null,null,""]
[null,null,null,null,null,null,"",null,null,"",null,null,""]
[null,null,null,null,null,null,"",null,null,"",null,null,""]
[null,null,null,null,null,null,"",null,null,"",null,null,""]
[null,null,null,null,null,null,"",null,null,"",null,null,""]
[null,null,null,null,null,null,"",null,null,"",null,null,""]
[null,null,null,null,null,null,"",null,null,"",null,null,""]
[null,null,null,null,null,null,"",null,null,"",null,null,""]
[null,null,null,null,null,null,"",null,null,"",null,null,""]
[null,null,null,null,null,null,"",null,null,"",null,null,""]
[null,null,null,null,null,null,"",null,null,"",null,null,""]
[null,null,null,null,null,null,"",null,null,"",null,null,""]
[null,null,null,null,null,null,"",null,null,"",null,null,""]
[null,null,null,null,null,null,"",null,null,"",null,null,""]
[null,null,null,null,null,null,"",null,null,"",null,null,""]
[null,null,null,null,null,null,"",null,null,"",null,null,""]
[null,null,null,null,null,null,"",null,null,"",null,null,""]
[null,null,null,null,null,null,"",null,null,"",null,null,""]
[null,null,null,null,null,null,"",null,null,"",null,null,""]
[null,null,null,null,null,null,"",null,null,"",null,null,""]
[null,null,null,null,null,null,"",null,null,"",null,null,""]
[null,null,null,null,null,null,"",null,null,"",null,null,""]
[null,null,null,null,null,null,"",null,null,"",null,null,""]
[null,null,null,null,null,null,"",null,null,"",null,null,""]
[null,null,null,null,null,null,"",null,null,"",null,null,""]
[null,null,null,null,null,null,"",null,null,"",null,null,""]
[null,null,null,null,null,null,"",null,null,"",null,null,""]
[null,null,null,null,null,null,"",null,null,"",null,null,""]
[null,null,null,null,null,null,"",null,null,"",null,null,""]
[null,null,null,null,null,null,"",null,null,"",null,null,""]
[null,null,null,null,null,null,"",null,null,"",null,null,""]
[null,null,null,null,null,null,"",null,null,"",null,null,""]
[null,null,null,null,null,null,"",null,null,"",null,null,""]
[null,null,null,null,null,null,"",null,null,"",null,null,""]
[null,null,null,null,null,null,"",null,null,"",null,null,""]
[null,null,null,null,null,null,"",null,null,"",null,null,""]
[null,null,null,null,null,null,"",null,null,"",null,null,""]
[null,null,null,null,null,null,"",null,null,"",null,null,""]
[null,null,null,null,null,null,"",null,null,"",null,null,""]
[null,null,null,null,null,null,"",null,null,"",null,null,""]
[null,null,null,null,null,null,"",null,null,"",null,null,""]
[null,null,null,null,null,null,"",null,null,"",null,null,""]
[null,null,null,null,null,null,"",null,null,"",null,null,""]
[null,null,null,null,null,null,"",null,null,"",null,null,""]
[null,null,null,null,null,null,"",null,null,"",null,null,""]
[null,null,null,null,null,null,"",null,null,"",null,null,""]
[null,null,null,null,null,null,"",null,null,"",null,null,""]
[null,null,null,null,null,null,"",null,null,"",null,null,""]
[null,null,null,null,null,null,"",null,null,"",null,null,""]
[null,null,null,null,null,null,{"$f":"IF(OR(D327=\"\",F327=\"\"),\"\",ROUND(D327*F327,0))","v":""},null,null,{"$f":"IF(OR(H327=\"\",I327=\"\"),\"\",ROUND(H327*I327,0))","v":""},null,null,{"$f":"IF(OR(K327=\"\",L327=\"\"),\"\",ROUND(K327*L327,0))","v":""}]
[null,null,null,null,null,null,"",null,null,"",null,null,""]
[null,null,null,null,null,null,"",null,null,"",null,null,""]
[null,null,null,null,null,null,"",null,null,"",null,null,""]
[null,null,null,null,null,null,"",null,null,"",null,null,""]
[null,null,null,null,null,null,"",null,null,"",null,null,""]
[null,null,null,null,null,null,"",null,null,"",null,null,""]
[null,null,null,null,null,null,"",null,null,"",null,null,""]
[null,null,null,null,null,null,"",null,null,"",null,null,""]
[null,null,null,null,null,null,"",null,null,"",null,null,""]
[null,null,null,null,null,null,"",null,null,"",null,null,""]
[null,null,null,null,null,null,"",null,null,"",null,null,""]
[null,null,null,null,null,null,"",null,null,"",null,null,""]
[null,null,null,null,null,null,"",null,null,"",null,null,""]
[null,null,null,null,null,null,"",null,null,"",null,null,""]
[null,null,null,null,null,null,"",null,null,"",null,null,""]
[null,null,null,null,null,null,"",null,null,"",null,null,""]
[null,null,null,null,null,null,"",null,null,"",null,null,""]
[null,null,null,null,null,null,"",null,null,"",null,null,""]
[null,null,null,null,null,null,"",null,null,"",null,null,""]
[null,null,null,null,null,null,"",null,null,"",null,null,""]
[null,null,null,null,null,null,"",null,null,"",null,null,""]
[null,null,null,null,null,null,"",null,null,"",null,null,""]
[null,null,null,null,null,null,"",null,null,"",null,null,""]
[null,null,null,null,null,null,"",null,null,"",null,null,""]
[null,null,null,null,null,null,"",null,null,"",null,null,""]
[null,null,null,null,null,null,"",null,null,"",null,null,""]
[null,null,null,null,null,null,"",null,null,"",null,null,""]
[null,null,null,null,null,null,"",null,null,"",null,null,""]
[null,null,null,null,null,null,"",null,null,"",null,null,""]
[null,null,null,null,null,null,"",null,null,"",null,null,""]
[null,null,null,null,null,null,"",null,null,"",null,null,""]
[null,null,null,null,null,null,"",null,null,"",null,null,""]
[null,null,null,null,null,null,"",null,null,"",null,null,""]
[null,null,null,null,null,null,"",null,null,"",null,null,""]
[null,null,null,null,null,null,"",null,null,"",null,null,""]
[null,null,null,null,null,null,"",null,null,"",null,null,""]
[null,null,null,null,null,null,"",null,null,"",null,null,""]
[null,null,null,null,null,null,"",null,null,"",null,null,""]
[null,null,null,null,null,null,"",null,null,"",null,null,""]
[null,null,null,null,null,null,"",null,null,"",null,null,""]
[null,null,null,null,null,null,"",null,null,"",null,null,""]
[null,null,null,null,null,null,"",null,null,"",null,null,""]
[null,null,null,null,null,null,"",null,null,"",null,null,""]
[null,null,null,null,null,null,"",null,null,"",null,null,""]
[null,null,null,null,null,null,"",null,null,"",null,null,""]
[null,null,null,null,null,null,"",null,null,"",null,null,""]
[null,null,null,null,null,null,"",null,null,"",null,null,""]
[null,null,null,null,null,null,"",null,null,"",null,null,""]
[null,null,null,null,null,null,"",null,null,"",null,null,""]
[null,null,null,null,null,null,"",null,null,"",null,null,""]
[null,null,null,null,null,null,"",null,null,"",null,null,""]
[null,null,null,null,null,null,"",null,null,"",null,null,""]
[null,null,null,null,null,null,"",null,null,"",null,null,""]
[null,null,null,null,null,null,"",null,null,"",null,null,""]
[null,null,null,null,null,null,"",null,null,"",null,null,""]
[null,null,null,null,null,null,"",null,null,"",null,null,""]
[null,null,null,null,null,null,"",null,null,"",null,null,""]
[null,null,null,null,null,null,"",null,null,"",null,null,""]
[null,null,null,null,null,null,"",null,null,"",null,null,""]
[null,null,null,null,null,null,"",null,null,"",null,null,""]
[null,null,null,null,null,null,"",null,null,"",null,null,""]
[null,null,null,null,null,null,"",null,null,"",null,null,""]
[null,null,null,null,null,null,"",null,null,"",null,null,""]
[null,null,null,null,null,null,{"$f":"IF(OR(D391=\"\",F391=\"\"),\"\",ROUND(D391*F391,0))","v":""},null,null,{"$f":"IF(OR(H391=\"\",I391=\"\"),\"\",ROUND(H391*I391,0))","v":""},null,null,{"$f":"IF(OR(K391=\"\",L391=\"\"),\"\",ROUND(K391*L391,0))","v":""}]
[null,null,null,null,null,null,"",null,null,"",null,null,""]
[null,null,null,null,null,null,"",null,null,"",null,null,""]
[null,null,null,null,null,null,"",null,null,"",null,null,""]
[null,null,null,null,null,null,"",null,null,"",null,null,""]
[null,null,null,null,null,null,"",null,null,"",null,null,""]
[null,null,null,null,null,null,"",null,null,"",null,null,""]
[null,null,null,null,null,null,"",null,null,"",null,null,""]
[null,null,null,null,null,null,"",null,null,"",null,null,""]
[null,null,null,null,null,null,"",null,null,"",null,null,""]
[null,null,null,null,null,null,"",null,null,"",null,null,""]
[null,null,null,null,null,null,"",null,null,"",null,null,""]
[null,null,null,null,null,null,"",null,null,"",null,null,""]
[null,null,null,null,null,null,"",null,null,"",null,null,""]
[null,null,null,null,null,null,"",null,null,"",null,null,""]
[null,null,null,null,null,null,"",null,null,"",null,null,""]
[null,null,null,null,null,null,"",null,null,"",null,null,""]
[null,null,null,null,null,null,"",null,null,"",null,null,""]
[null,null,null,null,null,null,"",null,null,"",null,null,""]
[null,null,null,null,null,null,"",null,null,"",null,null,""]
[null,null,null,null,null,null,"",null,null,"",null,null,""]
[null,null,null,null,null,null,"",null,null,"",null,null,""]
[null,null,null,null,null,null,"",null,null,"",null,null,""]
[null,null,null,null,null,null,"",null,null,"",null,null,""]
[null,null,null,null,null,null,"",null,null,"",null,null,""]
[null,null,null,null,null,null,"",null,null,"",null,null,""]
[null,null,null,null,null,null,"",null,null,"",null,null,""]
[null,null,null,null,null,null,"",null,null,"",null,null,""]
[null,null,null,null,null,null,"",null,null,"",null,null,""]
[null,null,null,null,null,null,"",null,null,"",null,null,""]
[null,null,null,null,null,null,"",null,null,"",null,null,""]
[null,null,null,null,null,null,"",null,null,"",null,null,""]
[null,null,null,null,null,null,"",null,null,"",null,null,""]
[null,null,null,null,null,null,"",null,null,"",null,null,""]
[null,null,null,null,null,null,"",null,null,"",null,null,""]
[null,null,null,null,null,null,"",null,null,"",null,null,""]
[null,null,null,null,null,null,"",null,null,"",null,null,""]
[null,null,null,null,null,null,"",null,null,"",null,null,""]
[null,null,null,null,null,null,"",null,null,"",null,null,""]
[null,null,null,null,null,null,"",null,null,"",null,null,""]
[null,null,null,null,null,null,"",null,null,"",null,null,""]
[null,null,null,null,null,null,"",null,null,"",null,null,""]
[null,null,null,null,null,null,"",null,null,"",null,null,""]
[null,null,null,null,null,null,"",null,null,"",null,null,""]
[null,null,null,null,null,null,"",null,null,"",null,null,""]
[null,null,null,null,null,null,"",null,null,"",null,null,""]
[null,null,null,null,null,null,"",null,null,"",null,null,""]
[null,null,null,null,null,null,"",null,null,"",null,null,""]
[null,null,null,null,null,null,"",null,null,"",null,null,""]
[null,null,null,null,null,null,"",null,null,"",null,null,""]
[null,null,null,null,null,null,"",null,null,"",null,null,""]
[null,null,null,null,null,null,"",null,null,"",null,null,""]
[null,null,null,null,null,null,"",null,null,"",null,null,""]
[null,null,null,null,null,null,"",null,null,"",null,null,""]
[null,null,null,null,null,null,"",null,null,"",null,null,""]
[null,null,null,null,null,null,"",null,null,"",null,null,""]
[null,null,null,null,null,null,"",null,null,"",null,null,""]
[null,null,null,null,null,null,"",null,null,"",null,null,""]
[null,null,null,null,null,null,"",null,null,"",null,null,""]
[null,null,null,null,null,null,"",null,null,"",null,null,""]
[null,null,null,null,null,null,"",null,null,"",null,null,""]
[null,null,null,null,null,null,"",null,null,"",null,null,""]
[null,null,null,null,null,null,"",null,null,"",null,null,""]
[null,null,null,null,null,null,"",null,null,"",null,null,""]
[null,null,null,null,null,null,{"$f":"IF(OR(D455=\"\",F455=\"\"),\"\",ROUND(D455*F455,0))","v":""},null,null,{"$f":"IF(OR(H455=\"\",I455=\"\"),\"\",ROUND(H455*I455,0))","v":""},null,null,{"$f":"IF(OR(K455=\"\",L455=\"\"),\"\",ROUND(K455*L455,0))","v":""}]
[null,null,null,null,null,null,"",null,null,"",null,null,""]
[null,null,null,null,null,null,"",null,null,"",null,null,""]
[null,null,null,null,null,null,"",null,null,"",null,null,""]
[null,null,null,null,null,null,"",null,null,"",null,null,""]
[null,null,null,null,null,null,"",null,null,"",null,null,""]
[null,null,null,null,null,null,"",null,null,"",null,null,""]
[null,null,null,null,null,null,"",null,null,"",null,null,""]
[null,null,null,null,null,null,"",null,null,"",null,null,""]
[null,null,null,null,null,null,"",null,null,"",null,null,""]
[null,null,null,null,null,null,"",null,null,"",null,null,""]
[null,null,null,null,null,null,"",null,null,"",null,null,""]
[null,null,null,null,null,null,"",null,null,"",null,null,""]
[null,null,null,null,null,null,"",null,null,"",null,null,""]
[null,null,null,null,null,null,"",null,null,"",null,null,""]
[null,null,null,null,null,null,"",null,null,"",null,null,""]
[null,null,null,null,null,null,"",null,null,"",null,null,""]
[null,null,null,null,null,null,"",null,null,"",null,null,""]
[null,null,null,null,null,null,"",null,null,"",null,null,""]
[null,null,null,null,null,null,"",null,null,"",null,null,""]
[null,null,null,null,null,null,"",null,null,"",null,null,""]
[null,null,null,null,null,null,"",null,null,"",null,null,""]
[null,null,null,null,null,null,"",null,null,"",null,null,""]
[null,null,null,null,null,null,"",null,null,"",null,null,""]
[null,null,null,null,null,null,"",null,null,"",null,null,""]
[null,null,null,null,null,null,"",null,null,"",null,null,""]
[null,null,null,null,null,null,"",null,null,"",null,null,""]
[null,null,null,null,null,null,"",null,null,"",null,null,""]
[null,null,null,null,null,null,"",null,null,"",null,null,""]
[null,null,null,null,null,null,"",null,null,"",null,null,""]
[null,null,null,null,null,null,"",null,null,"",null,null,""]
[null,null,null,null,null,null,"",null,null,"",null,null,""]
[null,null,null,null,null,null,"",null,null,"",null,null,""]
[null,null,null,null,null,null,"",null,null,"",null,null,""]
[null,null,null,null,null,null,"",null,null,"",null,null,""]
[null,null,null,null,null,null,"",null,null,"",null,null,""]
[null,null,null,null,null,null,"",null,null,"",null,null,""]
[null,null,null,null,null,null,"",null,null,"",null,null,""]
[null,null,null,null,null,null,"",null,null,"",null,null,""]
[null,null,null,null,null,null,"",null,null,"",null,null,""]
[null,null,null,null,null,null,"",null,null,"",null,null,""]
[null,null,null,null,null,null,"",null,null,"",null,null,""]
[null,null,null,null,null,null,"",null,null,"",null,null,""]
[null,null,null,null,null,null,"",null,null,"",null,null,""]
[null,null,null,null,null,null,"",null,null,"",null,null,""]
[null,null,null,null,null,null,"",null,null,"",null,null,""]
[null,null,null,null,null,null,"",null,null,"",null,null,""]
[null,null,null,null,null,null,"",null,null,"",null,null,""]
[null,null,null,null,null,null,"",null,null,"",null,null,""]
[null,null,null,null,null,null,"",null,null,"",null,null,""]
[null,null,null,null,null,null,"",null,null,"",null,null,""]
[null,null,null,null,null,null,"",null,null,"",null,null,""]
[null,null,null,null,null,null,"",null,null,"",null,null,""]
[null,null,null,null,null,null,"",null,null,"",null,null,""]
[null,null,null,null,null,null,"",null,null,"",null,null,""]
[null,null,null,null,null,null,"",null,null,"",null,null,""]
[null,null,null,null,null,null,"",null,null,"",null,null,""]
[null,null,null,null,null,null,"",null,null,"",null,null,""]
[null,null,null,null,null,null,"",null,null,"",null,null,""]
[null,null,null,null,null,null,"",null,null,"",null,null,""]
[null,null,null,null,null,null,"",null,null,"",null,null,""]
[null,null,null,null,null,null,"",null,null,"",null,null,""]
[null,null,null,null,null,null,"",null,null,"",null,null,""]
[null,null,null,null,null,null,"",null,null,"",null,null,""]
[null,null,null,null,null,null,{"$f":"IF(OR(D519=\"\",F519=\"\"),\"\",ROUND(D519*F519,0))","v":""},null,null,{"$f":"IF(OR(H519=\"\",I519=\"\"),\"\",ROUND(H519*I519,0))","v":""},null,null,{"$f":"IF(OR(K519=\"\",L519=\"\"),\"\",ROUND(K519*L519,0))","v":""}]
[null,null,null,null,null,null,"",null,null,"",null,null,""]
[null,null,null,null,null,null,"",null,null,"",null,null,""]
[null,null,null,null,null,null,"",null,null,"",null,null,""]
[null,null,null,null,null,null,"",null,null,"",null,null,""]
[null,null,null,null,null,null,"",null,null,"",null,null,""]
[null,null,null,null,null,null,"",null,null,"",null,null,""]
[null,null,null,null,null,null,"",null,null,"",null,null,""]
[null,null,null,null,null,null,"",null,null,"",null,null,""]
[null,null,null,null,null,null,"",null,null,"",null,null,""]
[null,null,null,null,null,null,"",null,null,"",null,null,""]
[null,null,null,null,null,null,"",null,null,"",null,null,""]
[null,null,null,null,null,null,"",null,null,"",null,null,""]
[null,null,null,null,null,null,"",null,null,"",null,null,""]
[null,null,null,null,null,null,"",null,null,"",null,null,""]
[null,null,null,null,null,null,"",null,null,"",null,null,""]
[null,null,null,null,null,null,"",null,null,"",null,null,""]
[null,null,null,null,null,null,"",null,null,"",null,null,""]
[null,null,null,null,null,null,"",null,null,"",null,null,""]
[null,null,null,null,null,null,"",null,null,"",null,null,""]
[null,null,null,null,null,null,"",null,null,"",null,null,""]
[null,null,null,null,null,null,"",null,null,"",null,null,""]
[null,null,null,null,null,null,"",null,null,"",null,null,""]
[null,null,null,null,null,null,"",null,null,"",null,null,""]
[null,null,null,null,null,null,"",null,null,"",null,null,""]
[null,null,null,null,null,null,"",null,null,"",null,null,""]
[null,null,null,null,null,null,"",null,null,"",null,null,""]
[null,null,null,null,null,null,"",null,null,"",null,null,""]
[null,null,null,null,null,null,"",null,null,"",null,null,""]
[null,null,null,null,null,null,"",null,null,"",null,null,""]
[null,null,null,null,null,null,"",null,null,"",null,null,""]
[null,null,null,null,null,null,"",null,null,"",null,null,""]
[null,null,null,null,null,null,"",null,null,"",null,null,""]
[null,null,null,null,null,null,"",null,null,"",null,null,""]
[null,null,null,null,null,null,"",null,null,"",null,null,""]
[null,null,null,null,null,null,"",null,null,"",null,null,""]
[null,null,null,null,null,null,"",null,null,"",null,null,""]
[null,null,null,null,null,null,"",null,null,"",null,null,""]
[null,null,null,null,null,null,"",null,null,"",null,null,""]
[null,null,null,null,null,null,"",null,null,"",null,null,""]
[null,null,null,null,null,null,"",null,null,"",null,null,""]
[null,null,null,null,null,null,"",null,null,"",null,null,""]
[null,null,null,null,null,null,"",null,null,"",null,null,""]
[null,null,null,null,null,null,"",null,null,"",null,null,""]
[null,null,null,null,null,null,"",null,null,"",null,null,""]
[null,null,null,null,null,null,"",null,null,"",null,null,""]
[null,null,null,null,null,null,"",null,null,"",null,null,""]
[null,null,null,null,null,null,"",null,null,"",null,null,""]
[null,null,null,null,null,null,"",null,null,"",null,null,""]
[null,null,null,null,null,null,"",null,null,"",null,null,""]
[null,null,null,null,null,null,"",null,null,"",null,null,""]
[null,null,null,null,null,null,"",null,null,"",null,null,""]
[null,null,null,null,null,null,"",null,null,"",null,null,""]
[null,null,null,null,null,null,"",null,null,"",null,null,""]
[null,null,null,null,null,null,"",null,null,"",null,null,""]
[null,null,null,null,null,null,"",null,null,"",null,null,""]
[null,null,null,null,null,null,"",null,null,"",null,null,""]
[null,null,null,null,null,null,"",null,null,"",null,null,""]
[null,null,null,null,null,null,"",null,null,"",null,null,""]
[null,null,null,null,null,null,"",null,null,"",null,null,""]
[null,null,null,null,null,null,"",null,null,"",null,null,""]
[null,null,null,null,null,null,"",null,null,"",null,null,""]
[null,null,null,null,null,null,"",null,null,"",null,null,""]
[null,null,null,null,null,null,"",null,null,"",null,null,""]
[null,null,null,null,null,null,{"$f":"IF(OR(D583=\"\",F583=\"\"),\"\",ROUND(D583*F583,0))","v":""},null,null,{"$f":"IF(OR(H583=\"\",I583=\"\"),\"\",ROUND(H583*I583,0))","v":""},null,null,{"$f":"IF(OR(K583=\"\",L583=\"\"),\"\",ROUND(K583*L583,0))","v":""}]
[null,null,null,null,null,null,"",null,null,"",null,null,""]
[null,null,null,null,null,null,"",null,null,"",null,null,""]
[null,null,null,null,null,null,"",null,null,"",null,null,""]
[null,null,null,null,null,null,"",null,null,"",null,null,""]
[null,null,null,null,null,null,"",null,null,"",null,null,""]
[null,null,null,null,null,null,"",null,null,"",null,null,""]
[null,null,null,null,null,null,"",null,null,"",null,null,""]
[null,null,null,null,null,null,"",null,null,"",null,null,""]
[null,null,null,null,null,null,"",null,null,"",null,null,""]
[null,null,null,null,null,null,"",null,null,"",null,null,""]
[null,null,null,null,null,null,"",null,null,"",null,null,""]
[null,null,null,null,null,null,"",null,null,"",null,null,""]
[null,null,null,null,null,null,"",null,null,"",null,null,""]
[null,null,null,null,null,null,"",null,null,"",null,null,""]
[null,null,null,null,null,null,"",null,null,"",null,null,""]
[null,null,null,null,null,null,"",null,null,"",null,null,""]
[null,null,null,null,null,null,"",null,null,"",null,null,""]
[null,null,null,null,null,null,"",null,null,"",null,null,""]
[null,null,null,null,null,null,"",null,null,"",null,null,""]
[null,null,null,null,null,null,"",null,null,"",null,null,""]
[null,null,null,null,null,null,"",null,null,"",null,null,""]
[null,null,null,null,null,null,"",null,null,"",null,null,""]
[null,null,null,null,null,null,"",null,null,"",null,null,""]
[null,null,null,null,null,null,"",null,null,"",null,null,""]
[null,null,null,null,null,null,"",null,null,"",null,null,""]
[null,null,null,null,null,null,"",null,null,"",null,null,""]
[null,null,null,null,null,null,"",null,null,"",null,null,""]
[null,null,null,null,null,null,"",null,null,"",null,null,""]
[null,null,null,null,null,null,"",null,null,"",null,null,""]
[null,null,null,null,null,null,"",null,null,"",null,null,""]
[null,null,null,null,null,null,"",null,null,"",null,null,""]
[null,null,null,null,null,null,"",null,null,"",null,null,""]
[null,null,null,null,null,null,"",null,null,"",null,null,""]
[null,null,null,null,null,null,"",null,null,"",null,null,""]
[null,null,null,null,null,null,"",null,null,"",null,null,""]
[null,null,null,null,null,null,"",null,null,"",null,null,""]
[null,null,null,null,null,null,"",null,null,"",null,null,""]
[null,null,null,null,null,null,"",null,null,"",null,null,""]
[null,null,null,null,null,null,"",null,null,"",null,null,""]
[null,null,null,null,null,null,"",null,null,"",null,null,""]
[null,null,null,null,null,null,"",null,null,"",null,null,""]
[null,null,null,null,null,null,"",null,null,"",null,null,""]
[null,null,null,null,null,null,"",null,null,"",null,null,""]
[null,null,null,null,null,null,"",null,null,"",null,null,""]
[null,null,null,null,null,null,"",null,null,"",null,null,""]
[null,null,null,null,null,null,"",null,null,"",null,null,""]
[null,null,null,null,null,null,"",null,null,"",null,null,""]
[null,null,null,null,null,null,"",null,null,"",null,null,""]
[null,null,null,null,null,null,"",null,null,"",null,null,""]
[null,null,null,null,null,null,"",null,null,"",null,null,""]
[null,null,null,null,null,null,"",null,null,"",null,null,""]
[null,null,null,null,null,null,"",null,null,"",null,null,""]
[null,null,null,null,null,null,"",null,null,"",null,null,""]
[null,null,null,null,null,null,"",null,null,"",null,null,""]
[null,null,null,null,null,null,"",null,null,"",null,null,""]
[null,null,null,null,null,null,"",null,null,"",null,null,""]
[null,null,null,null,null,null,"",null,null,"",null,null,""]
[null,null,null,null,null,null,"",null,null,"",null,null,""]
[null,null,null,null,null,null,"",null,null,"",null,null,""]
[null,null,null,null,null,null,"",null,null,"",null,null,""]
[null,null,null,null,null,null,"",null,null,"",null,null,""]
[null,null,null,null,null,null,"",null,null,"",null,null,""]
[null,null,null,null,null,null,"",null,null,"",null,null,""]
[null,null,null,null,null,null,{"$f":"IF(OR(D647=\"\",F647=\"\"),\"\",ROUND(D647*F647,0))","v":""},null,null,{"$f":"IF(OR(H647=\"\",I647=\"\"),\"\",ROUND(H647*I647,0))","v":""},null,null,{"$f":"IF(OR(K647=\"\",L647=\"\"),\"\",ROUND(K647*L647,0))","v":""}]
[null,null,null,null,null,null,"",null,null,"",null,null,""]
[null,null,null,null,null,null,"",null,null,"",null,null,""]
[null,null,null,null,null,null,"",null,null,"",null,null,""]
[null,null,null,null,null,null,"",null,null,"",null,null,""]
[null,null,null,null,null,null,"",null,null,"",null,null,""]
[null,null,null,null,null,null,"",null,null,"",null,null,""]
[null,null,null,null,null,null,"",null,null,"",null,null,""]
[null,null,null,null,null,null,"",null,null,"",null,null,""]
[null,null,null,null,null,null,"",null,null,"",null,null,""]
[null,null,null,null,null,null,"",null,null,"",null,null,""]
[null,null,null,null,null,null,"",null,null,"",null,null,""]
[null,null,null,null,null,null,"",null,null,"",null,null,""]
[null,null,null,null,null,null,"",null,null,"",null,null,""]
[null,null,null,null,null,null,"",null,null,"",null,null,""]
[null,null,null,null,null,null,"",null,null,"",null,null,""]
[null,null,null,null,null,null,"",null,null,"",null,null,""]
[null,null,null,null,null,null,"",null,null,"",null,null,""]
[null,null,null,null,null,null,"",null,null,"",null,null,""]
[null,null,null,null,null,null,"",null,null,"",null,null,""]
[null,null,null,null,null,null,"",null,null,"",null,null,""]
[null,null,null,null,null,null,"",null,null,"",null,null,""]
[null,null,null,null,null,null,"",null,null,"",null,null,""]
[null,null,null,null,null,null,"",null,null,"",null,null,""]
[null,null,null,null,null,null,"",null,null,"",null,null,""]
[null,null,null,null,null,null,"",null,null,"",null,null,""]
[null,null,null,null,null,null,"",null,null,"",null,null,""]
[null,null,null,null,null,null,"",null,null,"",null,null,""]
[null,null,null,null,null,null,"",null,null,"",null,null,""]
[null,null,null,null,null,null,"",null,null,"",null,null,""]
[null,null,null,null,null,null,"",null,null,"",null,null,""]
[null,null,null,null,null,null,"",null,null,"",null,null,""]
[null,null,null,null,null,null,"",null,null,"",null,null,""]
[null,null,null,null,null,null,"",null,null,"",null,null,""]
[null,null,null,null,null,null,"",null,null,"",null,null,""]
[null,null,null,null,null,null,"",null,null,"",null,null,""]
[null,null,null,null,null,null,"",null,null,"",null,null,""]
[null,null,null,null,null,null,"",null,null,"",null,null,""]
[null,null,null,null,null,null,"",null,null,"",null,null,""]
[null,null,null,null,null,null,"",null,null,"",null,null,""]
[null,null,null,null,null,null,"",null,null,"",null,null,""]
[null,null,null,null,null,null,"",null,null,"",null,null,""]
[null,null,null,null,null,null,"",null,null,"",null,null,""]
[null,null,null,null,null,null,"",null,null,"",null,null,""]
[null,null,null,null,null,null,"",null,null,"",null,null,""]
[null,null,null,null,null,null,"",null,null,"",null,null,""]
[null,null,null,null,null,null,"",null,null,"",null,null,""]
[null,null,null,null,null,null,"",null,null,"",null,null,""]
[null,null,null,null,null,null,"",null,null,"",null,null,""]
[null,null,null,null,null,null,"",null,null,"",null,null,""]
[null,null,null,null,null,null,"",null,null,"",null,null,""]
[null,null,null,null,null,null,"",null,null,"",null,null,""]
[null,null,null,null,null,null,"",null,null,"",null,null,""]
[null,null,null,null,null,null,"",null,null,"",null,null,""]
[null,null,null,null,null,null,"",null,null,"",null,null,""]
[null,null,null,null,null,null,"",null,null,"",null,null,""]
[null,null,null,null,null,null,"",null,null,"",null,null,""]
[null,null,null,null,null,null,"",null,null,"",null,null,""]
[null,null,null,null,null,null,"",null,null,"",null,null,""]
[null,null,null,null,null,null,"",null,null,"",null,null,""]
[null,null,null,null,null,null,"",null,null,"",null,null,""]
[null,null,null,null,null,null,"",null,null,"",null,null,""]
[null,null,null,null,null,null,"",null,null,"",null,null,""]
[null,null,null,null,null,null,"",null,null,"",null,null,""]
[null,null,null,null,null,null,{"$f":"IF(OR(D711=\"\",F711=\"\"),\"\",ROUND(D711*F711,0))","v":""},null,null,{"$f":"IF(OR(H711=\"\",I711=\"\"),\"\",ROUND(H711*I711,0))","v":""},null,null,{"$f":"IF(OR(K711=\"\",L711=\"\"),\"\",ROUND(K711*L711,0))","v":""}]
[null,null,null,null,null,null,"",null,null,"",null,null,""]
[null,null,null,null,null,null,"",null,null,"",null,null,""]
[null,null,null,null,null,null,"",null,null,"",null,null,""]
[null,null,null,null,null,null,"",null,null,"",null,null,""]
[null,null,null,null,null,null,"",null,null,"",null,null,""]
[null,null,null,null,null,null,"",null,null,"",null,null,""]
[null,null,null,null,null,null,"",null,null,"",null,null,""]
[null,null,null,null,null,null,"",null,null,"",null,null,""]
[null,null,null,null,null,null,"",null,null,"",null,null,""]
[null,null,null,null,null,null,"",null,null,"",null,null,""]
[null,null,null,null,null,null,"",null,null,"",null,null,""]
[null,null,null,null,null,null,"",null,null,"",null,null,""]
[null,null,null,null,null,null,"",null,null,"",null,null,""]
[null,null,null,null,null,null,"",null,null,"",null,null,""]
[null,null,null,null,null,null,"",null,null,"",null,null,""]
[null,null,null,null,null,null,"",null,null,"",null,null,""]
[null,null,null,null,null,null,"",null,null,"",null,null,""]
[null,null,null,null,null,null,"",null,null,"",null,null,""]
[null,null,null,null,null,null,"",null,null,"",null,null,""]
[null,null,null,null,null,null,"",null,null,"",null,null,""]
[null,null,null,null,null,null,"",null,null,"",null,null,""]
[null,null,null,null,null,null,"",null,null,"",null,null,""]
[null,null,null,null,null,null,"",null,null,"",null,null,""]
[null,null,null,null,null,null,"",null,null,"",null,null,""]
[null,null,null,null,null,null,"",null,null,"",null,null,""]
[null,null,null,null,null,null,"",null,null,"",null,null,""]
[null,null,null,null,null,null,"",null,null,"",null,null,""]
[null,null,null,null,null,null,"",null,null,"",null,null,""]
[null,null,null,null,null,null,"",null,null,"",null,null,""]
[null,null,null,null,null,null,"",null,null,"",null,null,""]
[null,null,null,null,null,null,"",null,null,"",null,null,""]
[null,null,null,null,null,null,"",null,null,"",null,null,""]
[null,null,null,null,null,null,"",null,null,"",null,null,""]
[null,null,null,null,null,null,"",null,null,"",null,null,""]
[null,null,null,null,null,null,"",null,null,"",null,null,""]
[null,null,null,null,null,null,"",null,null,"",null,null,""]
[null,null,null,null,null,null,"",null,null,"",null,null,""]
[null,null,null,null,null,null,"",null,null,"",null,null,""]
[null,null,null,null,null,null,"",null,null,"",null,null,""]
[null,null,null,null,null,null,"",null,null,"",null,null,""]
[null,null,null,null,null,null,"",null,null,"",null,null,""]
[null,null,null,null,null,null,"",null,null,"",null,null,""]
[null,null,null,null,null,null,"",null,null,"",null,null,""]
[null,null,null,null,null,null,"",null,null,"",null,null,""]
[null,null,null,null,null,null,"",null,null,"",null,null,""]
[null,null,null,null,null,null,"",null,null,"",null,null,""]
[null,null,null,null,null,null,"",null,null,"",null,null,""]
[null,null,null,null,null,null,"",null,null,"",null,null,""]
[null,null,null,null,null,null,"",null,null,"",null,null,""]
[null,null,null,null,null,null,"",null,null,"",null,null,""]
[null,null,null,null,null,null,"",null,null,"",null,null,""]
[null,null,null,null,null,null,"",null,null,"",null,null,""]
[null,null,null,null,null,null,"",null,null,"",null,null,""]
[null,null,null,null,null,null,"",null,null,"",null,null,""]
[null,null,null,null,null,null,"",null,null,"",null,null,""]
[null,null,null,null,null,null,"",null,null,"",null,null,""]
[null,null,null,null,null,null,"",null,null,"",null,null,""]
[null,null,null,null,null,null,"",null,null,"",null,null,""]
[null,null,null,null,null,null,"",null,null,"",null,null,""]
[null,null,null,null,null,null,"",null,null,"",null,null,""]
[null,null,null,null,null,null,"",null,null,"",null,null,""]
[null,null,null,null,null,null,"",null,null,"",null,null,""]
[null,null,null,null,null,null,"",null,null,"",null,null,""]
[null,null,null,null,null,null,{"$f":"IF(OR(D775=\"\",F775=\"\"),\"\",ROUND(D775*F775,0))","v":""},null,null,{"$f":"IF(OR(H775=\"\",I775=\"\"),\"\",ROUND(H775*I775,0))","v":""},null,null,{"$f":"IF(OR(K775=\"\",L775=\"\"),\"\",ROUND(K775*L775,0))","v":""}]
[null,null,null,null,null,null,"",null,null,"",null,null,""]
[null,null,null,null,null,null,"",null,null,"",null,null,""]
[null,null,null,null,null,null,"",null,null,"",null,null,""]
[null,null,null,null,null,null,"",null,null,"",null,null,""]
[null,null,null,null,null,null,"",null,null,"",null,null,""]
[null,null,null,null,null,null,"",null,null,"",null,null,""]
[null,null,null,null,null,null,"",null,null,"",null,null,""]
[null,null,null,null,null,null,"",null,null,"",null,null,""]
[null,null,null,null,null,null,"",null,null,"",null,null,""]
[null,null,null,null,null,null,"",null,null,"",null,null,""]
[null,null,null,null,null,null,"",null,null,"",null,null,""]
[null,null,null,null,null,null,"",null,null,"",null,null,""]
[null,null,null,null,null,null,"",null,null,"",null,null,""]
[null,null,null,null,null,null,"",null,null,"",null,null,""]
[null,null,null,null,null,null,"",null,null,"",null,null,""]
[null,null,null,null,null,null,"",null,null,"",null,null,""]
[null,null,null,null,null,null,"",null,null,"",null,null,""]
[null,null,null,null,null,null,"",null,null,"",null,null,""]
[null,null,null,null,null,null,"",null,null,"",null,null,""]
[null,null,null,null,null,null,"",null,null,"",null,null,""]
[null,null,null,null,null,null,"",null,null,"",null,null,""]
[null,null,null,null,null,null,"",null,null,"",null,null,""]
[null,null,null,null,null,null,"",null,null,"",null,null,""]
[null,null,null,null,null,null,"",null,null,"",null,null,""]
[null,null,null,null,null,null,"",null,null,"",null,null,""]
[null,null,null,null,null,null,"",null,null,"",null,null,""]
[null,null,null,null,null,null,"",null,null,"",null,null,""]
[null,null,null,null,null,null,"",null,null,"",null,null,""]
[null,null,null,null,null,null,"",null,null,"",null,null,""]
[null,null,null,null,null,null,"",null,null,"",null,null,""]
[null,null,null,null,null,null,"",null,null,"",null,null,""]
[null,null,null,null,null,null,"",null,null,"",null,null,""]
[null,null,null,null,null,null,"",null,null,"",null,null,""]
[null,null,null,null,null,null,"",null,null,"",null,null,""]
[null,null,null,null,null,null,"",null,null,"",null,null,""]
[null,null,null,null,null,null,"",null,null,"",null,null,""]
[null,null,null,null,null,null,"",null,null,"",null,null,""]
[null,null,null,null,null,null,"",null,null,"",null,null,""]
[null,null,null,null,null,null,"",null,null,"",null,null,""]
[null,null,null,null,null,null,"",null,null,"",null,null,""]
[null,null,null,null,null,null,"",null,null,"",null,null,""]
[null,null,null,null,null,null,"",null,null,"",null,null,""]
[null,null,null,null,null,null,"",null,null,"",null,null,""]
[null,null,null,null,null,null,"",null,null,"",null,null,""]
[null,null,null,null,null,null,"",null,null,"",null,null,""]
[null,null,null,null,null,null,"",null,null,"",null,null,""]
[null,null,null,null,null,null,"",null,null,"",null,null,""]
[null,null,null,null,null,null,"",null,null,"",null,null,""]
[null,null,null,null,null,null,"",null,null,"",null,null,""]
[null,null,null,null,null,null,"",null,null,"",null,null,""]
[null,null,null,null,null,null,"",null,null,"",null,null,""]
[null,null,null,null,null,null,"",null,null,"",null,null,""]
[null,null,null,null,null,null,"",null,null,"",null,null,""]
[null,null,null,null,null,null,"",null,null,"",null,null,""]
[null,null,null,null,null,null,"",null,null,"",null,null,""]
[null,null,null,null,null,null,"",null,null,"",null,null,""]
[null,null,null,null,null,null,"",null,null,"",null,null,""]
[null,null,null,null,null,null,"",null,null,"",null,null,""]
[null,null,null,null,null,null,"",null,null,"",null,null,""]
[null,null,null,null,null,null,"",null,null,"",null,null,""]
[null,null,null,null,null,null,"",null,null,"",null,null,""]
[null,null,null,null,null,null,"",null,null,"",null,null,""]
[null,null,null,null,null,null,"",null,null,"",null,null,""]
[null,null,null,null,null,null,{"$f":"IF(OR(D839=\"\",F839=\"\"),\"\",ROUND(D839*F839,0))","v":""},null,null,{"$f":"IF(OR(H839=\"\",I839=\"\"),\"\",ROUND(H839*I839,0))","v":""},null,null,{"$f":"IF(OR(K839=\"\",L839=\"\"),\"\",ROUND(K839*L839,0))","v":""}]
[null,null,null,null,null,null,"",null,null,"",null,null,""]
[null,null,null,null,null,null,"",null,null,"",null,null,""]
[null,null,null,null,null,null,"",null,null,"",null,null,""]
[null,null,null,null,null,null,"",null,null,"",null,null,""]
[null,null,null,null,null,null,"",null,null,"",null,null,""]
[null,null,null,null,null,null,"",null,null,"",null,null,""]
[null,null,null,null,null,null,"",null,null,"",null,null,""]
[null,null,null,null,null,null,"",null,null,"",null,null,""]
[null,null,null,null,null,null,"",null,null,"",null,null,""]
[null,null,null,null,null,null,"",null,null,"",null,null,""]
[null,null,null,null,null,null,"",null,null,"",null,null,""]
[null,null,null,null,null,null,"",null,null,"",null,null,""]
[null,null,null,null,null,null,"",null,null,"",null,null,""]
[null,null,null,null,null,null,"",null,null,"",null,null,""]
[null,null,null,null,null,null,"",null,null,"",null,null,""]
[null,null,null,null,null,null,"",null,null,"",null,null,""]
[null,null,null,null,null,null,"",null,null,"",null,null,""]
[null,null,null,null,null,null,"",null,null,"",null,null,""]
[null,null,null,null,null,null,"",null,null,"",null,null,""]
[null,null,null,null,null,null,"",null,null,"",null,null,""]
[null,null,null,null,null,null,"",null,null,"",null,null,""]
[null,null,null,null,null,null,"",null,null,"",null,null,""]
[null,null,null,null,null,null,"",null,null,"",null,null,""]
[null,null,null,null,null,null,"",null,null,"",null,null,""]
[null,null,null,null,null,null,"",null,null,"",null,null,""]
[null,null,null,null,null,null,"",null,null,"",null,null,""]
[null,null,null,null,null,null,"",null,null,"",null,null,""]
[null,null,null,null,null,null,"",null,null,"",null,null,""]
[null,null,null,null,null,null,"",null,null,"",null,null,""]
[null,null,null,null,null,null,"",null,null,"",null,null,""]
[null,null,null,null,null,null,"",null,null,"",null,null,""]
[null,null,null,null,null,null,"",null,null,"",null,null,""]
[null,null,null,null,null,null,"",null,null,"",null,null,""]
[null,null,null,null,null,null,"",null,null,"",null,null,""]
[null,null,null,null,null,null,"",null,null,"",null,null,""]
[null,null,null,null,null,null,"",null,null,"",null,null,""]
[null,null,null,null,null,null,"",null,null,"",null,null,""]
[null,null,null,null,null,null,"",null,null,"",null,null,""]
[null,null,null,null,null,null,"",null,null,"",null,null,""]
[null,null,null,null,null,null,"",null,null,"",null,null,""]
[null,null,null,null,null,null,"",null,null,"",null,null,""]
[null,null,null,null,null,null,"",null,null,"",null,null,""]
[null,null,null,null,null,null,"",null,null,"",null,null,""]
[null,null,null,null,null,null,"",null,null,"",null,null,""]
[null,null,null,null,null,null,"",null,null,"",null,null,""]
[null,null,null,null,null,null,"",null,null,"",null,null,""]
[null,null,null,null,null,null,"",null,null,"",null,null,""]
[null,null,null,null,null,null,"",null,null,"",null,null,""]
[null,null,null,null,null,null,"",null,null,"",null,null,""]
[null,null,null,null,null,null,"",null,null,"",null,null,""]
[null,null,null,null,null,null,"",null,null,"",null,null,""]
[null,null,null,null,null,null,"",null,null,"",null,null,""]
[null,null,null,null,null,null,"",null,null,"",null,null,""]
[null,null,null,null,null,null,"",null,null,"",null,null,""]
[null,null,null,null,null,null,"",null,null,"",null,null,""]
[null,null,null,null,null,null,"",null,null,"",null,null,""]
[null,null,null,null,null,null,"",null,null,"",null,null,""]
[null,null,null,null,null,null,"",null,null,"",null,null,""]
[null,null,null,null,null,null,"",null,null,"",null,null,""]
[null,null,null,null,null,null,"",null,null,"",null,null,""]
[null,null,null,null,null,null,"",null,null,"",null,null,""]
[null,null,null,null,null,null,"",null,null,"",null,null,""]
[null,null,null,null,null,null,"",null,null,"",null,null,""]
[null,null,null,null,null,null,{"$f":"IF(OR(D903=\"\",F903=\"\"),\"\",ROUND(D903*F903,0))","v":""},null,null,{"$f":"IF(OR(H903=\"\",I903=\"\"),\"\",ROUND(H903*I903,0))","v":""},null,null,{"$f":"IF(OR(K903=\"\",L903=\"\"),\"\",ROUND(K903*L903,0))","v":""}]
[null,null,null,null,null,null,"",null,null,"",null,null,""]
[null,null,null,null,null,null,"",null,null,"",null,null,""]
[null,null,null,null,null,null,"",null,null,"",null,null,""]
[null,null,null,null,null,null,"",null,null,"",null,null,""]
[null,null,null,null,null,null,"",null,null,"",null,null,""]
[null,null,null,null,null,null,"",null,null,"",null,null,""]
[null,null,null,null,null,null,"",null,null,"",null,null,""]
[null,null,null,null,null,null,"",null,null,"",null,null,""]
[null,null,null,null,null,null,"",null,null,"",null,null,""]
[null,null,null,null,null,null,"",null,null,"",null,null,""]
[null,null,null,null,null,null,"",null,null,"",null,null,""]
[null,null,null,null,null,null,"",null,null,"",null,null,""]
[null,null,null,null,null,null,"",null,null,"",null,null,""]
[null,null,null,null,null,null,"",null,null,"",null,null,""]
[null,null,null,null,null,null,"",null,null,"",null,null,""]
[null,null,null,null,null,null,"",null,null,"",null,null,""]
[null,null,null,null,null,null,"",null,null,"",null,null,""]
[null,null,null,null,null,null,"",null,null,"",null,null,""]
[null,null,null,null,null,null,"",null,null,"",null,null,""]
[null,null,null,null,null,null,"",null,null,"",null,null,""]
[null,null,null,null,null,null,"",null,null,"",null,null,""]
[null,null,null,null,null,null,"",null,null,"",null,null,""]
[null,null,null,null,null,null,"",null,null,"",null,null,""]
[null,null,null,null,null,null,"",null,null,"",null,null,""]
[null,null,null,null,null,null,"",null,null,"",null,null,""]
[null,null,null,null,null,null,"",null,null,"",null,null,""]
[null,null,null,null,null,null,"",null,null,"",null,null,""]
[null,null,null,null,null,null,"",null,null,"",null,null,""]
[null,null,null,null,null,null,"",null,null,"",null,null,""]
[null,null,null,null,null,null,"",null,null,"",null,null,""]
[null,null,null,null,null,null,"",null,null,"",null,null,""]
[null,null,null,null,null,null,"",null,null,"",null,null,""]
[null,null,null,null,null,null,"",null,null,"",null,null,""]
[null,null,null,null,null,null,"",null,null,"",null,null,""]
[null,null,null,null,null,null,"",null,null,"",null,null,""]
[null,null,null,null,null,null,"",null,null,"",null,null,""]
[null,null,null,null,null,null,"",null,null,"",null,null,""]
[null,null,null,null,null,null,"",null,null,"",null,null,""]
[null,null,null,null,null,null,"",null,null,"",null,null,""]
[null,null,null,null,null,null,"",null,null,"",null,null,""]
[null,null,null,null,null,null,"",null,null,"",null,null,""]
[null,null,null,null,null,null,"",null,null,"",null,null,""]
[null,null,null,null,null,null,"",null,null,"",null,null,""]
[null,null,null,null,null,null,"",null,null,"",null,null,""]
[null,null,null,null,null,null,"",null,null,"",null,null,""]
[null,null,null,null,null,null,"",null,null,"",null,null,""]
[null,null,null,null,null,null,"",null,null,"",null,null,""]
[null,null,null,null,null,null,"",null,null,"",null,null,""]
[null,null,null,null,null,null,"",null,null,"",null,null,""]
[null,null,null,null,null,null,"",null,null,"",null,null,""]
[null,null,null,null,null,null,"",null,null,"",null,null,""]
[null,null,null,null,null,null,"",null,null,"",null,null,""]
[null,null,null,null,null,null,"",null,null,"",null,null,""]
[null,null,null,null,null,null,"",null,null,"",null,null,""]
[null,null,null,null,null,null,"",null,null,"",null,null,""]
[null,null,null,null,null,null,"",null,null,"",null,null,""]
[null,null,null,null,null,null,"",null,null,"",null,null,""]
[null,null,null,null,null,null,"",null,null,"",null,null,""]
[null,null,null,null,null,null,"",null,null,"",null,null,""]
[null,null,null,null,null,null,"",null,null,"",null,null,""]
[null,null,null,null,null,null,"",null,null,"",null,null,""]
[null,null,null,null,null,null,"",null,null,"",null,null,""]
[null,null,null,null,null,null,"",null,null,"",null,null,""]
[null,null,null,null,null,null,{"$f":"IF(OR(D967=\"\",F967=\"\"),\"\",ROUND(D967*F967,0))","v":""},null,null,{"$f":"IF(OR(H967=\"\",I967=\"\"),\"\",ROUND(H967*I967,0))","v":""},null,null,{"$f":"IF(OR(K967=\"\",L967=\"\"),\"\",ROUND(K967*L967,0))","v":""}]
[null,null,null,null,null,null,"",null,null,"",null,null,""]
[null,null,null,null,null,null,"",null,null,"",null,null,""]
[null,null,null,null,null,null,"",null,null,"",null,null,""]
[null,null,null,null,null,null,"",null,null,"",null,null,""]
[null,null,null,null,null,null,"",null,null,"",null,null,""]
[null,null,null,null,null,null,"",null,null,"",null,null,""]
[null,null,null,null,null,null,"",null,null,"",null,null,""]
[null,null,null,null,null,null,"",null,null,"",null,null,""]
[null,null,null,null,null,null,"",null,null,"",null,null,""]
[null,null,null,null,null,null,"",null,null,"",null,null,""]
[null,null,null,null,null,null,"",null,null,"",null,null,""]
[null,null,null,null,null,null,"",null,null,"",null,null,""]
[null,null,null,null,null,null,"",null,null,"",null,null,""]
[null,null,null,null,null,null,"",null,null,"",null,null,""]
[null,null,null,null,null,null,"",null,null,"",null,null,""]
[null,null,null,null,null,null,"",null,null,"",null,null,""]
[null,null,null,null,null,null,"",null,null,"",null,null,""]
[null,null,null,null,null,null,"",null,null,"",null,null,""]
[null,null,null,null,null,null,"",null,null,"",null,null,""]
[null,null,null,null,null,null,"",null,null,"",null,null,""]
[null,null,null,null,null,null,"",null,null,"",null,null,""]
[null,null,null,null,null,null,"",null,null,"",null,null,""]
[null,null,null,null,null,null,"",null,null,"",null,null,""]
[null,null,null,null,null,null,"",null,null,"",null,null,""]
[null,null,null,null,null,null,"",null,null,"",null,null,""]
[null,null,null,null,null,null,"",null,null,"",null,null,""]
[null,null,null,null,null,null,"",null,null,"",null,null,""]
[null,null,null,null,null,null,"",null,null,"",null,null,""]
[null,null,null,null,null,null,"",null,null,"",null,null,""]
[null,null,null,null,null,null,"",null,null,"",null,null,""]
[null,null,null,null,null,null,"",null,null,"",null,null,""]
[null,null,null,null,null,null,"",null,null,"",null,null,""]
[null,null,null,null,null,null,"",null,null,"",null,null,""]
[null,null,null,null,null,null,"",null,null,"",null,null,""]
[null,null,null,null,null,null,"",null,null,"",null,null,""]
[null,null,null,null,null,null,"",null,null,"",null,null,""]
[null,null,null,null,null,null,"",null,null,"",null,null,""]
[null,null,null,null,null,null,"",null,null,"",null,null,""]
[null,null,null,null,null,null,"",null,null,"",null,null,""]

{"sheet":"出来高表紙","index":2,"n_rows":67,"n_cols":55,"rows_kept":67,"cut":false,"hidden":false,"merged":[[59,0,59,14],[59,15,60,17],[32,47,33,48],[32,49,33,55],[38,47,39,48],[63,26,64,27],[63,24,64,25],[59,24,60,25],[61,24,62,25],[63,18,64,19],[59,22,60,23],[61,18,62,19],[59,18,60,19],[61,20,62,21],[59,29,59,41],[59,26,60,27],[59,48,60,49],[59,52,60,53],[59,50,60,51],[59,54,60,55],[61,42,62,44],[36,35,37,40],[36,41,37,46],[36,47,37,48],[24,23,25,28],[17,47,17,48],[24,29,25,34],[24,35,25,40],[24,41,25,46],[18,49,19,55],[30,23,31,28],[30,49,31,55],[30,29,31,34],[22,47,23,48],[24,49,25,55],[28,47,29,48],[28,35,29,40],[26,29,27,34],[26,35,27,40],[26,41,27,46],[26,23,27,28],[61,22,62,23],[61,0,61,14],[63,42,64,44],[63,45,64,55],[64,0,64,14],[60,29,60,41],[61,29,62,41],[60,0,60,14],[63,15,64,17],[61,15,62,17],[61,45,62,55],[63,0,63,14],[63,22,64,23],[63,20,64,21],[9,0,9,2],[9,17,9,22],[6,4,6,6],[9,3,11,6],[10,0,11,2],[0,21,1,35],[4,23,5,31],[7,27,7,31],[2,22,3,22],[6,17,6,22],[2,3,3,6],[7,0,7,3],[7,4,8,16],[2,7,3,10],[4,8,5,22],[6,7,6,10],[6,11,6,16],[7,18,7,22],[2,11,3,21],[10,24,10,25],[9,7,11,16],[10,17,10,22],[2,37,3,37],[2,40,3,40],[2,39,3,39],[2,43,3,43],[2,41,3,42],[22,29,23,34],[22,23,23,28],[17,41,17,46],[18,47,19,48],[18,23,19,28],[20,23,21,28],[16,41,16,46],[22,35,23,40],[10,30,11,31],[2,38,3,38],[2,32,3,36],[10,37,11,55],[2,52,3,55],[20,49,21,55],[20,29,21,34],[14,23,14,55],[13,23,13,55],[16,47,16,48],[22,41,23,46],[2,48,3,48],[24,47,25,48],[22,49,23,55],[28,49,29,55],[26,47,27,48],[26,49,27,55],[15,23,15,55],[16,29,16,34],[16,35,16,40],[17,29,17,34],[17,49,17,55],[18,41,19,46],[16,49,16,55],[4,32,9,55],[2,49,3,51],[10,32,11,36],[18,35,19,40],[20,35,21,40],[20,41,21,46],[20,47,21,48],[2,44,3,47],[10,27,11,29],[28,29,29,34],[28,41,29,46],[38,49,39,55],[30,35,31,40],[30,41,31,46],[30,47,31,48],[34,49,35,55],[36,49,37,55],[34,35,35,40],[34,41,35,46],[34,29,35,34],[34,47,35,48],[38,35,39,40],[36,29,37,34],[38,29,39,34],[38,41,39,46],[32,29,33,34],[32,35,33,40],[32,41,33,46],[20,21,21,22],[24,21,25,22],[20,4,21,11],[24,4,25,11],[26,21,27,22],[22,0,23,3],[34,0,35,3],[34,12,35,18],[34,19,35,20],[30,4,31,11],[22,4,23,11],[22,12,23,18],[22,19,23,20],[20,12,21,18],[20,19,21,20],[22,21,23,22],[32,21,33,22],[34,21,35,22],[24,19,25,20],[17,35,17,40],[46,19,47,20],[36,23,37,28],[34,23,35,28],[38,23,39,28],[40,23,41,28],[30,19,31,20],[30,21,31,22],[32,19,33,20],[26,19,27,20],[36,19,37,20],[36,21,37,22],[44,19,45,20],[44,21,45,22],[40,21,41,22],[38,19,39,20],[38,21,39,22],[28,19,29,20],[28,21,29,22],[44,23,45,28],[46,21,47,22],[46,23,47,28],[28,23,29,28],[32,23,33,28],[52,4,53,11],[12,0,13,3],[12,6,13,16],[18,29,19,34],[18,4,19,11],[18,19,19,20],[14,0,14,3],[15,0,15,3],[18,12,19,18],[18,21,19,22],[12,4,12,5],[16,19,16,20],[16,23,16,28],[18,0,19,3],[15,17,15,22],[14,4,15,13],[16,21,16,22],[15,14,15,16],[13,4,13,5],[12,17,12,22],[12,23,12,55],[13,17,13,22],[14,17,14,22],[14,14,14,16],[46,4,47,11],[16,0,16,3],[16,12,16,18],[32,4,33,11],[28,4,29,11],[16,4,16,11],[38,4,39,11],[30,12,31,18],[32,12,33,18],[30,0,31,3],[32,0,33,3],[36,12,37,18],[38,12,39,18],[28,12,29,18],[24,0,25,3],[26,0,27,3],[26,12,27,18],[24,12,25,18],[26,4,27,11],[20,0,21,3],[28,0,29,3],[38,0,39,3],[61,26,62,27],[62,0,62,14],[59,42,60,45],[54,23,55,28],[40,0,41,3],[42,4,43,11],[54,0,55,3],[46,0,47,3],[48,0,49,3],[42,0,43,3],[52,19,53,20],[52,21,53,22],[52,23,53,28],[50,19,51,20],[50,21,51,22],[50,23,51,28],[48,23,49,28],[54,12,55,18],[46,12,47,18],[46,29,47,34],[46,35,47,40],[46,41,47,46],[54,19,55,20],[54,4,55,11],[46,49,47,55],[44,35,45,40],[48,4,49,11],[40,4,41,11],[42,12,43,18],[59,46,60,47],[34,4,35,11],[36,0,37,3],[36,4,37,11],[59,20,60,21],[42,41,43,46],[42,47,43,48],[54,21,55,22],[48,12,49,18],[52,12,53,18],[50,12,51,18],[44,0,45,3],[50,0,51,3],[52,0,53,3],[44,4,45,11],[44,12,45,18],[58,0,58,55],[46,47,47,48],[50,4,51,11],[48,19,49,20],[54,47,55,48],[52,29,53,34],[52,35,53,40],[52,41,53,46],[48,29,49,34],[54,49,55,55],[54,29,55,34],[54,35,55,40],[54,41,55,46],[50,29,51,34],[50,35,51,40],[50,41,51,46],[50,47,51,48],[48,49,49,55],[48,47,49,48],[50,49,51,55],[48,35,49,40],[48,41,49,46],[52,47,53,48],[52,49,53,55],[48,21,49,22],[40,12,41,18],[40,19,41,20],[42,19,43,20],[42,21,43,22],[40,47,41,48],[44,29,45,34],[40,49,41,55],[44,49,45,55],[42,35,43,40],[42,23,43,28],[42,29,43,34],[40,29,41,34],[40,35,41,40],[40,41,41,46],[42,49,43,55],[44,47,45,48],[44,41,45,46]]}
[null,null,null,null,null,null,null,null,null,null,null,null,null,null,null,null,null,null,null,null,null,"出来高報告書"]
[]
[null,null,null,"株式会社",null,null,null,"福田組",null,null,null,null,null,null,null,null,null,null,null,null,null,null,"様",null,null,null,null,null,null,null,null,null,"建設業許可番号",null,null,null,null,null,"特",null,"般",{"$f":"IF('見積書(1号)'!AO3=\"\",\"\",'見積書(1号)'!AO3)","v":""},null,"第",{"$f":"IF('見積書(1号)'!AR3=\"\",\"\",'見積書(1号)'!AR3)","v":""},null,null,null,"号","取引先コード",null,null,{"$f":"IF('見積書(1号)'!BA3=\"\",\"\",'見積書(1号)'!BA3)","v":""}]
[null,null,null,null,null,null,null,null,null,null,null,null,null,null,null,null,null,null,null,null,null,null,null,null,null,"出来高提出日"]
[null,null,null,null,null,null,null,null,null,null,null,null,null,null,null,null,null,null,null,null,null,null,null,null,null,null,null,null,null,null,null,null,{"$f":"IF('見積書(1号)'!AF5=\"\",\"\",'見積書(1号)'!AF5)","v":""}]
[]
[null,null,null,null,"工事CD",null,null,{"$f":"IF('見積書(1号)'!H7=\"\",\"\",'見積書(1号)'!H7)","v":""},null,null,null,{"$f":"IF('見積書(1号)'!L7=\"\",\"\",'見積書(1号)'!L7)","v":""},null,null,null,null,null,"業者施工期間"]
["工事名",null,null,null,{"$f":"IF('見積書(1号)'!E8=\"\",\"\",'見積書(1号)'!E8)","v":""},null,null,null,null,null,null,null,null,null,null,null,null,"自",{"$f":"IF('見積書(1号)'!R8=\"\",\"\",'見積書(1号)'!R8)","v":""},null,null,null,null,null,"～",null,"至",{"$f":"IF('見積書(1号)'!AA8=\"\",\"\",'見積書(1号)'!AA8)","v":""}]
[]
["契約CD",null,null,"工事場所",null,null,null,{"$f":"IF('見積書(1号)'!H10=\"\",\"\",'見積書(1号)'!H10)","v":""},null,null,null,null,null,null,null,null,null,null,null,null,null,null,null,null,null,null,null,"出来高保留率"]
[null,null,null,null,null,null,null,null,null,null,null,null,null,null,null,null,null,null,null,null,null,null,null,null,null,null,null,10,null,null,"％",null,"担当部課・氏名",null,null,null,null,{"$f":"IF('見積書(1号)'!AK11=\"\",\"\",'見積書(1号)'!AK11)","v":""}]
[]
["工 種 名",null,null,null,"ｺｰﾄﾞ",null,{"$f":"IF('見積書(1号)'!G17=\"\",\"\",'見積書(1号)'!G17)","v":""},null,null,null,null,null,null,null,null,null,null,"注　文　条　件"]
[null,null,null,null,{"$f":"IF('見積書(1号)'!E18=\"\",\"\",'見積書(1号)'!E18)","v":""}]
["注文金額",null,null,null,{"$f":"IF('見積書(1号)'!E15=\"\",\"\",'見積書(1号)'!E15)","v":""},null,null,null,null,null,null,null,null,null,"審 査 日"]
["（税込み）",null,null,null,null,null,null,null,null,null,null,null,null,null,""]
["品目ｺｰﾄﾞ",null,null,null,"名　　　　　　称",null,null,null,null,null,null,null,"規　格・摘　要",null,null,null,null,null,null,"単位",null,"数量",null,"注 文 金 額",null,null,null,null,null,{"$f":"IF('見積書(1号)'!AI19=\"\",\"\",'見積書(1号)'!AI19)","v":"変更注文金額"},null,null,null,null,null,"今回累計出来高金額",null,null,null,null,null,"先回累計出来高金額",null,null,null,null,null,null,null,"備　　　　考"]
[null,null,null,null,null,null,null,null,null,null,null,null,null,null,null,null,null,null,null,null,null,null,null,null,null,null,null,null,null,{"$f":"IF('見積書(1号)'!AI20=\"\",\"\",'見積書(1号)'!AI20)","v":"（第　 回）"},null,null,null,null,null,{"$f":"出来高内訳!K4","v":"（  月）"},null,null,null,null,null,{"$f":"出来高内訳!N4","v":"（  月）"},null,null,null,null,null,null,null,"メーカー・商社等"]
["",null,null,null,{"$f":"IF('見積書(1号)'!E21=\"\",\"\",'見積書(1号)'!E21)","v":"工事費"},null,null,null,null,null,null,null,{"$f":"IF('見積書(1号)'!M21=\"\",\"\",'見積書(1号)'!M21)","v":""},null,null,null,null,null,null,{"$f":"IF('見積書(1号)'!S21=\"\",\"\",'見積書(1号)'!S21)","v":""},null,{"$f":"IF('見積書(1号)'!U21=\"\",\"\",'見積書(1号)'!U21)","v":""},null,{"$f":"IF('見積書(1号)'!AC21=\"\",\"\",'見積書(1号)'!AC21)","v":""},null,null,null,null,null,{"$f":"IF('見積書(1号)'!AI21=\"\",\"\",'見積書(1号)'!AI21)","v":""}]
[]
[null,null,null,null,{"$f":"IF('見積書(1号)'!E23=\"\",\"\",'見積書(1号)'!E23)","v":"⇒労務費総額"},null,null,null,null,null,null,null,{"$f":"IF('見積書(1号)'!M23=\"\",\"\",'見積書(1号)'!M23)","v":""},null,null,null,null,null,null,"",null,"",null,{"$f":"IF('見積書(1号)'!AC23=\"\",\"\",'見積書(1号)'!AC23)","v":""},null,null,null,null,null,{"$f":"IF('見積書(1号)'!AI23=\"\",\"\",'見積書(1号)'!AI23)","v":""},null,null,null,null,null,null,null,null,null,null,null,0]
[]
[null,null,null,null,{"$f":"IF('見積書(1号)'!E25=\"\",\"\",'見積書(1号)'!E25)","v":"労務費率"},null,null,null,null,null,null,null,{"$f":"IF('見積書(1号)'!M25=\"\",\"\",'見積書(1号)'!M25)","v":""},null,null,null,null,null,null,"",null,"",null,{"$f":"IF('見積書(1号)'!AC25=\"\",\"\",'見積書(1号)'!AC25)","v":""},null,null,null,null,null,{"$f":"IF('見積書(1号)'!AI25=\"\",\"\",'見積書(1号)'!AI25)","v":""},null,null,null,null,null,null,null,null,null,null,null,0]
[]
[null,null,null,null,{"$f":"IF('見積書(1号)'!E27=\"\",\"\",'見積書(1号)'!E27)","v":""},null,null,null,null,null,null,null,{"$f":"IF('見積書(1号)'!M27=\"\",\"\",'見積書(1号)'!M27)","v":""},null,null,null,null,null,null,"",null,"",null,{"$f":"IF('見積書(1号)'!AC27=\"\",\"\",'見積書(1号)'!AC27)","v":""},null,null,null,null,null,{"$f":"IF('見積書(1号)'!AI27=\"\",\"\",'見積書(1号)'!AI27)","v":""},null,null,null,null,null,null,null,null,null,null,null,0]
[]
[null,null,null,null,{"$f":"IF('見積書(1号)'!E29=\"\",\"\",'見積書(1号)'!E29)","v":"工事費　計"},null,null,null,null,null,null,null,{"$f":"IF('見積書(1号)'!M29=\"\",\"\",'見積書(1号)'!M29)","v":""},null,null,null,null,null,null,"",null,"",null,{"$f":"IF('見積書(1号)'!AC29=\"\",\"\",'見積書(1号)'!AC29)","v":0},null,null,null,null,null,{"$f":"IF('見積書(1号)'!AI29=\"\",\"\",'見積書(1号)'!AI29)","v":0},null,null,null,null,null,{"$f":"AJ19","v":0}]
[]
[null,null,null,null,{"$f":"IF('見積書(1号)'!E31=\"\",\"\",'見積書(1号)'!E31)","v":""},null,null,null,null,null,null,null,{"$f":"IF('見積書(1号)'!M31=\"\",\"\",'見積書(1号)'!M31)","v":""},null,null,null,null,null,null,"",null,"",null,{"$f":"IF('見積書(1号)'!AC31=\"\",\"\",'見積書(1号)'!AC31)","v":""},null,null,null,null,null,{"$f":"IF('見積書(1号)'!AI31=\"\",\"\",'見積書(1号)'!AI31)","v":""},null,null,null,null,null,null,null,null,null,null,null,0]
[]
[null,null,null,null,{"$f":"IF('見積書(1号)'!E33=\"\",\"\",'見積書(1号)'!E33)","v":"法定福利費（事業主負担分）"},null,null,null,null,null,null,null,null,null,null,null,null,null,null,null,null,null,null,{"$f":"IF('見積書(1号)'!AC33=\"\",\"\",'見積書(1号)'!AC33)","v":""},null,null,null,null,null,{"$f":"IF('見積書(1号)'!AI33=\"\",\"\",'見積書(1号)'!AI33)","v":""},null,null,null,null,null,null,null,null,null,null,null,0]
[]
[null,null,null,null,"健康保険料",null,null,null,null,null,null,null,null,null,null,null,null,null,null,null,null,null,null,{"$f":"IF('見積書(1号)'!AC35=\"\",\"\",'見積書(1号)'!AC35)","v":0},null,null,null,null,null,{"$f":"IF('見積書(1号)'!AI35=\"\",\"\",'見積書(1号)'!AI35)","v":0},null,null,null,null,null,null,null,null,null,null,null,0]
[]
[null,null,null,null,"介護保険料",null,null,null,null,null,null,null,null,null,null,null,null,null,null,null,null,null,null,{"$f":"IF('見積書(1号)'!AC37=\"\",\"\",'見積書(1号)'!AC37)","v":0},null,null,null,null,null,{"$f":"IF('見積書(1号)'!AI37=\"\",\"\",'見積書(1号)'!AI37)","v":0},null,null,null,null,null,null,null,null,null,null,null,0]
[]
[null,null,null,null,"厚生年金保険料",null,null,null,null,null,null,null,null,null,null,null,null,null,null,null,null,null,null,{"$f":"IF('見積書(1号)'!AC39=\"\",\"\",'見積書(1号)'!AC39)","v":0},null,null,null,null,null,{"$f":"IF('見積書(1号)'!AI39=\"\",\"\",'見積書(1号)'!AI39)","v":0},null,null,null,null,null,null,null,null,null,null,null,0]
[]
[null,null,null,null,"雇用保険料",null,null,null,null,null,null,null,null,null,null,null,null,null,null,null,null,null,null,{"$f":"IF('見積書(1号)'!AC41=\"\",\"\",'見積書(1号)'!AC41)","v":0},null,null,null,null,null,{"$f":"IF('見積書(1号)'!AI41=\"\",\"\",'見積書(1号)'!AI41)","v":0},null,null,null,null,null,null,null,null,null,null,null,0]
[]
[null,null,null,null,"子ども・子育て支援金",null,null,null,null,null,null,null,null,null,null,null,null,null,null,null,null,null,null,{"$f":"IF('見積書(1号)'!AC43=\"\",\"\",'見積書(1号)'!AC43)","v":0},null,null,null,null,null,{"$f":"IF('見積書(1号)'!AI43=\"\",\"\",'見積書(1号)'!AI43)","v":0},null,null,null,null,null,null,null,null,null,null,null,0]
[]
[null,null,null,null,null,null,null,null,null,null,null,null,null,null,null,null,null,null,null,null,null,null,null,{"$f":"IF('見積書(1号)'!AC45=\"\",\"\",'見積書(1号)'!AC45)","v":""},null,null,null,null,null,{"$f":"IF('見積書(1号)'!AI45=\"\",\"\",'見積書(1号)'!AI45)","v":""},null,null,null,null,null,null,null,null,null,null,null,0]
[]
[null,null,null,null,"法定福利費　計",null,null,null,null,null,null,null,null,null,null,null,null,null,null,null,null,null,null,{"$f":"IF('見積書(1号)'!AC47=\"\",\"\",'見積書(1号)'!AC47)","v":0},null,null,null,null,null,{"$f":"IF('見積書(1号)'!AI47=\"\",\"\",'見積書(1号)'!AI47)","v":0},null,null,null,null,null,{"$f":"AJ33+AJ35+AJ37+AJ39+AJ41","v":0},null,null,null,null,null,0]
[]
[null,null,null,null,{"$f":"IF('見積書(1号)'!E49=\"\",\"\",'見積書(1号)'!E49)","v":""},null,null,null,null,null,null,null,{"$f":"IF('見積書(1号)'!M49=\"\",\"\",'見積書(1号)'!M49)","v":"法定保険料率⇒"},null,null,null,null,null,null,{"$f":"IF('見積書(1号)'!S49=\"\",\"\",'見積書(1号)'!S49)","v":""},null,{"$f":"IF('見積書(1号)'!U49=\"\",\"\",'見積書(1号)'!U49)","v":""},null,{"$f":"IF('見積書(1号)'!AC49=\"\",\"\",'見積書(1号)'!AC49)","v":""},null,null,null,null,null,{"$f":"IF('見積書(1号)'!AI49=\"\",\"\",'見積書(1号)'!AI49)","v":""},null,null,null,null,null,null,null,null,null,null,null,0]
[]
[null,null,null,null,"計",null,null,null,null,null,null,null,null,null,null,null,null,null,null,null,null,null,null,{"$f":"IF('見積書(1号)'!AC51=\"\",\"\",'見積書(1号)'!AC51)","v":0},null,null,null,null,null,{"$f":"IF('見積書(1号)'!AI51=\"\",\"\",'見積書(1号)'!AI51)","v":0},null,null,null,null,null,{"$f":"AJ27","v":0},null,null,null,null,null,{"$f":"AP27","v":0}]
[]
[null,null,null,null,"消費税率",null,null,null,null,null,null,null,null,null,null,null,null,null,null,"％",null,null,null,{"$f":"IF('見積書(1号)'!AC53=\"\",\"\",'見積書(1号)'!AC53)","v":10},null,null,null,null,null,{"$f":"IF('見積書(1号)'!AI53=\"\",\"\",'見積書(1号)'!AI53)","v":10},null,null,null,null,null,10,null,null,null,null,null,10]
[]
[null,null,null,null,"消費税",null,null,null,null,null,null,null,null,null,null,null,null,null,null,null,null,null,null,{"$f":"IF('見積書(1号)'!AC55=\"\",\"\",'見積書(1号)'!AC55)","v":0},null,null,null,null,null,{"$f":"IF('見積書(1号)'!AI55=\"\",\"\",'見積書(1号)'!AI55)","v":0},null,null,null,null,null,{"$f":"IF(AJ51=\"※\",\"\",ROUNDDOWN(AJ49*(AJ51/100),0))","v":0},null,null,null,null,null,{"$f":"IF(AP51=\"※\",\"\",ROUNDDOWN(AP49*(AP51/100),0))","v":0}]
[]
[null,null,null,null,"合　　　　計",null,null,null,null,null,null,null,null,null,null,null,null,null,null,null,null,null,null,{"$f":"IF('見積書(1号)'!AC57=\"\",\"\",'見積書(1号)'!AC57)","v":0},null,null,null,null,null,{"$f":"IF('見積書(1号)'!AI57=\"\",\"\",'見積書(1号)'!AI57)","v":0},null,null,null,null,null,{"$f":"IFERROR(+AJ49+AJ53,)","v":0},null,null,null,null,null,{"$f":"IFERROR(+AP49+AP53,)","v":0}]
[]
[]
[]
["工事完成（出来高１００％）時記入欄 "]
["・工事目的物完成通知日　",null,null,null,null,null,null,null,null,null,null,null,null,null,null,null,null,null,"年",null,null,null,"月",null,null,null,"日",null,null,"・工事目的物引受日",null,null,null,null,null,null,null,null,null,null,null,null,null,null,null,null,"年",null,null,null,"月",null,null,null,"日"]
[null,null,null,null,null,null,null,null,null,null,null,null,null,null,null,null,null,null,null,null,null,null,null,null,null,null,null,null,null,"完成の確認後、引渡の申し出日より直ちに引受。"]
["・工事目的物完成検査日",null,null,null,null,null,null,null,null,null,null,null,null,null,null,null,null,null,"年",null,null,null,"月",null,null,null,"日",null,null,"・工事目的物引受者",null,null,null,null,null,null,null,null,null,null,null,null,"役　職"]
["完成通知日より20日以内でできる限り短い期間内に実施"]
["・工事目的物引渡申出日",null,null,null,null,null,null,null,null,null,null,null,null,null,null,null,null,null,"年",null,null,null,"月",null,null,null,"日",null,null,null,null,null,null,null,null,null,null,null,null,null,null,null,"氏　名"]
["完成検査結果に基づく補修等完了後申し出"]
["※工事目的物完成後、工事目的物完成通知日を記入の上、速やかに工事所長に提出してください。",null,null,null,null,null,null,null,null,null,null,null,null,null,null,null,null,null,null,null,null,null,null,null,null,null,null,null,null,"※引受者は、引渡を受けた後速やかに、各対応日を記入の上、協力業者に写しを渡してください。"]
[null,null,null,null,null,null,null,null,null,null,null,null,null,null,null,{"$f":"IF(AJ49=0,\"\",IF(AD49=0,IF(X49=AJ49,IF(通知日=\"\",\"↑出来高100%です。「工事目的物完成通知日」を入力して下さい\",\"\"),\"\"),IF(AD49=AJ49,IF(通知日=\"\",\"↑出来高100%です。「工事目的物完成通知日」を入力して下さい\",\"\"),\"\")))","v":""}]

{"sheet":"出来高内訳","index":3,"n_rows":1006,"n_cols":17,"rows_kept":1006,"cut":false,"hidden":false,"merged":[[2,0,3,0],[2,1,3,2],[2,3,3,6],[3,10,3,12],[2,16,3,16],[3,7,3,9],[2,7,2,9],[2,10,2,12],[2,13,2,15],[3,13,3,15]]}
[]
[]
["入力・　　　　　出力ｺｰﾄﾞ","項　　　　　　　　　　　　目",null,"注　　　文　　　金　　　額",null,null,null,{"$f":"IF('見積書(1号)'!AI19=\"\",\"\",'見積書(1号)'!AI19)","v":"変更注文金額"},null,null,"今回累計出来高金額",null,null,"先回累計出来高金額",null,null,"備　　　考"]
[null,null,null,null,null,null,null,{"$f":"IF('見積書(1号)'!AI20=\"\",\"\",'見積書(1号)'!AI20)","v":"（第　 回）"},null,null,"（  月）",null,null,"（  月）"]
["項目ｺｰﾄﾞ","名　　　　　　　    　　　     称","規　     格 ・ 適 　    用","数 量","単位","単 価","金　　 額","数 量","単 価","金　 　額","数 量","単 価","金　 　額","数 量","単 価","金　 　額"]
[{"$f":"IF('見積書(2号)'!A6=\"\",\"\",'見積書(2号)'!A6)","v":""},{"$f":"IF('見積書(2号)'!B6=\"\",\"\",'見積書(2号)'!B6)","v":""},{"$f":"IF('見積書(2号)'!C6=\"\",\"\",'見積書(2号)'!C6)","v":""},{"$f":"IF('見積書(2号)'!H6=\"\",\"\",'見積書(2号)'!H6)","v":""},{"$f":"IF('見積書(2号)'!E6=\"\",\"\",'見積書(2号)'!E6)","v":""},{"$f":"IF('見積書(2号)'!I6=\"\",\"\",'見積書(2号)'!I6)","v":""},{"$f":"IF('見積書(2号)'!J6=\"\",\"\",'見積書(2号)'!J6)","v":""},{"$f":"IF('見積書(2号)'!K6=\"\",\"\",'見積書(2号)'!K6)","v":""},{"$f":"IF('見積書(2号)'!L6=\"\",\"\",'見積書(2号)'!L6)","v":""},{"$f":"IF('見積書(2号)'!M6=\"\",\"\",'見積書(2号)'!M6)","v":""},null,{"$f":"IF(I6=\"\",F6,I6)","v":""},{"$f":"IF(L6=\"\",\"\",L6*K6)","v":""},null,"",""]
[{"$f":"IF('見積書(2号)'!A7=\"\",\"\",'見積書(2号)'!A7)","v":""},{"$f":"IF('見積書(2号)'!B7=\"\",\"\",'見積書(2号)'!B7)","v":""},{"$f":"IF('見積書(2号)'!C7=\"\",\"\",'見積書(2号)'!C7)","v":""},{"$f":"IF('見積書(2号)'!H7=\"\",\"\",'見積書(2号)'!H7)","v":""},{"$f":"IF('見積書(2号)'!E7=\"\",\"\",'見積書(2号)'!E7)","v":""},{"$f":"IF('見積書(2号)'!I7=\"\",\"\",'見積書(2号)'!I7)","v":""},{"$f":"IF('見積書(2号)'!J7=\"\",\"\",'見積書(2号)'!J7)","v":""},{"$f":"IF('見積書(2号)'!K7=\"\",\"\",'見積書(2号)'!K7)","v":""},{"$f":"IF('見積書(2号)'!L7=\"\",\"\",'見積書(2号)'!L7)","v":""},{"$f":"IF('見積書(2号)'!M7=\"\",\"\",'見積書(2号)'!M7)","v":""},null,{"$f":"IF(I7=\"\",F7,I7)","v":""},{"$f":"IF(L7=\"\",\"\",L7*K7)","v":""},null,"",""]
[{"$f":"IF('見積書(2号)'!A8=\"\",\"\",'見積書(2号)'!A8)","v":""},{"$f":"IF('見積書(2号)'!B8=\"\",\"\",'見積書(2号)'!B8)","v":""},{"$f":"IF('見積書(2号)'!C8=\"\",\"\",'見積書(2号)'!C8)","v":""},{"$f":"IF('見積書(2号)'!H8=\"\",\"\",'見積書(2号)'!H8)","v":""},{"$f":"IF('見積書(2号)'!E8=\"\",\"\",'見積書(2号)'!E8)","v":""},{"$f":"IF('見積書(2号)'!I8=\"\",\"\",'見積書(2号)'!I8)","v":""},{"$f":"IF('見積書(2号)'!J8=\"\",\"\",'見積書(2号)'!J8)","v":""},{"$f":"IF('見積書(2号)'!K8=\"\",\"\",'見積書(2号)'!K8)","v":""},{"$f":"IF('見積書(2号)'!L8=\"\",\"\",'見積書(2号)'!L8)","v":""},{"$f":"IF('見積書(2号)'!M8=\"\",\"\",'見積書(2号)'!M8)","v":""},null,"","",null,"",""]
[{"$f":"IF('見積書(2号)'!A9=\"\",\"\",'見積書(2号)'!A9)","v":""},{"$f":"IF('見積書(2号)'!B9=\"\",\"\",'見積書(2号)'!B9)","v":""},{"$f":"IF('見積書(2号)'!C9=\"\",\"\",'見積書(2号)'!C9)","v":""},{"$f":"IF('見積書(2号)'!H9=\"\",\"\",'見積書(2号)'!H9)","v":""},{"$f":"IF('見積書(2号)'!E9=\"\",\"\",'見積書(2号)'!E9)","v":""},{"$f":"IF('見積書(2号)'!I9=\"\",\"\",'見積書(2号)'!I9)","v":""},{"$f":"IF('見積書(2号)'!J9=\"\",\"\",'見積書(2号)'!J9)","v":""},{"$f":"IF('見積書(2号)'!K9=\"\",\"\",'見積書(2号)'!K9)","v":""},{"$f":"IF('見積書(2号)'!L9=\"\",\"\",'見積書(2号)'!L9)","v":""},{"$f":"IF('見積書(2号)'!M9=\"\",\"\",'見積書(2号)'!M9)","v":""},null,"","",null,"",""]
[{"$f":"IF('見積書(2号)'!A10=\"\",\"\",'見積書(2号)'!A10)","v":""},{"$f":"IF('見積書(2号)'!B10=\"\",\"\",'見積書(2号)'!B10)","v":""},{"$f":"IF('見積書(2号)'!C10=\"\",\"\",'見積書(2号)'!C10)","v":""},{"$f":"IF('見積書(2号)'!H10=\"\",\"\",'見積書(2号)'!H10)","v":""},{"$f":"IF('見積書(2号)'!E10=\"\",\"\",'見積書(2号)'!E10)","v":""},{"$f":"IF('見積書(2号)'!I10=\"\",\"\",'見積書(2号)'!I10)","v":""},{"$f":"IF('見積書(2号)'!J10=\"\",\"\",'見積書(2号)'!J10)","v":""},{"$f":"IF('見積書(2号)'!K10=\"\",\"\",'見積書(2号)'!K10)","v":""},{"$f":"IF('見積書(2号)'!L10=\"\",\"\",'見積書(2号)'!L10)","v":""},{"$f":"IF('見積書(2号)'!M10=\"\",\"\",'見積書(2号)'!M10)","v":""},null,"","",null,"",""]
[{"$f":"IF('見積書(2号)'!A11=\"\",\"\",'見積書(2号)'!A11)","v":""},{"$f":"IF('見積書(2号)'!B11=\"\",\"\",'見積書(2号)'!B11)","v":""},{"$f":"IF('見積書(2号)'!C11=\"\",\"\",'見積書(2号)'!C11)","v":""},{"$f":"IF('見積書(2号)'!H11=\"\",\"\",'見積書(2号)'!H11)","v":""},{"$f":"IF('見積書(2号)'!E11=\"\",\"\",'見積書(2号)'!E11)","v":""},{"$f":"IF('見積書(2号)'!I11=\"\",\"\",'見積書(2号)'!I11)","v":""},{"$f":"IF('見積書(2号)'!J11=\"\",\"\",'見積書(2号)'!J11)","v":""},{"$f":"IF('見積書(2号)'!K11=\"\",\"\",'見積書(2号)'!K11)","v":""},{"$f":"IF('見積書(2号)'!L11=\"\",\"\",'見積書(2号)'!L11)","v":""},{"$f":"IF('見積書(2号)'!M11=\"\",\"\",'見積書(2号)'!M11)","v":""},null,"","",null,"",""]
[{"$f":"IF('見積書(2号)'!A12=\"\",\"\",'見積書(2号)'!A12)","v":""},{"$f":"IF('見積書(2号)'!B12=\"\",\"\",'見積書(2号)'!B12)","v":""},{"$f":"IF('見積書(2号)'!C12=\"\",\"\",'見積書(2号)'!C12)","v":""},{"$f":"IF('見積書(2号)'!H12=\"\",\"\",'見積書(2号)'!H12)","v":""},{"$f":"IF('見積書(2号)'!E12=\"\",\"\",'見積書(2号)'!E12)","v":""},{"$f":"IF('見積書(2号)'!I12=\"\",\"\",'見積書(2号)'!I12)","v":""},{"$f":"IF('見積書(2号)'!J12=\"\",\"\",'見積書(2号)'!J12)","v":""},{"$f":"IF('見積書(2号)'!K12=\"\",\"\",'見積書(2号)'!K12)","v":""},{"$f":"IF('見積書(2号)'!L12=\"\",\"\",'見積書(2号)'!L12)","v":""},{"$f":"IF('見積書(2号)'!M12=\"\",\"\",'見積書(2号)'!M12)","v":""},null,"","",null,"",""]
[{"$f":"IF('見積書(2号)'!A13=\"\",\"\",'見積書(2号)'!A13)","v":""},{"$f":"IF('見積書(2号)'!B13=\"\",\"\",'見積書(2号)'!B13)","v":""},{"$f":"IF('見積書(2号)'!C13=\"\",\"\",'見積書(2号)'!C13)","v":""},{"$f":"IF('見積書(2号)'!H13=\"\",\"\",'見積書(2号)'!H13)","v":""},{"$f":"IF('見積書(2号)'!E13=\"\",\"\",'見積書(2号)'!E13)","v":""},{"$f":"IF('見積書(2号)'!I13=\"\",\"\",'見積書(2号)'!I13)","v":""},{"$f":"IF('見積書(2号)'!J13=\"\",\"\",'見積書(2号)'!J13)","v":""},{"$f":"IF('見積書(2号)'!K13=\"\",\"\",'見積書(2号)'!K13)","v":""},{"$f":"IF('見積書(2号)'!L13=\"\",\"\",'見積書(2号)'!L13)","v":""},{"$f":"IF('見積書(2号)'!M13=\"\",\"\",'見積書(2号)'!M13)","v":""},null,"","",null,"",""]
[{"$f":"IF('見積書(2号)'!A14=\"\",\"\",'見積書(2号)'!A14)","v":""},{"$f":"IF('見積書(2号)'!B14=\"\",\"\",'見積書(2号)'!B14)","v":""},{"$f":"IF('見積書(2号)'!C14=\"\",\"\",'見積書(2号)'!C14)","v":""},{"$f":"IF('見積書(2号)'!H14=\"\",\"\",'見積書(2号)'!H14)","v":""},{"$f":"IF('見積書(2号)'!E14=\"\",\"\",'見積書(2号)'!E14)","v":""},{"$f":"IF('見積書(2号)'!I14=\"\",\"\",'見積書(2号)'!I14)","v":""},{"$f":"IF('見積書(2号)'!J14=\"\",\"\",'見積書(2号)'!J14)","v":""},{"$f":"IF('見積書(2号)'!K14=\"\",\"\",'見積書(2号)'!K14)","v":""},{"$f":"IF('見積書(2号)'!L14=\"\",\"\",'見積書(2号)'!L14)","v":""},{"$f":"IF('見積書(2号)'!M14=\"\",\"\",'見積書(2号)'!M14)","v":""},null,"","",null,"",""]
[{"$f":"IF('見積書(2号)'!A15=\"\",\"\",'見積書(2号)'!A15)","v":""},{"$f":"IF('見積書(2号)'!B15=\"\",\"\",'見積書(2号)'!B15)","v":""},{"$f":"IF('見積書(2号)'!C15=\"\",\"\",'見積書(2号)'!C15)","v":""},{"$f":"IF('見積書(2号)'!H15=\"\",\"\",'見積書(2号)'!H15)","v":""},{"$f":"IF('見積書(2号)'!E15=\"\",\"\",'見積書(2号)'!E15)","v":""},{"$f":"IF('見積書(2号)'!I15=\"\",\"\",'見積書(2号)'!I15)","v":""},{"$f":"IF('見積書(2号)'!J15=\"\",\"\",'見積書(2号)'!J15)","v":""},{"$f":"IF('見積書(2号)'!K15=\"\",\"\",'見積書(2号)'!K15)","v":""},{"$f":"IF('見積書(2号)'!L15=\"\",\"\",'見積書(2号)'!L15)","v":""},{"$f":"IF('見積書(2号)'!M15=\"\",\"\",'見積書(2号)'!M15)","v":""},null,"","",null,"",""]
[{"$f":"IF('見積書(2号)'!A16=\"\",\"\",'見積書(2号)'!A16)","v":""},{"$f":"IF('見積書(2号)'!B16=\"\",\"\",'見積書(2号)'!B16)","v":""},{"$f":"IF('見積書(2号)'!C16=\"\",\"\",'見積書(2号)'!C16)","v":""},{"$f":"IF('見積書(2号)'!H16=\"\",\"\",'見積書(2号)'!H16)","v":""},{"$f":"IF('見積書(2号)'!E16=\"\",\"\",'見積書(2号)'!E16)","v":""},{"$f":"IF('見積書(2号)'!I16=\"\",\"\",'見積書(2号)'!I16)","v":""},{"$f":"IF('見積書(2号)'!J16=\"\",\"\",'見積書(2号)'!J16)","v":""},{"$f":"IF('見積書(2号)'!K16=\"\",\"\",'見積書(2号)'!K16)","v":""},{"$f":"IF('見積書(2号)'!L16=\"\",\"\",'見積書(2号)'!L16)","v":""},{"$f":"IF('見積書(2号)'!M16=\"\",\"\",'見積書(2号)'!M16)","v":""},null,"","",null,"",""]
[{"$f":"IF('見積書(2号)'!A17=\"\",\"\",'見積書(2号)'!A17)","v":""},{"$f":"IF('見積書(2号)'!B17=\"\",\"\",'見積書(2号)'!B17)","v":""},{"$f":"IF('見積書(2号)'!C17=\"\",\"\",'見積書(2号)'!C17)","v":""},{"$f":"IF('見積書(2号)'!H17=\"\",\"\",'見積書(2号)'!H17)","v":""},{"$f":"IF('見積書(2号)'!E17=\"\",\"\",'見積書(2号)'!E17)","v":""},{"$f":"IF('見積書(2号)'!I17=\"\",\"\",'見積書(2号)'!I17)","v":""},{"$f":"IF('見積書(2号)'!J17=\"\",\"\",'見積書(2号)'!J17)","v":""},{"$f":"IF('見積書(2号)'!K17=\"\",\"\",'見積書(2号)'!K17)","v":""},{"$f":"IF('見積書(2号)'!L17=\"\",\"\",'見積書(2号)'!L17)","v":""},{"$f":"IF('見積書(2号)'!M17=\"\",\"\",'見積書(2号)'!M17)","v":""},null,"","",null,"",""]
[{"$f":"IF('見積書(2号)'!A18=\"\",\"\",'見積書(2号)'!A18)","v":""},{"$f":"IF('見積書(2号)'!B18=\"\",\"\",'見積書(2号)'!B18)","v":""},{"$f":"IF('見積書(2号)'!C18=\"\",\"\",'見積書(2号)'!C18)","v":""},{"$f":"IF('見積書(2号)'!H18=\"\",\"\",'見積書(2号)'!H18)","v":""},{"$f":"IF('見積書(2号)'!E18=\"\",\"\",'見積書(2号)'!E18)","v":""},{"$f":"IF('見積書(2号)'!I18=\"\",\"\",'見積書(2号)'!I18)","v":""},{"$f":"IF('見積書(2号)'!J18=\"\",\"\",'見積書(2号)'!J18)","v":""},{"$f":"IF('見積書(2号)'!K18=\"\",\"\",'見積書(2号)'!K18)","v":""},{"$f":"IF('見積書(2号)'!L18=\"\",\"\",'見積書(2号)'!L18)","v":""},{"$f":"IF('見積書(2号)'!M18=\"\",\"\",'見積書(2号)'!M18)","v":""},null,"","",null,"",""]
[{"$f":"IF('見積書(2号)'!A19=\"\",\"\",'見積書(2号)'!A19)","v":""},{"$f":"IF('見積書(2号)'!B19=\"\",\"\",'見積書(2号)'!B19)","v":""},{"$f":"IF('見積書(2号)'!C19=\"\",\"\",'見積書(2号)'!C19)","v":""},{"$f":"IF('見積書(2号)'!H19=\"\",\"\",'見積書(2号)'!H19)","v":""},{"$f":"IF('見積書(2号)'!E19=\"\",\"\",'見積書(2号)'!E19)","v":""},{"$f":"IF('見積書(2号)'!I19=\"\",\"\",'見積書(2号)'!I19)","v":""},{"$f":"IF('見積書(2号)'!J19=\"\",\"\",'見積書(2号)'!J19)","v":""},{"$f":"IF('見積書(2号)'!K19=\"\",\"\",'見積書(2号)'!K19)","v":""},{"$f":"IF('見積書(2号)'!L19=\"\",\"\",'見積書(2号)'!L19)","v":""},{"$f":"IF('見積書(2号)'!M19=\"\",\"\",'見積書(2号)'!M19)","v":""},null,"","",null,"",""]
[{"$f":"IF('見積書(2号)'!A20=\"\",\"\",'見積書(2号)'!A20)","v":""},{"$f":"IF('見積書(2号)'!B20=\"\",\"\",'見積書(2号)'!B20)","v":""},{"$f":"IF('見積書(2号)'!C20=\"\",\"\",'見積書(2号)'!C20)","v":""},{"$f":"IF('見積書(2号)'!H20=\"\",\"\",'見積書(2号)'!H20)","v":""},{"$f":"IF('見積書(2号)'!E20=\"\",\"\",'見積書(2号)'!E20)","v":""},{"$f":"IF('見積書(2号)'!I20=\"\",\"\",'見積書(2号)'!I20)","v":""},{"$f":"IF('見積書(2号)'!J20=\"\",\"\",'見積書(2号)'!J20)","v":""},{"$f":"IF('見積書(2号)'!K20=\"\",\"\",'見積書(2号)'!K20)","v":""},{"$f":"IF('見積書(2号)'!L20=\"\",\"\",'見積書(2号)'!L20)","v":""},{"$f":"IF('見積書(2号)'!M20=\"\",\"\",'見積書(2号)'!M20)","v":""},null,"","",null,"",""]
[{"$f":"IF('見積書(2号)'!A21=\"\",\"\",'見積書(2号)'!A21)","v":""},{"$f":"IF('見積書(2号)'!B21=\"\",\"\",'見積書(2号)'!B21)","v":""},{"$f":"IF('見積書(2号)'!C21=\"\",\"\",'見積書(2号)'!C21)","v":""},{"$f":"IF('見積書(2号)'!H21=\"\",\"\",'見積書(2号)'!H21)","v":""},{"$f":"IF('見積書(2号)'!E21=\"\",\"\",'見積書(2号)'!E21)","v":""},{"$f":"IF('見積書(2号)'!I21=\"\",\"\",'見積書(2号)'!I21)","v":""},{"$f":"IF('見積書(2号)'!J21=\"\",\"\",'見積書(2号)'!J21)","v":""},{"$f":"IF('見積書(2号)'!K21=\"\",\"\",'見積書(2号)'!K21)","v":""},{"$f":"IF('見積書(2号)'!L21=\"\",\"\",'見積書(2号)'!L21)","v":""},{"$f":"IF('見積書(2号)'!M21=\"\",\"\",'見積書(2号)'!M21)","v":""},null,"","",null,"",""]
[{"$f":"IF('見積書(2号)'!A22=\"\",\"\",'見積書(2号)'!A22)","v":""},{"$f":"IF('見積書(2号)'!B22=\"\",\"\",'見積書(2号)'!B22)","v":""},{"$f":"IF('見積書(2号)'!C22=\"\",\"\",'見積書(2号)'!C22)","v":""},{"$f":"IF('見積書(2号)'!H22=\"\",\"\",'見積書(2号)'!H22)","v":""},{"$f":"IF('見積書(2号)'!E22=\"\",\"\",'見積書(2号)'!E22)","v":""},{"$f":"IF('見積書(2号)'!I22=\"\",\"\",'見積書(2号)'!I22)","v":""},{"$f":"IF('見積書(2号)'!J22=\"\",\"\",'見積書(2号)'!J22)","v":""},{"$f":"IF('見積書(2号)'!K22=\"\",\"\",'見積書(2号)'!K22)","v":""},{"$f":"IF('見積書(2号)'!L22=\"\",\"\",'見積書(2号)'!L22)","v":""},{"$f":"IF('見積書(2号)'!M22=\"\",\"\",'見積書(2号)'!M22)","v":""},null,"","",null,"",""]
[{"$f":"IF('見積書(2号)'!A23=\"\",\"\",'見積書(2号)'!A23)","v":""},{"$f":"IF('見積書(2号)'!B23=\"\",\"\",'見積書(2号)'!B23)","v":""},{"$f":"IF('見積書(2号)'!C23=\"\",\"\",'見積書(2号)'!C23)","v":""},{"$f":"IF('見積書(2号)'!H23=\"\",\"\",'見積書(2号)'!H23)","v":""},{"$f":"IF('見積書(2号)'!E23=\"\",\"\",'見積書(2号)'!E23)","v":""},{"$f":"IF('見積書(2号)'!I23=\"\",\"\",'見積書(2号)'!I23)","v":""},{"$f":"IF('見積書(2号)'!J23=\"\",\"\",'見積書(2号)'!J23)","v":""},{"$f":"IF('見積書(2号)'!K23=\"\",\"\",'見積書(2号)'!K23)","v":""},{"$f":"IF('見積書(2号)'!L23=\"\",\"\",'見積書(2号)'!L23)","v":""},{"$f":"IF('見積書(2号)'!M23=\"\",\"\",'見積書(2号)'!M23)","v":""},null,"","",null,"",""]
[{"$f":"IF('見積書(2号)'!A24=\"\",\"\",'見積書(2号)'!A24)","v":""},{"$f":"IF('見積書(2号)'!B24=\"\",\"\",'見積書(2号)'!B24)","v":""},{"$f":"IF('見積書(2号)'!C24=\"\",\"\",'見積書(2号)'!C24)","v":""},{"$f":"IF('見積書(2号)'!H24=\"\",\"\",'見積書(2号)'!H24)","v":""},{"$f":"IF('見積書(2号)'!E24=\"\",\"\",'見積書(2号)'!E24)","v":""},{"$f":"IF('見積書(2号)'!I24=\"\",\"\",'見積書(2号)'!I24)","v":""},{"$f":"IF('見積書(2号)'!J24=\"\",\"\",'見積書(2号)'!J24)","v":""},{"$f":"IF('見積書(2号)'!K24=\"\",\"\",'見積書(2号)'!K24)","v":""},{"$f":"IF('見積書(2号)'!L24=\"\",\"\",'見積書(2号)'!L24)","v":""},{"$f":"IF('見積書(2号)'!M24=\"\",\"\",'見積書(2号)'!M24)","v":""},null,"","",null,"",""]
[{"$f":"IF('見積書(2号)'!A25=\"\",\"\",'見積書(2号)'!A25)","v":""},{"$f":"IF('見積書(2号)'!B25=\"\",\"\",'見積書(2号)'!B25)","v":""},{"$f":"IF('見積書(2号)'!C25=\"\",\"\",'見積書(2号)'!C25)","v":""},{"$f":"IF('見積書(2号)'!H25=\"\",\"\",'見積書(2号)'!H25)","v":""},{"$f":"IF('見積書(2号)'!E25=\"\",\"\",'見積書(2号)'!E25)","v":""},{"$f":"IF('見積書(2号)'!I25=\"\",\"\",'見積書(2号)'!I25)","v":""},{"$f":"IF('見積書(2号)'!J25=\"\",\"\",'見積書(2号)'!J25)","v":""},{"$f":"IF('見積書(2号)'!K25=\"\",\"\",'見積書(2号)'!K25)","v":""},{"$f":"IF('見積書(2号)'!L25=\"\",\"\",'見積書(2号)'!L25)","v":""},{"$f":"IF('見積書(2号)'!M25=\"\",\"\",'見積書(2号)'!M25)","v":""},null,"","",null,"",""]
[{"$f":"IF('見積書(2号)'!A26=\"\",\"\",'見積書(2号)'!A26)","v":""},{"$f":"IF('見積書(2号)'!B26=\"\",\"\",'見積書(2号)'!B26)","v":""},{"$f":"IF('見積書(2号)'!C26=\"\",\"\",'見積書(2号)'!C26)","v":""},{"$f":"IF('見積書(2号)'!H26=\"\",\"\",'見積書(2号)'!H26)","v":""},{"$f":"IF('見積書(2号)'!E26=\"\",\"\",'見積書(2号)'!E26)","v":""},{"$f":"IF('見積書(2号)'!I26=\"\",\"\",'見積書(2号)'!I26)","v":""},{"$f":"IF('見積書(2号)'!J26=\"\",\"\",'見積書(2号)'!J26)","v":""},{"$f":"IF('見積書(2号)'!K26=\"\",\"\",'見積書(2号)'!K26)","v":""},{"$f":"IF('見積書(2号)'!L26=\"\",\"\",'見積書(2号)'!L26)","v":""},{"$f":"IF('見積書(2号)'!M26=\"\",\"\",'見積書(2号)'!M26)","v":""},null,"","",null,"",""]
[{"$f":"IF('見積書(2号)'!A27=\"\",\"\",'見積書(2号)'!A27)","v":""},{"$f":"IF('見積書(2号)'!B27=\"\",\"\",'見積書(2号)'!B27)","v":""},{"$f":"IF('見積書(2号)'!C27=\"\",\"\",'見積書(2号)'!C27)","v":""},{"$f":"IF('見積書(2号)'!H27=\"\",\"\",'見積書(2号)'!H27)","v":""},{"$f":"IF('見積書(2号)'!E27=\"\",\"\",'見積書(2号)'!E27)","v":""},{"$f":"IF('見積書(2号)'!I27=\"\",\"\",'見積書(2号)'!I27)","v":""},{"$f":"IF('見積書(2号)'!J27=\"\",\"\",'見積書(2号)'!J27)","v":""},{"$f":"IF('見積書(2号)'!K27=\"\",\"\",'見積書(2号)'!K27)","v":""},{"$f":"IF('見積書(2号)'!L27=\"\",\"\",'見積書(2号)'!L27)","v":""},{"$f":"IF('見積書(2号)'!M27=\"\",\"\",'見積書(2号)'!M27)","v":""},null,"","",null,"",""]
[{"$f":"IF('見積書(2号)'!A28=\"\",\"\",'見積書(2号)'!A28)","v":""},{"$f":"IF('見積書(2号)'!B28=\"\",\"\",'見積書(2号)'!B28)","v":""},{"$f":"IF('見積書(2号)'!C28=\"\",\"\",'見積書(2号)'!C28)","v":""},{"$f":"IF('見積書(2号)'!H28=\"\",\"\",'見積書(2号)'!H28)","v":""},{"$f":"IF('見積書(2号)'!E28=\"\",\"\",'見積書(2号)'!E28)","v":""},{"$f":"IF('見積書(2号)'!I28=\"\",\"\",'見積書(2号)'!I28)","v":""},{"$f":"IF('見積書(2号)'!J28=\"\",\"\",'見積書(2号)'!J28)","v":""},{"$f":"IF('見積書(2号)'!K28=\"\",\"\",'見積書(2号)'!K28)","v":""},{"$f":"IF('見積書(2号)'!L28=\"\",\"\",'見積書(2号)'!L28)","v":""},{"$f":"IF('見積書(2号)'!M28=\"\",\"\",'見積書(2号)'!M28)","v":""},null,"","",null,"",""]
[{"$f":"IF('見積書(2号)'!A29=\"\",\"\",'見積書(2号)'!A29)","v":""},{"$f":"IF('見積書(2号)'!B29=\"\",\"\",'見積書(2号)'!B29)","v":""},{"$f":"IF('見積書(2号)'!C29=\"\",\"\",'見積書(2号)'!C29)","v":""},{"$f":"IF('見積書(2号)'!H29=\"\",\"\",'見積書(2号)'!H29)","v":""},{"$f":"IF('見積書(2号)'!E29=\"\",\"\",'見積書(2号)'!E29)","v":""},{"$f":"IF('見積書(2号)'!I29=\"\",\"\",'見積書(2号)'!I29)","v":""},{"$f":"IF('見積書(2号)'!J29=\"\",\"\",'見積書(2号)'!J29)","v":""},{"$f":"IF('見積書(2号)'!K29=\"\",\"\",'見積書(2号)'!K29)","v":""},{"$f":"IF('見積書(2号)'!L29=\"\",\"\",'見積書(2号)'!L29)","v":""},{"$f":"IF('見積書(2号)'!M29=\"\",\"\",'見積書(2号)'!M29)","v":""},null,"","",null,"",""]
[{"$f":"IF('見積書(2号)'!A30=\"\",\"\",'見積書(2号)'!A30)","v":""},{"$f":"IF('見積書(2号)'!B30=\"\",\"\",'見積書(2号)'!B30)","v":""},{"$f":"IF('見積書(2号)'!C30=\"\",\"\",'見積書(2号)'!C30)","v":""},{"$f":"IF('見積書(2号)'!H30=\"\",\"\",'見積書(2号)'!H30)","v":""},{"$f":"IF('見積書(2号)'!E30=\"\",\"\",'見積書(2号)'!E30)","v":""},{"$f":"IF('見積書(2号)'!I30=\"\",\"\",'見積書(2号)'!I30)","v":""},{"$f":"IF('見積書(2号)'!J30=\"\",\"\",'見積書(2号)'!J30)","v":""},{"$f":"IF('見積書(2号)'!K30=\"\",\"\",'見積書(2号)'!K30)","v":""},{"$f":"IF('見積書(2号)'!L30=\"\",\"\",'見積書(2号)'!L30)","v":""},{"$f":"IF('見積書(2号)'!M30=\"\",\"\",'見積書(2号)'!M30)","v":""},null,"","",null,"",""]
[{"$f":"IF('見積書(2号)'!A31=\"\",\"\",'見積書(2号)'!A31)","v":""},{"$f":"IF('見積書(2号)'!B31=\"\",\"\",'見積書(2号)'!B31)","v":""},{"$f":"IF('見積書(2号)'!C31=\"\",\"\",'見積書(2号)'!C31)","v":""},{"$f":"IF('見積書(2号)'!H31=\"\",\"\",'見積書(2号)'!H31)","v":""},{"$f":"IF('見積書(2号)'!E31=\"\",\"\",'見積書(2号)'!E31)","v":""},{"$f":"IF('見積書(2号)'!I31=\"\",\"\",'見積書(2号)'!I31)","v":""},{"$f":"IF('見積書(2号)'!J31=\"\",\"\",'見積書(2号)'!J31)","v":""},{"$f":"IF('見積書(2号)'!K31=\"\",\"\",'見積書(2号)'!K31)","v":""},{"$f":"IF('見積書(2号)'!L31=\"\",\"\",'見積書(2号)'!L31)","v":""},{"$f":"IF('見積書(2号)'!M31=\"\",\"\",'見積書(2号)'!M31)","v":""},null,"","",null,"",""]
[{"$f":"IF('見積書(2号)'!A32=\"\",\"\",'見積書(2号)'!A32)","v":""},{"$f":"IF('見積書(2号)'!B32=\"\",\"\",'見積書(2号)'!B32)","v":""},{"$f":"IF('見積書(2号)'!C32=\"\",\"\",'見積書(2号)'!C32)","v":""},{"$f":"IF('見積書(2号)'!H32=\"\",\"\",'見積書(2号)'!H32)","v":""},{"$f":"IF('見積書(2号)'!E32=\"\",\"\",'見積書(2号)'!E32)","v":""},{"$f":"IF('見積書(2号)'!I32=\"\",\"\",'見積書(2号)'!I32)","v":""},{"$f":"IF('見積書(2号)'!J32=\"\",\"\",'見積書(2号)'!J32)","v":""},{"$f":"IF('見積書(2号)'!K32=\"\",\"\",'見積書(2号)'!K32)","v":""},{"$f":"IF('見積書(2号)'!L32=\"\",\"\",'見積書(2号)'!L32)","v":""},{"$f":"IF('見積書(2号)'!M32=\"\",\"\",'見積書(2号)'!M32)","v":""},null,"","",null,"",""]
[{"$f":"IF('見積書(2号)'!A33=\"\",\"\",'見積書(2号)'!A33)","v":""},{"$f":"IF('見積書(2号)'!B33=\"\",\"\",'見積書(2号)'!B33)","v":""},{"$f":"IF('見積書(2号)'!C33=\"\",\"\",'見積書(2号)'!C33)","v":""},{"$f":"IF('見積書(2号)'!H33=\"\",\"\",'見積書(2号)'!H33)","v":""},{"$f":"IF('見積書(2号)'!E33=\"\",\"\",'見積書(2号)'!E33)","v":""},{"$f":"IF('見積書(2号)'!I33=\"\",\"\",'見積書(2号)'!I33)","v":""},{"$f":"IF('見積書(2号)'!J33=\"\",\"\",'見積書(2号)'!J33)","v":""},{"$f":"IF('見積書(2号)'!K33=\"\",\"\",'見積書(2号)'!K33)","v":""},{"$f":"IF('見積書(2号)'!L33=\"\",\"\",'見積書(2号)'!L33)","v":""},{"$f":"IF('見積書(2号)'!M33=\"\",\"\",'見積書(2号)'!M33)","v":""},null,"","",null,"",""]
[{"$f":"IF('見積書(2号)'!A34=\"\",\"\",'見積書(2号)'!A34)","v":""},{"$f":"IF('見積書(2号)'!B34=\"\",\"\",'見積書(2号)'!B34)","v":""},{"$f":"IF('見積書(2号)'!C34=\"\",\"\",'見積書(2号)'!C34)","v":""},{"$f":"IF('見積書(2号)'!H34=\"\",\"\",'見積書(2号)'!H34)","v":""},{"$f":"IF('見積書(2号)'!E34=\"\",\"\",'見積書(2号)'!E34)","v":""},{"$f":"IF('見積書(2号)'!I34=\"\",\"\",'見積書(2号)'!I34)","v":""},{"$f":"IF('見積書(2号)'!J34=\"\",\"\",'見積書(2号)'!J34)","v":""},{"$f":"IF('見積書(2号)'!K34=\"\",\"\",'見積書(2号)'!K34)","v":""},{"$f":"IF('見積書(2号)'!L34=\"\",\"\",'見積書(2号)'!L34)","v":""},{"$f":"IF('見積書(2号)'!M34=\"\",\"\",'見積書(2号)'!M34)","v":""},null,"","",null,"",""]
[{"$f":"IF('見積書(2号)'!A35=\"\",\"\",'見積書(2号)'!A35)","v":""},{"$f":"IF('見積書(2号)'!B35=\"\",\"\",'見積書(2号)'!B35)","v":""},{"$f":"IF('見積書(2号)'!C35=\"\",\"\",'見積書(2号)'!C35)","v":""},{"$f":"IF('見積書(2号)'!H35=\"\",\"\",'見積書(2号)'!H35)","v":""},{"$f":"IF('見積書(2号)'!E35=\"\",\"\",'見積書(2号)'!E35)","v":""},{"$f":"IF('見積書(2号)'!I35=\"\",\"\",'見積書(2号)'!I35)","v":""},{"$f":"IF('見積書(2号)'!J35=\"\",\"\",'見積書(2号)'!J35)","v":""},{"$f":"IF('見積書(2号)'!K35=\"\",\"\",'見積書(2号)'!K35)","v":""},{"$f":"IF('見積書(2号)'!L35=\"\",\"\",'見積書(2号)'!L35)","v":""},{"$f":"IF('見積書(2号)'!M35=\"\",\"\",'見積書(2号)'!M35)","v":""},null,"","",null,"",""]
[{"$f":"IF('見積書(2号)'!A36=\"\",\"\",'見積書(2号)'!A36)","v":""},{"$f":"IF('見積書(2号)'!B36=\"\",\"\",'見積書(2号)'!B36)","v":""},{"$f":"IF('見積書(2号)'!C36=\"\",\"\",'見積書(2号)'!C36)","v":""},{"$f":"IF('見積書(2号)'!H36=\"\",\"\",'見積書(2号)'!H36)","v":""},{"$f":"IF('見積書(2号)'!E36=\"\",\"\",'見積書(2号)'!E36)","v":""},{"$f":"IF('見積書(2号)'!I36=\"\",\"\",'見積書(2号)'!I36)","v":""},{"$f":"IF('見積書(2号)'!J36=\"\",\"\",'見積書(2号)'!J36)","v":""},{"$f":"IF('見積書(2号)'!K36=\"\",\"\",'見積書(2号)'!K36)","v":""},{"$f":"IF('見積書(2号)'!L36=\"\",\"\",'見積書(2号)'!L36)","v":""},{"$f":"IF('見積書(2号)'!M36=\"\",\"\",'見積書(2号)'!M36)","v":""},null,"","",null,"",""]
[{"$f":"IF('見積書(2号)'!A37=\"\",\"\",'見積書(2号)'!A37)","v":""},{"$f":"IF('見積書(2号)'!B37=\"\",\"\",'見積書(2号)'!B37)","v":""},{"$f":"IF('見積書(2号)'!C37=\"\",\"\",'見積書(2号)'!C37)","v":""},{"$f":"IF('見積書(2号)'!H37=\"\",\"\",'見積書(2号)'!H37)","v":""},{"$f":"IF('見積書(2号)'!E37=\"\",\"\",'見積書(2号)'!E37)","v":""},{"$f":"IF('見積書(2号)'!I37=\"\",\"\",'見積書(2号)'!I37)","v":""},{"$f":"IF('見積書(2号)'!J37=\"\",\"\",'見積書(2号)'!J37)","v":""},{"$f":"IF('見積書(2号)'!K37=\"\",\"\",'見積書(2号)'!K37)","v":""},{"$f":"IF('見積書(2号)'!L37=\"\",\"\",'見積書(2号)'!L37)","v":""},{"$f":"IF('見積書(2号)'!M37=\"\",\"\",'見積書(2号)'!M37)","v":""},null,"","",null,"",""]
[{"$f":"IF('見積書(2号)'!A38=\"\",\"\",'見積書(2号)'!A38)","v":""},{"$f":"IF('見積書(2号)'!B38=\"\",\"\",'見積書(2号)'!B38)","v":""},{"$f":"IF('見積書(2号)'!C38=\"\",\"\",'見積書(2号)'!C38)","v":""},{"$f":"IF('見積書(2号)'!H38=\"\",\"\",'見積書(2号)'!H38)","v":""},{"$f":"IF('見積書(2号)'!E38=\"\",\"\",'見積書(2号)'!E38)","v":""},{"$f":"IF('見積書(2号)'!I38=\"\",\"\",'見積書(2号)'!I38)","v":""},{"$f":"IF('見積書(2号)'!J38=\"\",\"\",'見積書(2号)'!J38)","v":""},{"$f":"IF('見積書(2号)'!K38=\"\",\"\",'見積書(2号)'!K38)","v":""},{"$f":"IF('見積書(2号)'!L38=\"\",\"\",'見積書(2号)'!L38)","v":""},{"$f":"IF('見積書(2号)'!M38=\"\",\"\",'見積書(2号)'!M38)","v":""},null,"","",null,"",""]
[{"$f":"IF('見積書(2号)'!A39=\"\",\"\",'見積書(2号)'!A39)","v":""},{"$f":"IF('見積書(2号)'!B39=\"\",\"\",'見積書(2号)'!B39)","v":""},{"$f":"IF('見積書(2号)'!C39=\"\",\"\",'見積書(2号)'!C39)","v":""},{"$f":"IF('見積書(2号)'!H39=\"\",\"\",'見積書(2号)'!H39)","v":""},{"$f":"IF('見積書(2号)'!E39=\"\",\"\",'見積書(2号)'!E39)","v":""},{"$f":"IF('見積書(2号)'!I39=\"\",\"\",'見積書(2号)'!I39)","v":""},{"$f":"IF('見積書(2号)'!J39=\"\",\"\",'見積書(2号)'!J39)","v":""},{"$f":"IF('見積書(2号)'!K39=\"\",\"\",'見積書(2号)'!K39)","v":""},{"$f":"IF('見積書(2号)'!L39=\"\",\"\",'見積書(2号)'!L39)","v":""},{"$f":"IF('見積書(2号)'!M39=\"\",\"\",'見積書(2号)'!M39)","v":""},null,"","",null,"",""]
[{"$f":"IF('見積書(2号)'!A40=\"\",\"\",'見積書(2号)'!A40)","v":""},{"$f":"IF('見積書(2号)'!B40=\"\",\"\",'見積書(2号)'!B40)","v":""},{"$f":"IF('見積書(2号)'!C40=\"\",\"\",'見積書(2号)'!C40)","v":""},{"$f":"IF('見積書(2号)'!H40=\"\",\"\",'見積書(2号)'!H40)","v":""},{"$f":"IF('見積書(2号)'!E40=\"\",\"\",'見積書(2号)'!E40)","v":""},{"$f":"IF('見積書(2号)'!I40=\"\",\"\",'見積書(2号)'!I40)","v":""},{"$f":"IF('見積書(2号)'!J40=\"\",\"\",'見積書(2号)'!J40)","v":""},{"$f":"IF('見積書(2号)'!K40=\"\",\"\",'見積書(2号)'!K40)","v":""},{"$f":"IF('見積書(2号)'!L40=\"\",\"\",'見積書(2号)'!L40)","v":""},{"$f":"IF('見積書(2号)'!M40=\"\",\"\",'見積書(2号)'!M40)","v":""},null,"","",null,"",""]
[{"$f":"IF('見積書(2号)'!A41=\"\",\"\",'見積書(2号)'!A41)","v":""},{"$f":"IF('見積書(2号)'!B41=\"\",\"\",'見積書(2号)'!B41)","v":""},{"$f":"IF('見積書(2号)'!C41=\"\",\"\",'見積書(2号)'!C41)","v":""},{"$f":"IF('見積書(2号)'!H41=\"\",\"\",'見積書(2号)'!H41)","v":""},{"$f":"IF('見積書(2号)'!E41=\"\",\"\",'見積書(2号)'!E41)","v":""},{"$f":"IF('見積書(2号)'!I41=\"\",\"\",'見積書(2号)'!I41)","v":""},{"$f":"IF('見積書(2号)'!J41=\"\",\"\",'見積書(2号)'!J41)","v":""},{"$f":"IF('見積書(2号)'!K41=\"\",\"\",'見積書(2号)'!K41)","v":""},{"$f":"IF('見積書(2号)'!L41=\"\",\"\",'見積書(2号)'!L41)","v":""},{"$f":"IF('見積書(2号)'!M41=\"\",\"\",'見積書(2号)'!M41)","v":""},null,"","",null,"",""]
[{"$f":"IF('見積書(2号)'!A42=\"\",\"\",'見積書(2号)'!A42)","v":""},{"$f":"IF('見積書(2号)'!B42=\"\",\"\",'見積書(2号)'!B42)","v":""},{"$f":"IF('見積書(2号)'!C42=\"\",\"\",'見積書(2号)'!C42)","v":""},{"$f":"IF('見積書(2号)'!H42=\"\",\"\",'見積書(2号)'!H42)","v":""},{"$f":"IF('見積書(2号)'!E42=\"\",\"\",'見積書(2号)'!E42)","v":""},{"$f":"IF('見積書(2号)'!I42=\"\",\"\",'見積書(2号)'!I42)","v":""},{"$f":"IF('見積書(2号)'!J42=\"\",\"\",'見積書(2号)'!J42)","v":""},{"$f":"IF('見積書(2号)'!K42=\"\",\"\",'見積書(2号)'!K42)","v":""},{"$f":"IF('見積書(2号)'!L42=\"\",\"\",'見積書(2号)'!L42)","v":""},{"$f":"IF('見積書(2号)'!M42=\"\",\"\",'見積書(2号)'!M42)","v":""},null,"","",null,"",""]
[{"$f":"IF('見積書(2号)'!A43=\"\",\"\",'見積書(2号)'!A43)","v":""},{"$f":"IF('見積書(2号)'!B43=\"\",\"\",'見積書(2号)'!B43)","v":""},{"$f":"IF('見積書(2号)'!C43=\"\",\"\",'見積書(2号)'!C43)","v":""},{"$f":"IF('見積書(2号)'!H43=\"\",\"\",'見積書(2号)'!H43)","v":""},{"$f":"IF('見積書(2号)'!E43=\"\",\"\",'見積書(2号)'!E43)","v":""},{"$f":"IF('見積書(2号)'!I43=\"\",\"\",'見積書(2号)'!I43)","v":""},{"$f":"IF('見積書(2号)'!J43=\"\",\"\",'見積書(2号)'!J43)","v":""},{"$f":"IF('見積書(2号)'!K43=\"\",\"\",'見積書(2号)'!K43)","v":""},{"$f":"IF('見積書(2号)'!L43=\"\",\"\",'見積書(2号)'!L43)","v":""},{"$f":"IF('見積書(2号)'!M43=\"\",\"\",'見積書(2号)'!M43)","v":""},null,"","",null,"",""]
[{"$f":"IF('見積書(2号)'!A44=\"\",\"\",'見積書(2号)'!A44)","v":""},{"$f":"IF('見積書(2号)'!B44=\"\",\"\",'見積書(2号)'!B44)","v":""},{"$f":"IF('見積書(2号)'!C44=\"\",\"\",'見積書(2号)'!C44)","v":""},{"$f":"IF('見積書(2号)'!H44=\"\",\"\",'見積書(2号)'!H44)","v":""},{"$f":"IF('見積書(2号)'!E44=\"\",\"\",'見積書(2号)'!E44)","v":""},{"$f":"IF('見積書(2号)'!I44=\"\",\"\",'見積書(2号)'!I44)","v":""},{"$f":"IF('見積書(2号)'!J44=\"\",\"\",'見積書(2号)'!J44)","v":""},{"$f":"IF('見積書(2号)'!K44=\"\",\"\",'見積書(2号)'!K44)","v":""},{"$f":"IF('見積書(2号)'!L44=\"\",\"\",'見積書(2号)'!L44)","v":""},{"$f":"IF('見積書(2号)'!M44=\"\",\"\",'見積書(2号)'!M44)","v":""},null,"","",null,"",""]
[{"$f":"IF('見積書(2号)'!A45=\"\",\"\",'見積書(2号)'!A45)","v":""},{"$f":"IF('見積書(2号)'!B45=\"\",\"\",'見積書(2号)'!B45)","v":""},{"$f":"IF('見積書(2号)'!C45=\"\",\"\",'見積書(2号)'!C45)","v":""},{"$f":"IF('見積書(2号)'!H45=\"\",\"\",'見積書(2号)'!H45)","v":""},{"$f":"IF('見積書(2号)'!E45=\"\",\"\",'見積書(2号)'!E45)","v":""},{"$f":"IF('見積書(2号)'!I45=\"\",\"\",'見積書(2号)'!I45)","v":""},{"$f":"IF('見積書(2号)'!J45=\"\",\"\",'見積書(2号)'!J45)","v":""},{"$f":"IF('見積書(2号)'!K45=\"\",\"\",'見積書(2号)'!K45)","v":""},{"$f":"IF('見積書(2号)'!L45=\"\",\"\",'見積書(2号)'!L45)","v":""},{"$f":"IF('見積書(2号)'!M45=\"\",\"\",'見積書(2号)'!M45)","v":""},null,"","",null,"",""]
[{"$f":"IF('見積書(2号)'!A46=\"\",\"\",'見積書(2号)'!A46)","v":""},{"$f":"IF('見積書(2号)'!B46=\"\",\"\",'見積書(2号)'!B46)","v":""},{"$f":"IF('見積書(2号)'!C46=\"\",\"\",'見積書(2号)'!C46)","v":""},{"$f":"IF('見積書(2号)'!H46=\"\",\"\",'見積書(2号)'!H46)","v":""},{"$f":"IF('見積書(2号)'!E46=\"\",\"\",'見積書(2号)'!E46)","v":""},{"$f":"IF('見積書(2号)'!I46=\"\",\"\",'見積書(2号)'!I46)","v":""},{"$f":"IF('見積書(2号)'!J46=\"\",\"\",'見積書(2号)'!J46)","v":""},{"$f":"IF('見積書(2号)'!K46=\"\",\"\",'見積書(2号)'!K46)","v":""},{"$f":"IF('見積書(2号)'!L46=\"\",\"\",'見積書(2号)'!L46)","v":""},{"$f":"IF('見積書(2号)'!M46=\"\",\"\",'見積書(2号)'!M46)","v":""},null,"","",null,"",""]
[{"$f":"IF('見積書(2号)'!A47=\"\",\"\",'見積書(2号)'!A47)","v":""},{"$f":"IF('見積書(2号)'!B47=\"\",\"\",'見積書(2号)'!B47)","v":""},{"$f":"IF('見積書(2号)'!C47=\"\",\"\",'見積書(2号)'!C47)","v":""},{"$f":"IF('見積書(2号)'!H47=\"\",\"\",'見積書(2号)'!H47)","v":""},{"$f":"IF('見積書(2号)'!E47=\"\",\"\",'見積書(2号)'!E47)","v":""},{"$f":"IF('見積書(2号)'!I47=\"\",\"\",'見積書(2号)'!I47)","v":""},{"$f":"IF('見積書(2号)'!J47=\"\",\"\",'見積書(2号)'!J47)","v":""},{"$f":"IF('見積書(2号)'!K47=\"\",\"\",'見積書(2号)'!K47)","v":""},{"$f":"IF('見積書(2号)'!L47=\"\",\"\",'見積書(2号)'!L47)","v":""},{"$f":"IF('見積書(2号)'!M47=\"\",\"\",'見積書(2号)'!M47)","v":""},null,"","",null,"",""]
[{"$f":"IF('見積書(2号)'!A48=\"\",\"\",'見積書(2号)'!A48)","v":""},{"$f":"IF('見積書(2号)'!B48=\"\",\"\",'見積書(2号)'!B48)","v":""},{"$f":"IF('見積書(2号)'!C48=\"\",\"\",'見積書(2号)'!C48)","v":""},{"$f":"IF('見積書(2号)'!H48=\"\",\"\",'見積書(2号)'!H48)","v":""},{"$f":"IF('見積書(2号)'!E48=\"\",\"\",'見積書(2号)'!E48)","v":""},{"$f":"IF('見積書(2号)'!I48=\"\",\"\",'見積書(2号)'!I48)","v":""},{"$f":"IF('見積書(2号)'!J48=\"\",\"\",'見積書(2号)'!J48)","v":""},{"$f":"IF('見積書(2号)'!K48=\"\",\"\",'見積書(2号)'!K48)","v":""},{"$f":"IF('見積書(2号)'!L48=\"\",\"\",'見積書(2号)'!L48)","v":""},{"$f":"IF('見積書(2号)'!M48=\"\",\"\",'見積書(2号)'!M48)","v":""},null,"","",null,"",""]
[{"$f":"IF('見積書(2号)'!A49=\"\",\"\",'見積書(2号)'!A49)","v":""},{"$f":"IF('見積書(2号)'!B49=\"\",\"\",'見積書(2号)'!B49)","v":""},{"$f":"IF('見積書(2号)'!C49=\"\",\"\",'見積書(2号)'!C49)","v":""},{"$f":"IF('見積書(2号)'!H49=\"\",\"\",'見積書(2号)'!H49)","v":""},{"$f":"IF('見積書(2号)'!E49=\"\",\"\",'見積書(2号)'!E49)","v":""},{"$f":"IF('見積書(2号)'!I49=\"\",\"\",'見積書(2号)'!I49)","v":""},{"$f":"IF('見積書(2号)'!J49=\"\",\"\",'見積書(2号)'!J49)","v":""},{"$f":"IF('見積書(2号)'!K49=\"\",\"\",'見積書(2号)'!K49)","v":""},{"$f":"IF('見積書(2号)'!L49=\"\",\"\",'見積書(2号)'!L49)","v":""},{"$f":"IF('見積書(2号)'!M49=\"\",\"\",'見積書(2号)'!M49)","v":""},null,"","",null,"",""]
[{"$f":"IF('見積書(2号)'!A50=\"\",\"\",'見積書(2号)'!A50)","v":""},{"$f":"IF('見積書(2号)'!B50=\"\",\"\",'見積書(2号)'!B50)","v":""},{"$f":"IF('見積書(2号)'!C50=\"\",\"\",'見積書(2号)'!C50)","v":""},{"$f":"IF('見積書(2号)'!H50=\"\",\"\",'見積書(2号)'!H50)","v":""},{"$f":"IF('見積書(2号)'!E50=\"\",\"\",'見積書(2号)'!E50)","v":""},{"$f":"IF('見積書(2号)'!I50=\"\",\"\",'見積書(2号)'!I50)","v":""},{"$f":"IF('見積書(2号)'!J50=\"\",\"\",'見積書(2号)'!J50)","v":""},{"$f":"IF('見積書(2号)'!K50=\"\",\"\",'見積書(2号)'!K50)","v":""},{"$f":"IF('見積書(2号)'!L50=\"\",\"\",'見積書(2号)'!L50)","v":""},{"$f":"IF('見積書(2号)'!M50=\"\",\"\",'見積書(2号)'!M50)","v":""},null,"","",null,"",""]
[{"$f":"IF('見積書(2号)'!A51=\"\",\"\",'見積書(2号)'!A51)","v":""},{"$f":"IF('見積書(2号)'!B51=\"\",\"\",'見積書(2号)'!B51)","v":""},{"$f":"IF('見積書(2号)'!C51=\"\",\"\",'見積書(2号)'!C51)","v":""},{"$f":"IF('見積書(2号)'!H51=\"\",\"\",'見積書(2号)'!H51)","v":""},{"$f":"IF('見積書(2号)'!E51=\"\",\"\",'見積書(2号)'!E51)","v":""},{"$f":"IF('見積書(2号)'!I51=\"\",\"\",'見積書(2号)'!I51)","v":""},{"$f":"IF('見積書(2号)'!J51=\"\",\"\",'見積書(2号)'!J51)","v":""},{"$f":"IF('見積書(2号)'!K51=\"\",\"\",'見積書(2号)'!K51)","v":""},{"$f":"IF('見積書(2号)'!L51=\"\",\"\",'見積書(2号)'!L51)","v":""},{"$f":"IF('見積書(2号)'!M51=\"\",\"\",'見積書(2号)'!M51)","v":""},null,"","",null,"",""]
[{"$f":"IF('見積書(2号)'!A52=\"\",\"\",'見積書(2号)'!A52)","v":""},{"$f":"IF('見積書(2号)'!B52=\"\",\"\",'見積書(2号)'!B52)","v":""},{"$f":"IF('見積書(2号)'!C52=\"\",\"\",'見積書(2号)'!C52)","v":""},{"$f":"IF('見積書(2号)'!H52=\"\",\"\",'見積書(2号)'!H52)","v":""},{"$f":"IF('見積書(2号)'!E52=\"\",\"\",'見積書(2号)'!E52)","v":""},{"$f":"IF('見積書(2号)'!I52=\"\",\"\",'見積書(2号)'!I52)","v":""},{"$f":"IF('見積書(2号)'!J52=\"\",\"\",'見積書(2号)'!J52)","v":""},{"$f":"IF('見積書(2号)'!K52=\"\",\"\",'見積書(2号)'!K52)","v":""},{"$f":"IF('見積書(2号)'!L52=\"\",\"\",'見積書(2号)'!L52)","v":""},{"$f":"IF('見積書(2号)'!M52=\"\",\"\",'見積書(2号)'!M52)","v":""},null,"","",null,"",""]
[{"$f":"IF('見積書(2号)'!A53=\"\",\"\",'見積書(2号)'!A53)","v":""},{"$f":"IF('見積書(2号)'!B53=\"\",\"\",'見積書(2号)'!B53)","v":""},{"$f":"IF('見積書(2号)'!C53=\"\",\"\",'見積書(2号)'!C53)","v":""},{"$f":"IF('見積書(2号)'!H53=\"\",\"\",'見積書(2号)'!H53)","v":""},{"$f":"IF('見積書(2号)'!E53=\"\",\"\",'見積書(2号)'!E53)","v":""},{"$f":"IF('見積書(2号)'!I53=\"\",\"\",'見積書(2号)'!I53)","v":""},{"$f":"IF('見積書(2号)'!J53=\"\",\"\",'見積書(2号)'!J53)","v":""},{"$f":"IF('見積書(2号)'!K53=\"\",\"\",'見積書(2号)'!K53)","v":""},{"$f":"IF('見積書(2号)'!L53=\"\",\"\",'見積書(2号)'!L53)","v":""},{"$f":"IF('見積書(2号)'!M53=\"\",\"\",'見積書(2号)'!M53)","v":""},null,"","",null,"",""]
[{"$f":"IF('見積書(2号)'!A54=\"\",\"\",'見積書(2号)'!A54)","v":""},{"$f":"IF('見積書(2号)'!B54=\"\",\"\",'見積書(2号)'!B54)","v":""},{"$f":"IF('見積書(2号)'!C54=\"\",\"\",'見積書(2号)'!C54)","v":""},{"$f":"IF('見積書(2号)'!H54=\"\",\"\",'見積書(2号)'!H54)","v":""},{"$f":"IF('見積書(2号)'!E54=\"\",\"\",'見積書(2号)'!E54)","v":""},{"$f":"IF('見積書(2号)'!I54=\"\",\"\",'見積書(2号)'!I54)","v":""},{"$f":"IF('見積書(2号)'!J54=\"\",\"\",'見積書(2号)'!J54)","v":""},{"$f":"IF('見積書(2号)'!K54=\"\",\"\",'見積書(2号)'!K54)","v":""},{"$f":"IF('見積書(2号)'!L54=\"\",\"\",'見積書(2号)'!L54)","v":""},{"$f":"IF('見積書(2号)'!M54=\"\",\"\",'見積書(2号)'!M54)","v":""},null,"","",null,"",""]
[{"$f":"IF('見積書(2号)'!A55=\"\",\"\",'見積書(2号)'!A55)","v":""},{"$f":"IF('見積書(2号)'!B55=\"\",\"\",'見積書(2号)'!B55)","v":""},{"$f":"IF('見積書(2号)'!C55=\"\",\"\",'見積書(2号)'!C55)","v":""},{"$f":"IF('見積書(2号)'!H55=\"\",\"\",'見積書(2号)'!H55)","v":""},{"$f":"IF('見積書(2号)'!E55=\"\",\"\",'見積書(2号)'!E55)","v":""},{"$f":"IF('見積書(2号)'!I55=\"\",\"\",'見積書(2号)'!I55)","v":""},{"$f":"IF('見積書(2号)'!J55=\"\",\"\",'見積書(2号)'!J55)","v":""},{"$f":"IF('見積書(2号)'!K55=\"\",\"\",'見積書(2号)'!K55)","v":""},{"$f":"IF('見積書(2号)'!L55=\"\",\"\",'見積書(2号)'!L55)","v":""},{"$f":"IF('見積書(2号)'!M55=\"\",\"\",'見積書(2号)'!M55)","v":""},null,"","",null,"",""]
[{"$f":"IF('見積書(2号)'!A56=\"\",\"\",'見積書(2号)'!A56)","v":""},{"$f":"IF('見積書(2号)'!B56=\"\",\"\",'見積書(2号)'!B56)","v":""},{"$f":"IF('見積書(2号)'!C56=\"\",\"\",'見積書(2号)'!C56)","v":""},{"$f":"IF('見積書(2号)'!H56=\"\",\"\",'見積書(2号)'!H56)","v":""},{"$f":"IF('見積書(2号)'!E56=\"\",\"\",'見積書(2号)'!E56)","v":""},{"$f":"IF('見積書(2号)'!I56=\"\",\"\",'見積書(2号)'!I56)","v":""},{"$f":"IF('見積書(2号)'!J56=\"\",\"\",'見積書(2号)'!J56)","v":""},{"$f":"IF('見積書(2号)'!K56=\"\",\"\",'見積書(2号)'!K56)","v":""},{"$f":"IF('見積書(2号)'!L56=\"\",\"\",'見積書(2号)'!L56)","v":""},{"$f":"IF('見積書(2号)'!M56=\"\",\"\",'見積書(2号)'!M56)","v":""},null,"","",null,"",""]
[{"$f":"IF('見積書(2号)'!A57=\"\",\"\",'見積書(2号)'!A57)","v":""},{"$f":"IF('見積書(2号)'!B57=\"\",\"\",'見積書(2号)'!B57)","v":""},{"$f":"IF('見積書(2号)'!C57=\"\",\"\",'見積書(2号)'!C57)","v":""},{"$f":"IF('見積書(2号)'!H57=\"\",\"\",'見積書(2号)'!H57)","v":""},{"$f":"IF('見積書(2号)'!E57=\"\",\"\",'見積書(2号)'!E57)","v":""},{"$f":"IF('見積書(2号)'!I57=\"\",\"\",'見積書(2号)'!I57)","v":""},{"$f":"IF('見積書(2号)'!J57=\"\",\"\",'見積書(2号)'!J57)","v":""},{"$f":"IF('見積書(2号)'!K57=\"\",\"\",'見積書(2号)'!K57)","v":""},{"$f":"IF('見積書(2号)'!L57=\"\",\"\",'見積書(2号)'!L57)","v":""},{"$f":"IF('見積書(2号)'!M57=\"\",\"\",'見積書(2号)'!M57)","v":""},null,"","",null,"",""]
[{"$f":"IF('見積書(2号)'!A58=\"\",\"\",'見積書(2号)'!A58)","v":""},{"$f":"IF('見積書(2号)'!B58=\"\",\"\",'見積書(2号)'!B58)","v":""},{"$f":"IF('見積書(2号)'!C58=\"\",\"\",'見積書(2号)'!C58)","v":""},{"$f":"IF('見積書(2号)'!H58=\"\",\"\",'見積書(2号)'!H58)","v":""},{"$f":"IF('見積書(2号)'!E58=\"\",\"\",'見積書(2号)'!E58)","v":""},{"$f":"IF('見積書(2号)'!I58=\"\",\"\",'見積書(2号)'!I58)","v":""},{"$f":"IF('見積書(2号)'!J58=\"\",\"\",'見積書(2号)'!J58)","v":""},{"$f":"IF('見積書(2号)'!K58=\"\",\"\",'見積書(2号)'!K58)","v":""},{"$f":"IF('見積書(2号)'!L58=\"\",\"\",'見積書(2号)'!L58)","v":""},{"$f":"IF('見積書(2号)'!M58=\"\",\"\",'見積書(2号)'!M58)","v":""},null,"","",null,"",""]
[{"$f":"IF('見積書(2号)'!A59=\"\",\"\",'見積書(2号)'!A59)","v":""},{"$f":"IF('見積書(2号)'!B59=\"\",\"\",'見積書(2号)'!B59)","v":""},{"$f":"IF('見積書(2号)'!C59=\"\",\"\",'見積書(2号)'!C59)","v":""},{"$f":"IF('見積書(2号)'!H59=\"\",\"\",'見積書(2号)'!H59)","v":""},{"$f":"IF('見積書(2号)'!E59=\"\",\"\",'見積書(2号)'!E59)","v":""},{"$f":"IF('見積書(2号)'!I59=\"\",\"\",'見積書(2号)'!I59)","v":""},{"$f":"IF('見積書(2号)'!J59=\"\",\"\",'見積書(2号)'!J59)","v":""},{"$f":"IF('見積書(2号)'!K59=\"\",\"\",'見積書(2号)'!K59)","v":""},{"$f":"IF('見積書(2号)'!L59=\"\",\"\",'見積書(2号)'!L59)","v":""},{"$f":"IF('見積書(2号)'!M59=\"\",\"\",'見積書(2号)'!M59)","v":""},null,"","",null,"",""]
[{"$f":"IF('見積書(2号)'!A60=\"\",\"\",'見積書(2号)'!A60)","v":""},{"$f":"IF('見積書(2号)'!B60=\"\",\"\",'見積書(2号)'!B60)","v":""},{"$f":"IF('見積書(2号)'!C60=\"\",\"\",'見積書(2号)'!C60)","v":""},{"$f":"IF('見積書(2号)'!H60=\"\",\"\",'見積書(2号)'!H60)","v":""},{"$f":"IF('見積書(2号)'!E60=\"\",\"\",'見積書(2号)'!E60)","v":""},{"$f":"IF('見積書(2号)'!I60=\"\",\"\",'見積書(2号)'!I60)","v":""},{"$f":"IF('見積書(2号)'!J60=\"\",\"\",'見積書(2号)'!J60)","v":""},{"$f":"IF('見積書(2号)'!K60=\"\",\"\",'見積書(2号)'!K60)","v":""},{"$f":"IF('見積書(2号)'!L60=\"\",\"\",'見積書(2号)'!L60)","v":""},{"$f":"IF('見積書(2号)'!M60=\"\",\"\",'見積書(2号)'!M60)","v":""},null,"","",null,"",""]
[{"$f":"IF('見積書(2号)'!A61=\"\",\"\",'見積書(2号)'!A61)","v":""},{"$f":"IF('見積書(2号)'!B61=\"\",\"\",'見積書(2号)'!B61)","v":""},{"$f":"IF('見積書(2号)'!C61=\"\",\"\",'見積書(2号)'!C61)","v":""},{"$f":"IF('見積書(2号)'!H61=\"\",\"\",'見積書(2号)'!H61)","v":""},{"$f":"IF('見積書(2号)'!E61=\"\",\"\",'見積書(2号)'!E61)","v":""},{"$f":"IF('見積書(2号)'!I61=\"\",\"\",'見積書(2号)'!I61)","v":""},{"$f":"IF('見積書(2号)'!J61=\"\",\"\",'見積書(2号)'!J61)","v":""},{"$f":"IF('見積書(2号)'!K61=\"\",\"\",'見積書(2号)'!K61)","v":""},{"$f":"IF('見積書(2号)'!L61=\"\",\"\",'見積書(2号)'!L61)","v":""},{"$f":"IF('見積書(2号)'!M61=\"\",\"\",'見積書(2号)'!M61)","v":""},null,"","",null,"",""]
[{"$f":"IF('見積書(2号)'!A62=\"\",\"\",'見積書(2号)'!A62)","v":""},{"$f":"IF('見積書(2号)'!B62=\"\",\"\",'見積書(2号)'!B62)","v":""},{"$f":"IF('見積書(2号)'!C62=\"\",\"\",'見積書(2号)'!C62)","v":""},{"$f":"IF('見積書(2号)'!H62=\"\",\"\",'見積書(2号)'!H62)","v":""},{"$f":"IF('見積書(2号)'!E62=\"\",\"\",'見積書(2号)'!E62)","v":""},{"$f":"IF('見積書(2号)'!I62=\"\",\"\",'見積書(2号)'!I62)","v":""},{"$f":"IF('見積書(2号)'!J62=\"\",\"\",'見積書(2号)'!J62)","v":""},{"$f":"IF('見積書(2号)'!K62=\"\",\"\",'見積書(2号)'!K62)","v":""},{"$f":"IF('見積書(2号)'!L62=\"\",\"\",'見積書(2号)'!L62)","v":""},{"$f":"IF('見積書(2号)'!M62=\"\",\"\",'見積書(2号)'!M62)","v":""},null,"","",null,"",""]
[{"$f":"IF('見積書(2号)'!A63=\"\",\"\",'見積書(2号)'!A63)","v":""},{"$f":"IF('見積書(2号)'!B63=\"\",\"\",'見積書(2号)'!B63)","v":""},{"$f":"IF('見積書(2号)'!C63=\"\",\"\",'見積書(2号)'!C63)","v":""},{"$f":"IF('見積書(2号)'!H63=\"\",\"\",'見積書(2号)'!H63)","v":""},{"$f":"IF('見積書(2号)'!E63=\"\",\"\",'見積書(2号)'!E63)","v":""},{"$f":"IF('見積書(2号)'!I63=\"\",\"\",'見積書(2号)'!I63)","v":""},{"$f":"IF('見積書(2号)'!J63=\"\",\"\",'見積書(2号)'!J63)","v":""},{"$f":"IF('見積書(2号)'!K63=\"\",\"\",'見積書(2号)'!K63)","v":""},{"$f":"IF('見積書(2号)'!L63=\"\",\"\",'見積書(2号)'!L63)","v":""},{"$f":"IF('見積書(2号)'!M63=\"\",\"\",'見積書(2号)'!M63)","v":""},null,"","",null,"",""]
[{"$f":"IF('見積書(2号)'!A64=\"\",\"\",'見積書(2号)'!A64)","v":""},{"$f":"IF('見積書(2号)'!B64=\"\",\"\",'見積書(2号)'!B64)","v":""},{"$f":"IF('見積書(2号)'!C64=\"\",\"\",'見積書(2号)'!C64)","v":""},{"$f":"IF('見積書(2号)'!H64=\"\",\"\",'見積書(2号)'!H64)","v":""},{"$f":"IF('見積書(2号)'!E64=\"\",\"\",'見積書(2号)'!E64)","v":""},{"$f":"IF('見積書(2号)'!I64=\"\",\"\",'見積書(2号)'!I64)","v":""},{"$f":"IF('見積書(2号)'!J64=\"\",\"\",'見積書(2号)'!J64)","v":""},{"$f":"IF('見積書(2号)'!K64=\"\",\"\",'見積書(2号)'!K64)","v":""},{"$f":"IF('見積書(2号)'!L64=\"\",\"\",'見積書(2号)'!L64)","v":""},{"$f":"IF('見積書(2号)'!M64=\"\",\"\",'見積書(2号)'!M64)","v":""},null,"","",null,"",""]
[{"$f":"IF('見積書(2号)'!A65=\"\",\"\",'見積書(2号)'!A65)","v":""},{"$f":"IF('見積書(2号)'!B65=\"\",\"\",'見積書(2号)'!B65)","v":""},{"$f":"IF('見積書(2号)'!C65=\"\",\"\",'見積書(2号)'!C65)","v":""},{"$f":"IF('見積書(2号)'!H65=\"\",\"\",'見積書(2号)'!H65)","v":""},{"$f":"IF('見積書(2号)'!E65=\"\",\"\",'見積書(2号)'!E65)","v":""},{"$f":"IF('見積書(2号)'!I65=\"\",\"\",'見積書(2号)'!I65)","v":""},{"$f":"IF('見積書(2号)'!J65=\"\",\"\",'見積書(2号)'!J65)","v":""},{"$f":"IF('見積書(2号)'!K65=\"\",\"\",'見積書(2号)'!K65)","v":""},{"$f":"IF('見積書(2号)'!L65=\"\",\"\",'見積書(2号)'!L65)","v":""},{"$f":"IF('見積書(2号)'!M65=\"\",\"\",'見積書(2号)'!M65)","v":""},null,"","",null,"",""]
[{"$f":"IF('見積書(2号)'!A66=\"\",\"\",'見積書(2号)'!A66)","v":""},{"$f":"IF('見積書(2号)'!B66=\"\",\"\",'見積書(2号)'!B66)","v":""},{"$f":"IF('見積書(2号)'!C66=\"\",\"\",'見積書(2号)'!C66)","v":""},{"$f":"IF('見積書(2号)'!H66=\"\",\"\",'見積書(2号)'!H66)","v":""},{"$f":"IF('見積書(2号)'!E66=\"\",\"\",'見積書(2号)'!E66)","v":""},{"$f":"IF('見積書(2号)'!I66=\"\",\"\",'見積書(2号)'!I66)","v":""},{"$f":"IF('見積書(2号)'!J66=\"\",\"\",'見積書(2号)'!J66)","v":""},{"$f":"IF('見積書(2号)'!K66=\"\",\"\",'見積書(2号)'!K66)","v":""},{"$f":"IF('見積書(2号)'!L66=\"\",\"\",'見積書(2号)'!L66)","v":""},{"$f":"IF('見積書(2号)'!M66=\"\",\"\",'見積書(2号)'!M66)","v":""},null,"","",null,"",""]
[{"$f":"IF('見積書(2号)'!A67=\"\",\"\",'見積書(2号)'!A67)","v":""},{"$f":"IF('見積書(2号)'!B67=\"\",\"\",'見積書(2号)'!B67)","v":""},{"$f":"IF('見積書(2号)'!C67=\"\",\"\",'見積書(2号)'!C67)","v":""},{"$f":"IF('見積書(2号)'!H67=\"\",\"\",'見積書(2号)'!H67)","v":""},{"$f":"IF('見積書(2号)'!E67=\"\",\"\",'見積書(2号)'!E67)","v":""},{"$f":"IF('見積書(2号)'!I67=\"\",\"\",'見積書(2号)'!I67)","v":""},{"$f":"IF('見積書(2号)'!J67=\"\",\"\",'見積書(2号)'!J67)","v":""},{"$f":"IF('見積書(2号)'!K67=\"\",\"\",'見積書(2号)'!K67)","v":""},{"$f":"IF('見積書(2号)'!L67=\"\",\"\",'見積書(2号)'!L67)","v":""},{"$f":"IF('見積書(2号)'!M67=\"\",\"\",'見積書(2号)'!M67)","v":""},null,"","",null,"",""]
[{"$f":"IF('見積書(2号)'!A68=\"\",\"\",'見積書(2号)'!A68)","v":""},{"$f":"IF('見積書(2号)'!B68=\"\",\"\",'見積書(2号)'!B68)","v":""},{"$f":"IF('見積書(2号)'!C68=\"\",\"\",'見積書(2号)'!C68)","v":""},{"$f":"IF('見積書(2号)'!H68=\"\",\"\",'見積書(2号)'!H68)","v":""},{"$f":"IF('見積書(2号)'!E68=\"\",\"\",'見積書(2号)'!E68)","v":""},{"$f":"IF('見積書(2号)'!I68=\"\",\"\",'見積書(2号)'!I68)","v":""},{"$f":"IF('見積書(2号)'!J68=\"\",\"\",'見積書(2号)'!J68)","v":""},{"$f":"IF('見積書(2号)'!K68=\"\",\"\",'見積書(2号)'!K68)","v":""},{"$f":"IF('見積書(2号)'!L68=\"\",\"\",'見積書(2号)'!L68)","v":""},{"$f":"IF('見積書(2号)'!M68=\"\",\"\",'見積書(2号)'!M68)","v":""},null,"","",null,"",""]
[{"$f":"IF('見積書(2号)'!A69=\"\",\"\",'見積書(2号)'!A69)","v":""},{"$f":"IF('見積書(2号)'!B69=\"\",\"\",'見積書(2号)'!B69)","v":""},{"$f":"IF('見積書(2号)'!C69=\"\",\"\",'見積書(2号)'!C69)","v":""},{"$f":"IF('見積書(2号)'!H69=\"\",\"\",'見積書(2号)'!H69)","v":""},{"$f":"IF('見積書(2号)'!E69=\"\",\"\",'見積書(2号)'!E69)","v":""},{"$f":"IF('見積書(2号)'!I69=\"\",\"\",'見積書(2号)'!I69)","v":""},{"$f":"IF('見積書(2号)'!J69=\"\",\"\",'見積書(2号)'!J69)","v":""},{"$f":"IF('見積書(2号)'!K69=\"\",\"\",'見積書(2号)'!K69)","v":""},{"$f":"IF('見積書(2号)'!L69=\"\",\"\",'見積書(2号)'!L69)","v":""},{"$f":"IF('見積書(2号)'!M69=\"\",\"\",'見積書(2号)'!M69)","v":""},null,"","",null,"",""]
[{"$f":"IF('見積書(2号)'!A70=\"\",\"\",'見積書(2号)'!A70)","v":""},{"$f":"IF('見積書(2号)'!B70=\"\",\"\",'見積書(2号)'!B70)","v":""},{"$f":"IF('見積書(2号)'!C70=\"\",\"\",'見積書(2号)'!C70)","v":""},{"$f":"IF('見積書(2号)'!H70=\"\",\"\",'見積書(2号)'!H70)","v":""},{"$f":"IF('見積書(2号)'!E70=\"\",\"\",'見積書(2号)'!E70)","v":""},{"$f":"IF('見積書(2号)'!I70=\"\",\"\",'見積書(2号)'!I70)","v":""},{"$f":"IF('見積書(2号)'!J70=\"\",\"\",'見積書(2号)'!J70)","v":""},{"$f":"IF('見積書(2号)'!K70=\"\",\"\",'見積書(2号)'!K70)","v":""},{"$f":"IF('見積書(2号)'!L70=\"\",\"\",'見積書(2号)'!L70)","v":""},{"$f":"IF('見積書(2号)'!M70=\"\",\"\",'見積書(2号)'!M70)","v":""},null,"","",null,"",""]
[{"$f":"IF('見積書(2号)'!A71=\"\",\"\",'見積書(2号)'!A71)","v":""},{"$f":"IF('見積書(2号)'!B71=\"\",\"\",'見積書(2号)'!B71)","v":""},{"$f":"IF('見積書(2号)'!C71=\"\",\"\",'見積書(2号)'!C71)","v":""},{"$f":"IF('見積書(2号)'!H71=\"\",\"\",'見積書(2号)'!H71)","v":""},{"$f":"IF('見積書(2号)'!E71=\"\",\"\",'見積書(2号)'!E71)","v":""},{"$f":"IF('見積書(2号)'!I71=\"\",\"\",'見積書(2号)'!I71)","v":""},{"$f":"IF('見積書(2号)'!J71=\"\",\"\",'見積書(2号)'!J71)","v":""},{"$f":"IF('見積書(2号)'!K71=\"\",\"\",'見積書(2号)'!K71)","v":""},{"$f":"IF('見積書(2号)'!L71=\"\",\"\",'見積書(2号)'!L71)","v":""},{"$f":"IF('見積書(2号)'!M71=\"\",\"\",'見積書(2号)'!M71)","v":""},null,{"$f":"IF(I71=\"\",F71,I71)","v":""},{"$f":"IF(L71=\"\",\"\",L71*K71)","v":""},null,"",""]
[{"$f":"IF('見積書(2号)'!A72=\"\",\"\",'見積書(2号)'!A72)","v":""},{"$f":"IF('見積書(2号)'!B72=\"\",\"\",'見積書(2号)'!B72)","v":""},{"$f":"IF('見積書(2号)'!C72=\"\",\"\",'見積書(2号)'!C72)","v":""},{"$f":"IF('見積書(2号)'!H72=\"\",\"\",'見積書(2号)'!H72)","v":""},{"$f":"IF('見積書(2号)'!E72=\"\",\"\",'見積書(2号)'!E72)","v":""},{"$f":"IF('見積書(2号)'!I72=\"\",\"\",'見積書(2号)'!I72)","v":""},{"$f":"IF('見積書(2号)'!J72=\"\",\"\",'見積書(2号)'!J72)","v":""},{"$f":"IF('見積書(2号)'!K72=\"\",\"\",'見積書(2号)'!K72)","v":""},{"$f":"IF('見積書(2号)'!L72=\"\",\"\",'見積書(2号)'!L72)","v":""},{"$f":"IF('見積書(2号)'!M72=\"\",\"\",'見積書(2号)'!M72)","v":""},null,"","",null,"",""]
[{"$f":"IF('見積書(2号)'!A73=\"\",\"\",'見積書(2号)'!A73)","v":""},{"$f":"IF('見積書(2号)'!B73=\"\",\"\",'見積書(2号)'!B73)","v":""},{"$f":"IF('見積書(2号)'!C73=\"\",\"\",'見積書(2号)'!C73)","v":""},{"$f":"IF('見積書(2号)'!H73=\"\",\"\",'見積書(2号)'!H73)","v":""},{"$f":"IF('見積書(2号)'!E73=\"\",\"\",'見積書(2号)'!E73)","v":""},{"$f":"IF('見積書(2号)'!I73=\"\",\"\",'見積書(2号)'!I73)","v":""},{"$f":"IF('見積書(2号)'!J73=\"\",\"\",'見積書(2号)'!J73)","v":""},{"$f":"IF('見積書(2号)'!K73=\"\",\"\",'見積書(2号)'!K73)","v":""},{"$f":"IF('見積書(2号)'!L73=\"\",\"\",'見積書(2号)'!L73)","v":""},{"$f":"IF('見積書(2号)'!M73=\"\",\"\",'見積書(2号)'!M73)","v":""},null,"","",null,"",""]
[{"$f":"IF('見積書(2号)'!A74=\"\",\"\",'見積書(2号)'!A74)","v":""},{"$f":"IF('見積書(2号)'!B74=\"\",\"\",'見積書(2号)'!B74)","v":""},{"$f":"IF('見積書(2号)'!C74=\"\",\"\",'見積書(2号)'!C74)","v":""},{"$f":"IF('見積書(2号)'!H74=\"\",\"\",'見積書(2号)'!H74)","v":""},{"$f":"IF('見積書(2号)'!E74=\"\",\"\",'見積書(2号)'!E74)","v":""},{"$f":"IF('見積書(2号)'!I74=\"\",\"\",'見積書(2号)'!I74)","v":""},{"$f":"IF('見積書(2号)'!J74=\"\",\"\",'見積書(2号)'!J74)","v":""},{"$f":"IF('見積書(2号)'!K74=\"\",\"\",'見積書(2号)'!K74)","v":""},{"$f":"IF('見積書(2号)'!L74=\"\",\"\",'見積書(2号)'!L74)","v":""},{"$f":"IF('見積書(2号)'!M74=\"\",\"\",'見積書(2号)'!M74)","v":""},null,"","",null,"",""]
[{"$f":"IF('見積書(2号)'!A75=\"\",\"\",'見積書(2号)'!A75)","v":""},{"$f":"IF('見積書(2号)'!B75=\"\",\"\",'見積書(2号)'!B75)","v":""},{"$f":"IF('見積書(2号)'!C75=\"\",\"\",'見積書(2号)'!C75)","v":""},{"$f":"IF('見積書(2号)'!H75=\"\",\"\",'見積書(2号)'!H75)","v":""},{"$f":"IF('見積書(2号)'!E75=\"\",\"\",'見積書(2号)'!E75)","v":""},{"$f":"IF('見積書(2号)'!I75=\"\",\"\",'見積書(2号)'!I75)","v":""},{"$f":"IF('見積書(2号)'!J75=\"\",\"\",'見積書(2号)'!J75)","v":""},{"$f":"IF('見積書(2号)'!K75=\"\",\"\",'見積書(2号)'!K75)","v":""},{"$f":"IF('見積書(2号)'!L75=\"\",\"\",'見積書(2号)'!L75)","v":""},{"$f":"IF('見積書(2号)'!M75=\"\",\"\",'見積書(2号)'!M75)","v":""},null,{"$f":"IF(I75=\"\",F75,I75)","v":""},{"$f":"IF(L75=\"\",\"\",L75*K75)","v":""},null,"",""]
[{"$f":"IF('見積書(2号)'!A76=\"\",\"\",'見積書(2号)'!A76)","v":""},{"$f":"IF('見積書(2号)'!B76=\"\",\"\",'見積書(2号)'!B76)","v":""},{"$f":"IF('見積書(2号)'!C76=\"\",\"\",'見積書(2号)'!C76)","v":""},{"$f":"IF('見積書(2号)'!H76=\"\",\"\",'見積書(2号)'!H76)","v":""},{"$f":"IF('見積書(2号)'!E76=\"\",\"\",'見積書(2号)'!E76)","v":""},{"$f":"IF('見積書(2号)'!I76=\"\",\"\",'見積書(2号)'!I76)","v":""},{"$f":"IF('見積書(2号)'!J76=\"\",\"\",'見積書(2号)'!J76)","v":""},{"$f":"IF('見積書(2号)'!K76=\"\",\"\",'見積書(2号)'!K76)","v":""},{"$f":"IF('見積書(2号)'!L76=\"\",\"\",'見積書(2号)'!L76)","v":""},{"$f":"IF('見積書(2号)'!M76=\"\",\"\",'見積書(2号)'!M76)","v":""},null,"","",null,"",""]
[{"$f":"IF('見積書(2号)'!A77=\"\",\"\",'見積書(2号)'!A77)","v":""},{"$f":"IF('見積書(2号)'!B77=\"\",\"\",'見積書(2号)'!B77)","v":""},{"$f":"IF('見積書(2号)'!C77=\"\",\"\",'見積書(2号)'!C77)","v":""},{"$f":"IF('見積書(2号)'!H77=\"\",\"\",'見積書(2号)'!H77)","v":""},{"$f":"IF('見積書(2号)'!E77=\"\",\"\",'見積書(2号)'!E77)","v":""},{"$f":"IF('見積書(2号)'!I77=\"\",\"\",'見積書(2号)'!I77)","v":""},{"$f":"IF('見積書(2号)'!J77=\"\",\"\",'見積書(2号)'!J77)","v":""},{"$f":"IF('見積書(2号)'!K77=\"\",\"\",'見積書(2号)'!K77)","v":""},{"$f":"IF('見積書(2号)'!L77=\"\",\"\",'見積書(2号)'!L77)","v":""},{"$f":"IF('見積書(2号)'!M77=\"\",\"\",'見積書(2号)'!M77)","v":""},null,"","",null,"",""]
[{"$f":"IF('見積書(2号)'!A78=\"\",\"\",'見積書(2号)'!A78)","v":""},{"$f":"IF('見積書(2号)'!B78=\"\",\"\",'見積書(2号)'!B78)","v":""},{"$f":"IF('見積書(2号)'!C78=\"\",\"\",'見積書(2号)'!C78)","v":""},{"$f":"IF('見積書(2号)'!H78=\"\",\"\",'見積書(2号)'!H78)","v":""},{"$f":"IF('見積書(2号)'!E78=\"\",\"\",'見積書(2号)'!E78)","v":""},{"$f":"IF('見積書(2号)'!I78=\"\",\"\",'見積書(2号)'!I78)","v":""},{"$f":"IF('見積書(2号)'!J78=\"\",\"\",'見積書(2号)'!J78)","v":""},{"$f":"IF('見積書(2号)'!K78=\"\",\"\",'見積書(2号)'!K78)","v":""},{"$f":"IF('見積書(2号)'!L78=\"\",\"\",'見積書(2号)'!L78)","v":""},{"$f":"IF('見積書(2号)'!M78=\"\",\"\",'見積書(2号)'!M78)","v":""},null,"","",null,"",""]
[{"$f":"IF('見積書(2号)'!A79=\"\",\"\",'見積書(2号)'!A79)","v":""},{"$f":"IF('見積書(2号)'!B79=\"\",\"\",'見積書(2号)'!B79)","v":""},{"$f":"IF('見積書(2号)'!C79=\"\",\"\",'見積書(2号)'!C79)","v":""},{"$f":"IF('見積書(2号)'!H79=\"\",\"\",'見積書(2号)'!H79)","v":""},{"$f":"IF('見積書(2号)'!E79=\"\",\"\",'見積書(2号)'!E79)","v":""},{"$f":"IF('見積書(2号)'!I79=\"\",\"\",'見積書(2号)'!I79)","v":""},{"$f":"IF('見積書(2号)'!J79=\"\",\"\",'見積書(2号)'!J79)","v":""},{"$f":"IF('見積書(2号)'!K79=\"\",\"\",'見積書(2号)'!K79)","v":""},{"$f":"IF('見積書(2号)'!L79=\"\",\"\",'見積書(2号)'!L79)","v":""},{"$f":"IF('見積書(2号)'!M79=\"\",\"\",'見積書(2号)'!M79)","v":""},null,"","",null,"",""]
[{"$f":"IF('見積書(2号)'!A80=\"\",\"\",'見積書(2号)'!A80)","v":""},{"$f":"IF('見積書(2号)'!B80=\"\",\"\",'見積書(2号)'!B80)","v":""},{"$f":"IF('見積書(2号)'!C80=\"\",\"\",'見積書(2号)'!C80)","v":""},{"$f":"IF('見積書(2号)'!H80=\"\",\"\",'見積書(2号)'!H80)","v":""},{"$f":"IF('見積書(2号)'!E80=\"\",\"\",'見積書(2号)'!E80)","v":""},{"$f":"IF('見積書(2号)'!I80=\"\",\"\",'見積書(2号)'!I80)","v":""},{"$f":"IF('見積書(2号)'!J80=\"\",\"\",'見積書(2号)'!J80)","v":""},{"$f":"IF('見積書(2号)'!K80=\"\",\"\",'見積書(2号)'!K80)","v":""},{"$f":"IF('見積書(2号)'!L80=\"\",\"\",'見積書(2号)'!L80)","v":""},{"$f":"IF('見積書(2号)'!M80=\"\",\"\",'見積書(2号)'!M80)","v":""},null,"","",null,"",""]
[{"$f":"IF('見積書(2号)'!A81=\"\",\"\",'見積書(2号)'!A81)","v":""},{"$f":"IF('見積書(2号)'!B81=\"\",\"\",'見積書(2号)'!B81)","v":""},{"$f":"IF('見積書(2号)'!C81=\"\",\"\",'見積書(2号)'!C81)","v":""},{"$f":"IF('見積書(2号)'!H81=\"\",\"\",'見積書(2号)'!H81)","v":""},{"$f":"IF('見積書(2号)'!E81=\"\",\"\",'見積書(2号)'!E81)","v":""},{"$f":"IF('見積書(2号)'!I81=\"\",\"\",'見積書(2号)'!I81)","v":""},{"$f":"IF('見積書(2号)'!J81=\"\",\"\",'見積書(2号)'!J81)","v":""},{"$f":"IF('見積書(2号)'!K81=\"\",\"\",'見積書(2号)'!K81)","v":""},{"$f":"IF('見積書(2号)'!L81=\"\",\"\",'見積書(2号)'!L81)","v":""},{"$f":"IF('見積書(2号)'!M81=\"\",\"\",'見積書(2号)'!M81)","v":""},null,"","",null,"",""]
[{"$f":"IF('見積書(2号)'!A82=\"\",\"\",'見積書(2号)'!A82)","v":""},{"$f":"IF('見積書(2号)'!B82=\"\",\"\",'見積書(2号)'!B82)","v":""},{"$f":"IF('見積書(2号)'!C82=\"\",\"\",'見積書(2号)'!C82)","v":""},{"$f":"IF('見積書(2号)'!H82=\"\",\"\",'見積書(2号)'!H82)","v":""},{"$f":"IF('見積書(2号)'!E82=\"\",\"\",'見積書(2号)'!E82)","v":""},{"$f":"IF('見積書(2号)'!I82=\"\",\"\",'見積書(2号)'!I82)","v":""},{"$f":"IF('見積書(2号)'!J82=\"\",\"\",'見積書(2号)'!J82)","v":""},{"$f":"IF('見積書(2号)'!K82=\"\",\"\",'見積書(2号)'!K82)","v":""},{"$f":"IF('見積書(2号)'!L82=\"\",\"\",'見積書(2号)'!L82)","v":""},{"$f":"IF('見積書(2号)'!M82=\"\",\"\",'見積書(2号)'!M82)","v":""},null,"","",null,"",""]
[{"$f":"IF('見積書(2号)'!A83=\"\",\"\",'見積書(2号)'!A83)","v":""},{"$f":"IF('見積書(2号)'!B83=\"\",\"\",'見積書(2号)'!B83)","v":""},{"$f":"IF('見積書(2号)'!C83=\"\",\"\",'見積書(2号)'!C83)","v":""},{"$f":"IF('見積書(2号)'!H83=\"\",\"\",'見積書(2号)'!H83)","v":""},{"$f":"IF('見積書(2号)'!E83=\"\",\"\",'見積書(2号)'!E83)","v":""},{"$f":"IF('見積書(2号)'!I83=\"\",\"\",'見積書(2号)'!I83)","v":""},{"$f":"IF('見積書(2号)'!J83=\"\",\"\",'見積書(2号)'!J83)","v":""},{"$f":"IF('見積書(2号)'!K83=\"\",\"\",'見積書(2号)'!K83)","v":""},{"$f":"IF('見積書(2号)'!L83=\"\",\"\",'見積書(2号)'!L83)","v":""},{"$f":"IF('見積書(2号)'!M83=\"\",\"\",'見積書(2号)'!M83)","v":""},null,"","",null,"",""]
[{"$f":"IF('見積書(2号)'!A84=\"\",\"\",'見積書(2号)'!A84)","v":""},{"$f":"IF('見積書(2号)'!B84=\"\",\"\",'見積書(2号)'!B84)","v":""},{"$f":"IF('見積書(2号)'!C84=\"\",\"\",'見積書(2号)'!C84)","v":""},{"$f":"IF('見積書(2号)'!H84=\"\",\"\",'見積書(2号)'!H84)","v":""},{"$f":"IF('見積書(2号)'!E84=\"\",\"\",'見積書(2号)'!E84)","v":""},{"$f":"IF('見積書(2号)'!I84=\"\",\"\",'見積書(2号)'!I84)","v":""},{"$f":"IF('見積書(2号)'!J84=\"\",\"\",'見積書(2号)'!J84)","v":""},{"$f":"IF('見積書(2号)'!K84=\"\",\"\",'見積書(2号)'!K84)","v":""},{"$f":"IF('見積書(2号)'!L84=\"\",\"\",'見積書(2号)'!L84)","v":""},{"$f":"IF('見積書(2号)'!M84=\"\",\"\",'見積書(2号)'!M84)","v":""},null,"","",null,"",""]
[{"$f":"IF('見積書(2号)'!A85=\"\",\"\",'見積書(2号)'!A85)","v":""},{"$f":"IF('見積書(2号)'!B85=\"\",\"\",'見積書(2号)'!B85)","v":""},{"$f":"IF('見積書(2号)'!C85=\"\",\"\",'見積書(2号)'!C85)","v":""},{"$f":"IF('見積書(2号)'!H85=\"\",\"\",'見積書(2号)'!H85)","v":""},{"$f":"IF('見積書(2号)'!E85=\"\",\"\",'見積書(2号)'!E85)","v":""},{"$f":"IF('見積書(2号)'!I85=\"\",\"\",'見積書(2号)'!I85)","v":""},{"$f":"IF('見積書(2号)'!J85=\"\",\"\",'見積書(2号)'!J85)","v":""},{"$f":"IF('見積書(2号)'!K85=\"\",\"\",'見積書(2号)'!K85)","v":""},{"$f":"IF('見積書(2号)'!L85=\"\",\"\",'見積書(2号)'!L85)","v":""},{"$f":"IF('見積書(2号)'!M85=\"\",\"\",'見積書(2号)'!M85)","v":""},null,"","",null,"",""]
[{"$f":"IF('見積書(2号)'!A86=\"\",\"\",'見積書(2号)'!A86)","v":""},{"$f":"IF('見積書(2号)'!B86=\"\",\"\",'見積書(2号)'!B86)","v":""},{"$f":"IF('見積書(2号)'!C86=\"\",\"\",'見積書(2号)'!C86)","v":""},{"$f":"IF('見積書(2号)'!H86=\"\",\"\",'見積書(2号)'!H86)","v":""},{"$f":"IF('見積書(2号)'!E86=\"\",\"\",'見積書(2号)'!E86)","v":""},{"$f":"IF('見積書(2号)'!I86=\"\",\"\",'見積書(2号)'!I86)","v":""},{"$f":"IF('見積書(2号)'!J86=\"\",\"\",'見積書(2号)'!J86)","v":""},{"$f":"IF('見積書(2号)'!K86=\"\",\"\",'見積書(2号)'!K86)","v":""},{"$f":"IF('見積書(2号)'!L86=\"\",\"\",'見積書(2号)'!L86)","v":""},{"$f":"IF('見積書(2号)'!M86=\"\",\"\",'見積書(2号)'!M86)","v":""},null,"","",null,"",""]
[{"$f":"IF('見積書(2号)'!A87=\"\",\"\",'見積書(2号)'!A87)","v":""},{"$f":"IF('見積書(2号)'!B87=\"\",\"\",'見積書(2号)'!B87)","v":""},{"$f":"IF('見積書(2号)'!C87=\"\",\"\",'見積書(2号)'!C87)","v":""},{"$f":"IF('見積書(2号)'!H87=\"\",\"\",'見積書(2号)'!H87)","v":""},{"$f":"IF('見積書(2号)'!E87=\"\",\"\",'見積書(2号)'!E87)","v":""},{"$f":"IF('見積書(2号)'!I87=\"\",\"\",'見積書(2号)'!I87)","v":""},{"$f":"IF('見積書(2号)'!J87=\"\",\"\",'見積書(2号)'!J87)","v":""},{"$f":"IF('見積書(2号)'!K87=\"\",\"\",'見積書(2号)'!K87)","v":""},{"$f":"IF('見積書(2号)'!L87=\"\",\"\",'見積書(2号)'!L87)","v":""},{"$f":"IF('見積書(2号)'!M87=\"\",\"\",'見積書(2号)'!M87)","v":""},null,"","",null,"",""]
[{"$f":"IF('見積書(2号)'!A88=\"\",\"\",'見積書(2号)'!A88)","v":""},{"$f":"IF('見積書(2号)'!B88=\"\",\"\",'見積書(2号)'!B88)","v":""},{"$f":"IF('見積書(2号)'!C88=\"\",\"\",'見積書(2号)'!C88)","v":""},{"$f":"IF('見積書(2号)'!H88=\"\",\"\",'見積書(2号)'!H88)","v":""},{"$f":"IF('見積書(2号)'!E88=\"\",\"\",'見積書(2号)'!E88)","v":""},{"$f":"IF('見積書(2号)'!I88=\"\",\"\",'見積書(2号)'!I88)","v":""},{"$f":"IF('見積書(2号)'!J88=\"\",\"\",'見積書(2号)'!J88)","v":""},{"$f":"IF('見積書(2号)'!K88=\"\",\"\",'見積書(2号)'!K88)","v":""},{"$f":"IF('見積書(2号)'!L88=\"\",\"\",'見積書(2号)'!L88)","v":""},{"$f":"IF('見積書(2号)'!M88=\"\",\"\",'見積書(2号)'!M88)","v":""},null,"","",null,"",""]
[{"$f":"IF('見積書(2号)'!A89=\"\",\"\",'見積書(2号)'!A89)","v":""},{"$f":"IF('見積書(2号)'!B89=\"\",\"\",'見積書(2号)'!B89)","v":""},{"$f":"IF('見積書(2号)'!C89=\"\",\"\",'見積書(2号)'!C89)","v":""},{"$f":"IF('見積書(2号)'!H89=\"\",\"\",'見積書(2号)'!H89)","v":""},{"$f":"IF('見積書(2号)'!E89=\"\",\"\",'見積書(2号)'!E89)","v":""},{"$f":"IF('見積書(2号)'!I89=\"\",\"\",'見積書(2号)'!I89)","v":""},{"$f":"IF('見積書(2号)'!J89=\"\",\"\",'見積書(2号)'!J89)","v":""},{"$f":"IF('見積書(2号)'!K89=\"\",\"\",'見積書(2号)'!K89)","v":""},{"$f":"IF('見積書(2号)'!L89=\"\",\"\",'見積書(2号)'!L89)","v":""},{"$f":"IF('見積書(2号)'!M89=\"\",\"\",'見積書(2号)'!M89)","v":""},null,"","",null,"",""]
[{"$f":"IF('見積書(2号)'!A90=\"\",\"\",'見積書(2号)'!A90)","v":""},{"$f":"IF('見積書(2号)'!B90=\"\",\"\",'見積書(2号)'!B90)","v":""},{"$f":"IF('見積書(2号)'!C90=\"\",\"\",'見積書(2号)'!C90)","v":""},{"$f":"IF('見積書(2号)'!H90=\"\",\"\",'見積書(2号)'!H90)","v":""},{"$f":"IF('見積書(2号)'!E90=\"\",\"\",'見積書(2号)'!E90)","v":""},{"$f":"IF('見積書(2号)'!I90=\"\",\"\",'見積書(2号)'!I90)","v":""},{"$f":"IF('見積書(2号)'!J90=\"\",\"\",'見積書(2号)'!J90)","v":""},{"$f":"IF('見積書(2号)'!K90=\"\",\"\",'見積書(2号)'!K90)","v":""},{"$f":"IF('見積書(2号)'!L90=\"\",\"\",'見積書(2号)'!L90)","v":""},{"$f":"IF('見積書(2号)'!M90=\"\",\"\",'見積書(2号)'!M90)","v":""},null,"","",null,"",""]
[{"$f":"IF('見積書(2号)'!A91=\"\",\"\",'見積書(2号)'!A91)","v":""},{"$f":"IF('見積書(2号)'!B91=\"\",\"\",'見積書(2号)'!B91)","v":""},{"$f":"IF('見積書(2号)'!C91=\"\",\"\",'見積書(2号)'!C91)","v":""},{"$f":"IF('見積書(2号)'!H91=\"\",\"\",'見積書(2号)'!H91)","v":""},{"$f":"IF('見積書(2号)'!E91=\"\",\"\",'見積書(2号)'!E91)","v":""},{"$f":"IF('見積書(2号)'!I91=\"\",\"\",'見積書(2号)'!I91)","v":""},{"$f":"IF('見積書(2号)'!J91=\"\",\"\",'見積書(2号)'!J91)","v":""},{"$f":"IF('見積書(2号)'!K91=\"\",\"\",'見積書(2号)'!K91)","v":""},{"$f":"IF('見積書(2号)'!L91=\"\",\"\",'見積書(2号)'!L91)","v":""},{"$f":"IF('見積書(2号)'!M91=\"\",\"\",'見積書(2号)'!M91)","v":""},null,"","",null,"",""]
[{"$f":"IF('見積書(2号)'!A92=\"\",\"\",'見積書(2号)'!A92)","v":""},{"$f":"IF('見積書(2号)'!B92=\"\",\"\",'見積書(2号)'!B92)","v":""},{"$f":"IF('見積書(2号)'!C92=\"\",\"\",'見積書(2号)'!C92)","v":""},{"$f":"IF('見積書(2号)'!H92=\"\",\"\",'見積書(2号)'!H92)","v":""},{"$f":"IF('見積書(2号)'!E92=\"\",\"\",'見積書(2号)'!E92)","v":""},{"$f":"IF('見積書(2号)'!I92=\"\",\"\",'見積書(2号)'!I92)","v":""},{"$f":"IF('見積書(2号)'!J92=\"\",\"\",'見積書(2号)'!J92)","v":""},{"$f":"IF('見積書(2号)'!K92=\"\",\"\",'見積書(2号)'!K92)","v":""},{"$f":"IF('見積書(2号)'!L92=\"\",\"\",'見積書(2号)'!L92)","v":""},{"$f":"IF('見積書(2号)'!M92=\"\",\"\",'見積書(2号)'!M92)","v":""},null,"","",null,"",""]
[{"$f":"IF('見積書(2号)'!A93=\"\",\"\",'見積書(2号)'!A93)","v":""},{"$f":"IF('見積書(2号)'!B93=\"\",\"\",'見積書(2号)'!B93)","v":""},{"$f":"IF('見積書(2号)'!C93=\"\",\"\",'見積書(2号)'!C93)","v":""},{"$f":"IF('見積書(2号)'!H93=\"\",\"\",'見積書(2号)'!H93)","v":""},{"$f":"IF('見積書(2号)'!E93=\"\",\"\",'見積書(2号)'!E93)","v":""},{"$f":"IF('見積書(2号)'!I93=\"\",\"\",'見積書(2号)'!I93)","v":""},{"$f":"IF('見積書(2号)'!J93=\"\",\"\",'見積書(2号)'!J93)","v":""},{"$f":"IF('見積書(2号)'!K93=\"\",\"\",'見積書(2号)'!K93)","v":""},{"$f":"IF('見積書(2号)'!L93=\"\",\"\",'見積書(2号)'!L93)","v":""},{"$f":"IF('見積書(2号)'!M93=\"\",\"\",'見積書(2号)'!M93)","v":""},null,"","",null,"",""]
[{"$f":"IF('見積書(2号)'!A94=\"\",\"\",'見積書(2号)'!A94)","v":""},{"$f":"IF('見積書(2号)'!B94=\"\",\"\",'見積書(2号)'!B94)","v":""},{"$f":"IF('見積書(2号)'!C94=\"\",\"\",'見積書(2号)'!C94)","v":""},{"$f":"IF('見積書(2号)'!H94=\"\",\"\",'見積書(2号)'!H94)","v":""},{"$f":"IF('見積書(2号)'!E94=\"\",\"\",'見積書(2号)'!E94)","v":""},{"$f":"IF('見積書(2号)'!I94=\"\",\"\",'見積書(2号)'!I94)","v":""},{"$f":"IF('見積書(2号)'!J94=\"\",\"\",'見積書(2号)'!J94)","v":""},{"$f":"IF('見積書(2号)'!K94=\"\",\"\",'見積書(2号)'!K94)","v":""},{"$f":"IF('見積書(2号)'!L94=\"\",\"\",'見積書(2号)'!L94)","v":""},{"$f":"IF('見積書(2号)'!M94=\"\",\"\",'見積書(2号)'!M94)","v":""},null,"","",null,"",""]
[{"$f":"IF('見積書(2号)'!A95=\"\",\"\",'見積書(2号)'!A95)","v":""},{"$f":"IF('見積書(2号)'!B95=\"\",\"\",'見積書(2号)'!B95)","v":""},{"$f":"IF('見積書(2号)'!C95=\"\",\"\",'見積書(2号)'!C95)","v":""},{"$f":"IF('見積書(2号)'!H95=\"\",\"\",'見積書(2号)'!H95)","v":""},{"$f":"IF('見積書(2号)'!E95=\"\",\"\",'見積書(2号)'!E95)","v":""},{"$f":"IF('見積書(2号)'!I95=\"\",\"\",'見積書(2号)'!I95)","v":""},{"$f":"IF('見積書(2号)'!J95=\"\",\"\",'見積書(2号)'!J95)","v":""},{"$f":"IF('見積書(2号)'!K95=\"\",\"\",'見積書(2号)'!K95)","v":""},{"$f":"IF('見積書(2号)'!L95=\"\",\"\",'見積書(2号)'!L95)","v":""},{"$f":"IF('見積書(2号)'!M95=\"\",\"\",'見積書(2号)'!M95)","v":""},null,"","",null,"",""]
[{"$f":"IF('見積書(2号)'!A96=\"\",\"\",'見積書(2号)'!A96)","v":""},{"$f":"IF('見積書(2号)'!B96=\"\",\"\",'見積書(2号)'!B96)","v":""},{"$f":"IF('見積書(2号)'!C96=\"\",\"\",'見積書(2号)'!C96)","v":""},{"$f":"IF('見積書(2号)'!H96=\"\",\"\",'見積書(2号)'!H96)","v":""},{"$f":"IF('見積書(2号)'!E96=\"\",\"\",'見積書(2号)'!E96)","v":""},{"$f":"IF('見積書(2号)'!I96=\"\",\"\",'見積書(2号)'!I96)","v":""},{"$f":"IF('見積書(2号)'!J96=\"\",\"\",'見積書(2号)'!J96)","v":""},{"$f":"IF('見積書(2号)'!K96=\"\",\"\",'見積書(2号)'!K96)","v":""},{"$f":"IF('見積書(2号)'!L96=\"\",\"\",'見積書(2号)'!L96)","v":""},{"$f":"IF('見積書(2号)'!M96=\"\",\"\",'見積書(2号)'!M96)","v":""},null,"","",null,"",""]
[{"$f":"IF('見積書(2号)'!A97=\"\",\"\",'見積書(2号)'!A97)","v":""},{"$f":"IF('見積書(2号)'!B97=\"\",\"\",'見積書(2号)'!B97)","v":""},{"$f":"IF('見積書(2号)'!C97=\"\",\"\",'見積書(2号)'!C97)","v":""},{"$f":"IF('見積書(2号)'!H97=\"\",\"\",'見積書(2号)'!H97)","v":""},{"$f":"IF('見積書(2号)'!E97=\"\",\"\",'見積書(2号)'!E97)","v":""},{"$f":"IF('見積書(2号)'!I97=\"\",\"\",'見積書(2号)'!I97)","v":""},{"$f":"IF('見積書(2号)'!J97=\"\",\"\",'見積書(2号)'!J97)","v":""},{"$f":"IF('見積書(2号)'!K97=\"\",\"\",'見積書(2号)'!K97)","v":""},{"$f":"IF('見積書(2号)'!L97=\"\",\"\",'見積書(2号)'!L97)","v":""},{"$f":"IF('見積書(2号)'!M97=\"\",\"\",'見積書(2号)'!M97)","v":""},null,"","",null,"",""]
[{"$f":"IF('見積書(2号)'!A98=\"\",\"\",'見積書(2号)'!A98)","v":""},{"$f":"IF('見積書(2号)'!B98=\"\",\"\",'見積書(2号)'!B98)","v":""},{"$f":"IF('見積書(2号)'!C98=\"\",\"\",'見積書(2号)'!C98)","v":""},{"$f":"IF('見積書(2号)'!H98=\"\",\"\",'見積書(2号)'!H98)","v":""},{"$f":"IF('見積書(2号)'!E98=\"\",\"\",'見積書(2号)'!E98)","v":""},{"$f":"IF('見積書(2号)'!I98=\"\",\"\",'見積書(2号)'!I98)","v":""},{"$f":"IF('見積書(2号)'!J98=\"\",\"\",'見積書(2号)'!J98)","v":""},{"$f":"IF('見積書(2号)'!K98=\"\",\"\",'見積書(2号)'!K98)","v":""},{"$f":"IF('見積書(2号)'!L98=\"\",\"\",'見積書(2号)'!L98)","v":""},{"$f":"IF('見積書(2号)'!M98=\"\",\"\",'見積書(2号)'!M98)","v":""},null,"","",null,"",""]
[{"$f":"IF('見積書(2号)'!A99=\"\",\"\",'見積書(2号)'!A99)","v":""},{"$f":"IF('見積書(2号)'!B99=\"\",\"\",'見積書(2号)'!B99)","v":""},{"$f":"IF('見積書(2号)'!C99=\"\",\"\",'見積書(2号)'!C99)","v":""},{"$f":"IF('見積書(2号)'!H99=\"\",\"\",'見積書(2号)'!H99)","v":""},{"$f":"IF('見積書(2号)'!E99=\"\",\"\",'見積書(2号)'!E99)","v":""},{"$f":"IF('見積書(2号)'!I99=\"\",\"\",'見積書(2号)'!I99)","v":""},{"$f":"IF('見積書(2号)'!J99=\"\",\"\",'見積書(2号)'!J99)","v":""},{"$f":"IF('見積書(2号)'!K99=\"\",\"\",'見積書(2号)'!K99)","v":""},{"$f":"IF('見積書(2号)'!L99=\"\",\"\",'見積書(2号)'!L99)","v":""},{"$f":"IF('見積書(2号)'!M99=\"\",\"\",'見積書(2号)'!M99)","v":""},null,"","",null,"",""]
[{"$f":"IF('見積書(2号)'!A100=\"\",\"\",'見積書(2号)'!A100)","v":""},{"$f":"IF('見積書(2号)'!B100=\"\",\"\",'見積書(2号)'!B100)","v":""},{"$f":"IF('見積書(2号)'!C100=\"\",\"\",'見積書(2号)'!C100)","v":""},{"$f":"IF('見積書(2号)'!H100=\"\",\"\",'見積書(2号)'!H100)","v":""},{"$f":"IF('見積書(2号)'!E100=\"\",\"\",'見積書(2号)'!E100)","v":""},{"$f":"IF('見積書(2号)'!I100=\"\",\"\",'見積書(2号)'!I100)","v":""},{"$f":"IF('見積書(2号)'!J100=\"\",\"\",'見積書(2号)'!J100)","v":""},{"$f":"IF('見積書(2号)'!K100=\"\",\"\",'見積書(2号)'!K100)","v":""},{"$f":"IF('見積書(2号)'!L100=\"\",\"\",'見積書(2号)'!L100)","v":""},{"$f":"IF('見積書(2号)'!M100=\"\",\"\",'見積書(2号)'!M100)","v":""},null,"","",null,"",""]
[{"$f":"IF('見積書(2号)'!A101=\"\",\"\",'見積書(2号)'!A101)","v":""},{"$f":"IF('見積書(2号)'!B101=\"\",\"\",'見積書(2号)'!B101)","v":""},{"$f":"IF('見積書(2号)'!C101=\"\",\"\",'見積書(2号)'!C101)","v":""},{"$f":"IF('見積書(2号)'!H101=\"\",\"\",'見積書(2号)'!H101)","v":""},{"$f":"IF('見積書(2号)'!E101=\"\",\"\",'見積書(2号)'!E101)","v":""},{"$f":"IF('見積書(2号)'!I101=\"\",\"\",'見積書(2号)'!I101)","v":""},{"$f":"IF('見積書(2号)'!J101=\"\",\"\",'見積書(2号)'!J101)","v":""},{"$f":"IF('見積書(2号)'!K101=\"\",\"\",'見積書(2号)'!K101)","v":""},{"$f":"IF('見積書(2号)'!L101=\"\",\"\",'見積書(2号)'!L101)","v":""},{"$f":"IF('見積書(2号)'!M101=\"\",\"\",'見積書(2号)'!M101)","v":""},null,"","",null,"",""]
[{"$f":"IF('見積書(2号)'!A102=\"\",\"\",'見積書(2号)'!A102)","v":""},{"$f":"IF('見積書(2号)'!B102=\"\",\"\",'見積書(2号)'!B102)","v":""},{"$f":"IF('見積書(2号)'!C102=\"\",\"\",'見積書(2号)'!C102)","v":""},{"$f":"IF('見積書(2号)'!H102=\"\",\"\",'見積書(2号)'!H102)","v":""},{"$f":"IF('見積書(2号)'!E102=\"\",\"\",'見積書(2号)'!E102)","v":""},{"$f":"IF('見積書(2号)'!I102=\"\",\"\",'見積書(2号)'!I102)","v":""},{"$f":"IF('見積書(2号)'!J102=\"\",\"\",'見積書(2号)'!J102)","v":""},{"$f":"IF('見積書(2号)'!K102=\"\",\"\",'見積書(2号)'!K102)","v":""},{"$f":"IF('見積書(2号)'!L102=\"\",\"\",'見積書(2号)'!L102)","v":""},{"$f":"IF('見積書(2号)'!M102=\"\",\"\",'見積書(2号)'!M102)","v":""},null,"","",null,"",""]
[{"$f":"IF('見積書(2号)'!A103=\"\",\"\",'見積書(2号)'!A103)","v":""},{"$f":"IF('見積書(2号)'!B103=\"\",\"\",'見積書(2号)'!B103)","v":""},{"$f":"IF('見積書(2号)'!C103=\"\",\"\",'見積書(2号)'!C103)","v":""},{"$f":"IF('見積書(2号)'!H103=\"\",\"\",'見積書(2号)'!H103)","v":""},{"$f":"IF('見積書(2号)'!E103=\"\",\"\",'見積書(2号)'!E103)","v":""},{"$f":"IF('見積書(2号)'!I103=\"\",\"\",'見積書(2号)'!I103)","v":""},{"$f":"IF('見積書(2号)'!J103=\"\",\"\",'見積書(2号)'!J103)","v":""},{"$f":"IF('見積書(2号)'!K103=\"\",\"\",'見積書(2号)'!K103)","v":""},{"$f":"IF('見積書(2号)'!L103=\"\",\"\",'見積書(2号)'!L103)","v":""},{"$f":"IF('見積書(2号)'!M103=\"\",\"\",'見積書(2号)'!M103)","v":""},null,"","",null,"",""]
[{"$f":"IF('見積書(2号)'!A104=\"\",\"\",'見積書(2号)'!A104)","v":""},{"$f":"IF('見積書(2号)'!B104=\"\",\"\",'見積書(2号)'!B104)","v":""},{"$f":"IF('見積書(2号)'!C104=\"\",\"\",'見積書(2号)'!C104)","v":""},{"$f":"IF('見積書(2号)'!H104=\"\",\"\",'見積書(2号)'!H104)","v":""},{"$f":"IF('見積書(2号)'!E104=\"\",\"\",'見積書(2号)'!E104)","v":""},{"$f":"IF('見積書(2号)'!I104=\"\",\"\",'見積書(2号)'!I104)","v":""},{"$f":"IF('見積書(2号)'!J104=\"\",\"\",'見積書(2号)'!J104)","v":""},{"$f":"IF('見積書(2号)'!K104=\"\",\"\",'見積書(2号)'!K104)","v":""},{"$f":"IF('見積書(2号)'!L104=\"\",\"\",'見積書(2号)'!L104)","v":""},{"$f":"IF('見積書(2号)'!M104=\"\",\"\",'見積書(2号)'!M104)","v":""},null,"","",null,"",""]
[{"$f":"IF('見積書(2号)'!A105=\"\",\"\",'見積書(2号)'!A105)","v":""},{"$f":"IF('見積書(2号)'!B105=\"\",\"\",'見積書(2号)'!B105)","v":""},{"$f":"IF('見積書(2号)'!C105=\"\",\"\",'見積書(2号)'!C105)","v":""},{"$f":"IF('見積書(2号)'!H105=\"\",\"\",'見積書(2号)'!H105)","v":""},{"$f":"IF('見積書(2号)'!E105=\"\",\"\",'見積書(2号)'!E105)","v":""},{"$f":"IF('見積書(2号)'!I105=\"\",\"\",'見積書(2号)'!I105)","v":""},{"$f":"IF('見積書(2号)'!J105=\"\",\"\",'見積書(2号)'!J105)","v":""},{"$f":"IF('見積書(2号)'!K105=\"\",\"\",'見積書(2号)'!K105)","v":""},{"$f":"IF('見積書(2号)'!L105=\"\",\"\",'見積書(2号)'!L105)","v":""},{"$f":"IF('見積書(2号)'!M105=\"\",\"\",'見積書(2号)'!M105)","v":""},null,"","",null,"",""]
[{"$f":"IF('見積書(2号)'!A106=\"\",\"\",'見積書(2号)'!A106)","v":""},{"$f":"IF('見積書(2号)'!B106=\"\",\"\",'見積書(2号)'!B106)","v":""},{"$f":"IF('見積書(2号)'!C106=\"\",\"\",'見積書(2号)'!C106)","v":""},{"$f":"IF('見積書(2号)'!H106=\"\",\"\",'見積書(2号)'!H106)","v":""},{"$f":"IF('見積書(2号)'!E106=\"\",\"\",'見積書(2号)'!E106)","v":""},{"$f":"IF('見積書(2号)'!I106=\"\",\"\",'見積書(2号)'!I106)","v":""},{"$f":"IF('見積書(2号)'!J106=\"\",\"\",'見積書(2号)'!J106)","v":""},{"$f":"IF('見積書(2号)'!K106=\"\",\"\",'見積書(2号)'!K106)","v":""},{"$f":"IF('見積書(2号)'!L106=\"\",\"\",'見積書(2号)'!L106)","v":""},{"$f":"IF('見積書(2号)'!M106=\"\",\"\",'見積書(2号)'!M106)","v":""},null,"","",null,"",""]
[{"$f":"IF('見積書(2号)'!A107=\"\",\"\",'見積書(2号)'!A107)","v":""},{"$f":"IF('見積書(2号)'!B107=\"\",\"\",'見積書(2号)'!B107)","v":""},{"$f":"IF('見積書(2号)'!C107=\"\",\"\",'見積書(2号)'!C107)","v":""},{"$f":"IF('見積書(2号)'!H107=\"\",\"\",'見積書(2号)'!H107)","v":""},{"$f":"IF('見積書(2号)'!E107=\"\",\"\",'見積書(2号)'!E107)","v":""},{"$f":"IF('見積書(2号)'!I107=\"\",\"\",'見積書(2号)'!I107)","v":""},{"$f":"IF('見積書(2号)'!J107=\"\",\"\",'見積書(2号)'!J107)","v":""},{"$f":"IF('見積書(2号)'!K107=\"\",\"\",'見積書(2号)'!K107)","v":""},{"$f":"IF('見積書(2号)'!L107=\"\",\"\",'見積書(2号)'!L107)","v":""},{"$f":"IF('見積書(2号)'!M107=\"\",\"\",'見積書(2号)'!M107)","v":""},null,"","",null,"",""]
[{"$f":"IF('見積書(2号)'!A108=\"\",\"\",'見積書(2号)'!A108)","v":""},{"$f":"IF('見積書(2号)'!B108=\"\",\"\",'見積書(2号)'!B108)","v":""},{"$f":"IF('見積書(2号)'!C108=\"\",\"\",'見積書(2号)'!C108)","v":""},{"$f":"IF('見積書(2号)'!H108=\"\",\"\",'見積書(2号)'!H108)","v":""},{"$f":"IF('見積書(2号)'!E108=\"\",\"\",'見積書(2号)'!E108)","v":""},{"$f":"IF('見積書(2号)'!I108=\"\",\"\",'見積書(2号)'!I108)","v":""},{"$f":"IF('見積書(2号)'!J108=\"\",\"\",'見積書(2号)'!J108)","v":""},{"$f":"IF('見積書(2号)'!K108=\"\",\"\",'見積書(2号)'!K108)","v":""},{"$f":"IF('見積書(2号)'!L108=\"\",\"\",'見積書(2号)'!L108)","v":""},{"$f":"IF('見積書(2号)'!M108=\"\",\"\",'見積書(2号)'!M108)","v":""},null,"","",null,"",""]
[{"$f":"IF('見積書(2号)'!A109=\"\",\"\",'見積書(2号)'!A109)","v":""},{"$f":"IF('見積書(2号)'!B109=\"\",\"\",'見積書(2号)'!B109)","v":""},{"$f":"IF('見積書(2号)'!C109=\"\",\"\",'見積書(2号)'!C109)","v":""},{"$f":"IF('見積書(2号)'!H109=\"\",\"\",'見積書(2号)'!H109)","v":""},{"$f":"IF('見積書(2号)'!E109=\"\",\"\",'見積書(2号)'!E109)","v":""},{"$f":"IF('見積書(2号)'!I109=\"\",\"\",'見積書(2号)'!I109)","v":""},{"$f":"IF('見積書(2号)'!J109=\"\",\"\",'見積書(2号)'!J109)","v":""},{"$f":"IF('見積書(2号)'!K109=\"\",\"\",'見積書(2号)'!K109)","v":""},{"$f":"IF('見積書(2号)'!L109=\"\",\"\",'見積書(2号)'!L109)","v":""},{"$f":"IF('見積書(2号)'!M109=\"\",\"\",'見積書(2号)'!M109)","v":""},null,"","",null,"",""]
[{"$f":"IF('見積書(2号)'!A110=\"\",\"\",'見積書(2号)'!A110)","v":""},{"$f":"IF('見積書(2号)'!B110=\"\",\"\",'見積書(2号)'!B110)","v":""},{"$f":"IF('見積書(2号)'!C110=\"\",\"\",'見積書(2号)'!C110)","v":""},{"$f":"IF('見積書(2号)'!H110=\"\",\"\",'見積書(2号)'!H110)","v":""},{"$f":"IF('見積書(2号)'!E110=\"\",\"\",'見積書(2号)'!E110)","v":""},{"$f":"IF('見積書(2号)'!I110=\"\",\"\",'見積書(2号)'!I110)","v":""},{"$f":"IF('見積書(2号)'!J110=\"\",\"\",'見積書(2号)'!J110)","v":""},{"$f":"IF('見積書(2号)'!K110=\"\",\"\",'見積書(2号)'!K110)","v":""},{"$f":"IF('見積書(2号)'!L110=\"\",\"\",'見積書(2号)'!L110)","v":""},{"$f":"IF('見積書(2号)'!M110=\"\",\"\",'見積書(2号)'!M110)","v":""},null,"","",null,"",""]
[{"$f":"IF('見積書(2号)'!A111=\"\",\"\",'見積書(2号)'!A111)","v":""},{"$f":"IF('見積書(2号)'!B111=\"\",\"\",'見積書(2号)'!B111)","v":""},{"$f":"IF('見積書(2号)'!C111=\"\",\"\",'見積書(2号)'!C111)","v":""},{"$f":"IF('見積書(2号)'!H111=\"\",\"\",'見積書(2号)'!H111)","v":""},{"$f":"IF('見積書(2号)'!E111=\"\",\"\",'見積書(2号)'!E111)","v":""},{"$f":"IF('見積書(2号)'!I111=\"\",\"\",'見積書(2号)'!I111)","v":""},{"$f":"IF('見積書(2号)'!J111=\"\",\"\",'見積書(2号)'!J111)","v":""},{"$f":"IF('見積書(2号)'!K111=\"\",\"\",'見積書(2号)'!K111)","v":""},{"$f":"IF('見積書(2号)'!L111=\"\",\"\",'見積書(2号)'!L111)","v":""},{"$f":"IF('見積書(2号)'!M111=\"\",\"\",'見積書(2号)'!M111)","v":""},null,"","",null,"",""]
[{"$f":"IF('見積書(2号)'!A112=\"\",\"\",'見積書(2号)'!A112)","v":""},{"$f":"IF('見積書(2号)'!B112=\"\",\"\",'見積書(2号)'!B112)","v":""},{"$f":"IF('見積書(2号)'!C112=\"\",\"\",'見積書(2号)'!C112)","v":""},{"$f":"IF('見積書(2号)'!H112=\"\",\"\",'見積書(2号)'!H112)","v":""},{"$f":"IF('見積書(2号)'!E112=\"\",\"\",'見積書(2号)'!E112)","v":""},{"$f":"IF('見積書(2号)'!I112=\"\",\"\",'見積書(2号)'!I112)","v":""},{"$f":"IF('見積書(2号)'!J112=\"\",\"\",'見積書(2号)'!J112)","v":""},{"$f":"IF('見積書(2号)'!K112=\"\",\"\",'見積書(2号)'!K112)","v":""},{"$f":"IF('見積書(2号)'!L112=\"\",\"\",'見積書(2号)'!L112)","v":""},{"$f":"IF('見積書(2号)'!M112=\"\",\"\",'見積書(2号)'!M112)","v":""},null,"","",null,"",""]
[{"$f":"IF('見積書(2号)'!A113=\"\",\"\",'見積書(2号)'!A113)","v":""},{"$f":"IF('見積書(2号)'!B113=\"\",\"\",'見積書(2号)'!B113)","v":""},{"$f":"IF('見積書(2号)'!C113=\"\",\"\",'見積書(2号)'!C113)","v":""},{"$f":"IF('見積書(2号)'!H113=\"\",\"\",'見積書(2号)'!H113)","v":""},{"$f":"IF('見積書(2号)'!E113=\"\",\"\",'見積書(2号)'!E113)","v":""},{"$f":"IF('見積書(2号)'!I113=\"\",\"\",'見積書(2号)'!I113)","v":""},{"$f":"IF('見積書(2号)'!J113=\"\",\"\",'見積書(2号)'!J113)","v":""},{"$f":"IF('見積書(2号)'!K113=\"\",\"\",'見積書(2号)'!K113)","v":""},{"$f":"IF('見積書(2号)'!L113=\"\",\"\",'見積書(2号)'!L113)","v":""},{"$f":"IF('見積書(2号)'!M113=\"\",\"\",'見積書(2号)'!M113)","v":""},null,"","",null,"",""]
[{"$f":"IF('見積書(2号)'!A114=\"\",\"\",'見積書(2号)'!A114)","v":""},{"$f":"IF('見積書(2号)'!B114=\"\",\"\",'見積書(2号)'!B114)","v":""},{"$f":"IF('見積書(2号)'!C114=\"\",\"\",'見積書(2号)'!C114)","v":""},{"$f":"IF('見積書(2号)'!H114=\"\",\"\",'見積書(2号)'!H114)","v":""},{"$f":"IF('見積書(2号)'!E114=\"\",\"\",'見積書(2号)'!E114)","v":""},{"$f":"IF('見積書(2号)'!I114=\"\",\"\",'見積書(2号)'!I114)","v":""},{"$f":"IF('見積書(2号)'!J114=\"\",\"\",'見積書(2号)'!J114)","v":""},{"$f":"IF('見積書(2号)'!K114=\"\",\"\",'見積書(2号)'!K114)","v":""},{"$f":"IF('見積書(2号)'!L114=\"\",\"\",'見積書(2号)'!L114)","v":""},{"$f":"IF('見積書(2号)'!M114=\"\",\"\",'見積書(2号)'!M114)","v":""},null,"","",null,"",""]
[{"$f":"IF('見積書(2号)'!A115=\"\",\"\",'見積書(2号)'!A115)","v":""},{"$f":"IF('見積書(2号)'!B115=\"\",\"\",'見積書(2号)'!B115)","v":""},{"$f":"IF('見積書(2号)'!C115=\"\",\"\",'見積書(2号)'!C115)","v":""},{"$f":"IF('見積書(2号)'!H115=\"\",\"\",'見積書(2号)'!H115)","v":""},{"$f":"IF('見積書(2号)'!E115=\"\",\"\",'見積書(2号)'!E115)","v":""},{"$f":"IF('見積書(2号)'!I115=\"\",\"\",'見積書(2号)'!I115)","v":""},{"$f":"IF('見積書(2号)'!J115=\"\",\"\",'見積書(2号)'!J115)","v":""},{"$f":"IF('見積書(2号)'!K115=\"\",\"\",'見積書(2号)'!K115)","v":""},{"$f":"IF('見積書(2号)'!L115=\"\",\"\",'見積書(2号)'!L115)","v":""},{"$f":"IF('見積書(2号)'!M115=\"\",\"\",'見積書(2号)'!M115)","v":""},null,"","",null,"",""]
[{"$f":"IF('見積書(2号)'!A116=\"\",\"\",'見積書(2号)'!A116)","v":""},{"$f":"IF('見積書(2号)'!B116=\"\",\"\",'見積書(2号)'!B116)","v":""},{"$f":"IF('見積書(2号)'!C116=\"\",\"\",'見積書(2号)'!C116)","v":""},{"$f":"IF('見積書(2号)'!H116=\"\",\"\",'見積書(2号)'!H116)","v":""},{"$f":"IF('見積書(2号)'!E116=\"\",\"\",'見積書(2号)'!E116)","v":""},{"$f":"IF('見積書(2号)'!I116=\"\",\"\",'見積書(2号)'!I116)","v":""},{"$f":"IF('見積書(2号)'!J116=\"\",\"\",'見積書(2号)'!J116)","v":""},{"$f":"IF('見積書(2号)'!K116=\"\",\"\",'見積書(2号)'!K116)","v":""},{"$f":"IF('見積書(2号)'!L116=\"\",\"\",'見積書(2号)'!L116)","v":""},{"$f":"IF('見積書(2号)'!M116=\"\",\"\",'見積書(2号)'!M116)","v":""},null,"","",null,"",""]
[{"$f":"IF('見積書(2号)'!A117=\"\",\"\",'見積書(2号)'!A117)","v":""},{"$f":"IF('見積書(2号)'!B117=\"\",\"\",'見積書(2号)'!B117)","v":""},{"$f":"IF('見積書(2号)'!C117=\"\",\"\",'見積書(2号)'!C117)","v":""},{"$f":"IF('見積書(2号)'!H117=\"\",\"\",'見積書(2号)'!H117)","v":""},{"$f":"IF('見積書(2号)'!E117=\"\",\"\",'見積書(2号)'!E117)","v":""},{"$f":"IF('見積書(2号)'!I117=\"\",\"\",'見積書(2号)'!I117)","v":""},{"$f":"IF('見積書(2号)'!J117=\"\",\"\",'見積書(2号)'!J117)","v":""},{"$f":"IF('見積書(2号)'!K117=\"\",\"\",'見積書(2号)'!K117)","v":""},{"$f":"IF('見積書(2号)'!L117=\"\",\"\",'見積書(2号)'!L117)","v":""},{"$f":"IF('見積書(2号)'!M117=\"\",\"\",'見積書(2号)'!M117)","v":""},null,"","",null,"",""]
[{"$f":"IF('見積書(2号)'!A118=\"\",\"\",'見積書(2号)'!A118)","v":""},{"$f":"IF('見積書(2号)'!B118=\"\",\"\",'見積書(2号)'!B118)","v":""},{"$f":"IF('見積書(2号)'!C118=\"\",\"\",'見積書(2号)'!C118)","v":""},{"$f":"IF('見積書(2号)'!H118=\"\",\"\",'見積書(2号)'!H118)","v":""},{"$f":"IF('見積書(2号)'!E118=\"\",\"\",'見積書(2号)'!E118)","v":""},{"$f":"IF('見積書(2号)'!I118=\"\",\"\",'見積書(2号)'!I118)","v":""},{"$f":"IF('見積書(2号)'!J118=\"\",\"\",'見積書(2号)'!J118)","v":""},{"$f":"IF('見積書(2号)'!K118=\"\",\"\",'見積書(2号)'!K118)","v":""},{"$f":"IF('見積書(2号)'!L118=\"\",\"\",'見積書(2号)'!L118)","v":""},{"$f":"IF('見積書(2号)'!M118=\"\",\"\",'見積書(2号)'!M118)","v":""},null,"","",null,"",""]
[{"$f":"IF('見積書(2号)'!A119=\"\",\"\",'見積書(2号)'!A119)","v":""},{"$f":"IF('見積書(2号)'!B119=\"\",\"\",'見積書(2号)'!B119)","v":""},{"$f":"IF('見積書(2号)'!C119=\"\",\"\",'見積書(2号)'!C119)","v":""},{"$f":"IF('見積書(2号)'!H119=\"\",\"\",'見積書(2号)'!H119)","v":""},{"$f":"IF('見積書(2号)'!E119=\"\",\"\",'見積書(2号)'!E119)","v":""},{"$f":"IF('見積書(2号)'!I119=\"\",\"\",'見積書(2号)'!I119)","v":""},{"$f":"IF('見積書(2号)'!J119=\"\",\"\",'見積書(2号)'!J119)","v":""},{"$f":"IF('見積書(2号)'!K119=\"\",\"\",'見積書(2号)'!K119)","v":""},{"$f":"IF('見積書(2号)'!L119=\"\",\"\",'見積書(2号)'!L119)","v":""},{"$f":"IF('見積書(2号)'!M119=\"\",\"\",'見積書(2号)'!M119)","v":""},null,"","",null,"",""]
[{"$f":"IF('見積書(2号)'!A120=\"\",\"\",'見積書(2号)'!A120)","v":""},{"$f":"IF('見積書(2号)'!B120=\"\",\"\",'見積書(2号)'!B120)","v":""},{"$f":"IF('見積書(2号)'!C120=\"\",\"\",'見積書(2号)'!C120)","v":""},{"$f":"IF('見積書(2号)'!H120=\"\",\"\",'見積書(2号)'!H120)","v":""},{"$f":"IF('見積書(2号)'!E120=\"\",\"\",'見積書(2号)'!E120)","v":""},{"$f":"IF('見積書(2号)'!I120=\"\",\"\",'見積書(2号)'!I120)","v":""},{"$f":"IF('見積書(2号)'!J120=\"\",\"\",'見積書(2号)'!J120)","v":""},{"$f":"IF('見積書(2号)'!K120=\"\",\"\",'見積書(2号)'!K120)","v":""},{"$f":"IF('見積書(2号)'!L120=\"\",\"\",'見積書(2号)'!L120)","v":""},{"$f":"IF('見積書(2号)'!M120=\"\",\"\",'見積書(2号)'!M120)","v":""},null,"","",null,"",""]
[{"$f":"IF('見積書(2号)'!A121=\"\",\"\",'見積書(2号)'!A121)","v":""},{"$f":"IF('見積書(2号)'!B121=\"\",\"\",'見積書(2号)'!B121)","v":""},{"$f":"IF('見積書(2号)'!C121=\"\",\"\",'見積書(2号)'!C121)","v":""},{"$f":"IF('見積書(2号)'!H121=\"\",\"\",'見積書(2号)'!H121)","v":""},{"$f":"IF('見積書(2号)'!E121=\"\",\"\",'見積書(2号)'!E121)","v":""},{"$f":"IF('見積書(2号)'!I121=\"\",\"\",'見積書(2号)'!I121)","v":""},{"$f":"IF('見積書(2号)'!J121=\"\",\"\",'見積書(2号)'!J121)","v":""},{"$f":"IF('見積書(2号)'!K121=\"\",\"\",'見積書(2号)'!K121)","v":""},{"$f":"IF('見積書(2号)'!L121=\"\",\"\",'見積書(2号)'!L121)","v":""},{"$f":"IF('見積書(2号)'!M121=\"\",\"\",'見積書(2号)'!M121)","v":""},null,"","",null,"",""]
[{"$f":"IF('見積書(2号)'!A122=\"\",\"\",'見積書(2号)'!A122)","v":""},{"$f":"IF('見積書(2号)'!B122=\"\",\"\",'見積書(2号)'!B122)","v":""},{"$f":"IF('見積書(2号)'!C122=\"\",\"\",'見積書(2号)'!C122)","v":""},{"$f":"IF('見積書(2号)'!H122=\"\",\"\",'見積書(2号)'!H122)","v":""},{"$f":"IF('見積書(2号)'!E122=\"\",\"\",'見積書(2号)'!E122)","v":""},{"$f":"IF('見積書(2号)'!I122=\"\",\"\",'見積書(2号)'!I122)","v":""},{"$f":"IF('見積書(2号)'!J122=\"\",\"\",'見積書(2号)'!J122)","v":""},{"$f":"IF('見積書(2号)'!K122=\"\",\"\",'見積書(2号)'!K122)","v":""},{"$f":"IF('見積書(2号)'!L122=\"\",\"\",'見積書(2号)'!L122)","v":""},{"$f":"IF('見積書(2号)'!M122=\"\",\"\",'見積書(2号)'!M122)","v":""},null,"","",null,"",""]
[{"$f":"IF('見積書(2号)'!A123=\"\",\"\",'見積書(2号)'!A123)","v":""},{"$f":"IF('見積書(2号)'!B123=\"\",\"\",'見積書(2号)'!B123)","v":""},{"$f":"IF('見積書(2号)'!C123=\"\",\"\",'見積書(2号)'!C123)","v":""},{"$f":"IF('見積書(2号)'!H123=\"\",\"\",'見積書(2号)'!H123)","v":""},{"$f":"IF('見積書(2号)'!E123=\"\",\"\",'見積書(2号)'!E123)","v":""},{"$f":"IF('見積書(2号)'!I123=\"\",\"\",'見積書(2号)'!I123)","v":""},{"$f":"IF('見積書(2号)'!J123=\"\",\"\",'見積書(2号)'!J123)","v":""},{"$f":"IF('見積書(2号)'!K123=\"\",\"\",'見積書(2号)'!K123)","v":""},{"$f":"IF('見積書(2号)'!L123=\"\",\"\",'見積書(2号)'!L123)","v":""},{"$f":"IF('見積書(2号)'!M123=\"\",\"\",'見積書(2号)'!M123)","v":""},null,"","",null,"",""]
[{"$f":"IF('見積書(2号)'!A124=\"\",\"\",'見積書(2号)'!A124)","v":""},{"$f":"IF('見積書(2号)'!B124=\"\",\"\",'見積書(2号)'!B124)","v":""},{"$f":"IF('見積書(2号)'!C124=\"\",\"\",'見積書(2号)'!C124)","v":""},{"$f":"IF('見積書(2号)'!H124=\"\",\"\",'見積書(2号)'!H124)","v":""},{"$f":"IF('見積書(2号)'!E124=\"\",\"\",'見積書(2号)'!E124)","v":""},{"$f":"IF('見積書(2号)'!I124=\"\",\"\",'見積書(2号)'!I124)","v":""},{"$f":"IF('見積書(2号)'!J124=\"\",\"\",'見積書(2号)'!J124)","v":""},{"$f":"IF('見積書(2号)'!K124=\"\",\"\",'見積書(2号)'!K124)","v":""},{"$f":"IF('見積書(2号)'!L124=\"\",\"\",'見積書(2号)'!L124)","v":""},{"$f":"IF('見積書(2号)'!M124=\"\",\"\",'見積書(2号)'!M124)","v":""},null,"","",null,"",""]
[{"$f":"IF('見積書(2号)'!A125=\"\",\"\",'見積書(2号)'!A125)","v":""},{"$f":"IF('見積書(2号)'!B125=\"\",\"\",'見積書(2号)'!B125)","v":""},{"$f":"IF('見積書(2号)'!C125=\"\",\"\",'見積書(2号)'!C125)","v":""},{"$f":"IF('見積書(2号)'!H125=\"\",\"\",'見積書(2号)'!H125)","v":""},{"$f":"IF('見積書(2号)'!E125=\"\",\"\",'見積書(2号)'!E125)","v":""},{"$f":"IF('見積書(2号)'!I125=\"\",\"\",'見積書(2号)'!I125)","v":""},{"$f":"IF('見積書(2号)'!J125=\"\",\"\",'見積書(2号)'!J125)","v":""},{"$f":"IF('見積書(2号)'!K125=\"\",\"\",'見積書(2号)'!K125)","v":""},{"$f":"IF('見積書(2号)'!L125=\"\",\"\",'見積書(2号)'!L125)","v":""},{"$f":"IF('見積書(2号)'!M125=\"\",\"\",'見積書(2号)'!M125)","v":""},null,"","",null,"",""]
[{"$f":"IF('見積書(2号)'!A126=\"\",\"\",'見積書(2号)'!A126)","v":""},{"$f":"IF('見積書(2号)'!B126=\"\",\"\",'見積書(2号)'!B126)","v":""},{"$f":"IF('見積書(2号)'!C126=\"\",\"\",'見積書(2号)'!C126)","v":""},{"$f":"IF('見積書(2号)'!H126=\"\",\"\",'見積書(2号)'!H126)","v":""},{"$f":"IF('見積書(2号)'!E126=\"\",\"\",'見積書(2号)'!E126)","v":""},{"$f":"IF('見積書(2号)'!I126=\"\",\"\",'見積書(2号)'!I126)","v":""},{"$f":"IF('見積書(2号)'!J126=\"\",\"\",'見積書(2号)'!J126)","v":""},{"$f":"IF('見積書(2号)'!K126=\"\",\"\",'見積書(2号)'!K126)","v":""},{"$f":"IF('見積書(2号)'!L126=\"\",\"\",'見積書(2号)'!L126)","v":""},{"$f":"IF('見積書(2号)'!M126=\"\",\"\",'見積書(2号)'!M126)","v":""},null,"","",null,"",""]
[{"$f":"IF('見積書(2号)'!A127=\"\",\"\",'見積書(2号)'!A127)","v":""},{"$f":"IF('見積書(2号)'!B127=\"\",\"\",'見積書(2号)'!B127)","v":""},{"$f":"IF('見積書(2号)'!C127=\"\",\"\",'見積書(2号)'!C127)","v":""},{"$f":"IF('見積書(2号)'!H127=\"\",\"\",'見積書(2号)'!H127)","v":""},{"$f":"IF('見積書(2号)'!E127=\"\",\"\",'見積書(2号)'!E127)","v":""},{"$f":"IF('見積書(2号)'!I127=\"\",\"\",'見積書(2号)'!I127)","v":""},{"$f":"IF('見積書(2号)'!J127=\"\",\"\",'見積書(2号)'!J127)","v":""},{"$f":"IF('見積書(2号)'!K127=\"\",\"\",'見積書(2号)'!K127)","v":""},{"$f":"IF('見積書(2号)'!L127=\"\",\"\",'見積書(2号)'!L127)","v":""},{"$f":"IF('見積書(2号)'!M127=\"\",\"\",'見積書(2号)'!M127)","v":""},null,"","",null,"",""]
[{"$f":"IF('見積書(2号)'!A128=\"\",\"\",'見積書(2号)'!A128)","v":""},{"$f":"IF('見積書(2号)'!B128=\"\",\"\",'見積書(2号)'!B128)","v":""},{"$f":"IF('見積書(2号)'!C128=\"\",\"\",'見積書(2号)'!C128)","v":""},{"$f":"IF('見積書(2号)'!H128=\"\",\"\",'見積書(2号)'!H128)","v":""},{"$f":"IF('見積書(2号)'!E128=\"\",\"\",'見積書(2号)'!E128)","v":""},{"$f":"IF('見積書(2号)'!I128=\"\",\"\",'見積書(2号)'!I128)","v":""},{"$f":"IF('見積書(2号)'!J128=\"\",\"\",'見積書(2号)'!J128)","v":""},{"$f":"IF('見積書(2号)'!K128=\"\",\"\",'見積書(2号)'!K128)","v":""},{"$f":"IF('見積書(2号)'!L128=\"\",\"\",'見積書(2号)'!L128)","v":""},{"$f":"IF('見積書(2号)'!M128=\"\",\"\",'見積書(2号)'!M128)","v":""},null,"","",null,"",""]
[{"$f":"IF('見積書(2号)'!A129=\"\",\"\",'見積書(2号)'!A129)","v":""},{"$f":"IF('見積書(2号)'!B129=\"\",\"\",'見積書(2号)'!B129)","v":""},{"$f":"IF('見積書(2号)'!C129=\"\",\"\",'見積書(2号)'!C129)","v":""},{"$f":"IF('見積書(2号)'!H129=\"\",\"\",'見積書(2号)'!H129)","v":""},{"$f":"IF('見積書(2号)'!E129=\"\",\"\",'見積書(2号)'!E129)","v":""},{"$f":"IF('見積書(2号)'!I129=\"\",\"\",'見積書(2号)'!I129)","v":""},{"$f":"IF('見積書(2号)'!J129=\"\",\"\",'見積書(2号)'!J129)","v":""},{"$f":"IF('見積書(2号)'!K129=\"\",\"\",'見積書(2号)'!K129)","v":""},{"$f":"IF('見積書(2号)'!L129=\"\",\"\",'見積書(2号)'!L129)","v":""},{"$f":"IF('見積書(2号)'!M129=\"\",\"\",'見積書(2号)'!M129)","v":""},null,"","",null,"",""]
[{"$f":"IF('見積書(2号)'!A130=\"\",\"\",'見積書(2号)'!A130)","v":""},{"$f":"IF('見積書(2号)'!B130=\"\",\"\",'見積書(2号)'!B130)","v":""},{"$f":"IF('見積書(2号)'!C130=\"\",\"\",'見積書(2号)'!C130)","v":""},{"$f":"IF('見積書(2号)'!H130=\"\",\"\",'見積書(2号)'!H130)","v":""},{"$f":"IF('見積書(2号)'!E130=\"\",\"\",'見積書(2号)'!E130)","v":""},{"$f":"IF('見積書(2号)'!I130=\"\",\"\",'見積書(2号)'!I130)","v":""},{"$f":"IF('見積書(2号)'!J130=\"\",\"\",'見積書(2号)'!J130)","v":""},{"$f":"IF('見積書(2号)'!K130=\"\",\"\",'見積書(2号)'!K130)","v":""},{"$f":"IF('見積書(2号)'!L130=\"\",\"\",'見積書(2号)'!L130)","v":""},{"$f":"IF('見積書(2号)'!M130=\"\",\"\",'見積書(2号)'!M130)","v":""},null,"","",null,"",""]
[{"$f":"IF('見積書(2号)'!A131=\"\",\"\",'見積書(2号)'!A131)","v":""},{"$f":"IF('見積書(2号)'!B131=\"\",\"\",'見積書(2号)'!B131)","v":""},{"$f":"IF('見積書(2号)'!C131=\"\",\"\",'見積書(2号)'!C131)","v":""},{"$f":"IF('見積書(2号)'!H131=\"\",\"\",'見積書(2号)'!H131)","v":""},{"$f":"IF('見積書(2号)'!E131=\"\",\"\",'見積書(2号)'!E131)","v":""},{"$f":"IF('見積書(2号)'!I131=\"\",\"\",'見積書(2号)'!I131)","v":""},{"$f":"IF('見積書(2号)'!J131=\"\",\"\",'見積書(2号)'!J131)","v":""},{"$f":"IF('見積書(2号)'!K131=\"\",\"\",'見積書(2号)'!K131)","v":""},{"$f":"IF('見積書(2号)'!L131=\"\",\"\",'見積書(2号)'!L131)","v":""},{"$f":"IF('見積書(2号)'!M131=\"\",\"\",'見積書(2号)'!M131)","v":""},null,"","",null,"",""]
[{"$f":"IF('見積書(2号)'!A132=\"\",\"\",'見積書(2号)'!A132)","v":""},{"$f":"IF('見積書(2号)'!B132=\"\",\"\",'見積書(2号)'!B132)","v":""},{"$f":"IF('見積書(2号)'!C132=\"\",\"\",'見積書(2号)'!C132)","v":""},{"$f":"IF('見積書(2号)'!H132=\"\",\"\",'見積書(2号)'!H132)","v":""},{"$f":"IF('見積書(2号)'!E132=\"\",\"\",'見積書(2号)'!E132)","v":""},{"$f":"IF('見積書(2号)'!I132=\"\",\"\",'見積書(2号)'!I132)","v":""},{"$f":"IF('見積書(2号)'!J132=\"\",\"\",'見積書(2号)'!J132)","v":""},{"$f":"IF('見積書(2号)'!K132=\"\",\"\",'見積書(2号)'!K132)","v":""},{"$f":"IF('見積書(2号)'!L132=\"\",\"\",'見積書(2号)'!L132)","v":""},{"$f":"IF('見積書(2号)'!M132=\"\",\"\",'見積書(2号)'!M132)","v":""},null,"","",null,"",""]
[{"$f":"IF('見積書(2号)'!A133=\"\",\"\",'見積書(2号)'!A133)","v":""},{"$f":"IF('見積書(2号)'!B133=\"\",\"\",'見積書(2号)'!B133)","v":""},{"$f":"IF('見積書(2号)'!C133=\"\",\"\",'見積書(2号)'!C133)","v":""},{"$f":"IF('見積書(2号)'!H133=\"\",\"\",'見積書(2号)'!H133)","v":""},{"$f":"IF('見積書(2号)'!E133=\"\",\"\",'見積書(2号)'!E133)","v":""},{"$f":"IF('見積書(2号)'!I133=\"\",\"\",'見積書(2号)'!I133)","v":""},{"$f":"IF('見積書(2号)'!J133=\"\",\"\",'見積書(2号)'!J133)","v":""},{"$f":"IF('見積書(2号)'!K133=\"\",\"\",'見積書(2号)'!K133)","v":""},{"$f":"IF('見積書(2号)'!L133=\"\",\"\",'見積書(2号)'!L133)","v":""},{"$f":"IF('見積書(2号)'!M133=\"\",\"\",'見積書(2号)'!M133)","v":""},null,"","",null,"",""]
[{"$f":"IF('見積書(2号)'!A134=\"\",\"\",'見積書(2号)'!A134)","v":""},{"$f":"IF('見積書(2号)'!B134=\"\",\"\",'見積書(2号)'!B134)","v":""},{"$f":"IF('見積書(2号)'!C134=\"\",\"\",'見積書(2号)'!C134)","v":""},{"$f":"IF('見積書(2号)'!H134=\"\",\"\",'見積書(2号)'!H134)","v":""},{"$f":"IF('見積書(2号)'!E134=\"\",\"\",'見積書(2号)'!E134)","v":""},{"$f":"IF('見積書(2号)'!I134=\"\",\"\",'見積書(2号)'!I134)","v":""},{"$f":"IF('見積書(2号)'!J134=\"\",\"\",'見積書(2号)'!J134)","v":""},{"$f":"IF('見積書(2号)'!K134=\"\",\"\",'見積書(2号)'!K134)","v":""},{"$f":"IF('見積書(2号)'!L134=\"\",\"\",'見積書(2号)'!L134)","v":""},{"$f":"IF('見積書(2号)'!M134=\"\",\"\",'見積書(2号)'!M134)","v":""},null,"","",null,"",""]
[{"$f":"IF('見積書(2号)'!A135=\"\",\"\",'見積書(2号)'!A135)","v":""},{"$f":"IF('見積書(2号)'!B135=\"\",\"\",'見積書(2号)'!B135)","v":""},{"$f":"IF('見積書(2号)'!C135=\"\",\"\",'見積書(2号)'!C135)","v":""},{"$f":"IF('見積書(2号)'!H135=\"\",\"\",'見積書(2号)'!H135)","v":""},{"$f":"IF('見積書(2号)'!E135=\"\",\"\",'見積書(2号)'!E135)","v":""},{"$f":"IF('見積書(2号)'!I135=\"\",\"\",'見積書(2号)'!I135)","v":""},{"$f":"IF('見積書(2号)'!J135=\"\",\"\",'見積書(2号)'!J135)","v":""},{"$f":"IF('見積書(2号)'!K135=\"\",\"\",'見積書(2号)'!K135)","v":""},{"$f":"IF('見積書(2号)'!L135=\"\",\"\",'見積書(2号)'!L135)","v":""},{"$f":"IF('見積書(2号)'!M135=\"\",\"\",'見積書(2号)'!M135)","v":""},null,"","",null,"",""]
[{"$f":"IF('見積書(2号)'!A136=\"\",\"\",'見積書(2号)'!A136)","v":""},{"$f":"IF('見積書(2号)'!B136=\"\",\"\",'見積書(2号)'!B136)","v":""},{"$f":"IF('見積書(2号)'!C136=\"\",\"\",'見積書(2号)'!C136)","v":""},{"$f":"IF('見積書(2号)'!H136=\"\",\"\",'見積書(2号)'!H136)","v":""},{"$f":"IF('見積書(2号)'!E136=\"\",\"\",'見積書(2号)'!E136)","v":""},{"$f":"IF('見積書(2号)'!I136=\"\",\"\",'見積書(2号)'!I136)","v":""},{"$f":"IF('見積書(2号)'!J136=\"\",\"\",'見積書(2号)'!J136)","v":""},{"$f":"IF('見積書(2号)'!K136=\"\",\"\",'見積書(2号)'!K136)","v":""},{"$f":"IF('見積書(2号)'!L136=\"\",\"\",'見積書(2号)'!L136)","v":""},{"$f":"IF('見積書(2号)'!M136=\"\",\"\",'見積書(2号)'!M136)","v":""},null,"","",null,"",""]
[{"$f":"IF('見積書(2号)'!A137=\"\",\"\",'見積書(2号)'!A137)","v":""},{"$f":"IF('見積書(2号)'!B137=\"\",\"\",'見積書(2号)'!B137)","v":""},{"$f":"IF('見積書(2号)'!C137=\"\",\"\",'見積書(2号)'!C137)","v":""},{"$f":"IF('見積書(2号)'!H137=\"\",\"\",'見積書(2号)'!H137)","v":""},{"$f":"IF('見積書(2号)'!E137=\"\",\"\",'見積書(2号)'!E137)","v":""},{"$f":"IF('見積書(2号)'!I137=\"\",\"\",'見積書(2号)'!I137)","v":""},{"$f":"IF('見積書(2号)'!J137=\"\",\"\",'見積書(2号)'!J137)","v":""},{"$f":"IF('見積書(2号)'!K137=\"\",\"\",'見積書(2号)'!K137)","v":""},{"$f":"IF('見積書(2号)'!L137=\"\",\"\",'見積書(2号)'!L137)","v":""},{"$f":"IF('見積書(2号)'!M137=\"\",\"\",'見積書(2号)'!M137)","v":""},null,"","",null,"",""]
[{"$f":"IF('見積書(2号)'!A138=\"\",\"\",'見積書(2号)'!A138)","v":""},{"$f":"IF('見積書(2号)'!B138=\"\",\"\",'見積書(2号)'!B138)","v":""},{"$f":"IF('見積書(2号)'!C138=\"\",\"\",'見積書(2号)'!C138)","v":""},{"$f":"IF('見積書(2号)'!H138=\"\",\"\",'見積書(2号)'!H138)","v":""},{"$f":"IF('見積書(2号)'!E138=\"\",\"\",'見積書(2号)'!E138)","v":""},{"$f":"IF('見積書(2号)'!I138=\"\",\"\",'見積書(2号)'!I138)","v":""},{"$f":"IF('見積書(2号)'!J138=\"\",\"\",'見積書(2号)'!J138)","v":""},{"$f":"IF('見積書(2号)'!K138=\"\",\"\",'見積書(2号)'!K138)","v":""},{"$f":"IF('見積書(2号)'!L138=\"\",\"\",'見積書(2号)'!L138)","v":""},{"$f":"IF('見積書(2号)'!M138=\"\",\"\",'見積書(2号)'!M138)","v":""},null,"","",null,"",""]
[{"$f":"IF('見積書(2号)'!A139=\"\",\"\",'見積書(2号)'!A139)","v":""},{"$f":"IF('見積書(2号)'!B139=\"\",\"\",'見積書(2号)'!B139)","v":""},{"$f":"IF('見積書(2号)'!C139=\"\",\"\",'見積書(2号)'!C139)","v":""},{"$f":"IF('見積書(2号)'!H139=\"\",\"\",'見積書(2号)'!H139)","v":""},{"$f":"IF('見積書(2号)'!E139=\"\",\"\",'見積書(2号)'!E139)","v":""},{"$f":"IF('見積書(2号)'!I139=\"\",\"\",'見積書(2号)'!I139)","v":""},{"$f":"IF('見積書(2号)'!J139=\"\",\"\",'見積書(2号)'!J139)","v":""},{"$f":"IF('見積書(2号)'!K139=\"\",\"\",'見積書(2号)'!K139)","v":""},{"$f":"IF('見積書(2号)'!L139=\"\",\"\",'見積書(2号)'!L139)","v":""},{"$f":"IF('見積書(2号)'!M139=\"\",\"\",'見積書(2号)'!M139)","v":""},null,{"$f":"IF(I139=\"\",F139,I139)","v":""},{"$f":"IF(L139=\"\",\"\",L139*K139)","v":""},null,"",""]
[{"$f":"IF('見積書(2号)'!A140=\"\",\"\",'見積書(2号)'!A140)","v":""},{"$f":"IF('見積書(2号)'!B140=\"\",\"\",'見積書(2号)'!B140)","v":""},{"$f":"IF('見積書(2号)'!C140=\"\",\"\",'見積書(2号)'!C140)","v":""},{"$f":"IF('見積書(2号)'!H140=\"\",\"\",'見積書(2号)'!H140)","v":""},{"$f":"IF('見積書(2号)'!E140=\"\",\"\",'見積書(2号)'!E140)","v":""},{"$f":"IF('見積書(2号)'!I140=\"\",\"\",'見積書(2号)'!I140)","v":""},{"$f":"IF('見積書(2号)'!J140=\"\",\"\",'見積書(2号)'!J140)","v":""},{"$f":"IF('見積書(2号)'!K140=\"\",\"\",'見積書(2号)'!K140)","v":""},{"$f":"IF('見積書(2号)'!L140=\"\",\"\",'見積書(2号)'!L140)","v":""},{"$f":"IF('見積書(2号)'!M140=\"\",\"\",'見積書(2号)'!M140)","v":""},null,"","",null,"",""]
[{"$f":"IF('見積書(2号)'!A141=\"\",\"\",'見積書(2号)'!A141)","v":""},{"$f":"IF('見積書(2号)'!B141=\"\",\"\",'見積書(2号)'!B141)","v":""},{"$f":"IF('見積書(2号)'!C141=\"\",\"\",'見積書(2号)'!C141)","v":""},{"$f":"IF('見積書(2号)'!H141=\"\",\"\",'見積書(2号)'!H141)","v":""},{"$f":"IF('見積書(2号)'!E141=\"\",\"\",'見積書(2号)'!E141)","v":""},{"$f":"IF('見積書(2号)'!I141=\"\",\"\",'見積書(2号)'!I141)","v":""},{"$f":"IF('見積書(2号)'!J141=\"\",\"\",'見積書(2号)'!J141)","v":""},{"$f":"IF('見積書(2号)'!K141=\"\",\"\",'見積書(2号)'!K141)","v":""},{"$f":"IF('見積書(2号)'!L141=\"\",\"\",'見積書(2号)'!L141)","v":""},{"$f":"IF('見積書(2号)'!M141=\"\",\"\",'見積書(2号)'!M141)","v":""},null,"","",null,"",""]
[{"$f":"IF('見積書(2号)'!A142=\"\",\"\",'見積書(2号)'!A142)","v":""},{"$f":"IF('見積書(2号)'!B142=\"\",\"\",'見積書(2号)'!B142)","v":""},{"$f":"IF('見積書(2号)'!C142=\"\",\"\",'見積書(2号)'!C142)","v":""},{"$f":"IF('見積書(2号)'!H142=\"\",\"\",'見積書(2号)'!H142)","v":""},{"$f":"IF('見積書(2号)'!E142=\"\",\"\",'見積書(2号)'!E142)","v":""},{"$f":"IF('見積書(2号)'!I142=\"\",\"\",'見積書(2号)'!I142)","v":""},{"$f":"IF('見積書(2号)'!J142=\"\",\"\",'見積書(2号)'!J142)","v":""},{"$f":"IF('見積書(2号)'!K142=\"\",\"\",'見積書(2号)'!K142)","v":""},{"$f":"IF('見積書(2号)'!L142=\"\",\"\",'見積書(2号)'!L142)","v":""},{"$f":"IF('見積書(2号)'!M142=\"\",\"\",'見積書(2号)'!M142)","v":""},null,"","",null,"",""]
[{"$f":"IF('見積書(2号)'!A143=\"\",\"\",'見積書(2号)'!A143)","v":""},{"$f":"IF('見積書(2号)'!B143=\"\",\"\",'見積書(2号)'!B143)","v":""},{"$f":"IF('見積書(2号)'!C143=\"\",\"\",'見積書(2号)'!C143)","v":""},{"$f":"IF('見積書(2号)'!H143=\"\",\"\",'見積書(2号)'!H143)","v":""},{"$f":"IF('見積書(2号)'!E143=\"\",\"\",'見積書(2号)'!E143)","v":""},{"$f":"IF('見積書(2号)'!I143=\"\",\"\",'見積書(2号)'!I143)","v":""},{"$f":"IF('見積書(2号)'!J143=\"\",\"\",'見積書(2号)'!J143)","v":""},{"$f":"IF('見積書(2号)'!K143=\"\",\"\",'見積書(2号)'!K143)","v":""},{"$f":"IF('見積書(2号)'!L143=\"\",\"\",'見積書(2号)'!L143)","v":""},{"$f":"IF('見積書(2号)'!M143=\"\",\"\",'見積書(2号)'!M143)","v":""},null,"","",null,"",""]
[{"$f":"IF('見積書(2号)'!A144=\"\",\"\",'見積書(2号)'!A144)","v":""},{"$f":"IF('見積書(2号)'!B144=\"\",\"\",'見積書(2号)'!B144)","v":""},{"$f":"IF('見積書(2号)'!C144=\"\",\"\",'見積書(2号)'!C144)","v":""},{"$f":"IF('見積書(2号)'!H144=\"\",\"\",'見積書(2号)'!H144)","v":""},{"$f":"IF('見積書(2号)'!E144=\"\",\"\",'見積書(2号)'!E144)","v":""},{"$f":"IF('見積書(2号)'!I144=\"\",\"\",'見積書(2号)'!I144)","v":""},{"$f":"IF('見積書(2号)'!J144=\"\",\"\",'見積書(2号)'!J144)","v":""},{"$f":"IF('見積書(2号)'!K144=\"\",\"\",'見積書(2号)'!K144)","v":""},{"$f":"IF('見積書(2号)'!L144=\"\",\"\",'見積書(2号)'!L144)","v":""},{"$f":"IF('見積書(2号)'!M144=\"\",\"\",'見積書(2号)'!M144)","v":""},null,"","",null,"",""]
[{"$f":"IF('見積書(2号)'!A145=\"\",\"\",'見積書(2号)'!A145)","v":""},{"$f":"IF('見積書(2号)'!B145=\"\",\"\",'見積書(2号)'!B145)","v":""},{"$f":"IF('見積書(2号)'!C145=\"\",\"\",'見積書(2号)'!C145)","v":""},{"$f":"IF('見積書(2号)'!H145=\"\",\"\",'見積書(2号)'!H145)","v":""},{"$f":"IF('見積書(2号)'!E145=\"\",\"\",'見積書(2号)'!E145)","v":""},{"$f":"IF('見積書(2号)'!I145=\"\",\"\",'見積書(2号)'!I145)","v":""},{"$f":"IF('見積書(2号)'!J145=\"\",\"\",'見積書(2号)'!J145)","v":""},{"$f":"IF('見積書(2号)'!K145=\"\",\"\",'見積書(2号)'!K145)","v":""},{"$f":"IF('見積書(2号)'!L145=\"\",\"\",'見積書(2号)'!L145)","v":""},{"$f":"IF('見積書(2号)'!M145=\"\",\"\",'見積書(2号)'!M145)","v":""},null,"","",null,"",""]
[{"$f":"IF('見積書(2号)'!A146=\"\",\"\",'見積書(2号)'!A146)","v":""},{"$f":"IF('見積書(2号)'!B146=\"\",\"\",'見積書(2号)'!B146)","v":""},{"$f":"IF('見積書(2号)'!C146=\"\",\"\",'見積書(2号)'!C146)","v":""},{"$f":"IF('見積書(2号)'!H146=\"\",\"\",'見積書(2号)'!H146)","v":""},{"$f":"IF('見積書(2号)'!E146=\"\",\"\",'見積書(2号)'!E146)","v":""},{"$f":"IF('見積書(2号)'!I146=\"\",\"\",'見積書(2号)'!I146)","v":""},{"$f":"IF('見積書(2号)'!J146=\"\",\"\",'見積書(2号)'!J146)","v":""},{"$f":"IF('見積書(2号)'!K146=\"\",\"\",'見積書(2号)'!K146)","v":""},{"$f":"IF('見積書(2号)'!L146=\"\",\"\",'見積書(2号)'!L146)","v":""},{"$f":"IF('見積書(2号)'!M146=\"\",\"\",'見積書(2号)'!M146)","v":""},null,"","",null,"",""]
[{"$f":"IF('見積書(2号)'!A147=\"\",\"\",'見積書(2号)'!A147)","v":""},{"$f":"IF('見積書(2号)'!B147=\"\",\"\",'見積書(2号)'!B147)","v":""},{"$f":"IF('見積書(2号)'!C147=\"\",\"\",'見積書(2号)'!C147)","v":""},{"$f":"IF('見積書(2号)'!H147=\"\",\"\",'見積書(2号)'!H147)","v":""},{"$f":"IF('見積書(2号)'!E147=\"\",\"\",'見積書(2号)'!E147)","v":""},{"$f":"IF('見積書(2号)'!I147=\"\",\"\",'見積書(2号)'!I147)","v":""},{"$f":"IF('見積書(2号)'!J147=\"\",\"\",'見積書(2号)'!J147)","v":""},{"$f":"IF('見積書(2号)'!K147=\"\",\"\",'見積書(2号)'!K147)","v":""},{"$f":"IF('見積書(2号)'!L147=\"\",\"\",'見積書(2号)'!L147)","v":""},{"$f":"IF('見積書(2号)'!M147=\"\",\"\",'見積書(2号)'!M147)","v":""},null,"","",null,"",""]
[{"$f":"IF('見積書(2号)'!A148=\"\",\"\",'見積書(2号)'!A148)","v":""},{"$f":"IF('見積書(2号)'!B148=\"\",\"\",'見積書(2号)'!B148)","v":""},{"$f":"IF('見積書(2号)'!C148=\"\",\"\",'見積書(2号)'!C148)","v":""},{"$f":"IF('見積書(2号)'!H148=\"\",\"\",'見積書(2号)'!H148)","v":""},{"$f":"IF('見積書(2号)'!E148=\"\",\"\",'見積書(2号)'!E148)","v":""},{"$f":"IF('見積書(2号)'!I148=\"\",\"\",'見積書(2号)'!I148)","v":""},{"$f":"IF('見積書(2号)'!J148=\"\",\"\",'見積書(2号)'!J148)","v":""},{"$f":"IF('見積書(2号)'!K148=\"\",\"\",'見積書(2号)'!K148)","v":""},{"$f":"IF('見積書(2号)'!L148=\"\",\"\",'見積書(2号)'!L148)","v":""},{"$f":"IF('見積書(2号)'!M148=\"\",\"\",'見積書(2号)'!M148)","v":""},null,"","",null,"",""]
[{"$f":"IF('見積書(2号)'!A149=\"\",\"\",'見積書(2号)'!A149)","v":""},{"$f":"IF('見積書(2号)'!B149=\"\",\"\",'見積書(2号)'!B149)","v":""},{"$f":"IF('見積書(2号)'!C149=\"\",\"\",'見積書(2号)'!C149)","v":""},{"$f":"IF('見積書(2号)'!H149=\"\",\"\",'見積書(2号)'!H149)","v":""},{"$f":"IF('見積書(2号)'!E149=\"\",\"\",'見積書(2号)'!E149)","v":""},{"$f":"IF('見積書(2号)'!I149=\"\",\"\",'見積書(2号)'!I149)","v":""},{"$f":"IF('見積書(2号)'!J149=\"\",\"\",'見積書(2号)'!J149)","v":""},{"$f":"IF('見積書(2号)'!K149=\"\",\"\",'見積書(2号)'!K149)","v":""},{"$f":"IF('見積書(2号)'!L149=\"\",\"\",'見積書(2号)'!L149)","v":""},{"$f":"IF('見積書(2号)'!M149=\"\",\"\",'見積書(2号)'!M149)","v":""},null,"","",null,"",""]
[{"$f":"IF('見積書(2号)'!A150=\"\",\"\",'見積書(2号)'!A150)","v":""},{"$f":"IF('見積書(2号)'!B150=\"\",\"\",'見積書(2号)'!B150)","v":""},{"$f":"IF('見積書(2号)'!C150=\"\",\"\",'見積書(2号)'!C150)","v":""},{"$f":"IF('見積書(2号)'!H150=\"\",\"\",'見積書(2号)'!H150)","v":""},{"$f":"IF('見積書(2号)'!E150=\"\",\"\",'見積書(2号)'!E150)","v":""},{"$f":"IF('見積書(2号)'!I150=\"\",\"\",'見積書(2号)'!I150)","v":""},{"$f":"IF('見積書(2号)'!J150=\"\",\"\",'見積書(2号)'!J150)","v":""},{"$f":"IF('見積書(2号)'!K150=\"\",\"\",'見積書(2号)'!K150)","v":""},{"$f":"IF('見積書(2号)'!L150=\"\",\"\",'見積書(2号)'!L150)","v":""},{"$f":"IF('見積書(2号)'!M150=\"\",\"\",'見積書(2号)'!M150)","v":""},null,"","",null,"",""]
[{"$f":"IF('見積書(2号)'!A151=\"\",\"\",'見積書(2号)'!A151)","v":""},{"$f":"IF('見積書(2号)'!B151=\"\",\"\",'見積書(2号)'!B151)","v":""},{"$f":"IF('見積書(2号)'!C151=\"\",\"\",'見積書(2号)'!C151)","v":""},{"$f":"IF('見積書(2号)'!H151=\"\",\"\",'見積書(2号)'!H151)","v":""},{"$f":"IF('見積書(2号)'!E151=\"\",\"\",'見積書(2号)'!E151)","v":""},{"$f":"IF('見積書(2号)'!I151=\"\",\"\",'見積書(2号)'!I151)","v":""},{"$f":"IF('見積書(2号)'!J151=\"\",\"\",'見積書(2号)'!J151)","v":""},{"$f":"IF('見積書(2号)'!K151=\"\",\"\",'見積書(2号)'!K151)","v":""},{"$f":"IF('見積書(2号)'!L151=\"\",\"\",'見積書(2号)'!L151)","v":""},{"$f":"IF('見積書(2号)'!M151=\"\",\"\",'見積書(2号)'!M151)","v":""},null,"","",null,"",""]
[{"$f":"IF('見積書(2号)'!A152=\"\",\"\",'見積書(2号)'!A152)","v":""},{"$f":"IF('見積書(2号)'!B152=\"\",\"\",'見積書(2号)'!B152)","v":""},{"$f":"IF('見積書(2号)'!C152=\"\",\"\",'見積書(2号)'!C152)","v":""},{"$f":"IF('見積書(2号)'!H152=\"\",\"\",'見積書(2号)'!H152)","v":""},{"$f":"IF('見積書(2号)'!E152=\"\",\"\",'見積書(2号)'!E152)","v":""},{"$f":"IF('見積書(2号)'!I152=\"\",\"\",'見積書(2号)'!I152)","v":""},{"$f":"IF('見積書(2号)'!J152=\"\",\"\",'見積書(2号)'!J152)","v":""},{"$f":"IF('見積書(2号)'!K152=\"\",\"\",'見積書(2号)'!K152)","v":""},{"$f":"IF('見積書(2号)'!L152=\"\",\"\",'見積書(2号)'!L152)","v":""},{"$f":"IF('見積書(2号)'!M152=\"\",\"\",'見積書(2号)'!M152)","v":""},null,"","",null,"",""]
[{"$f":"IF('見積書(2号)'!A153=\"\",\"\",'見積書(2号)'!A153)","v":""},{"$f":"IF('見積書(2号)'!B153=\"\",\"\",'見積書(2号)'!B153)","v":""},{"$f":"IF('見積書(2号)'!C153=\"\",\"\",'見積書(2号)'!C153)","v":""},{"$f":"IF('見積書(2号)'!H153=\"\",\"\",'見積書(2号)'!H153)","v":""},{"$f":"IF('見積書(2号)'!E153=\"\",\"\",'見積書(2号)'!E153)","v":""},{"$f":"IF('見積書(2号)'!I153=\"\",\"\",'見積書(2号)'!I153)","v":""},{"$f":"IF('見積書(2号)'!J153=\"\",\"\",'見積書(2号)'!J153)","v":""},{"$f":"IF('見積書(2号)'!K153=\"\",\"\",'見積書(2号)'!K153)","v":""},{"$f":"IF('見積書(2号)'!L153=\"\",\"\",'見積書(2号)'!L153)","v":""},{"$f":"IF('見積書(2号)'!M153=\"\",\"\",'見積書(2号)'!M153)","v":""},null,"","",null,"",""]
[{"$f":"IF('見積書(2号)'!A154=\"\",\"\",'見積書(2号)'!A154)","v":""},{"$f":"IF('見積書(2号)'!B154=\"\",\"\",'見積書(2号)'!B154)","v":""},{"$f":"IF('見積書(2号)'!C154=\"\",\"\",'見積書(2号)'!C154)","v":""},{"$f":"IF('見積書(2号)'!H154=\"\",\"\",'見積書(2号)'!H154)","v":""},{"$f":"IF('見積書(2号)'!E154=\"\",\"\",'見積書(2号)'!E154)","v":""},{"$f":"IF('見積書(2号)'!I154=\"\",\"\",'見積書(2号)'!I154)","v":""},{"$f":"IF('見積書(2号)'!J154=\"\",\"\",'見積書(2号)'!J154)","v":""},{"$f":"IF('見積書(2号)'!K154=\"\",\"\",'見積書(2号)'!K154)","v":""},{"$f":"IF('見積書(2号)'!L154=\"\",\"\",'見積書(2号)'!L154)","v":""},{"$f":"IF('見積書(2号)'!M154=\"\",\"\",'見積書(2号)'!M154)","v":""},null,"","",null,"",""]
[{"$f":"IF('見積書(2号)'!A155=\"\",\"\",'見積書(2号)'!A155)","v":""},{"$f":"IF('見積書(2号)'!B155=\"\",\"\",'見積書(2号)'!B155)","v":""},{"$f":"IF('見積書(2号)'!C155=\"\",\"\",'見積書(2号)'!C155)","v":""},{"$f":"IF('見積書(2号)'!H155=\"\",\"\",'見積書(2号)'!H155)","v":""},{"$f":"IF('見積書(2号)'!E155=\"\",\"\",'見積書(2号)'!E155)","v":""},{"$f":"IF('見積書(2号)'!I155=\"\",\"\",'見積書(2号)'!I155)","v":""},{"$f":"IF('見積書(2号)'!J155=\"\",\"\",'見積書(2号)'!J155)","v":""},{"$f":"IF('見積書(2号)'!K155=\"\",\"\",'見積書(2号)'!K155)","v":""},{"$f":"IF('見積書(2号)'!L155=\"\",\"\",'見積書(2号)'!L155)","v":""},{"$f":"IF('見積書(2号)'!M155=\"\",\"\",'見積書(2号)'!M155)","v":""},null,"","",null,"",""]
[{"$f":"IF('見積書(2号)'!A156=\"\",\"\",'見積書(2号)'!A156)","v":""},{"$f":"IF('見積書(2号)'!B156=\"\",\"\",'見積書(2号)'!B156)","v":""},{"$f":"IF('見積書(2号)'!C156=\"\",\"\",'見積書(2号)'!C156)","v":""},{"$f":"IF('見積書(2号)'!H156=\"\",\"\",'見積書(2号)'!H156)","v":""},{"$f":"IF('見積書(2号)'!E156=\"\",\"\",'見積書(2号)'!E156)","v":""},{"$f":"IF('見積書(2号)'!I156=\"\",\"\",'見積書(2号)'!I156)","v":""},{"$f":"IF('見積書(2号)'!J156=\"\",\"\",'見積書(2号)'!J156)","v":""},{"$f":"IF('見積書(2号)'!K156=\"\",\"\",'見積書(2号)'!K156)","v":""},{"$f":"IF('見積書(2号)'!L156=\"\",\"\",'見積書(2号)'!L156)","v":""},{"$f":"IF('見積書(2号)'!M156=\"\",\"\",'見積書(2号)'!M156)","v":""},null,"","",null,"",""]
[{"$f":"IF('見積書(2号)'!A157=\"\",\"\",'見積書(2号)'!A157)","v":""},{"$f":"IF('見積書(2号)'!B157=\"\",\"\",'見積書(2号)'!B157)","v":""},{"$f":"IF('見積書(2号)'!C157=\"\",\"\",'見積書(2号)'!C157)","v":""},{"$f":"IF('見積書(2号)'!H157=\"\",\"\",'見積書(2号)'!H157)","v":""},{"$f":"IF('見積書(2号)'!E157=\"\",\"\",'見積書(2号)'!E157)","v":""},{"$f":"IF('見積書(2号)'!I157=\"\",\"\",'見積書(2号)'!I157)","v":""},{"$f":"IF('見積書(2号)'!J157=\"\",\"\",'見積書(2号)'!J157)","v":""},{"$f":"IF('見積書(2号)'!K157=\"\",\"\",'見積書(2号)'!K157)","v":""},{"$f":"IF('見積書(2号)'!L157=\"\",\"\",'見積書(2号)'!L157)","v":""},{"$f":"IF('見積書(2号)'!M157=\"\",\"\",'見積書(2号)'!M157)","v":""},null,"","",null,"",""]
[{"$f":"IF('見積書(2号)'!A158=\"\",\"\",'見積書(2号)'!A158)","v":""},{"$f":"IF('見積書(2号)'!B158=\"\",\"\",'見積書(2号)'!B158)","v":""},{"$f":"IF('見積書(2号)'!C158=\"\",\"\",'見積書(2号)'!C158)","v":""},{"$f":"IF('見積書(2号)'!H158=\"\",\"\",'見積書(2号)'!H158)","v":""},{"$f":"IF('見積書(2号)'!E158=\"\",\"\",'見積書(2号)'!E158)","v":""},{"$f":"IF('見積書(2号)'!I158=\"\",\"\",'見積書(2号)'!I158)","v":""},{"$f":"IF('見積書(2号)'!J158=\"\",\"\",'見積書(2号)'!J158)","v":""},{"$f":"IF('見積書(2号)'!K158=\"\",\"\",'見積書(2号)'!K158)","v":""},{"$f":"IF('見積書(2号)'!L158=\"\",\"\",'見積書(2号)'!L158)","v":""},{"$f":"IF('見積書(2号)'!M158=\"\",\"\",'見積書(2号)'!M158)","v":""},null,"","",null,"",""]
[{"$f":"IF('見積書(2号)'!A159=\"\",\"\",'見積書(2号)'!A159)","v":""},{"$f":"IF('見積書(2号)'!B159=\"\",\"\",'見積書(2号)'!B159)","v":""},{"$f":"IF('見積書(2号)'!C159=\"\",\"\",'見積書(2号)'!C159)","v":""},{"$f":"IF('見積書(2号)'!H159=\"\",\"\",'見積書(2号)'!H159)","v":""},{"$f":"IF('見積書(2号)'!E159=\"\",\"\",'見積書(2号)'!E159)","v":""},{"$f":"IF('見積書(2号)'!I159=\"\",\"\",'見積書(2号)'!I159)","v":""},{"$f":"IF('見積書(2号)'!J159=\"\",\"\",'見積書(2号)'!J159)","v":""},{"$f":"IF('見積書(2号)'!K159=\"\",\"\",'見積書(2号)'!K159)","v":""},{"$f":"IF('見積書(2号)'!L159=\"\",\"\",'見積書(2号)'!L159)","v":""},{"$f":"IF('見積書(2号)'!M159=\"\",\"\",'見積書(2号)'!M159)","v":""},null,"","",null,"",""]
[{"$f":"IF('見積書(2号)'!A160=\"\",\"\",'見積書(2号)'!A160)","v":""},{"$f":"IF('見積書(2号)'!B160=\"\",\"\",'見積書(2号)'!B160)","v":""},{"$f":"IF('見積書(2号)'!C160=\"\",\"\",'見積書(2号)'!C160)","v":""},{"$f":"IF('見積書(2号)'!H160=\"\",\"\",'見積書(2号)'!H160)","v":""},{"$f":"IF('見積書(2号)'!E160=\"\",\"\",'見積書(2号)'!E160)","v":""},{"$f":"IF('見積書(2号)'!I160=\"\",\"\",'見積書(2号)'!I160)","v":""},{"$f":"IF('見積書(2号)'!J160=\"\",\"\",'見積書(2号)'!J160)","v":""},{"$f":"IF('見積書(2号)'!K160=\"\",\"\",'見積書(2号)'!K160)","v":""},{"$f":"IF('見積書(2号)'!L160=\"\",\"\",'見積書(2号)'!L160)","v":""},{"$f":"IF('見積書(2号)'!M160=\"\",\"\",'見積書(2号)'!M160)","v":""},null,"","",null,"",""]
[{"$f":"IF('見積書(2号)'!A161=\"\",\"\",'見積書(2号)'!A161)","v":""},{"$f":"IF('見積書(2号)'!B161=\"\",\"\",'見積書(2号)'!B161)","v":""},{"$f":"IF('見積書(2号)'!C161=\"\",\"\",'見積書(2号)'!C161)","v":""},{"$f":"IF('見積書(2号)'!H161=\"\",\"\",'見積書(2号)'!H161)","v":""},{"$f":"IF('見積書(2号)'!E161=\"\",\"\",'見積書(2号)'!E161)","v":""},{"$f":"IF('見積書(2号)'!I161=\"\",\"\",'見積書(2号)'!I161)","v":""},{"$f":"IF('見積書(2号)'!J161=\"\",\"\",'見積書(2号)'!J161)","v":""},{"$f":"IF('見積書(2号)'!K161=\"\",\"\",'見積書(2号)'!K161)","v":""},{"$f":"IF('見積書(2号)'!L161=\"\",\"\",'見積書(2号)'!L161)","v":""},{"$f":"IF('見積書(2号)'!M161=\"\",\"\",'見積書(2号)'!M161)","v":""},null,"","",null,"",""]
[{"$f":"IF('見積書(2号)'!A162=\"\",\"\",'見積書(2号)'!A162)","v":""},{"$f":"IF('見積書(2号)'!B162=\"\",\"\",'見積書(2号)'!B162)","v":""},{"$f":"IF('見積書(2号)'!C162=\"\",\"\",'見積書(2号)'!C162)","v":""},{"$f":"IF('見積書(2号)'!H162=\"\",\"\",'見積書(2号)'!H162)","v":""},{"$f":"IF('見積書(2号)'!E162=\"\",\"\",'見積書(2号)'!E162)","v":""},{"$f":"IF('見積書(2号)'!I162=\"\",\"\",'見積書(2号)'!I162)","v":""},{"$f":"IF('見積書(2号)'!J162=\"\",\"\",'見積書(2号)'!J162)","v":""},{"$f":"IF('見積書(2号)'!K162=\"\",\"\",'見積書(2号)'!K162)","v":""},{"$f":"IF('見積書(2号)'!L162=\"\",\"\",'見積書(2号)'!L162)","v":""},{"$f":"IF('見積書(2号)'!M162=\"\",\"\",'見積書(2号)'!M162)","v":""},null,"","",null,"",""]
[{"$f":"IF('見積書(2号)'!A163=\"\",\"\",'見積書(2号)'!A163)","v":""},{"$f":"IF('見積書(2号)'!B163=\"\",\"\",'見積書(2号)'!B163)","v":""},{"$f":"IF('見積書(2号)'!C163=\"\",\"\",'見積書(2号)'!C163)","v":""},{"$f":"IF('見積書(2号)'!H163=\"\",\"\",'見積書(2号)'!H163)","v":""},{"$f":"IF('見積書(2号)'!E163=\"\",\"\",'見積書(2号)'!E163)","v":""},{"$f":"IF('見積書(2号)'!I163=\"\",\"\",'見積書(2号)'!I163)","v":""},{"$f":"IF('見積書(2号)'!J163=\"\",\"\",'見積書(2号)'!J163)","v":""},{"$f":"IF('見積書(2号)'!K163=\"\",\"\",'見積書(2号)'!K163)","v":""},{"$f":"IF('見積書(2号)'!L163=\"\",\"\",'見積書(2号)'!L163)","v":""},{"$f":"IF('見積書(2号)'!M163=\"\",\"\",'見積書(2号)'!M163)","v":""},null,"","",null,"",""]
[{"$f":"IF('見積書(2号)'!A164=\"\",\"\",'見積書(2号)'!A164)","v":""},{"$f":"IF('見積書(2号)'!B164=\"\",\"\",'見積書(2号)'!B164)","v":""},{"$f":"IF('見積書(2号)'!C164=\"\",\"\",'見積書(2号)'!C164)","v":""},{"$f":"IF('見積書(2号)'!H164=\"\",\"\",'見積書(2号)'!H164)","v":""},{"$f":"IF('見積書(2号)'!E164=\"\",\"\",'見積書(2号)'!E164)","v":""},{"$f":"IF('見積書(2号)'!I164=\"\",\"\",'見積書(2号)'!I164)","v":""},{"$f":"IF('見積書(2号)'!J164=\"\",\"\",'見積書(2号)'!J164)","v":""},{"$f":"IF('見積書(2号)'!K164=\"\",\"\",'見積書(2号)'!K164)","v":""},{"$f":"IF('見積書(2号)'!L164=\"\",\"\",'見積書(2号)'!L164)","v":""},{"$f":"IF('見積書(2号)'!M164=\"\",\"\",'見積書(2号)'!M164)","v":""},null,"","",null,"",""]
[{"$f":"IF('見積書(2号)'!A165=\"\",\"\",'見積書(2号)'!A165)","v":""},{"$f":"IF('見積書(2号)'!B165=\"\",\"\",'見積書(2号)'!B165)","v":""},{"$f":"IF('見積書(2号)'!C165=\"\",\"\",'見積書(2号)'!C165)","v":""},{"$f":"IF('見積書(2号)'!H165=\"\",\"\",'見積書(2号)'!H165)","v":""},{"$f":"IF('見積書(2号)'!E165=\"\",\"\",'見積書(2号)'!E165)","v":""},{"$f":"IF('見積書(2号)'!I165=\"\",\"\",'見積書(2号)'!I165)","v":""},{"$f":"IF('見積書(2号)'!J165=\"\",\"\",'見積書(2号)'!J165)","v":""},{"$f":"IF('見積書(2号)'!K165=\"\",\"\",'見積書(2号)'!K165)","v":""},{"$f":"IF('見積書(2号)'!L165=\"\",\"\",'見積書(2号)'!L165)","v":""},{"$f":"IF('見積書(2号)'!M165=\"\",\"\",'見積書(2号)'!M165)","v":""},null,"","",null,"",""]
[{"$f":"IF('見積書(2号)'!A166=\"\",\"\",'見積書(2号)'!A166)","v":""},{"$f":"IF('見積書(2号)'!B166=\"\",\"\",'見積書(2号)'!B166)","v":""},{"$f":"IF('見積書(2号)'!C166=\"\",\"\",'見積書(2号)'!C166)","v":""},{"$f":"IF('見積書(2号)'!H166=\"\",\"\",'見積書(2号)'!H166)","v":""},{"$f":"IF('見積書(2号)'!E166=\"\",\"\",'見積書(2号)'!E166)","v":""},{"$f":"IF('見積書(2号)'!I166=\"\",\"\",'見積書(2号)'!I166)","v":""},{"$f":"IF('見積書(2号)'!J166=\"\",\"\",'見積書(2号)'!J166)","v":""},{"$f":"IF('見積書(2号)'!K166=\"\",\"\",'見積書(2号)'!K166)","v":""},{"$f":"IF('見積書(2号)'!L166=\"\",\"\",'見積書(2号)'!L166)","v":""},{"$f":"IF('見積書(2号)'!M166=\"\",\"\",'見積書(2号)'!M166)","v":""},null,"","",null,"",""]
[{"$f":"IF('見積書(2号)'!A167=\"\",\"\",'見積書(2号)'!A167)","v":""},{"$f":"IF('見積書(2号)'!B167=\"\",\"\",'見積書(2号)'!B167)","v":""},{"$f":"IF('見積書(2号)'!C167=\"\",\"\",'見積書(2号)'!C167)","v":""},{"$f":"IF('見積書(2号)'!H167=\"\",\"\",'見積書(2号)'!H167)","v":""},{"$f":"IF('見積書(2号)'!E167=\"\",\"\",'見積書(2号)'!E167)","v":""},{"$f":"IF('見積書(2号)'!I167=\"\",\"\",'見積書(2号)'!I167)","v":""},{"$f":"IF('見積書(2号)'!J167=\"\",\"\",'見積書(2号)'!J167)","v":""},{"$f":"IF('見積書(2号)'!K167=\"\",\"\",'見積書(2号)'!K167)","v":""},{"$f":"IF('見積書(2号)'!L167=\"\",\"\",'見積書(2号)'!L167)","v":""},{"$f":"IF('見積書(2号)'!M167=\"\",\"\",'見積書(2号)'!M167)","v":""},null,"","",null,"",""]
[{"$f":"IF('見積書(2号)'!A168=\"\",\"\",'見積書(2号)'!A168)","v":""},{"$f":"IF('見積書(2号)'!B168=\"\",\"\",'見積書(2号)'!B168)","v":""},{"$f":"IF('見積書(2号)'!C168=\"\",\"\",'見積書(2号)'!C168)","v":""},{"$f":"IF('見積書(2号)'!H168=\"\",\"\",'見積書(2号)'!H168)","v":""},{"$f":"IF('見積書(2号)'!E168=\"\",\"\",'見積書(2号)'!E168)","v":""},{"$f":"IF('見積書(2号)'!I168=\"\",\"\",'見積書(2号)'!I168)","v":""},{"$f":"IF('見積書(2号)'!J168=\"\",\"\",'見積書(2号)'!J168)","v":""},{"$f":"IF('見積書(2号)'!K168=\"\",\"\",'見積書(2号)'!K168)","v":""},{"$f":"IF('見積書(2号)'!L168=\"\",\"\",'見積書(2号)'!L168)","v":""},{"$f":"IF('見積書(2号)'!M168=\"\",\"\",'見積書(2号)'!M168)","v":""},null,"","",null,"",""]
[{"$f":"IF('見積書(2号)'!A169=\"\",\"\",'見積書(2号)'!A169)","v":""},{"$f":"IF('見積書(2号)'!B169=\"\",\"\",'見積書(2号)'!B169)","v":""},{"$f":"IF('見積書(2号)'!C169=\"\",\"\",'見積書(2号)'!C169)","v":""},{"$f":"IF('見積書(2号)'!H169=\"\",\"\",'見積書(2号)'!H169)","v":""},{"$f":"IF('見積書(2号)'!E169=\"\",\"\",'見積書(2号)'!E169)","v":""},{"$f":"IF('見積書(2号)'!I169=\"\",\"\",'見積書(2号)'!I169)","v":""},{"$f":"IF('見積書(2号)'!J169=\"\",\"\",'見積書(2号)'!J169)","v":""},{"$f":"IF('見積書(2号)'!K169=\"\",\"\",'見積書(2号)'!K169)","v":""},{"$f":"IF('見積書(2号)'!L169=\"\",\"\",'見積書(2号)'!L169)","v":""},{"$f":"IF('見積書(2号)'!M169=\"\",\"\",'見積書(2号)'!M169)","v":""},null,"","",null,"",""]
[{"$f":"IF('見積書(2号)'!A170=\"\",\"\",'見積書(2号)'!A170)","v":""},{"$f":"IF('見積書(2号)'!B170=\"\",\"\",'見積書(2号)'!B170)","v":""},{"$f":"IF('見積書(2号)'!C170=\"\",\"\",'見積書(2号)'!C170)","v":""},{"$f":"IF('見積書(2号)'!H170=\"\",\"\",'見積書(2号)'!H170)","v":""},{"$f":"IF('見積書(2号)'!E170=\"\",\"\",'見積書(2号)'!E170)","v":""},{"$f":"IF('見積書(2号)'!I170=\"\",\"\",'見積書(2号)'!I170)","v":""},{"$f":"IF('見積書(2号)'!J170=\"\",\"\",'見積書(2号)'!J170)","v":""},{"$f":"IF('見積書(2号)'!K170=\"\",\"\",'見積書(2号)'!K170)","v":""},{"$f":"IF('見積書(2号)'!L170=\"\",\"\",'見積書(2号)'!L170)","v":""},{"$f":"IF('見積書(2号)'!M170=\"\",\"\",'見積書(2号)'!M170)","v":""},null,"","",null,"",""]
[{"$f":"IF('見積書(2号)'!A171=\"\",\"\",'見積書(2号)'!A171)","v":""},{"$f":"IF('見積書(2号)'!B171=\"\",\"\",'見積書(2号)'!B171)","v":""},{"$f":"IF('見積書(2号)'!C171=\"\",\"\",'見積書(2号)'!C171)","v":""},{"$f":"IF('見積書(2号)'!H171=\"\",\"\",'見積書(2号)'!H171)","v":""},{"$f":"IF('見積書(2号)'!E171=\"\",\"\",'見積書(2号)'!E171)","v":""},{"$f":"IF('見積書(2号)'!I171=\"\",\"\",'見積書(2号)'!I171)","v":""},{"$f":"IF('見積書(2号)'!J171=\"\",\"\",'見積書(2号)'!J171)","v":""},{"$f":"IF('見積書(2号)'!K171=\"\",\"\",'見積書(2号)'!K171)","v":""},{"$f":"IF('見積書(2号)'!L171=\"\",\"\",'見積書(2号)'!L171)","v":""},{"$f":"IF('見積書(2号)'!M171=\"\",\"\",'見積書(2号)'!M171)","v":""},null,"","",null,"",""]
[{"$f":"IF('見積書(2号)'!A172=\"\",\"\",'見積書(2号)'!A172)","v":""},{"$f":"IF('見積書(2号)'!B172=\"\",\"\",'見積書(2号)'!B172)","v":""},{"$f":"IF('見積書(2号)'!C172=\"\",\"\",'見積書(2号)'!C172)","v":""},{"$f":"IF('見積書(2号)'!H172=\"\",\"\",'見積書(2号)'!H172)","v":""},{"$f":"IF('見積書(2号)'!E172=\"\",\"\",'見積書(2号)'!E172)","v":""},{"$f":"IF('見積書(2号)'!I172=\"\",\"\",'見積書(2号)'!I172)","v":""},{"$f":"IF('見積書(2号)'!J172=\"\",\"\",'見積書(2号)'!J172)","v":""},{"$f":"IF('見積書(2号)'!K172=\"\",\"\",'見積書(2号)'!K172)","v":""},{"$f":"IF('見積書(2号)'!L172=\"\",\"\",'見積書(2号)'!L172)","v":""},{"$f":"IF('見積書(2号)'!M172=\"\",\"\",'見積書(2号)'!M172)","v":""},null,"","",null,"",""]
[{"$f":"IF('見積書(2号)'!A173=\"\",\"\",'見積書(2号)'!A173)","v":""},{"$f":"IF('見積書(2号)'!B173=\"\",\"\",'見積書(2号)'!B173)","v":""},{"$f":"IF('見積書(2号)'!C173=\"\",\"\",'見積書(2号)'!C173)","v":""},{"$f":"IF('見積書(2号)'!H173=\"\",\"\",'見積書(2号)'!H173)","v":""},{"$f":"IF('見積書(2号)'!E173=\"\",\"\",'見積書(2号)'!E173)","v":""},{"$f":"IF('見積書(2号)'!I173=\"\",\"\",'見積書(2号)'!I173)","v":""},{"$f":"IF('見積書(2号)'!J173=\"\",\"\",'見積書(2号)'!J173)","v":""},{"$f":"IF('見積書(2号)'!K173=\"\",\"\",'見積書(2号)'!K173)","v":""},{"$f":"IF('見積書(2号)'!L173=\"\",\"\",'見積書(2号)'!L173)","v":""},{"$f":"IF('見積書(2号)'!M173=\"\",\"\",'見積書(2号)'!M173)","v":""},null,"","",null,"",""]
[{"$f":"IF('見積書(2号)'!A174=\"\",\"\",'見積書(2号)'!A174)","v":""},{"$f":"IF('見積書(2号)'!B174=\"\",\"\",'見積書(2号)'!B174)","v":""},{"$f":"IF('見積書(2号)'!C174=\"\",\"\",'見積書(2号)'!C174)","v":""},{"$f":"IF('見積書(2号)'!H174=\"\",\"\",'見積書(2号)'!H174)","v":""},{"$f":"IF('見積書(2号)'!E174=\"\",\"\",'見積書(2号)'!E174)","v":""},{"$f":"IF('見積書(2号)'!I174=\"\",\"\",'見積書(2号)'!I174)","v":""},{"$f":"IF('見積書(2号)'!J174=\"\",\"\",'見積書(2号)'!J174)","v":""},{"$f":"IF('見積書(2号)'!K174=\"\",\"\",'見積書(2号)'!K174)","v":""},{"$f":"IF('見積書(2号)'!L174=\"\",\"\",'見積書(2号)'!L174)","v":""},{"$f":"IF('見積書(2号)'!M174=\"\",\"\",'見積書(2号)'!M174)","v":""},null,"","",null,"",""]
[{"$f":"IF('見積書(2号)'!A175=\"\",\"\",'見積書(2号)'!A175)","v":""},{"$f":"IF('見積書(2号)'!B175=\"\",\"\",'見積書(2号)'!B175)","v":""},{"$f":"IF('見積書(2号)'!C175=\"\",\"\",'見積書(2号)'!C175)","v":""},{"$f":"IF('見積書(2号)'!H175=\"\",\"\",'見積書(2号)'!H175)","v":""},{"$f":"IF('見積書(2号)'!E175=\"\",\"\",'見積書(2号)'!E175)","v":""},{"$f":"IF('見積書(2号)'!I175=\"\",\"\",'見積書(2号)'!I175)","v":""},{"$f":"IF('見積書(2号)'!J175=\"\",\"\",'見積書(2号)'!J175)","v":""},{"$f":"IF('見積書(2号)'!K175=\"\",\"\",'見積書(2号)'!K175)","v":""},{"$f":"IF('見積書(2号)'!L175=\"\",\"\",'見積書(2号)'!L175)","v":""},{"$f":"IF('見積書(2号)'!M175=\"\",\"\",'見積書(2号)'!M175)","v":""},null,"","",null,"",""]
[{"$f":"IF('見積書(2号)'!A176=\"\",\"\",'見積書(2号)'!A176)","v":""},{"$f":"IF('見積書(2号)'!B176=\"\",\"\",'見積書(2号)'!B176)","v":""},{"$f":"IF('見積書(2号)'!C176=\"\",\"\",'見積書(2号)'!C176)","v":""},{"$f":"IF('見積書(2号)'!H176=\"\",\"\",'見積書(2号)'!H176)","v":""},{"$f":"IF('見積書(2号)'!E176=\"\",\"\",'見積書(2号)'!E176)","v":""},{"$f":"IF('見積書(2号)'!I176=\"\",\"\",'見積書(2号)'!I176)","v":""},{"$f":"IF('見積書(2号)'!J176=\"\",\"\",'見積書(2号)'!J176)","v":""},{"$f":"IF('見積書(2号)'!K176=\"\",\"\",'見積書(2号)'!K176)","v":""},{"$f":"IF('見積書(2号)'!L176=\"\",\"\",'見積書(2号)'!L176)","v":""},{"$f":"IF('見積書(2号)'!M176=\"\",\"\",'見積書(2号)'!M176)","v":""},null,"","",null,"",""]
[{"$f":"IF('見積書(2号)'!A177=\"\",\"\",'見積書(2号)'!A177)","v":""},{"$f":"IF('見積書(2号)'!B177=\"\",\"\",'見積書(2号)'!B177)","v":""},{"$f":"IF('見積書(2号)'!C177=\"\",\"\",'見積書(2号)'!C177)","v":""},{"$f":"IF('見積書(2号)'!H177=\"\",\"\",'見積書(2号)'!H177)","v":""},{"$f":"IF('見積書(2号)'!E177=\"\",\"\",'見積書(2号)'!E177)","v":""},{"$f":"IF('見積書(2号)'!I177=\"\",\"\",'見積書(2号)'!I177)","v":""},{"$f":"IF('見積書(2号)'!J177=\"\",\"\",'見積書(2号)'!J177)","v":""},{"$f":"IF('見積書(2号)'!K177=\"\",\"\",'見積書(2号)'!K177)","v":""},{"$f":"IF('見積書(2号)'!L177=\"\",\"\",'見積書(2号)'!L177)","v":""},{"$f":"IF('見積書(2号)'!M177=\"\",\"\",'見積書(2号)'!M177)","v":""},null,"","",null,"",""]
[{"$f":"IF('見積書(2号)'!A178=\"\",\"\",'見積書(2号)'!A178)","v":""},{"$f":"IF('見積書(2号)'!B178=\"\",\"\",'見積書(2号)'!B178)","v":""},{"$f":"IF('見積書(2号)'!C178=\"\",\"\",'見積書(2号)'!C178)","v":""},{"$f":"IF('見積書(2号)'!H178=\"\",\"\",'見積書(2号)'!H178)","v":""},{"$f":"IF('見積書(2号)'!E178=\"\",\"\",'見積書(2号)'!E178)","v":""},{"$f":"IF('見積書(2号)'!I178=\"\",\"\",'見積書(2号)'!I178)","v":""},{"$f":"IF('見積書(2号)'!J178=\"\",\"\",'見積書(2号)'!J178)","v":""},{"$f":"IF('見積書(2号)'!K178=\"\",\"\",'見積書(2号)'!K178)","v":""},{"$f":"IF('見積書(2号)'!L178=\"\",\"\",'見積書(2号)'!L178)","v":""},{"$f":"IF('見積書(2号)'!M178=\"\",\"\",'見積書(2号)'!M178)","v":""},null,"","",null,"",""]
[{"$f":"IF('見積書(2号)'!A179=\"\",\"\",'見積書(2号)'!A179)","v":""},{"$f":"IF('見積書(2号)'!B179=\"\",\"\",'見積書(2号)'!B179)","v":""},{"$f":"IF('見積書(2号)'!C179=\"\",\"\",'見積書(2号)'!C179)","v":""},{"$f":"IF('見積書(2号)'!H179=\"\",\"\",'見積書(2号)'!H179)","v":""},{"$f":"IF('見積書(2号)'!E179=\"\",\"\",'見積書(2号)'!E179)","v":""},{"$f":"IF('見積書(2号)'!I179=\"\",\"\",'見積書(2号)'!I179)","v":""},{"$f":"IF('見積書(2号)'!J179=\"\",\"\",'見積書(2号)'!J179)","v":""},{"$f":"IF('見積書(2号)'!K179=\"\",\"\",'見積書(2号)'!K179)","v":""},{"$f":"IF('見積書(2号)'!L179=\"\",\"\",'見積書(2号)'!L179)","v":""},{"$f":"IF('見積書(2号)'!M179=\"\",\"\",'見積書(2号)'!M179)","v":""},null,"","",null,"",""]
[{"$f":"IF('見積書(2号)'!A180=\"\",\"\",'見積書(2号)'!A180)","v":""},{"$f":"IF('見積書(2号)'!B180=\"\",\"\",'見積書(2号)'!B180)","v":""},{"$f":"IF('見積書(2号)'!C180=\"\",\"\",'見積書(2号)'!C180)","v":""},{"$f":"IF('見積書(2号)'!H180=\"\",\"\",'見積書(2号)'!H180)","v":""},{"$f":"IF('見積書(2号)'!E180=\"\",\"\",'見積書(2号)'!E180)","v":""},{"$f":"IF('見積書(2号)'!I180=\"\",\"\",'見積書(2号)'!I180)","v":""},{"$f":"IF('見積書(2号)'!J180=\"\",\"\",'見積書(2号)'!J180)","v":""},{"$f":"IF('見積書(2号)'!K180=\"\",\"\",'見積書(2号)'!K180)","v":""},{"$f":"IF('見積書(2号)'!L180=\"\",\"\",'見積書(2号)'!L180)","v":""},{"$f":"IF('見積書(2号)'!M180=\"\",\"\",'見積書(2号)'!M180)","v":""},null,"","",null,"",""]
[{"$f":"IF('見積書(2号)'!A181=\"\",\"\",'見積書(2号)'!A181)","v":""},{"$f":"IF('見積書(2号)'!B181=\"\",\"\",'見積書(2号)'!B181)","v":""},{"$f":"IF('見積書(2号)'!C181=\"\",\"\",'見積書(2号)'!C181)","v":""},{"$f":"IF('見積書(2号)'!H181=\"\",\"\",'見積書(2号)'!H181)","v":""},{"$f":"IF('見積書(2号)'!E181=\"\",\"\",'見積書(2号)'!E181)","v":""},{"$f":"IF('見積書(2号)'!I181=\"\",\"\",'見積書(2号)'!I181)","v":""},{"$f":"IF('見積書(2号)'!J181=\"\",\"\",'見積書(2号)'!J181)","v":""},{"$f":"IF('見積書(2号)'!K181=\"\",\"\",'見積書(2号)'!K181)","v":""},{"$f":"IF('見積書(2号)'!L181=\"\",\"\",'見積書(2号)'!L181)","v":""},{"$f":"IF('見積書(2号)'!M181=\"\",\"\",'見積書(2号)'!M181)","v":""},null,"","",null,"",""]
[{"$f":"IF('見積書(2号)'!A182=\"\",\"\",'見積書(2号)'!A182)","v":""},{"$f":"IF('見積書(2号)'!B182=\"\",\"\",'見積書(2号)'!B182)","v":""},{"$f":"IF('見積書(2号)'!C182=\"\",\"\",'見積書(2号)'!C182)","v":""},{"$f":"IF('見積書(2号)'!H182=\"\",\"\",'見積書(2号)'!H182)","v":""},{"$f":"IF('見積書(2号)'!E182=\"\",\"\",'見積書(2号)'!E182)","v":""},{"$f":"IF('見積書(2号)'!I182=\"\",\"\",'見積書(2号)'!I182)","v":""},{"$f":"IF('見積書(2号)'!J182=\"\",\"\",'見積書(2号)'!J182)","v":""},{"$f":"IF('見積書(2号)'!K182=\"\",\"\",'見積書(2号)'!K182)","v":""},{"$f":"IF('見積書(2号)'!L182=\"\",\"\",'見積書(2号)'!L182)","v":""},{"$f":"IF('見積書(2号)'!M182=\"\",\"\",'見積書(2号)'!M182)","v":""},null,"","",null,"",""]
[{"$f":"IF('見積書(2号)'!A183=\"\",\"\",'見積書(2号)'!A183)","v":""},{"$f":"IF('見積書(2号)'!B183=\"\",\"\",'見積書(2号)'!B183)","v":""},{"$f":"IF('見積書(2号)'!C183=\"\",\"\",'見積書(2号)'!C183)","v":""},{"$f":"IF('見積書(2号)'!H183=\"\",\"\",'見積書(2号)'!H183)","v":""},{"$f":"IF('見積書(2号)'!E183=\"\",\"\",'見積書(2号)'!E183)","v":""},{"$f":"IF('見積書(2号)'!I183=\"\",\"\",'見積書(2号)'!I183)","v":""},{"$f":"IF('見積書(2号)'!J183=\"\",\"\",'見積書(2号)'!J183)","v":""},{"$f":"IF('見積書(2号)'!K183=\"\",\"\",'見積書(2号)'!K183)","v":""},{"$f":"IF('見積書(2号)'!L183=\"\",\"\",'見積書(2号)'!L183)","v":""},{"$f":"IF('見積書(2号)'!M183=\"\",\"\",'見積書(2号)'!M183)","v":""},null,"","",null,"",""]
[{"$f":"IF('見積書(2号)'!A184=\"\",\"\",'見積書(2号)'!A184)","v":""},{"$f":"IF('見積書(2号)'!B184=\"\",\"\",'見積書(2号)'!B184)","v":""},{"$f":"IF('見積書(2号)'!C184=\"\",\"\",'見積書(2号)'!C184)","v":""},{"$f":"IF('見積書(2号)'!H184=\"\",\"\",'見積書(2号)'!H184)","v":""},{"$f":"IF('見積書(2号)'!E184=\"\",\"\",'見積書(2号)'!E184)","v":""},{"$f":"IF('見積書(2号)'!I184=\"\",\"\",'見積書(2号)'!I184)","v":""},{"$f":"IF('見積書(2号)'!J184=\"\",\"\",'見積書(2号)'!J184)","v":""},{"$f":"IF('見積書(2号)'!K184=\"\",\"\",'見積書(2号)'!K184)","v":""},{"$f":"IF('見積書(2号)'!L184=\"\",\"\",'見積書(2号)'!L184)","v":""},{"$f":"IF('見積書(2号)'!M184=\"\",\"\",'見積書(2号)'!M184)","v":""},null,"","",null,"",""]
[{"$f":"IF('見積書(2号)'!A185=\"\",\"\",'見積書(2号)'!A185)","v":""},{"$f":"IF('見積書(2号)'!B185=\"\",\"\",'見積書(2号)'!B185)","v":""},{"$f":"IF('見積書(2号)'!C185=\"\",\"\",'見積書(2号)'!C185)","v":""},{"$f":"IF('見積書(2号)'!H185=\"\",\"\",'見積書(2号)'!H185)","v":""},{"$f":"IF('見積書(2号)'!E185=\"\",\"\",'見積書(2号)'!E185)","v":""},{"$f":"IF('見積書(2号)'!I185=\"\",\"\",'見積書(2号)'!I185)","v":""},{"$f":"IF('見積書(2号)'!J185=\"\",\"\",'見積書(2号)'!J185)","v":""},{"$f":"IF('見積書(2号)'!K185=\"\",\"\",'見積書(2号)'!K185)","v":""},{"$f":"IF('見積書(2号)'!L185=\"\",\"\",'見積書(2号)'!L185)","v":""},{"$f":"IF('見積書(2号)'!M185=\"\",\"\",'見積書(2号)'!M185)","v":""},null,"","",null,"",""]
[{"$f":"IF('見積書(2号)'!A186=\"\",\"\",'見積書(2号)'!A186)","v":""},{"$f":"IF('見積書(2号)'!B186=\"\",\"\",'見積書(2号)'!B186)","v":""},{"$f":"IF('見積書(2号)'!C186=\"\",\"\",'見積書(2号)'!C186)","v":""},{"$f":"IF('見積書(2号)'!H186=\"\",\"\",'見積書(2号)'!H186)","v":""},{"$f":"IF('見積書(2号)'!E186=\"\",\"\",'見積書(2号)'!E186)","v":""},{"$f":"IF('見積書(2号)'!I186=\"\",\"\",'見積書(2号)'!I186)","v":""},{"$f":"IF('見積書(2号)'!J186=\"\",\"\",'見積書(2号)'!J186)","v":""},{"$f":"IF('見積書(2号)'!K186=\"\",\"\",'見積書(2号)'!K186)","v":""},{"$f":"IF('見積書(2号)'!L186=\"\",\"\",'見積書(2号)'!L186)","v":""},{"$f":"IF('見積書(2号)'!M186=\"\",\"\",'見積書(2号)'!M186)","v":""},null,"","",null,"",""]
[{"$f":"IF('見積書(2号)'!A187=\"\",\"\",'見積書(2号)'!A187)","v":""},{"$f":"IF('見積書(2号)'!B187=\"\",\"\",'見積書(2号)'!B187)","v":""},{"$f":"IF('見積書(2号)'!C187=\"\",\"\",'見積書(2号)'!C187)","v":""},{"$f":"IF('見積書(2号)'!H187=\"\",\"\",'見積書(2号)'!H187)","v":""},{"$f":"IF('見積書(2号)'!E187=\"\",\"\",'見積書(2号)'!E187)","v":""},{"$f":"IF('見積書(2号)'!I187=\"\",\"\",'見積書(2号)'!I187)","v":""},{"$f":"IF('見積書(2号)'!J187=\"\",\"\",'見積書(2号)'!J187)","v":""},{"$f":"IF('見積書(2号)'!K187=\"\",\"\",'見積書(2号)'!K187)","v":""},{"$f":"IF('見積書(2号)'!L187=\"\",\"\",'見積書(2号)'!L187)","v":""},{"$f":"IF('見積書(2号)'!M187=\"\",\"\",'見積書(2号)'!M187)","v":""},null,"","",null,"",""]
[{"$f":"IF('見積書(2号)'!A188=\"\",\"\",'見積書(2号)'!A188)","v":""},{"$f":"IF('見積書(2号)'!B188=\"\",\"\",'見積書(2号)'!B188)","v":""},{"$f":"IF('見積書(2号)'!C188=\"\",\"\",'見積書(2号)'!C188)","v":""},{"$f":"IF('見積書(2号)'!H188=\"\",\"\",'見積書(2号)'!H188)","v":""},{"$f":"IF('見積書(2号)'!E188=\"\",\"\",'見積書(2号)'!E188)","v":""},{"$f":"IF('見積書(2号)'!I188=\"\",\"\",'見積書(2号)'!I188)","v":""},{"$f":"IF('見積書(2号)'!J188=\"\",\"\",'見積書(2号)'!J188)","v":""},{"$f":"IF('見積書(2号)'!K188=\"\",\"\",'見積書(2号)'!K188)","v":""},{"$f":"IF('見積書(2号)'!L188=\"\",\"\",'見積書(2号)'!L188)","v":""},{"$f":"IF('見積書(2号)'!M188=\"\",\"\",'見積書(2号)'!M188)","v":""},null,"","",null,"",""]
[{"$f":"IF('見積書(2号)'!A189=\"\",\"\",'見積書(2号)'!A189)","v":""},{"$f":"IF('見積書(2号)'!B189=\"\",\"\",'見積書(2号)'!B189)","v":""},{"$f":"IF('見積書(2号)'!C189=\"\",\"\",'見積書(2号)'!C189)","v":""},{"$f":"IF('見積書(2号)'!H189=\"\",\"\",'見積書(2号)'!H189)","v":""},{"$f":"IF('見積書(2号)'!E189=\"\",\"\",'見積書(2号)'!E189)","v":""},{"$f":"IF('見積書(2号)'!I189=\"\",\"\",'見積書(2号)'!I189)","v":""},{"$f":"IF('見積書(2号)'!J189=\"\",\"\",'見積書(2号)'!J189)","v":""},{"$f":"IF('見積書(2号)'!K189=\"\",\"\",'見積書(2号)'!K189)","v":""},{"$f":"IF('見積書(2号)'!L189=\"\",\"\",'見積書(2号)'!L189)","v":""},{"$f":"IF('見積書(2号)'!M189=\"\",\"\",'見積書(2号)'!M189)","v":""},null,"","",null,"",""]
[{"$f":"IF('見積書(2号)'!A190=\"\",\"\",'見積書(2号)'!A190)","v":""},{"$f":"IF('見積書(2号)'!B190=\"\",\"\",'見積書(2号)'!B190)","v":""},{"$f":"IF('見積書(2号)'!C190=\"\",\"\",'見積書(2号)'!C190)","v":""},{"$f":"IF('見積書(2号)'!H190=\"\",\"\",'見積書(2号)'!H190)","v":""},{"$f":"IF('見積書(2号)'!E190=\"\",\"\",'見積書(2号)'!E190)","v":""},{"$f":"IF('見積書(2号)'!I190=\"\",\"\",'見積書(2号)'!I190)","v":""},{"$f":"IF('見積書(2号)'!J190=\"\",\"\",'見積書(2号)'!J190)","v":""},{"$f":"IF('見積書(2号)'!K190=\"\",\"\",'見積書(2号)'!K190)","v":""},{"$f":"IF('見積書(2号)'!L190=\"\",\"\",'見積書(2号)'!L190)","v":""},{"$f":"IF('見積書(2号)'!M190=\"\",\"\",'見積書(2号)'!M190)","v":""},null,"","",null,"",""]
[{"$f":"IF('見積書(2号)'!A191=\"\",\"\",'見積書(2号)'!A191)","v":""},{"$f":"IF('見積書(2号)'!B191=\"\",\"\",'見積書(2号)'!B191)","v":""},{"$f":"IF('見積書(2号)'!C191=\"\",\"\",'見積書(2号)'!C191)","v":""},{"$f":"IF('見積書(2号)'!H191=\"\",\"\",'見積書(2号)'!H191)","v":""},{"$f":"IF('見積書(2号)'!E191=\"\",\"\",'見積書(2号)'!E191)","v":""},{"$f":"IF('見積書(2号)'!I191=\"\",\"\",'見積書(2号)'!I191)","v":""},{"$f":"IF('見積書(2号)'!J191=\"\",\"\",'見積書(2号)'!J191)","v":""},{"$f":"IF('見積書(2号)'!K191=\"\",\"\",'見積書(2号)'!K191)","v":""},{"$f":"IF('見積書(2号)'!L191=\"\",\"\",'見積書(2号)'!L191)","v":""},{"$f":"IF('見積書(2号)'!M191=\"\",\"\",'見積書(2号)'!M191)","v":""},null,"","",null,"",""]
[{"$f":"IF('見積書(2号)'!A192=\"\",\"\",'見積書(2号)'!A192)","v":""},{"$f":"IF('見積書(2号)'!B192=\"\",\"\",'見積書(2号)'!B192)","v":""},{"$f":"IF('見積書(2号)'!C192=\"\",\"\",'見積書(2号)'!C192)","v":""},{"$f":"IF('見積書(2号)'!H192=\"\",\"\",'見積書(2号)'!H192)","v":""},{"$f":"IF('見積書(2号)'!E192=\"\",\"\",'見積書(2号)'!E192)","v":""},{"$f":"IF('見積書(2号)'!I192=\"\",\"\",'見積書(2号)'!I192)","v":""},{"$f":"IF('見積書(2号)'!J192=\"\",\"\",'見積書(2号)'!J192)","v":""},{"$f":"IF('見積書(2号)'!K192=\"\",\"\",'見積書(2号)'!K192)","v":""},{"$f":"IF('見積書(2号)'!L192=\"\",\"\",'見積書(2号)'!L192)","v":""},{"$f":"IF('見積書(2号)'!M192=\"\",\"\",'見積書(2号)'!M192)","v":""},null,"","",null,"",""]
[{"$f":"IF('見積書(2号)'!A193=\"\",\"\",'見積書(2号)'!A193)","v":""},{"$f":"IF('見積書(2号)'!B193=\"\",\"\",'見積書(2号)'!B193)","v":""},{"$f":"IF('見積書(2号)'!C193=\"\",\"\",'見積書(2号)'!C193)","v":""},{"$f":"IF('見積書(2号)'!H193=\"\",\"\",'見積書(2号)'!H193)","v":""},{"$f":"IF('見積書(2号)'!E193=\"\",\"\",'見積書(2号)'!E193)","v":""},{"$f":"IF('見積書(2号)'!I193=\"\",\"\",'見積書(2号)'!I193)","v":""},{"$f":"IF('見積書(2号)'!J193=\"\",\"\",'見積書(2号)'!J193)","v":""},{"$f":"IF('見積書(2号)'!K193=\"\",\"\",'見積書(2号)'!K193)","v":""},{"$f":"IF('見積書(2号)'!L193=\"\",\"\",'見積書(2号)'!L193)","v":""},{"$f":"IF('見積書(2号)'!M193=\"\",\"\",'見積書(2号)'!M193)","v":""},null,"","",null,"",""]
[{"$f":"IF('見積書(2号)'!A194=\"\",\"\",'見積書(2号)'!A194)","v":""},{"$f":"IF('見積書(2号)'!B194=\"\",\"\",'見積書(2号)'!B194)","v":""},{"$f":"IF('見積書(2号)'!C194=\"\",\"\",'見積書(2号)'!C194)","v":""},{"$f":"IF('見積書(2号)'!H194=\"\",\"\",'見積書(2号)'!H194)","v":""},{"$f":"IF('見積書(2号)'!E194=\"\",\"\",'見積書(2号)'!E194)","v":""},{"$f":"IF('見積書(2号)'!I194=\"\",\"\",'見積書(2号)'!I194)","v":""},{"$f":"IF('見積書(2号)'!J194=\"\",\"\",'見積書(2号)'!J194)","v":""},{"$f":"IF('見積書(2号)'!K194=\"\",\"\",'見積書(2号)'!K194)","v":""},{"$f":"IF('見積書(2号)'!L194=\"\",\"\",'見積書(2号)'!L194)","v":""},{"$f":"IF('見積書(2号)'!M194=\"\",\"\",'見積書(2号)'!M194)","v":""},null,"","",null,"",""]
[{"$f":"IF('見積書(2号)'!A195=\"\",\"\",'見積書(2号)'!A195)","v":""},{"$f":"IF('見積書(2号)'!B195=\"\",\"\",'見積書(2号)'!B195)","v":""},{"$f":"IF('見積書(2号)'!C195=\"\",\"\",'見積書(2号)'!C195)","v":""},{"$f":"IF('見積書(2号)'!H195=\"\",\"\",'見積書(2号)'!H195)","v":""},{"$f":"IF('見積書(2号)'!E195=\"\",\"\",'見積書(2号)'!E195)","v":""},{"$f":"IF('見積書(2号)'!I195=\"\",\"\",'見積書(2号)'!I195)","v":""},{"$f":"IF('見積書(2号)'!J195=\"\",\"\",'見積書(2号)'!J195)","v":""},{"$f":"IF('見積書(2号)'!K195=\"\",\"\",'見積書(2号)'!K195)","v":""},{"$f":"IF('見積書(2号)'!L195=\"\",\"\",'見積書(2号)'!L195)","v":""},{"$f":"IF('見積書(2号)'!M195=\"\",\"\",'見積書(2号)'!M195)","v":""},null,"","",null,"",""]
[{"$f":"IF('見積書(2号)'!A196=\"\",\"\",'見積書(2号)'!A196)","v":""},{"$f":"IF('見積書(2号)'!B196=\"\",\"\",'見積書(2号)'!B196)","v":""},{"$f":"IF('見積書(2号)'!C196=\"\",\"\",'見積書(2号)'!C196)","v":""},{"$f":"IF('見積書(2号)'!H196=\"\",\"\",'見積書(2号)'!H196)","v":""},{"$f":"IF('見積書(2号)'!E196=\"\",\"\",'見積書(2号)'!E196)","v":""},{"$f":"IF('見積書(2号)'!I196=\"\",\"\",'見積書(2号)'!I196)","v":""},{"$f":"IF('見積書(2号)'!J196=\"\",\"\",'見積書(2号)'!J196)","v":""},{"$f":"IF('見積書(2号)'!K196=\"\",\"\",'見積書(2号)'!K196)","v":""},{"$f":"IF('見積書(2号)'!L196=\"\",\"\",'見積書(2号)'!L196)","v":""},{"$f":"IF('見積書(2号)'!M196=\"\",\"\",'見積書(2号)'!M196)","v":""},null,"","",null,"",""]
[{"$f":"IF('見積書(2号)'!A197=\"\",\"\",'見積書(2号)'!A197)","v":""},{"$f":"IF('見積書(2号)'!B197=\"\",\"\",'見積書(2号)'!B197)","v":""},{"$f":"IF('見積書(2号)'!C197=\"\",\"\",'見積書(2号)'!C197)","v":""},{"$f":"IF('見積書(2号)'!H197=\"\",\"\",'見積書(2号)'!H197)","v":""},{"$f":"IF('見積書(2号)'!E197=\"\",\"\",'見積書(2号)'!E197)","v":""},{"$f":"IF('見積書(2号)'!I197=\"\",\"\",'見積書(2号)'!I197)","v":""},{"$f":"IF('見積書(2号)'!J197=\"\",\"\",'見積書(2号)'!J197)","v":""},{"$f":"IF('見積書(2号)'!K197=\"\",\"\",'見積書(2号)'!K197)","v":""},{"$f":"IF('見積書(2号)'!L197=\"\",\"\",'見積書(2号)'!L197)","v":""},{"$f":"IF('見積書(2号)'!M197=\"\",\"\",'見積書(2号)'!M197)","v":""},null,"","",null,"",""]
[{"$f":"IF('見積書(2号)'!A198=\"\",\"\",'見積書(2号)'!A198)","v":""},{"$f":"IF('見積書(2号)'!B198=\"\",\"\",'見積書(2号)'!B198)","v":""},{"$f":"IF('見積書(2号)'!C198=\"\",\"\",'見積書(2号)'!C198)","v":""},{"$f":"IF('見積書(2号)'!H198=\"\",\"\",'見積書(2号)'!H198)","v":""},{"$f":"IF('見積書(2号)'!E198=\"\",\"\",'見積書(2号)'!E198)","v":""},{"$f":"IF('見積書(2号)'!I198=\"\",\"\",'見積書(2号)'!I198)","v":""},{"$f":"IF('見積書(2号)'!J198=\"\",\"\",'見積書(2号)'!J198)","v":""},{"$f":"IF('見積書(2号)'!K198=\"\",\"\",'見積書(2号)'!K198)","v":""},{"$f":"IF('見積書(2号)'!L198=\"\",\"\",'見積書(2号)'!L198)","v":""},{"$f":"IF('見積書(2号)'!M198=\"\",\"\",'見積書(2号)'!M198)","v":""},null,"","",null,"",""]
[{"$f":"IF('見積書(2号)'!A199=\"\",\"\",'見積書(2号)'!A199)","v":""},{"$f":"IF('見積書(2号)'!B199=\"\",\"\",'見積書(2号)'!B199)","v":""},{"$f":"IF('見積書(2号)'!C199=\"\",\"\",'見積書(2号)'!C199)","v":""},{"$f":"IF('見積書(2号)'!H199=\"\",\"\",'見積書(2号)'!H199)","v":""},{"$f":"IF('見積書(2号)'!E199=\"\",\"\",'見積書(2号)'!E199)","v":""},{"$f":"IF('見積書(2号)'!I199=\"\",\"\",'見積書(2号)'!I199)","v":""},{"$f":"IF('見積書(2号)'!J199=\"\",\"\",'見積書(2号)'!J199)","v":""},{"$f":"IF('見積書(2号)'!K199=\"\",\"\",'見積書(2号)'!K199)","v":""},{"$f":"IF('見積書(2号)'!L199=\"\",\"\",'見積書(2号)'!L199)","v":""},{"$f":"IF('見積書(2号)'!M199=\"\",\"\",'見積書(2号)'!M199)","v":""},null,"","",null,"",""]
[{"$f":"IF('見積書(2号)'!A200=\"\",\"\",'見積書(2号)'!A200)","v":""},{"$f":"IF('見積書(2号)'!B200=\"\",\"\",'見積書(2号)'!B200)","v":""},{"$f":"IF('見積書(2号)'!C200=\"\",\"\",'見積書(2号)'!C200)","v":""},{"$f":"IF('見積書(2号)'!H200=\"\",\"\",'見積書(2号)'!H200)","v":""},{"$f":"IF('見積書(2号)'!E200=\"\",\"\",'見積書(2号)'!E200)","v":""},{"$f":"IF('見積書(2号)'!I200=\"\",\"\",'見積書(2号)'!I200)","v":""},{"$f":"IF('見積書(2号)'!J200=\"\",\"\",'見積書(2号)'!J200)","v":""},{"$f":"IF('見積書(2号)'!K200=\"\",\"\",'見積書(2号)'!K200)","v":""},{"$f":"IF('見積書(2号)'!L200=\"\",\"\",'見積書(2号)'!L200)","v":""},{"$f":"IF('見積書(2号)'!M200=\"\",\"\",'見積書(2号)'!M200)","v":""},null,"","",null,"",""]
[{"$f":"IF('見積書(2号)'!A201=\"\",\"\",'見積書(2号)'!A201)","v":""},{"$f":"IF('見積書(2号)'!B201=\"\",\"\",'見積書(2号)'!B201)","v":""},{"$f":"IF('見積書(2号)'!C201=\"\",\"\",'見積書(2号)'!C201)","v":""},{"$f":"IF('見積書(2号)'!H201=\"\",\"\",'見積書(2号)'!H201)","v":""},{"$f":"IF('見積書(2号)'!E201=\"\",\"\",'見積書(2号)'!E201)","v":""},{"$f":"IF('見積書(2号)'!I201=\"\",\"\",'見積書(2号)'!I201)","v":""},{"$f":"IF('見積書(2号)'!J201=\"\",\"\",'見積書(2号)'!J201)","v":""},{"$f":"IF('見積書(2号)'!K201=\"\",\"\",'見積書(2号)'!K201)","v":""},{"$f":"IF('見積書(2号)'!L201=\"\",\"\",'見積書(2号)'!L201)","v":""},{"$f":"IF('見積書(2号)'!M201=\"\",\"\",'見積書(2号)'!M201)","v":""},null,"","",null,"",""]
[{"$f":"IF('見積書(2号)'!A202=\"\",\"\",'見積書(2号)'!A202)","v":""},{"$f":"IF('見積書(2号)'!B202=\"\",\"\",'見積書(2号)'!B202)","v":""},{"$f":"IF('見積書(2号)'!C202=\"\",\"\",'見積書(2号)'!C202)","v":""},{"$f":"IF('見積書(2号)'!H202=\"\",\"\",'見積書(2号)'!H202)","v":""},{"$f":"IF('見積書(2号)'!E202=\"\",\"\",'見積書(2号)'!E202)","v":""},{"$f":"IF('見積書(2号)'!I202=\"\",\"\",'見積書(2号)'!I202)","v":""},{"$f":"IF('見積書(2号)'!J202=\"\",\"\",'見積書(2号)'!J202)","v":""},{"$f":"IF('見積書(2号)'!K202=\"\",\"\",'見積書(2号)'!K202)","v":""},{"$f":"IF('見積書(2号)'!L202=\"\",\"\",'見積書(2号)'!L202)","v":""},{"$f":"IF('見積書(2号)'!M202=\"\",\"\",'見積書(2号)'!M202)","v":""},null,"","",null,"",""]
[{"$f":"IF('見積書(2号)'!A203=\"\",\"\",'見積書(2号)'!A203)","v":""},{"$f":"IF('見積書(2号)'!B203=\"\",\"\",'見積書(2号)'!B203)","v":""},{"$f":"IF('見積書(2号)'!C203=\"\",\"\",'見積書(2号)'!C203)","v":""},{"$f":"IF('見積書(2号)'!H203=\"\",\"\",'見積書(2号)'!H203)","v":""},{"$f":"IF('見積書(2号)'!E203=\"\",\"\",'見積書(2号)'!E203)","v":""},{"$f":"IF('見積書(2号)'!I203=\"\",\"\",'見積書(2号)'!I203)","v":""},{"$f":"IF('見積書(2号)'!J203=\"\",\"\",'見積書(2号)'!J203)","v":""},{"$f":"IF('見積書(2号)'!K203=\"\",\"\",'見積書(2号)'!K203)","v":""},{"$f":"IF('見積書(2号)'!L203=\"\",\"\",'見積書(2号)'!L203)","v":""},{"$f":"IF('見積書(2号)'!M203=\"\",\"\",'見積書(2号)'!M203)","v":""},null,{"$f":"IF(I203=\"\",F203,I203)","v":""},{"$f":"IF(L203=\"\",\"\",L203*K203)","v":""},null,"",""]
[{"$f":"IF('見積書(2号)'!A204=\"\",\"\",'見積書(2号)'!A204)","v":""},{"$f":"IF('見積書(2号)'!B204=\"\",\"\",'見積書(2号)'!B204)","v":""},{"$f":"IF('見積書(2号)'!C204=\"\",\"\",'見積書(2号)'!C204)","v":""},{"$f":"IF('見積書(2号)'!H204=\"\",\"\",'見積書(2号)'!H204)","v":""},{"$f":"IF('見積書(2号)'!E204=\"\",\"\",'見積書(2号)'!E204)","v":""},{"$f":"IF('見積書(2号)'!I204=\"\",\"\",'見積書(2号)'!I204)","v":""},{"$f":"IF('見積書(2号)'!J204=\"\",\"\",'見積書(2号)'!J204)","v":""},{"$f":"IF('見積書(2号)'!K204=\"\",\"\",'見積書(2号)'!K204)","v":""},{"$f":"IF('見積書(2号)'!L204=\"\",\"\",'見積書(2号)'!L204)","v":""},{"$f":"IF('見積書(2号)'!M204=\"\",\"\",'見積書(2号)'!M204)","v":""},null,"","",null,"",""]
[{"$f":"IF('見積書(2号)'!A205=\"\",\"\",'見積書(2号)'!A205)","v":""},{"$f":"IF('見積書(2号)'!B205=\"\",\"\",'見積書(2号)'!B205)","v":""},{"$f":"IF('見積書(2号)'!C205=\"\",\"\",'見積書(2号)'!C205)","v":""},{"$f":"IF('見積書(2号)'!H205=\"\",\"\",'見積書(2号)'!H205)","v":""},{"$f":"IF('見積書(2号)'!E205=\"\",\"\",'見積書(2号)'!E205)","v":""},{"$f":"IF('見積書(2号)'!I205=\"\",\"\",'見積書(2号)'!I205)","v":""},{"$f":"IF('見積書(2号)'!J205=\"\",\"\",'見積書(2号)'!J205)","v":""},{"$f":"IF('見積書(2号)'!K205=\"\",\"\",'見積書(2号)'!K205)","v":""},{"$f":"IF('見積書(2号)'!L205=\"\",\"\",'見積書(2号)'!L205)","v":""},{"$f":"IF('見積書(2号)'!M205=\"\",\"\",'見積書(2号)'!M205)","v":""},null,"","",null,"",""]
[{"$f":"IF('見積書(2号)'!A206=\"\",\"\",'見積書(2号)'!A206)","v":""},{"$f":"IF('見積書(2号)'!B206=\"\",\"\",'見積書(2号)'!B206)","v":""},{"$f":"IF('見積書(2号)'!C206=\"\",\"\",'見積書(2号)'!C206)","v":""},{"$f":"IF('見積書(2号)'!H206=\"\",\"\",'見積書(2号)'!H206)","v":""},{"$f":"IF('見積書(2号)'!E206=\"\",\"\",'見積書(2号)'!E206)","v":""},{"$f":"IF('見積書(2号)'!I206=\"\",\"\",'見積書(2号)'!I206)","v":""},{"$f":"IF('見積書(2号)'!J206=\"\",\"\",'見積書(2号)'!J206)","v":""},{"$f":"IF('見積書(2号)'!K206=\"\",\"\",'見積書(2号)'!K206)","v":""},{"$f":"IF('見積書(2号)'!L206=\"\",\"\",'見積書(2号)'!L206)","v":""},{"$f":"IF('見積書(2号)'!M206=\"\",\"\",'見積書(2号)'!M206)","v":""},null,"","",null,"",""]
[{"$f":"IF('見積書(2号)'!A207=\"\",\"\",'見積書(2号)'!A207)","v":""},{"$f":"IF('見積書(2号)'!B207=\"\",\"\",'見積書(2号)'!B207)","v":""},{"$f":"IF('見積書(2号)'!C207=\"\",\"\",'見積書(2号)'!C207)","v":""},{"$f":"IF('見積書(2号)'!H207=\"\",\"\",'見積書(2号)'!H207)","v":""},{"$f":"IF('見積書(2号)'!E207=\"\",\"\",'見積書(2号)'!E207)","v":""},{"$f":"IF('見積書(2号)'!I207=\"\",\"\",'見積書(2号)'!I207)","v":""},{"$f":"IF('見積書(2号)'!J207=\"\",\"\",'見積書(2号)'!J207)","v":""},{"$f":"IF('見積書(2号)'!K207=\"\",\"\",'見積書(2号)'!K207)","v":""},{"$f":"IF('見積書(2号)'!L207=\"\",\"\",'見積書(2号)'!L207)","v":""},{"$f":"IF('見積書(2号)'!M207=\"\",\"\",'見積書(2号)'!M207)","v":""},null,"","",null,"",""]
[{"$f":"IF('見積書(2号)'!A208=\"\",\"\",'見積書(2号)'!A208)","v":""},{"$f":"IF('見積書(2号)'!B208=\"\",\"\",'見積書(2号)'!B208)","v":""},{"$f":"IF('見積書(2号)'!C208=\"\",\"\",'見積書(2号)'!C208)","v":""},{"$f":"IF('見積書(2号)'!H208=\"\",\"\",'見積書(2号)'!H208)","v":""},{"$f":"IF('見積書(2号)'!E208=\"\",\"\",'見積書(2号)'!E208)","v":""},{"$f":"IF('見積書(2号)'!I208=\"\",\"\",'見積書(2号)'!I208)","v":""},{"$f":"IF('見積書(2号)'!J208=\"\",\"\",'見積書(2号)'!J208)","v":""},{"$f":"IF('見積書(2号)'!K208=\"\",\"\",'見積書(2号)'!K208)","v":""},{"$f":"IF('見積書(2号)'!L208=\"\",\"\",'見積書(2号)'!L208)","v":""},{"$f":"IF('見積書(2号)'!M208=\"\",\"\",'見積書(2号)'!M208)","v":""},null,"","",null,"",""]
[{"$f":"IF('見積書(2号)'!A209=\"\",\"\",'見積書(2号)'!A209)","v":""},{"$f":"IF('見積書(2号)'!B209=\"\",\"\",'見積書(2号)'!B209)","v":""},{"$f":"IF('見積書(2号)'!C209=\"\",\"\",'見積書(2号)'!C209)","v":""},{"$f":"IF('見積書(2号)'!H209=\"\",\"\",'見積書(2号)'!H209)","v":""},{"$f":"IF('見積書(2号)'!E209=\"\",\"\",'見積書(2号)'!E209)","v":""},{"$f":"IF('見積書(2号)'!I209=\"\",\"\",'見積書(2号)'!I209)","v":""},{"$f":"IF('見積書(2号)'!J209=\"\",\"\",'見積書(2号)'!J209)","v":""},{"$f":"IF('見積書(2号)'!K209=\"\",\"\",'見積書(2号)'!K209)","v":""},{"$f":"IF('見積書(2号)'!L209=\"\",\"\",'見積書(2号)'!L209)","v":""},{"$f":"IF('見積書(2号)'!M209=\"\",\"\",'見積書(2号)'!M209)","v":""},null,"","",null,"",""]
[{"$f":"IF('見積書(2号)'!A210=\"\",\"\",'見積書(2号)'!A210)","v":""},{"$f":"IF('見積書(2号)'!B210=\"\",\"\",'見積書(2号)'!B210)","v":""},{"$f":"IF('見積書(2号)'!C210=\"\",\"\",'見積書(2号)'!C210)","v":""},{"$f":"IF('見積書(2号)'!H210=\"\",\"\",'見積書(2号)'!H210)","v":""},{"$f":"IF('見積書(2号)'!E210=\"\",\"\",'見積書(2号)'!E210)","v":""},{"$f":"IF('見積書(2号)'!I210=\"\",\"\",'見積書(2号)'!I210)","v":""},{"$f":"IF('見積書(2号)'!J210=\"\",\"\",'見積書(2号)'!J210)","v":""},{"$f":"IF('見積書(2号)'!K210=\"\",\"\",'見積書(2号)'!K210)","v":""},{"$f":"IF('見積書(2号)'!L210=\"\",\"\",'見積書(2号)'!L210)","v":""},{"$f":"IF('見積書(2号)'!M210=\"\",\"\",'見積書(2号)'!M210)","v":""},null,"","",null,"",""]
[{"$f":"IF('見積書(2号)'!A211=\"\",\"\",'見積書(2号)'!A211)","v":""},{"$f":"IF('見積書(2号)'!B211=\"\",\"\",'見積書(2号)'!B211)","v":""},{"$f":"IF('見積書(2号)'!C211=\"\",\"\",'見積書(2号)'!C211)","v":""},{"$f":"IF('見積書(2号)'!H211=\"\",\"\",'見積書(2号)'!H211)","v":""},{"$f":"IF('見積書(2号)'!E211=\"\",\"\",'見積書(2号)'!E211)","v":""},{"$f":"IF('見積書(2号)'!I211=\"\",\"\",'見積書(2号)'!I211)","v":""},{"$f":"IF('見積書(2号)'!J211=\"\",\"\",'見積書(2号)'!J211)","v":""},{"$f":"IF('見積書(2号)'!K211=\"\",\"\",'見積書(2号)'!K211)","v":""},{"$f":"IF('見積書(2号)'!L211=\"\",\"\",'見積書(2号)'!L211)","v":""},{"$f":"IF('見積書(2号)'!M211=\"\",\"\",'見積書(2号)'!M211)","v":""},null,"","",null,"",""]
[{"$f":"IF('見積書(2号)'!A212=\"\",\"\",'見積書(2号)'!A212)","v":""},{"$f":"IF('見積書(2号)'!B212=\"\",\"\",'見積書(2号)'!B212)","v":""},{"$f":"IF('見積書(2号)'!C212=\"\",\"\",'見積書(2号)'!C212)","v":""},{"$f":"IF('見積書(2号)'!H212=\"\",\"\",'見積書(2号)'!H212)","v":""},{"$f":"IF('見積書(2号)'!E212=\"\",\"\",'見積書(2号)'!E212)","v":""},{"$f":"IF('見積書(2号)'!I212=\"\",\"\",'見積書(2号)'!I212)","v":""},{"$f":"IF('見積書(2号)'!J212=\"\",\"\",'見積書(2号)'!J212)","v":""},{"$f":"IF('見積書(2号)'!K212=\"\",\"\",'見積書(2号)'!K212)","v":""},{"$f":"IF('見積書(2号)'!L212=\"\",\"\",'見積書(2号)'!L212)","v":""},{"$f":"IF('見積書(2号)'!M212=\"\",\"\",'見積書(2号)'!M212)","v":""},null,"","",null,"",""]
[{"$f":"IF('見積書(2号)'!A213=\"\",\"\",'見積書(2号)'!A213)","v":""},{"$f":"IF('見積書(2号)'!B213=\"\",\"\",'見積書(2号)'!B213)","v":""},{"$f":"IF('見積書(2号)'!C213=\"\",\"\",'見積書(2号)'!C213)","v":""},{"$f":"IF('見積書(2号)'!H213=\"\",\"\",'見積書(2号)'!H213)","v":""},{"$f":"IF('見積書(2号)'!E213=\"\",\"\",'見積書(2号)'!E213)","v":""},{"$f":"IF('見積書(2号)'!I213=\"\",\"\",'見積書(2号)'!I213)","v":""},{"$f":"IF('見積書(2号)'!J213=\"\",\"\",'見積書(2号)'!J213)","v":""},{"$f":"IF('見積書(2号)'!K213=\"\",\"\",'見積書(2号)'!K213)","v":""},{"$f":"IF('見積書(2号)'!L213=\"\",\"\",'見積書(2号)'!L213)","v":""},{"$f":"IF('見積書(2号)'!M213=\"\",\"\",'見積書(2号)'!M213)","v":""},null,"","",null,"",""]
[{"$f":"IF('見積書(2号)'!A214=\"\",\"\",'見積書(2号)'!A214)","v":""},{"$f":"IF('見積書(2号)'!B214=\"\",\"\",'見積書(2号)'!B214)","v":""},{"$f":"IF('見積書(2号)'!C214=\"\",\"\",'見積書(2号)'!C214)","v":""},{"$f":"IF('見積書(2号)'!H214=\"\",\"\",'見積書(2号)'!H214)","v":""},{"$f":"IF('見積書(2号)'!E214=\"\",\"\",'見積書(2号)'!E214)","v":""},{"$f":"IF('見積書(2号)'!I214=\"\",\"\",'見積書(2号)'!I214)","v":""},{"$f":"IF('見積書(2号)'!J214=\"\",\"\",'見積書(2号)'!J214)","v":""},{"$f":"IF('見積書(2号)'!K214=\"\",\"\",'見積書(2号)'!K214)","v":""},{"$f":"IF('見積書(2号)'!L214=\"\",\"\",'見積書(2号)'!L214)","v":""},{"$f":"IF('見積書(2号)'!M214=\"\",\"\",'見積書(2号)'!M214)","v":""},null,"","",null,"",""]
[{"$f":"IF('見積書(2号)'!A215=\"\",\"\",'見積書(2号)'!A215)","v":""},{"$f":"IF('見積書(2号)'!B215=\"\",\"\",'見積書(2号)'!B215)","v":""},{"$f":"IF('見積書(2号)'!C215=\"\",\"\",'見積書(2号)'!C215)","v":""},{"$f":"IF('見積書(2号)'!H215=\"\",\"\",'見積書(2号)'!H215)","v":""},{"$f":"IF('見積書(2号)'!E215=\"\",\"\",'見積書(2号)'!E215)","v":""},{"$f":"IF('見積書(2号)'!I215=\"\",\"\",'見積書(2号)'!I215)","v":""},{"$f":"IF('見積書(2号)'!J215=\"\",\"\",'見積書(2号)'!J215)","v":""},{"$f":"IF('見積書(2号)'!K215=\"\",\"\",'見積書(2号)'!K215)","v":""},{"$f":"IF('見積書(2号)'!L215=\"\",\"\",'見積書(2号)'!L215)","v":""},{"$f":"IF('見積書(2号)'!M215=\"\",\"\",'見積書(2号)'!M215)","v":""},null,"","",null,"",""]
[{"$f":"IF('見積書(2号)'!A216=\"\",\"\",'見積書(2号)'!A216)","v":""},{"$f":"IF('見積書(2号)'!B216=\"\",\"\",'見積書(2号)'!B216)","v":""},{"$f":"IF('見積書(2号)'!C216=\"\",\"\",'見積書(2号)'!C216)","v":""},{"$f":"IF('見積書(2号)'!H216=\"\",\"\",'見積書(2号)'!H216)","v":""},{"$f":"IF('見積書(2号)'!E216=\"\",\"\",'見積書(2号)'!E216)","v":""},{"$f":"IF('見積書(2号)'!I216=\"\",\"\",'見積書(2号)'!I216)","v":""},{"$f":"IF('見積書(2号)'!J216=\"\",\"\",'見積書(2号)'!J216)","v":""},{"$f":"IF('見積書(2号)'!K216=\"\",\"\",'見積書(2号)'!K216)","v":""},{"$f":"IF('見積書(2号)'!L216=\"\",\"\",'見積書(2号)'!L216)","v":""},{"$f":"IF('見積書(2号)'!M216=\"\",\"\",'見積書(2号)'!M216)","v":""},null,"","",null,"",""]
[{"$f":"IF('見積書(2号)'!A217=\"\",\"\",'見積書(2号)'!A217)","v":""},{"$f":"IF('見積書(2号)'!B217=\"\",\"\",'見積書(2号)'!B217)","v":""},{"$f":"IF('見積書(2号)'!C217=\"\",\"\",'見積書(2号)'!C217)","v":""},{"$f":"IF('見積書(2号)'!H217=\"\",\"\",'見積書(2号)'!H217)","v":""},{"$f":"IF('見積書(2号)'!E217=\"\",\"\",'見積書(2号)'!E217)","v":""},{"$f":"IF('見積書(2号)'!I217=\"\",\"\",'見積書(2号)'!I217)","v":""},{"$f":"IF('見積書(2号)'!J217=\"\",\"\",'見積書(2号)'!J217)","v":""},{"$f":"IF('見積書(2号)'!K217=\"\",\"\",'見積書(2号)'!K217)","v":""},{"$f":"IF('見積書(2号)'!L217=\"\",\"\",'見積書(2号)'!L217)","v":""},{"$f":"IF('見積書(2号)'!M217=\"\",\"\",'見積書(2号)'!M217)","v":""},null,"","",null,"",""]
[{"$f":"IF('見積書(2号)'!A218=\"\",\"\",'見積書(2号)'!A218)","v":""},{"$f":"IF('見積書(2号)'!B218=\"\",\"\",'見積書(2号)'!B218)","v":""},{"$f":"IF('見積書(2号)'!C218=\"\",\"\",'見積書(2号)'!C218)","v":""},{"$f":"IF('見積書(2号)'!H218=\"\",\"\",'見積書(2号)'!H218)","v":""},{"$f":"IF('見積書(2号)'!E218=\"\",\"\",'見積書(2号)'!E218)","v":""},{"$f":"IF('見積書(2号)'!I218=\"\",\"\",'見積書(2号)'!I218)","v":""},{"$f":"IF('見積書(2号)'!J218=\"\",\"\",'見積書(2号)'!J218)","v":""},{"$f":"IF('見積書(2号)'!K218=\"\",\"\",'見積書(2号)'!K218)","v":""},{"$f":"IF('見積書(2号)'!L218=\"\",\"\",'見積書(2号)'!L218)","v":""},{"$f":"IF('見積書(2号)'!M218=\"\",\"\",'見積書(2号)'!M218)","v":""},null,"","",null,"",""]
[{"$f":"IF('見積書(2号)'!A219=\"\",\"\",'見積書(2号)'!A219)","v":""},{"$f":"IF('見積書(2号)'!B219=\"\",\"\",'見積書(2号)'!B219)","v":""},{"$f":"IF('見積書(2号)'!C219=\"\",\"\",'見積書(2号)'!C219)","v":""},{"$f":"IF('見積書(2号)'!H219=\"\",\"\",'見積書(2号)'!H219)","v":""},{"$f":"IF('見積書(2号)'!E219=\"\",\"\",'見積書(2号)'!E219)","v":""},{"$f":"IF('見積書(2号)'!I219=\"\",\"\",'見積書(2号)'!I219)","v":""},{"$f":"IF('見積書(2号)'!J219=\"\",\"\",'見積書(2号)'!J219)","v":""},{"$f":"IF('見積書(2号)'!K219=\"\",\"\",'見積書(2号)'!K219)","v":""},{"$f":"IF('見積書(2号)'!L219=\"\",\"\",'見積書(2号)'!L219)","v":""},{"$f":"IF('見積書(2号)'!M219=\"\",\"\",'見積書(2号)'!M219)","v":""},null,"","",null,"",""]
[{"$f":"IF('見積書(2号)'!A220=\"\",\"\",'見積書(2号)'!A220)","v":""},{"$f":"IF('見積書(2号)'!B220=\"\",\"\",'見積書(2号)'!B220)","v":""},{"$f":"IF('見積書(2号)'!C220=\"\",\"\",'見積書(2号)'!C220)","v":""},{"$f":"IF('見積書(2号)'!H220=\"\",\"\",'見積書(2号)'!H220)","v":""},{"$f":"IF('見積書(2号)'!E220=\"\",\"\",'見積書(2号)'!E220)","v":""},{"$f":"IF('見積書(2号)'!I220=\"\",\"\",'見積書(2号)'!I220)","v":""},{"$f":"IF('見積書(2号)'!J220=\"\",\"\",'見積書(2号)'!J220)","v":""},{"$f":"IF('見積書(2号)'!K220=\"\",\"\",'見積書(2号)'!K220)","v":""},{"$f":"IF('見積書(2号)'!L220=\"\",\"\",'見積書(2号)'!L220)","v":""},{"$f":"IF('見積書(2号)'!M220=\"\",\"\",'見積書(2号)'!M220)","v":""},null,"","",null,"",""]
[{"$f":"IF('見積書(2号)'!A221=\"\",\"\",'見積書(2号)'!A221)","v":""},{"$f":"IF('見積書(2号)'!B221=\"\",\"\",'見積書(2号)'!B221)","v":""},{"$f":"IF('見積書(2号)'!C221=\"\",\"\",'見積書(2号)'!C221)","v":""},{"$f":"IF('見積書(2号)'!H221=\"\",\"\",'見積書(2号)'!H221)","v":""},{"$f":"IF('見積書(2号)'!E221=\"\",\"\",'見積書(2号)'!E221)","v":""},{"$f":"IF('見積書(2号)'!I221=\"\",\"\",'見積書(2号)'!I221)","v":""},{"$f":"IF('見積書(2号)'!J221=\"\",\"\",'見積書(2号)'!J221)","v":""},{"$f":"IF('見積書(2号)'!K221=\"\",\"\",'見積書(2号)'!K221)","v":""},{"$f":"IF('見積書(2号)'!L221=\"\",\"\",'見積書(2号)'!L221)","v":""},{"$f":"IF('見積書(2号)'!M221=\"\",\"\",'見積書(2号)'!M221)","v":""},null,"","",null,"",""]
[{"$f":"IF('見積書(2号)'!A222=\"\",\"\",'見積書(2号)'!A222)","v":""},{"$f":"IF('見積書(2号)'!B222=\"\",\"\",'見積書(2号)'!B222)","v":""},{"$f":"IF('見積書(2号)'!C222=\"\",\"\",'見積書(2号)'!C222)","v":""},{"$f":"IF('見積書(2号)'!H222=\"\",\"\",'見積書(2号)'!H222)","v":""},{"$f":"IF('見積書(2号)'!E222=\"\",\"\",'見積書(2号)'!E222)","v":""},{"$f":"IF('見積書(2号)'!I222=\"\",\"\",'見積書(2号)'!I222)","v":""},{"$f":"IF('見積書(2号)'!J222=\"\",\"\",'見積書(2号)'!J222)","v":""},{"$f":"IF('見積書(2号)'!K222=\"\",\"\",'見積書(2号)'!K222)","v":""},{"$f":"IF('見積書(2号)'!L222=\"\",\"\",'見積書(2号)'!L222)","v":""},{"$f":"IF('見積書(2号)'!M222=\"\",\"\",'見積書(2号)'!M222)","v":""},null,"","",null,"",""]
[{"$f":"IF('見積書(2号)'!A223=\"\",\"\",'見積書(2号)'!A223)","v":""},{"$f":"IF('見積書(2号)'!B223=\"\",\"\",'見積書(2号)'!B223)","v":""},{"$f":"IF('見積書(2号)'!C223=\"\",\"\",'見積書(2号)'!C223)","v":""},{"$f":"IF('見積書(2号)'!H223=\"\",\"\",'見積書(2号)'!H223)","v":""},{"$f":"IF('見積書(2号)'!E223=\"\",\"\",'見積書(2号)'!E223)","v":""},{"$f":"IF('見積書(2号)'!I223=\"\",\"\",'見積書(2号)'!I223)","v":""},{"$f":"IF('見積書(2号)'!J223=\"\",\"\",'見積書(2号)'!J223)","v":""},{"$f":"IF('見積書(2号)'!K223=\"\",\"\",'見積書(2号)'!K223)","v":""},{"$f":"IF('見積書(2号)'!L223=\"\",\"\",'見積書(2号)'!L223)","v":""},{"$f":"IF('見積書(2号)'!M223=\"\",\"\",'見積書(2号)'!M223)","v":""},null,"","",null,"",""]
[{"$f":"IF('見積書(2号)'!A224=\"\",\"\",'見積書(2号)'!A224)","v":""},{"$f":"IF('見積書(2号)'!B224=\"\",\"\",'見積書(2号)'!B224)","v":""},{"$f":"IF('見積書(2号)'!C224=\"\",\"\",'見積書(2号)'!C224)","v":""},{"$f":"IF('見積書(2号)'!H224=\"\",\"\",'見積書(2号)'!H224)","v":""},{"$f":"IF('見積書(2号)'!E224=\"\",\"\",'見積書(2号)'!E224)","v":""},{"$f":"IF('見積書(2号)'!I224=\"\",\"\",'見積書(2号)'!I224)","v":""},{"$f":"IF('見積書(2号)'!J224=\"\",\"\",'見積書(2号)'!J224)","v":""},{"$f":"IF('見積書(2号)'!K224=\"\",\"\",'見積書(2号)'!K224)","v":""},{"$f":"IF('見積書(2号)'!L224=\"\",\"\",'見積書(2号)'!L224)","v":""},{"$f":"IF('見積書(2号)'!M224=\"\",\"\",'見積書(2号)'!M224)","v":""},null,"","",null,"",""]
[{"$f":"IF('見積書(2号)'!A225=\"\",\"\",'見積書(2号)'!A225)","v":""},{"$f":"IF('見積書(2号)'!B225=\"\",\"\",'見積書(2号)'!B225)","v":""},{"$f":"IF('見積書(2号)'!C225=\"\",\"\",'見積書(2号)'!C225)","v":""},{"$f":"IF('見積書(2号)'!H225=\"\",\"\",'見積書(2号)'!H225)","v":""},{"$f":"IF('見積書(2号)'!E225=\"\",\"\",'見積書(2号)'!E225)","v":""},{"$f":"IF('見積書(2号)'!I225=\"\",\"\",'見積書(2号)'!I225)","v":""},{"$f":"IF('見積書(2号)'!J225=\"\",\"\",'見積書(2号)'!J225)","v":""},{"$f":"IF('見積書(2号)'!K225=\"\",\"\",'見積書(2号)'!K225)","v":""},{"$f":"IF('見積書(2号)'!L225=\"\",\"\",'見積書(2号)'!L225)","v":""},{"$f":"IF('見積書(2号)'!M225=\"\",\"\",'見積書(2号)'!M225)","v":""},null,"","",null,"",""]
[{"$f":"IF('見積書(2号)'!A226=\"\",\"\",'見積書(2号)'!A226)","v":""},{"$f":"IF('見積書(2号)'!B226=\"\",\"\",'見積書(2号)'!B226)","v":""},{"$f":"IF('見積書(2号)'!C226=\"\",\"\",'見積書(2号)'!C226)","v":""},{"$f":"IF('見積書(2号)'!H226=\"\",\"\",'見積書(2号)'!H226)","v":""},{"$f":"IF('見積書(2号)'!E226=\"\",\"\",'見積書(2号)'!E226)","v":""},{"$f":"IF('見積書(2号)'!I226=\"\",\"\",'見積書(2号)'!I226)","v":""},{"$f":"IF('見積書(2号)'!J226=\"\",\"\",'見積書(2号)'!J226)","v":""},{"$f":"IF('見積書(2号)'!K226=\"\",\"\",'見積書(2号)'!K226)","v":""},{"$f":"IF('見積書(2号)'!L226=\"\",\"\",'見積書(2号)'!L226)","v":""},{"$f":"IF('見積書(2号)'!M226=\"\",\"\",'見積書(2号)'!M226)","v":""},null,"","",null,"",""]
[{"$f":"IF('見積書(2号)'!A227=\"\",\"\",'見積書(2号)'!A227)","v":""},{"$f":"IF('見積書(2号)'!B227=\"\",\"\",'見積書(2号)'!B227)","v":""},{"$f":"IF('見積書(2号)'!C227=\"\",\"\",'見積書(2号)'!C227)","v":""},{"$f":"IF('見積書(2号)'!H227=\"\",\"\",'見積書(2号)'!H227)","v":""},{"$f":"IF('見積書(2号)'!E227=\"\",\"\",'見積書(2号)'!E227)","v":""},{"$f":"IF('見積書(2号)'!I227=\"\",\"\",'見積書(2号)'!I227)","v":""},{"$f":"IF('見積書(2号)'!J227=\"\",\"\",'見積書(2号)'!J227)","v":""},{"$f":"IF('見積書(2号)'!K227=\"\",\"\",'見積書(2号)'!K227)","v":""},{"$f":"IF('見積書(2号)'!L227=\"\",\"\",'見積書(2号)'!L227)","v":""},{"$f":"IF('見積書(2号)'!M227=\"\",\"\",'見積書(2号)'!M227)","v":""},null,"","",null,"",""]
[{"$f":"IF('見積書(2号)'!A228=\"\",\"\",'見積書(2号)'!A228)","v":""},{"$f":"IF('見積書(2号)'!B228=\"\",\"\",'見積書(2号)'!B228)","v":""},{"$f":"IF('見積書(2号)'!C228=\"\",\"\",'見積書(2号)'!C228)","v":""},{"$f":"IF('見積書(2号)'!H228=\"\",\"\",'見積書(2号)'!H228)","v":""},{"$f":"IF('見積書(2号)'!E228=\"\",\"\",'見積書(2号)'!E228)","v":""},{"$f":"IF('見積書(2号)'!I228=\"\",\"\",'見積書(2号)'!I228)","v":""},{"$f":"IF('見積書(2号)'!J228=\"\",\"\",'見積書(2号)'!J228)","v":""},{"$f":"IF('見積書(2号)'!K228=\"\",\"\",'見積書(2号)'!K228)","v":""},{"$f":"IF('見積書(2号)'!L228=\"\",\"\",'見積書(2号)'!L228)","v":""},{"$f":"IF('見積書(2号)'!M228=\"\",\"\",'見積書(2号)'!M228)","v":""},null,"","",null,"",""]
[{"$f":"IF('見積書(2号)'!A229=\"\",\"\",'見積書(2号)'!A229)","v":""},{"$f":"IF('見積書(2号)'!B229=\"\",\"\",'見積書(2号)'!B229)","v":""},{"$f":"IF('見積書(2号)'!C229=\"\",\"\",'見積書(2号)'!C229)","v":""},{"$f":"IF('見積書(2号)'!H229=\"\",\"\",'見積書(2号)'!H229)","v":""},{"$f":"IF('見積書(2号)'!E229=\"\",\"\",'見積書(2号)'!E229)","v":""},{"$f":"IF('見積書(2号)'!I229=\"\",\"\",'見積書(2号)'!I229)","v":""},{"$f":"IF('見積書(2号)'!J229=\"\",\"\",'見積書(2号)'!J229)","v":""},{"$f":"IF('見積書(2号)'!K229=\"\",\"\",'見積書(2号)'!K229)","v":""},{"$f":"IF('見積書(2号)'!L229=\"\",\"\",'見積書(2号)'!L229)","v":""},{"$f":"IF('見積書(2号)'!M229=\"\",\"\",'見積書(2号)'!M229)","v":""},null,"","",null,"",""]
[{"$f":"IF('見積書(2号)'!A230=\"\",\"\",'見積書(2号)'!A230)","v":""},{"$f":"IF('見積書(2号)'!B230=\"\",\"\",'見積書(2号)'!B230)","v":""},{"$f":"IF('見積書(2号)'!C230=\"\",\"\",'見積書(2号)'!C230)","v":""},{"$f":"IF('見積書(2号)'!H230=\"\",\"\",'見積書(2号)'!H230)","v":""},{"$f":"IF('見積書(2号)'!E230=\"\",\"\",'見積書(2号)'!E230)","v":""},{"$f":"IF('見積書(2号)'!I230=\"\",\"\",'見積書(2号)'!I230)","v":""},{"$f":"IF('見積書(2号)'!J230=\"\",\"\",'見積書(2号)'!J230)","v":""},{"$f":"IF('見積書(2号)'!K230=\"\",\"\",'見積書(2号)'!K230)","v":""},{"$f":"IF('見積書(2号)'!L230=\"\",\"\",'見積書(2号)'!L230)","v":""},{"$f":"IF('見積書(2号)'!M230=\"\",\"\",'見積書(2号)'!M230)","v":""},null,"","",null,"",""]
[{"$f":"IF('見積書(2号)'!A231=\"\",\"\",'見積書(2号)'!A231)","v":""},{"$f":"IF('見積書(2号)'!B231=\"\",\"\",'見積書(2号)'!B231)","v":""},{"$f":"IF('見積書(2号)'!C231=\"\",\"\",'見積書(2号)'!C231)","v":""},{"$f":"IF('見積書(2号)'!H231=\"\",\"\",'見積書(2号)'!H231)","v":""},{"$f":"IF('見積書(2号)'!E231=\"\",\"\",'見積書(2号)'!E231)","v":""},{"$f":"IF('見積書(2号)'!I231=\"\",\"\",'見積書(2号)'!I231)","v":""},{"$f":"IF('見積書(2号)'!J231=\"\",\"\",'見積書(2号)'!J231)","v":""},{"$f":"IF('見積書(2号)'!K231=\"\",\"\",'見積書(2号)'!K231)","v":""},{"$f":"IF('見積書(2号)'!L231=\"\",\"\",'見積書(2号)'!L231)","v":""},{"$f":"IF('見積書(2号)'!M231=\"\",\"\",'見積書(2号)'!M231)","v":""},null,"","",null,"",""]
[{"$f":"IF('見積書(2号)'!A232=\"\",\"\",'見積書(2号)'!A232)","v":""},{"$f":"IF('見積書(2号)'!B232=\"\",\"\",'見積書(2号)'!B232)","v":""},{"$f":"IF('見積書(2号)'!C232=\"\",\"\",'見積書(2号)'!C232)","v":""},{"$f":"IF('見積書(2号)'!H232=\"\",\"\",'見積書(2号)'!H232)","v":""},{"$f":"IF('見積書(2号)'!E232=\"\",\"\",'見積書(2号)'!E232)","v":""},{"$f":"IF('見積書(2号)'!I232=\"\",\"\",'見積書(2号)'!I232)","v":""},{"$f":"IF('見積書(2号)'!J232=\"\",\"\",'見積書(2号)'!J232)","v":""},{"$f":"IF('見積書(2号)'!K232=\"\",\"\",'見積書(2号)'!K232)","v":""},{"$f":"IF('見積書(2号)'!L232=\"\",\"\",'見積書(2号)'!L232)","v":""},{"$f":"IF('見積書(2号)'!M232=\"\",\"\",'見積書(2号)'!M232)","v":""},null,"","",null,"",""]
[{"$f":"IF('見積書(2号)'!A233=\"\",\"\",'見積書(2号)'!A233)","v":""},{"$f":"IF('見積書(2号)'!B233=\"\",\"\",'見積書(2号)'!B233)","v":""},{"$f":"IF('見積書(2号)'!C233=\"\",\"\",'見積書(2号)'!C233)","v":""},{"$f":"IF('見積書(2号)'!H233=\"\",\"\",'見積書(2号)'!H233)","v":""},{"$f":"IF('見積書(2号)'!E233=\"\",\"\",'見積書(2号)'!E233)","v":""},{"$f":"IF('見積書(2号)'!I233=\"\",\"\",'見積書(2号)'!I233)","v":""},{"$f":"IF('見積書(2号)'!J233=\"\",\"\",'見積書(2号)'!J233)","v":""},{"$f":"IF('見積書(2号)'!K233=\"\",\"\",'見積書(2号)'!K233)","v":""},{"$f":"IF('見積書(2号)'!L233=\"\",\"\",'見積書(2号)'!L233)","v":""},{"$f":"IF('見積書(2号)'!M233=\"\",\"\",'見積書(2号)'!M233)","v":""},null,"","",null,"",""]
[{"$f":"IF('見積書(2号)'!A234=\"\",\"\",'見積書(2号)'!A234)","v":""},{"$f":"IF('見積書(2号)'!B234=\"\",\"\",'見積書(2号)'!B234)","v":""},{"$f":"IF('見積書(2号)'!C234=\"\",\"\",'見積書(2号)'!C234)","v":""},{"$f":"IF('見積書(2号)'!H234=\"\",\"\",'見積書(2号)'!H234)","v":""},{"$f":"IF('見積書(2号)'!E234=\"\",\"\",'見積書(2号)'!E234)","v":""},{"$f":"IF('見積書(2号)'!I234=\"\",\"\",'見積書(2号)'!I234)","v":""},{"$f":"IF('見積書(2号)'!J234=\"\",\"\",'見積書(2号)'!J234)","v":""},{"$f":"IF('見積書(2号)'!K234=\"\",\"\",'見積書(2号)'!K234)","v":""},{"$f":"IF('見積書(2号)'!L234=\"\",\"\",'見積書(2号)'!L234)","v":""},{"$f":"IF('見積書(2号)'!M234=\"\",\"\",'見積書(2号)'!M234)","v":""},null,"","",null,"",""]
[{"$f":"IF('見積書(2号)'!A235=\"\",\"\",'見積書(2号)'!A235)","v":""},{"$f":"IF('見積書(2号)'!B235=\"\",\"\",'見積書(2号)'!B235)","v":""},{"$f":"IF('見積書(2号)'!C235=\"\",\"\",'見積書(2号)'!C235)","v":""},{"$f":"IF('見積書(2号)'!H235=\"\",\"\",'見積書(2号)'!H235)","v":""},{"$f":"IF('見積書(2号)'!E235=\"\",\"\",'見積書(2号)'!E235)","v":""},{"$f":"IF('見積書(2号)'!I235=\"\",\"\",'見積書(2号)'!I235)","v":""},{"$f":"IF('見積書(2号)'!J235=\"\",\"\",'見積書(2号)'!J235)","v":""},{"$f":"IF('見積書(2号)'!K235=\"\",\"\",'見積書(2号)'!K235)","v":""},{"$f":"IF('見積書(2号)'!L235=\"\",\"\",'見積書(2号)'!L235)","v":""},{"$f":"IF('見積書(2号)'!M235=\"\",\"\",'見積書(2号)'!M235)","v":""},null,"","",null,"",""]
[{"$f":"IF('見積書(2号)'!A236=\"\",\"\",'見積書(2号)'!A236)","v":""},{"$f":"IF('見積書(2号)'!B236=\"\",\"\",'見積書(2号)'!B236)","v":""},{"$f":"IF('見積書(2号)'!C236=\"\",\"\",'見積書(2号)'!C236)","v":""},{"$f":"IF('見積書(2号)'!H236=\"\",\"\",'見積書(2号)'!H236)","v":""},{"$f":"IF('見積書(2号)'!E236=\"\",\"\",'見積書(2号)'!E236)","v":""},{"$f":"IF('見積書(2号)'!I236=\"\",\"\",'見積書(2号)'!I236)","v":""},{"$f":"IF('見積書(2号)'!J236=\"\",\"\",'見積書(2号)'!J236)","v":""},{"$f":"IF('見積書(2号)'!K236=\"\",\"\",'見積書(2号)'!K236)","v":""},{"$f":"IF('見積書(2号)'!L236=\"\",\"\",'見積書(2号)'!L236)","v":""},{"$f":"IF('見積書(2号)'!M236=\"\",\"\",'見積書(2号)'!M236)","v":""},null,"","",null,"",""]
[{"$f":"IF('見積書(2号)'!A237=\"\",\"\",'見積書(2号)'!A237)","v":""},{"$f":"IF('見積書(2号)'!B237=\"\",\"\",'見積書(2号)'!B237)","v":""},{"$f":"IF('見積書(2号)'!C237=\"\",\"\",'見積書(2号)'!C237)","v":""},{"$f":"IF('見積書(2号)'!H237=\"\",\"\",'見積書(2号)'!H237)","v":""},{"$f":"IF('見積書(2号)'!E237=\"\",\"\",'見積書(2号)'!E237)","v":""},{"$f":"IF('見積書(2号)'!I237=\"\",\"\",'見積書(2号)'!I237)","v":""},{"$f":"IF('見積書(2号)'!J237=\"\",\"\",'見積書(2号)'!J237)","v":""},{"$f":"IF('見積書(2号)'!K237=\"\",\"\",'見積書(2号)'!K237)","v":""},{"$f":"IF('見積書(2号)'!L237=\"\",\"\",'見積書(2号)'!L237)","v":""},{"$f":"IF('見積書(2号)'!M237=\"\",\"\",'見積書(2号)'!M237)","v":""},null,"","",null,"",""]
[{"$f":"IF('見積書(2号)'!A238=\"\",\"\",'見積書(2号)'!A238)","v":""},{"$f":"IF('見積書(2号)'!B238=\"\",\"\",'見積書(2号)'!B238)","v":""},{"$f":"IF('見積書(2号)'!C238=\"\",\"\",'見積書(2号)'!C238)","v":""},{"$f":"IF('見積書(2号)'!H238=\"\",\"\",'見積書(2号)'!H238)","v":""},{"$f":"IF('見積書(2号)'!E238=\"\",\"\",'見積書(2号)'!E238)","v":""},{"$f":"IF('見積書(2号)'!I238=\"\",\"\",'見積書(2号)'!I238)","v":""},{"$f":"IF('見積書(2号)'!J238=\"\",\"\",'見積書(2号)'!J238)","v":""},{"$f":"IF('見積書(2号)'!K238=\"\",\"\",'見積書(2号)'!K238)","v":""},{"$f":"IF('見積書(2号)'!L238=\"\",\"\",'見積書(2号)'!L238)","v":""},{"$f":"IF('見積書(2号)'!M238=\"\",\"\",'見積書(2号)'!M238)","v":""},null,"","",null,"",""]
[{"$f":"IF('見積書(2号)'!A239=\"\",\"\",'見積書(2号)'!A239)","v":""},{"$f":"IF('見積書(2号)'!B239=\"\",\"\",'見積書(2号)'!B239)","v":""},{"$f":"IF('見積書(2号)'!C239=\"\",\"\",'見積書(2号)'!C239)","v":""},{"$f":"IF('見積書(2号)'!H239=\"\",\"\",'見積書(2号)'!H239)","v":""},{"$f":"IF('見積書(2号)'!E239=\"\",\"\",'見積書(2号)'!E239)","v":""},{"$f":"IF('見積書(2号)'!I239=\"\",\"\",'見積書(2号)'!I239)","v":""},{"$f":"IF('見積書(2号)'!J239=\"\",\"\",'見積書(2号)'!J239)","v":""},{"$f":"IF('見積書(2号)'!K239=\"\",\"\",'見積書(2号)'!K239)","v":""},{"$f":"IF('見積書(2号)'!L239=\"\",\"\",'見積書(2号)'!L239)","v":""},{"$f":"IF('見積書(2号)'!M239=\"\",\"\",'見積書(2号)'!M239)","v":""},null,"","",null,"",""]
[{"$f":"IF('見積書(2号)'!A240=\"\",\"\",'見積書(2号)'!A240)","v":""},{"$f":"IF('見積書(2号)'!B240=\"\",\"\",'見積書(2号)'!B240)","v":""},{"$f":"IF('見積書(2号)'!C240=\"\",\"\",'見積書(2号)'!C240)","v":""},{"$f":"IF('見積書(2号)'!H240=\"\",\"\",'見積書(2号)'!H240)","v":""},{"$f":"IF('見積書(2号)'!E240=\"\",\"\",'見積書(2号)'!E240)","v":""},{"$f":"IF('見積書(2号)'!I240=\"\",\"\",'見積書(2号)'!I240)","v":""},{"$f":"IF('見積書(2号)'!J240=\"\",\"\",'見積書(2号)'!J240)","v":""},{"$f":"IF('見積書(2号)'!K240=\"\",\"\",'見積書(2号)'!K240)","v":""},{"$f":"IF('見積書(2号)'!L240=\"\",\"\",'見積書(2号)'!L240)","v":""},{"$f":"IF('見積書(2号)'!M240=\"\",\"\",'見積書(2号)'!M240)","v":""},null,"","",null,"",""]
[{"$f":"IF('見積書(2号)'!A241=\"\",\"\",'見積書(2号)'!A241)","v":""},{"$f":"IF('見積書(2号)'!B241=\"\",\"\",'見積書(2号)'!B241)","v":""},{"$f":"IF('見積書(2号)'!C241=\"\",\"\",'見積書(2号)'!C241)","v":""},{"$f":"IF('見積書(2号)'!H241=\"\",\"\",'見積書(2号)'!H241)","v":""},{"$f":"IF('見積書(2号)'!E241=\"\",\"\",'見積書(2号)'!E241)","v":""},{"$f":"IF('見積書(2号)'!I241=\"\",\"\",'見積書(2号)'!I241)","v":""},{"$f":"IF('見積書(2号)'!J241=\"\",\"\",'見積書(2号)'!J241)","v":""},{"$f":"IF('見積書(2号)'!K241=\"\",\"\",'見積書(2号)'!K241)","v":""},{"$f":"IF('見積書(2号)'!L241=\"\",\"\",'見積書(2号)'!L241)","v":""},{"$f":"IF('見積書(2号)'!M241=\"\",\"\",'見積書(2号)'!M241)","v":""},null,"","",null,"",""]
[{"$f":"IF('見積書(2号)'!A242=\"\",\"\",'見積書(2号)'!A242)","v":""},{"$f":"IF('見積書(2号)'!B242=\"\",\"\",'見積書(2号)'!B242)","v":""},{"$f":"IF('見積書(2号)'!C242=\"\",\"\",'見積書(2号)'!C242)","v":""},{"$f":"IF('見積書(2号)'!H242=\"\",\"\",'見積書(2号)'!H242)","v":""},{"$f":"IF('見積書(2号)'!E242=\"\",\"\",'見積書(2号)'!E242)","v":""},{"$f":"IF('見積書(2号)'!I242=\"\",\"\",'見積書(2号)'!I242)","v":""},{"$f":"IF('見積書(2号)'!J242=\"\",\"\",'見積書(2号)'!J242)","v":""},{"$f":"IF('見積書(2号)'!K242=\"\",\"\",'見積書(2号)'!K242)","v":""},{"$f":"IF('見積書(2号)'!L242=\"\",\"\",'見積書(2号)'!L242)","v":""},{"$f":"IF('見積書(2号)'!M242=\"\",\"\",'見積書(2号)'!M242)","v":""},null,"","",null,"",""]
[{"$f":"IF('見積書(2号)'!A243=\"\",\"\",'見積書(2号)'!A243)","v":""},{"$f":"IF('見積書(2号)'!B243=\"\",\"\",'見積書(2号)'!B243)","v":""},{"$f":"IF('見積書(2号)'!C243=\"\",\"\",'見積書(2号)'!C243)","v":""},{"$f":"IF('見積書(2号)'!H243=\"\",\"\",'見積書(2号)'!H243)","v":""},{"$f":"IF('見積書(2号)'!E243=\"\",\"\",'見積書(2号)'!E243)","v":""},{"$f":"IF('見積書(2号)'!I243=\"\",\"\",'見積書(2号)'!I243)","v":""},{"$f":"IF('見積書(2号)'!J243=\"\",\"\",'見積書(2号)'!J243)","v":""},{"$f":"IF('見積書(2号)'!K243=\"\",\"\",'見積書(2号)'!K243)","v":""},{"$f":"IF('見積書(2号)'!L243=\"\",\"\",'見積書(2号)'!L243)","v":""},{"$f":"IF('見積書(2号)'!M243=\"\",\"\",'見積書(2号)'!M243)","v":""},null,"","",null,"",""]
[{"$f":"IF('見積書(2号)'!A244=\"\",\"\",'見積書(2号)'!A244)","v":""},{"$f":"IF('見積書(2号)'!B244=\"\",\"\",'見積書(2号)'!B244)","v":""},{"$f":"IF('見積書(2号)'!C244=\"\",\"\",'見積書(2号)'!C244)","v":""},{"$f":"IF('見積書(2号)'!H244=\"\",\"\",'見積書(2号)'!H244)","v":""},{"$f":"IF('見積書(2号)'!E244=\"\",\"\",'見積書(2号)'!E244)","v":""},{"$f":"IF('見積書(2号)'!I244=\"\",\"\",'見積書(2号)'!I244)","v":""},{"$f":"IF('見積書(2号)'!J244=\"\",\"\",'見積書(2号)'!J244)","v":""},{"$f":"IF('見積書(2号)'!K244=\"\",\"\",'見積書(2号)'!K244)","v":""},{"$f":"IF('見積書(2号)'!L244=\"\",\"\",'見積書(2号)'!L244)","v":""},{"$f":"IF('見積書(2号)'!M244=\"\",\"\",'見積書(2号)'!M244)","v":""},null,"","",null,"",""]
[{"$f":"IF('見積書(2号)'!A245=\"\",\"\",'見積書(2号)'!A245)","v":""},{"$f":"IF('見積書(2号)'!B245=\"\",\"\",'見積書(2号)'!B245)","v":""},{"$f":"IF('見積書(2号)'!C245=\"\",\"\",'見積書(2号)'!C245)","v":""},{"$f":"IF('見積書(2号)'!H245=\"\",\"\",'見積書(2号)'!H245)","v":""},{"$f":"IF('見積書(2号)'!E245=\"\",\"\",'見積書(2号)'!E245)","v":""},{"$f":"IF('見積書(2号)'!I245=\"\",\"\",'見積書(2号)'!I245)","v":""},{"$f":"IF('見積書(2号)'!J245=\"\",\"\",'見積書(2号)'!J245)","v":""},{"$f":"IF('見積書(2号)'!K245=\"\",\"\",'見積書(2号)'!K245)","v":""},{"$f":"IF('見積書(2号)'!L245=\"\",\"\",'見積書(2号)'!L245)","v":""},{"$f":"IF('見積書(2号)'!M245=\"\",\"\",'見積書(2号)'!M245)","v":""},null,"","",null,"",""]
[{"$f":"IF('見積書(2号)'!A246=\"\",\"\",'見積書(2号)'!A246)","v":""},{"$f":"IF('見積書(2号)'!B246=\"\",\"\",'見積書(2号)'!B246)","v":""},{"$f":"IF('見積書(2号)'!C246=\"\",\"\",'見積書(2号)'!C246)","v":""},{"$f":"IF('見積書(2号)'!H246=\"\",\"\",'見積書(2号)'!H246)","v":""},{"$f":"IF('見積書(2号)'!E246=\"\",\"\",'見積書(2号)'!E246)","v":""},{"$f":"IF('見積書(2号)'!I246=\"\",\"\",'見積書(2号)'!I246)","v":""},{"$f":"IF('見積書(2号)'!J246=\"\",\"\",'見積書(2号)'!J246)","v":""},{"$f":"IF('見積書(2号)'!K246=\"\",\"\",'見積書(2号)'!K246)","v":""},{"$f":"IF('見積書(2号)'!L246=\"\",\"\",'見積書(2号)'!L246)","v":""},{"$f":"IF('見積書(2号)'!M246=\"\",\"\",'見積書(2号)'!M246)","v":""},null,"","",null,"",""]
[{"$f":"IF('見積書(2号)'!A247=\"\",\"\",'見積書(2号)'!A247)","v":""},{"$f":"IF('見積書(2号)'!B247=\"\",\"\",'見積書(2号)'!B247)","v":""},{"$f":"IF('見積書(2号)'!C247=\"\",\"\",'見積書(2号)'!C247)","v":""},{"$f":"IF('見積書(2号)'!H247=\"\",\"\",'見積書(2号)'!H247)","v":""},{"$f":"IF('見積書(2号)'!E247=\"\",\"\",'見積書(2号)'!E247)","v":""},{"$f":"IF('見積書(2号)'!I247=\"\",\"\",'見積書(2号)'!I247)","v":""},{"$f":"IF('見積書(2号)'!J247=\"\",\"\",'見積書(2号)'!J247)","v":""},{"$f":"IF('見積書(2号)'!K247=\"\",\"\",'見積書(2号)'!K247)","v":""},{"$f":"IF('見積書(2号)'!L247=\"\",\"\",'見積書(2号)'!L247)","v":""},{"$f":"IF('見積書(2号)'!M247=\"\",\"\",'見積書(2号)'!M247)","v":""},null,"","",null,"",""]
[{"$f":"IF('見積書(2号)'!A248=\"\",\"\",'見積書(2号)'!A248)","v":""},{"$f":"IF('見積書(2号)'!B248=\"\",\"\",'見積書(2号)'!B248)","v":""},{"$f":"IF('見積書(2号)'!C248=\"\",\"\",'見積書(2号)'!C248)","v":""},{"$f":"IF('見積書(2号)'!H248=\"\",\"\",'見積書(2号)'!H248)","v":""},{"$f":"IF('見積書(2号)'!E248=\"\",\"\",'見積書(2号)'!E248)","v":""},{"$f":"IF('見積書(2号)'!I248=\"\",\"\",'見積書(2号)'!I248)","v":""},{"$f":"IF('見積書(2号)'!J248=\"\",\"\",'見積書(2号)'!J248)","v":""},{"$f":"IF('見積書(2号)'!K248=\"\",\"\",'見積書(2号)'!K248)","v":""},{"$f":"IF('見積書(2号)'!L248=\"\",\"\",'見積書(2号)'!L248)","v":""},{"$f":"IF('見積書(2号)'!M248=\"\",\"\",'見積書(2号)'!M248)","v":""},null,"","",null,"",""]
[{"$f":"IF('見積書(2号)'!A249=\"\",\"\",'見積書(2号)'!A249)","v":""},{"$f":"IF('見積書(2号)'!B249=\"\",\"\",'見積書(2号)'!B249)","v":""},{"$f":"IF('見積書(2号)'!C249=\"\",\"\",'見積書(2号)'!C249)","v":""},{"$f":"IF('見積書(2号)'!H249=\"\",\"\",'見積書(2号)'!H249)","v":""},{"$f":"IF('見積書(2号)'!E249=\"\",\"\",'見積書(2号)'!E249)","v":""},{"$f":"IF('見積書(2号)'!I249=\"\",\"\",'見積書(2号)'!I249)","v":""},{"$f":"IF('見積書(2号)'!J249=\"\",\"\",'見積書(2号)'!J249)","v":""},{"$f":"IF('見積書(2号)'!K249=\"\",\"\",'見積書(2号)'!K249)","v":""},{"$f":"IF('見積書(2号)'!L249=\"\",\"\",'見積書(2号)'!L249)","v":""},{"$f":"IF('見積書(2号)'!M249=\"\",\"\",'見積書(2号)'!M249)","v":""},null,"","",null,"",""]
[{"$f":"IF('見積書(2号)'!A250=\"\",\"\",'見積書(2号)'!A250)","v":""},{"$f":"IF('見積書(2号)'!B250=\"\",\"\",'見積書(2号)'!B250)","v":""},{"$f":"IF('見積書(2号)'!C250=\"\",\"\",'見積書(2号)'!C250)","v":""},{"$f":"IF('見積書(2号)'!H250=\"\",\"\",'見積書(2号)'!H250)","v":""},{"$f":"IF('見積書(2号)'!E250=\"\",\"\",'見積書(2号)'!E250)","v":""},{"$f":"IF('見積書(2号)'!I250=\"\",\"\",'見積書(2号)'!I250)","v":""},{"$f":"IF('見積書(2号)'!J250=\"\",\"\",'見積書(2号)'!J250)","v":""},{"$f":"IF('見積書(2号)'!K250=\"\",\"\",'見積書(2号)'!K250)","v":""},{"$f":"IF('見積書(2号)'!L250=\"\",\"\",'見積書(2号)'!L250)","v":""},{"$f":"IF('見積書(2号)'!M250=\"\",\"\",'見積書(2号)'!M250)","v":""},null,"","",null,"",""]
[{"$f":"IF('見積書(2号)'!A251=\"\",\"\",'見積書(2号)'!A251)","v":""},{"$f":"IF('見積書(2号)'!B251=\"\",\"\",'見積書(2号)'!B251)","v":""},{"$f":"IF('見積書(2号)'!C251=\"\",\"\",'見積書(2号)'!C251)","v":""},{"$f":"IF('見積書(2号)'!H251=\"\",\"\",'見積書(2号)'!H251)","v":""},{"$f":"IF('見積書(2号)'!E251=\"\",\"\",'見積書(2号)'!E251)","v":""},{"$f":"IF('見積書(2号)'!I251=\"\",\"\",'見積書(2号)'!I251)","v":""},{"$f":"IF('見積書(2号)'!J251=\"\",\"\",'見積書(2号)'!J251)","v":""},{"$f":"IF('見積書(2号)'!K251=\"\",\"\",'見積書(2号)'!K251)","v":""},{"$f":"IF('見積書(2号)'!L251=\"\",\"\",'見積書(2号)'!L251)","v":""},{"$f":"IF('見積書(2号)'!M251=\"\",\"\",'見積書(2号)'!M251)","v":""},null,"","",null,"",""]
[{"$f":"IF('見積書(2号)'!A252=\"\",\"\",'見積書(2号)'!A252)","v":""},{"$f":"IF('見積書(2号)'!B252=\"\",\"\",'見積書(2号)'!B252)","v":""},{"$f":"IF('見積書(2号)'!C252=\"\",\"\",'見積書(2号)'!C252)","v":""},{"$f":"IF('見積書(2号)'!H252=\"\",\"\",'見積書(2号)'!H252)","v":""},{"$f":"IF('見積書(2号)'!E252=\"\",\"\",'見積書(2号)'!E252)","v":""},{"$f":"IF('見積書(2号)'!I252=\"\",\"\",'見積書(2号)'!I252)","v":""},{"$f":"IF('見積書(2号)'!J252=\"\",\"\",'見積書(2号)'!J252)","v":""},{"$f":"IF('見積書(2号)'!K252=\"\",\"\",'見積書(2号)'!K252)","v":""},{"$f":"IF('見積書(2号)'!L252=\"\",\"\",'見積書(2号)'!L252)","v":""},{"$f":"IF('見積書(2号)'!M252=\"\",\"\",'見積書(2号)'!M252)","v":""},null,"","",null,"",""]
[{"$f":"IF('見積書(2号)'!A253=\"\",\"\",'見積書(2号)'!A253)","v":""},{"$f":"IF('見積書(2号)'!B253=\"\",\"\",'見積書(2号)'!B253)","v":""},{"$f":"IF('見積書(2号)'!C253=\"\",\"\",'見積書(2号)'!C253)","v":""},{"$f":"IF('見積書(2号)'!H253=\"\",\"\",'見積書(2号)'!H253)","v":""},{"$f":"IF('見積書(2号)'!E253=\"\",\"\",'見積書(2号)'!E253)","v":""},{"$f":"IF('見積書(2号)'!I253=\"\",\"\",'見積書(2号)'!I253)","v":""},{"$f":"IF('見積書(2号)'!J253=\"\",\"\",'見積書(2号)'!J253)","v":""},{"$f":"IF('見積書(2号)'!K253=\"\",\"\",'見積書(2号)'!K253)","v":""},{"$f":"IF('見積書(2号)'!L253=\"\",\"\",'見積書(2号)'!L253)","v":""},{"$f":"IF('見積書(2号)'!M253=\"\",\"\",'見積書(2号)'!M253)","v":""},null,"","",null,"",""]
[{"$f":"IF('見積書(2号)'!A254=\"\",\"\",'見積書(2号)'!A254)","v":""},{"$f":"IF('見積書(2号)'!B254=\"\",\"\",'見積書(2号)'!B254)","v":""},{"$f":"IF('見積書(2号)'!C254=\"\",\"\",'見積書(2号)'!C254)","v":""},{"$f":"IF('見積書(2号)'!H254=\"\",\"\",'見積書(2号)'!H254)","v":""},{"$f":"IF('見積書(2号)'!E254=\"\",\"\",'見積書(2号)'!E254)","v":""},{"$f":"IF('見積書(2号)'!I254=\"\",\"\",'見積書(2号)'!I254)","v":""},{"$f":"IF('見積書(2号)'!J254=\"\",\"\",'見積書(2号)'!J254)","v":""},{"$f":"IF('見積書(2号)'!K254=\"\",\"\",'見積書(2号)'!K254)","v":""},{"$f":"IF('見積書(2号)'!L254=\"\",\"\",'見積書(2号)'!L254)","v":""},{"$f":"IF('見積書(2号)'!M254=\"\",\"\",'見積書(2号)'!M254)","v":""},null,"","",null,"",""]
[{"$f":"IF('見積書(2号)'!A255=\"\",\"\",'見積書(2号)'!A255)","v":""},{"$f":"IF('見積書(2号)'!B255=\"\",\"\",'見積書(2号)'!B255)","v":""},{"$f":"IF('見積書(2号)'!C255=\"\",\"\",'見積書(2号)'!C255)","v":""},{"$f":"IF('見積書(2号)'!H255=\"\",\"\",'見積書(2号)'!H255)","v":""},{"$f":"IF('見積書(2号)'!E255=\"\",\"\",'見積書(2号)'!E255)","v":""},{"$f":"IF('見積書(2号)'!I255=\"\",\"\",'見積書(2号)'!I255)","v":""},{"$f":"IF('見積書(2号)'!J255=\"\",\"\",'見積書(2号)'!J255)","v":""},{"$f":"IF('見積書(2号)'!K255=\"\",\"\",'見積書(2号)'!K255)","v":""},{"$f":"IF('見積書(2号)'!L255=\"\",\"\",'見積書(2号)'!L255)","v":""},{"$f":"IF('見積書(2号)'!M255=\"\",\"\",'見積書(2号)'!M255)","v":""},null,"","",null,"",""]
[{"$f":"IF('見積書(2号)'!A256=\"\",\"\",'見積書(2号)'!A256)","v":""},{"$f":"IF('見積書(2号)'!B256=\"\",\"\",'見積書(2号)'!B256)","v":""},{"$f":"IF('見積書(2号)'!C256=\"\",\"\",'見積書(2号)'!C256)","v":""},{"$f":"IF('見積書(2号)'!H256=\"\",\"\",'見積書(2号)'!H256)","v":""},{"$f":"IF('見積書(2号)'!E256=\"\",\"\",'見積書(2号)'!E256)","v":""},{"$f":"IF('見積書(2号)'!I256=\"\",\"\",'見積書(2号)'!I256)","v":""},{"$f":"IF('見積書(2号)'!J256=\"\",\"\",'見積書(2号)'!J256)","v":""},{"$f":"IF('見積書(2号)'!K256=\"\",\"\",'見積書(2号)'!K256)","v":""},{"$f":"IF('見積書(2号)'!L256=\"\",\"\",'見積書(2号)'!L256)","v":""},{"$f":"IF('見積書(2号)'!M256=\"\",\"\",'見積書(2号)'!M256)","v":""},null,"","",null,"",""]
[{"$f":"IF('見積書(2号)'!A257=\"\",\"\",'見積書(2号)'!A257)","v":""},{"$f":"IF('見積書(2号)'!B257=\"\",\"\",'見積書(2号)'!B257)","v":""},{"$f":"IF('見積書(2号)'!C257=\"\",\"\",'見積書(2号)'!C257)","v":""},{"$f":"IF('見積書(2号)'!H257=\"\",\"\",'見積書(2号)'!H257)","v":""},{"$f":"IF('見積書(2号)'!E257=\"\",\"\",'見積書(2号)'!E257)","v":""},{"$f":"IF('見積書(2号)'!I257=\"\",\"\",'見積書(2号)'!I257)","v":""},{"$f":"IF('見積書(2号)'!J257=\"\",\"\",'見積書(2号)'!J257)","v":""},{"$f":"IF('見積書(2号)'!K257=\"\",\"\",'見積書(2号)'!K257)","v":""},{"$f":"IF('見積書(2号)'!L257=\"\",\"\",'見積書(2号)'!L257)","v":""},{"$f":"IF('見積書(2号)'!M257=\"\",\"\",'見積書(2号)'!M257)","v":""},null,"","",null,"",""]
[{"$f":"IF('見積書(2号)'!A258=\"\",\"\",'見積書(2号)'!A258)","v":""},{"$f":"IF('見積書(2号)'!B258=\"\",\"\",'見積書(2号)'!B258)","v":""},{"$f":"IF('見積書(2号)'!C258=\"\",\"\",'見積書(2号)'!C258)","v":""},{"$f":"IF('見積書(2号)'!H258=\"\",\"\",'見積書(2号)'!H258)","v":""},{"$f":"IF('見積書(2号)'!E258=\"\",\"\",'見積書(2号)'!E258)","v":""},{"$f":"IF('見積書(2号)'!I258=\"\",\"\",'見積書(2号)'!I258)","v":""},{"$f":"IF('見積書(2号)'!J258=\"\",\"\",'見積書(2号)'!J258)","v":""},{"$f":"IF('見積書(2号)'!K258=\"\",\"\",'見積書(2号)'!K258)","v":""},{"$f":"IF('見積書(2号)'!L258=\"\",\"\",'見積書(2号)'!L258)","v":""},{"$f":"IF('見積書(2号)'!M258=\"\",\"\",'見積書(2号)'!M258)","v":""},null,"","",null,"",""]
[{"$f":"IF('見積書(2号)'!A259=\"\",\"\",'見積書(2号)'!A259)","v":""},{"$f":"IF('見積書(2号)'!B259=\"\",\"\",'見積書(2号)'!B259)","v":""},{"$f":"IF('見積書(2号)'!C259=\"\",\"\",'見積書(2号)'!C259)","v":""},{"$f":"IF('見積書(2号)'!H259=\"\",\"\",'見積書(2号)'!H259)","v":""},{"$f":"IF('見積書(2号)'!E259=\"\",\"\",'見積書(2号)'!E259)","v":""},{"$f":"IF('見積書(2号)'!I259=\"\",\"\",'見積書(2号)'!I259)","v":""},{"$f":"IF('見積書(2号)'!J259=\"\",\"\",'見積書(2号)'!J259)","v":""},{"$f":"IF('見積書(2号)'!K259=\"\",\"\",'見積書(2号)'!K259)","v":""},{"$f":"IF('見積書(2号)'!L259=\"\",\"\",'見積書(2号)'!L259)","v":""},{"$f":"IF('見積書(2号)'!M259=\"\",\"\",'見積書(2号)'!M259)","v":""},null,"","",null,"",""]
[{"$f":"IF('見積書(2号)'!A260=\"\",\"\",'見積書(2号)'!A260)","v":""},{"$f":"IF('見積書(2号)'!B260=\"\",\"\",'見積書(2号)'!B260)","v":""},{"$f":"IF('見積書(2号)'!C260=\"\",\"\",'見積書(2号)'!C260)","v":""},{"$f":"IF('見積書(2号)'!H260=\"\",\"\",'見積書(2号)'!H260)","v":""},{"$f":"IF('見積書(2号)'!E260=\"\",\"\",'見積書(2号)'!E260)","v":""},{"$f":"IF('見積書(2号)'!I260=\"\",\"\",'見積書(2号)'!I260)","v":""},{"$f":"IF('見積書(2号)'!J260=\"\",\"\",'見積書(2号)'!J260)","v":""},{"$f":"IF('見積書(2号)'!K260=\"\",\"\",'見積書(2号)'!K260)","v":""},{"$f":"IF('見積書(2号)'!L260=\"\",\"\",'見積書(2号)'!L260)","v":""},{"$f":"IF('見積書(2号)'!M260=\"\",\"\",'見積書(2号)'!M260)","v":""},null,"","",null,"",""]
[{"$f":"IF('見積書(2号)'!A261=\"\",\"\",'見積書(2号)'!A261)","v":""},{"$f":"IF('見積書(2号)'!B261=\"\",\"\",'見積書(2号)'!B261)","v":""},{"$f":"IF('見積書(2号)'!C261=\"\",\"\",'見積書(2号)'!C261)","v":""},{"$f":"IF('見積書(2号)'!H261=\"\",\"\",'見積書(2号)'!H261)","v":""},{"$f":"IF('見積書(2号)'!E261=\"\",\"\",'見積書(2号)'!E261)","v":""},{"$f":"IF('見積書(2号)'!I261=\"\",\"\",'見積書(2号)'!I261)","v":""},{"$f":"IF('見積書(2号)'!J261=\"\",\"\",'見積書(2号)'!J261)","v":""},{"$f":"IF('見積書(2号)'!K261=\"\",\"\",'見積書(2号)'!K261)","v":""},{"$f":"IF('見積書(2号)'!L261=\"\",\"\",'見積書(2号)'!L261)","v":""},{"$f":"IF('見積書(2号)'!M261=\"\",\"\",'見積書(2号)'!M261)","v":""},null,"","",null,"",""]
[{"$f":"IF('見積書(2号)'!A262=\"\",\"\",'見積書(2号)'!A262)","v":""},{"$f":"IF('見積書(2号)'!B262=\"\",\"\",'見積書(2号)'!B262)","v":""},{"$f":"IF('見積書(2号)'!C262=\"\",\"\",'見積書(2号)'!C262)","v":""},{"$f":"IF('見積書(2号)'!H262=\"\",\"\",'見積書(2号)'!H262)","v":""},{"$f":"IF('見積書(2号)'!E262=\"\",\"\",'見積書(2号)'!E262)","v":""},{"$f":"IF('見積書(2号)'!I262=\"\",\"\",'見積書(2号)'!I262)","v":""},{"$f":"IF('見積書(2号)'!J262=\"\",\"\",'見積書(2号)'!J262)","v":""},{"$f":"IF('見積書(2号)'!K262=\"\",\"\",'見積書(2号)'!K262)","v":""},{"$f":"IF('見積書(2号)'!L262=\"\",\"\",'見積書(2号)'!L262)","v":""},{"$f":"IF('見積書(2号)'!M262=\"\",\"\",'見積書(2号)'!M262)","v":""},null,"","",null,"",""]
[{"$f":"IF('見積書(2号)'!A263=\"\",\"\",'見積書(2号)'!A263)","v":""},{"$f":"IF('見積書(2号)'!B263=\"\",\"\",'見積書(2号)'!B263)","v":""},{"$f":"IF('見積書(2号)'!C263=\"\",\"\",'見積書(2号)'!C263)","v":""},{"$f":"IF('見積書(2号)'!H263=\"\",\"\",'見積書(2号)'!H263)","v":""},{"$f":"IF('見積書(2号)'!E263=\"\",\"\",'見積書(2号)'!E263)","v":""},{"$f":"IF('見積書(2号)'!I263=\"\",\"\",'見積書(2号)'!I263)","v":""},{"$f":"IF('見積書(2号)'!J263=\"\",\"\",'見積書(2号)'!J263)","v":""},{"$f":"IF('見積書(2号)'!K263=\"\",\"\",'見積書(2号)'!K263)","v":""},{"$f":"IF('見積書(2号)'!L263=\"\",\"\",'見積書(2号)'!L263)","v":""},{"$f":"IF('見積書(2号)'!M263=\"\",\"\",'見積書(2号)'!M263)","v":""},null,"","",null,"",""]
[{"$f":"IF('見積書(2号)'!A264=\"\",\"\",'見積書(2号)'!A264)","v":""},{"$f":"IF('見積書(2号)'!B264=\"\",\"\",'見積書(2号)'!B264)","v":""},{"$f":"IF('見積書(2号)'!C264=\"\",\"\",'見積書(2号)'!C264)","v":""},{"$f":"IF('見積書(2号)'!H264=\"\",\"\",'見積書(2号)'!H264)","v":""},{"$f":"IF('見積書(2号)'!E264=\"\",\"\",'見積書(2号)'!E264)","v":""},{"$f":"IF('見積書(2号)'!I264=\"\",\"\",'見積書(2号)'!I264)","v":""},{"$f":"IF('見積書(2号)'!J264=\"\",\"\",'見積書(2号)'!J264)","v":""},{"$f":"IF('見積書(2号)'!K264=\"\",\"\",'見積書(2号)'!K264)","v":""},{"$f":"IF('見積書(2号)'!L264=\"\",\"\",'見積書(2号)'!L264)","v":""},{"$f":"IF('見積書(2号)'!M264=\"\",\"\",'見積書(2号)'!M264)","v":""},null,"","",null,"",""]
[{"$f":"IF('見積書(2号)'!A265=\"\",\"\",'見積書(2号)'!A265)","v":""},{"$f":"IF('見積書(2号)'!B265=\"\",\"\",'見積書(2号)'!B265)","v":""},{"$f":"IF('見積書(2号)'!C265=\"\",\"\",'見積書(2号)'!C265)","v":""},{"$f":"IF('見積書(2号)'!H265=\"\",\"\",'見積書(2号)'!H265)","v":""},{"$f":"IF('見積書(2号)'!E265=\"\",\"\",'見積書(2号)'!E265)","v":""},{"$f":"IF('見積書(2号)'!I265=\"\",\"\",'見積書(2号)'!I265)","v":""},{"$f":"IF('見積書(2号)'!J265=\"\",\"\",'見積書(2号)'!J265)","v":""},{"$f":"IF('見積書(2号)'!K265=\"\",\"\",'見積書(2号)'!K265)","v":""},{"$f":"IF('見積書(2号)'!L265=\"\",\"\",'見積書(2号)'!L265)","v":""},{"$f":"IF('見積書(2号)'!M265=\"\",\"\",'見積書(2号)'!M265)","v":""},null,"","",null,"",""]
[{"$f":"IF('見積書(2号)'!A266=\"\",\"\",'見積書(2号)'!A266)","v":""},{"$f":"IF('見積書(2号)'!B266=\"\",\"\",'見積書(2号)'!B266)","v":""},{"$f":"IF('見積書(2号)'!C266=\"\",\"\",'見積書(2号)'!C266)","v":""},{"$f":"IF('見積書(2号)'!H266=\"\",\"\",'見積書(2号)'!H266)","v":""},{"$f":"IF('見積書(2号)'!E266=\"\",\"\",'見積書(2号)'!E266)","v":""},{"$f":"IF('見積書(2号)'!I266=\"\",\"\",'見積書(2号)'!I266)","v":""},{"$f":"IF('見積書(2号)'!J266=\"\",\"\",'見積書(2号)'!J266)","v":""},{"$f":"IF('見積書(2号)'!K266=\"\",\"\",'見積書(2号)'!K266)","v":""},{"$f":"IF('見積書(2号)'!L266=\"\",\"\",'見積書(2号)'!L266)","v":""},{"$f":"IF('見積書(2号)'!M266=\"\",\"\",'見積書(2号)'!M266)","v":""},null,"","",null,"",""]
[{"$f":"IF('見積書(2号)'!A267=\"\",\"\",'見積書(2号)'!A267)","v":""},{"$f":"IF('見積書(2号)'!B267=\"\",\"\",'見積書(2号)'!B267)","v":""},{"$f":"IF('見積書(2号)'!C267=\"\",\"\",'見積書(2号)'!C267)","v":""},{"$f":"IF('見積書(2号)'!H267=\"\",\"\",'見積書(2号)'!H267)","v":""},{"$f":"IF('見積書(2号)'!E267=\"\",\"\",'見積書(2号)'!E267)","v":""},{"$f":"IF('見積書(2号)'!I267=\"\",\"\",'見積書(2号)'!I267)","v":""},{"$f":"IF('見積書(2号)'!J267=\"\",\"\",'見積書(2号)'!J267)","v":""},{"$f":"IF('見積書(2号)'!K267=\"\",\"\",'見積書(2号)'!K267)","v":""},{"$f":"IF('見積書(2号)'!L267=\"\",\"\",'見積書(2号)'!L267)","v":""},{"$f":"IF('見積書(2号)'!M267=\"\",\"\",'見積書(2号)'!M267)","v":""},null,{"$f":"IF(I267=\"\",F267,I267)","v":""},{"$f":"IF(L267=\"\",\"\",L267*K267)","v":""},null,"",""]
[{"$f":"IF('見積書(2号)'!A268=\"\",\"\",'見積書(2号)'!A268)","v":""},{"$f":"IF('見積書(2号)'!B268=\"\",\"\",'見積書(2号)'!B268)","v":""},{"$f":"IF('見積書(2号)'!C268=\"\",\"\",'見積書(2号)'!C268)","v":""},{"$f":"IF('見積書(2号)'!H268=\"\",\"\",'見積書(2号)'!H268)","v":""},{"$f":"IF('見積書(2号)'!E268=\"\",\"\",'見積書(2号)'!E268)","v":""},{"$f":"IF('見積書(2号)'!I268=\"\",\"\",'見積書(2号)'!I268)","v":""},{"$f":"IF('見積書(2号)'!J268=\"\",\"\",'見積書(2号)'!J268)","v":""},{"$f":"IF('見積書(2号)'!K268=\"\",\"\",'見積書(2号)'!K268)","v":""},{"$f":"IF('見積書(2号)'!L268=\"\",\"\",'見積書(2号)'!L268)","v":""},{"$f":"IF('見積書(2号)'!M268=\"\",\"\",'見積書(2号)'!M268)","v":""},null,"","",null,"",""]
[{"$f":"IF('見積書(2号)'!A269=\"\",\"\",'見積書(2号)'!A269)","v":""},{"$f":"IF('見積書(2号)'!B269=\"\",\"\",'見積書(2号)'!B269)","v":""},{"$f":"IF('見積書(2号)'!C269=\"\",\"\",'見積書(2号)'!C269)","v":""},{"$f":"IF('見積書(2号)'!H269=\"\",\"\",'見積書(2号)'!H269)","v":""},{"$f":"IF('見積書(2号)'!E269=\"\",\"\",'見積書(2号)'!E269)","v":""},{"$f":"IF('見積書(2号)'!I269=\"\",\"\",'見積書(2号)'!I269)","v":""},{"$f":"IF('見積書(2号)'!J269=\"\",\"\",'見積書(2号)'!J269)","v":""},{"$f":"IF('見積書(2号)'!K269=\"\",\"\",'見積書(2号)'!K269)","v":""},{"$f":"IF('見積書(2号)'!L269=\"\",\"\",'見積書(2号)'!L269)","v":""},{"$f":"IF('見積書(2号)'!M269=\"\",\"\",'見積書(2号)'!M269)","v":""},null,"","",null,"",""]
[{"$f":"IF('見積書(2号)'!A270=\"\",\"\",'見積書(2号)'!A270)","v":""},{"$f":"IF('見積書(2号)'!B270=\"\",\"\",'見積書(2号)'!B270)","v":""},{"$f":"IF('見積書(2号)'!C270=\"\",\"\",'見積書(2号)'!C270)","v":""},{"$f":"IF('見積書(2号)'!H270=\"\",\"\",'見積書(2号)'!H270)","v":""},{"$f":"IF('見積書(2号)'!E270=\"\",\"\",'見積書(2号)'!E270)","v":""},{"$f":"IF('見積書(2号)'!I270=\"\",\"\",'見積書(2号)'!I270)","v":""},{"$f":"IF('見積書(2号)'!J270=\"\",\"\",'見積書(2号)'!J270)","v":""},{"$f":"IF('見積書(2号)'!K270=\"\",\"\",'見積書(2号)'!K270)","v":""},{"$f":"IF('見積書(2号)'!L270=\"\",\"\",'見積書(2号)'!L270)","v":""},{"$f":"IF('見積書(2号)'!M270=\"\",\"\",'見積書(2号)'!M270)","v":""},null,"","",null,"",""]
[{"$f":"IF('見積書(2号)'!A271=\"\",\"\",'見積書(2号)'!A271)","v":""},{"$f":"IF('見積書(2号)'!B271=\"\",\"\",'見積書(2号)'!B271)","v":""},{"$f":"IF('見積書(2号)'!C271=\"\",\"\",'見積書(2号)'!C271)","v":""},{"$f":"IF('見積書(2号)'!H271=\"\",\"\",'見積書(2号)'!H271)","v":""},{"$f":"IF('見積書(2号)'!E271=\"\",\"\",'見積書(2号)'!E271)","v":""},{"$f":"IF('見積書(2号)'!I271=\"\",\"\",'見積書(2号)'!I271)","v":""},{"$f":"IF('見積書(2号)'!J271=\"\",\"\",'見積書(2号)'!J271)","v":""},{"$f":"IF('見積書(2号)'!K271=\"\",\"\",'見積書(2号)'!K271)","v":""},{"$f":"IF('見積書(2号)'!L271=\"\",\"\",'見積書(2号)'!L271)","v":""},{"$f":"IF('見積書(2号)'!M271=\"\",\"\",'見積書(2号)'!M271)","v":""},null,"","",null,"",""]
[{"$f":"IF('見積書(2号)'!A272=\"\",\"\",'見積書(2号)'!A272)","v":""},{"$f":"IF('見積書(2号)'!B272=\"\",\"\",'見積書(2号)'!B272)","v":""},{"$f":"IF('見積書(2号)'!C272=\"\",\"\",'見積書(2号)'!C272)","v":""},{"$f":"IF('見積書(2号)'!H272=\"\",\"\",'見積書(2号)'!H272)","v":""},{"$f":"IF('見積書(2号)'!E272=\"\",\"\",'見積書(2号)'!E272)","v":""},{"$f":"IF('見積書(2号)'!I272=\"\",\"\",'見積書(2号)'!I272)","v":""},{"$f":"IF('見積書(2号)'!J272=\"\",\"\",'見積書(2号)'!J272)","v":""},{"$f":"IF('見積書(2号)'!K272=\"\",\"\",'見積書(2号)'!K272)","v":""},{"$f":"IF('見積書(2号)'!L272=\"\",\"\",'見積書(2号)'!L272)","v":""},{"$f":"IF('見積書(2号)'!M272=\"\",\"\",'見積書(2号)'!M272)","v":""},null,"","",null,"",""]
[{"$f":"IF('見積書(2号)'!A273=\"\",\"\",'見積書(2号)'!A273)","v":""},{"$f":"IF('見積書(2号)'!B273=\"\",\"\",'見積書(2号)'!B273)","v":""},{"$f":"IF('見積書(2号)'!C273=\"\",\"\",'見積書(2号)'!C273)","v":""},{"$f":"IF('見積書(2号)'!H273=\"\",\"\",'見積書(2号)'!H273)","v":""},{"$f":"IF('見積書(2号)'!E273=\"\",\"\",'見積書(2号)'!E273)","v":""},{"$f":"IF('見積書(2号)'!I273=\"\",\"\",'見積書(2号)'!I273)","v":""},{"$f":"IF('見積書(2号)'!J273=\"\",\"\",'見積書(2号)'!J273)","v":""},{"$f":"IF('見積書(2号)'!K273=\"\",\"\",'見積書(2号)'!K273)","v":""},{"$f":"IF('見積書(2号)'!L273=\"\",\"\",'見積書(2号)'!L273)","v":""},{"$f":"IF('見積書(2号)'!M273=\"\",\"\",'見積書(2号)'!M273)","v":""},null,"","",null,"",""]
[{"$f":"IF('見積書(2号)'!A274=\"\",\"\",'見積書(2号)'!A274)","v":""},{"$f":"IF('見積書(2号)'!B274=\"\",\"\",'見積書(2号)'!B274)","v":""},{"$f":"IF('見積書(2号)'!C274=\"\",\"\",'見積書(2号)'!C274)","v":""},{"$f":"IF('見積書(2号)'!H274=\"\",\"\",'見積書(2号)'!H274)","v":""},{"$f":"IF('見積書(2号)'!E274=\"\",\"\",'見積書(2号)'!E274)","v":""},{"$f":"IF('見積書(2号)'!I274=\"\",\"\",'見積書(2号)'!I274)","v":""},{"$f":"IF('見積書(2号)'!J274=\"\",\"\",'見積書(2号)'!J274)","v":""},{"$f":"IF('見積書(2号)'!K274=\"\",\"\",'見積書(2号)'!K274)","v":""},{"$f":"IF('見積書(2号)'!L274=\"\",\"\",'見積書(2号)'!L274)","v":""},{"$f":"IF('見積書(2号)'!M274=\"\",\"\",'見積書(2号)'!M274)","v":""},null,"","",null,"",""]
[{"$f":"IF('見積書(2号)'!A275=\"\",\"\",'見積書(2号)'!A275)","v":""},{"$f":"IF('見積書(2号)'!B275=\"\",\"\",'見積書(2号)'!B275)","v":""},{"$f":"IF('見積書(2号)'!C275=\"\",\"\",'見積書(2号)'!C275)","v":""},{"$f":"IF('見積書(2号)'!H275=\"\",\"\",'見積書(2号)'!H275)","v":""},{"$f":"IF('見積書(2号)'!E275=\"\",\"\",'見積書(2号)'!E275)","v":""},{"$f":"IF('見積書(2号)'!I275=\"\",\"\",'見積書(2号)'!I275)","v":""},{"$f":"IF('見積書(2号)'!J275=\"\",\"\",'見積書(2号)'!J275)","v":""},{"$f":"IF('見積書(2号)'!K275=\"\",\"\",'見積書(2号)'!K275)","v":""},{"$f":"IF('見積書(2号)'!L275=\"\",\"\",'見積書(2号)'!L275)","v":""},{"$f":"IF('見積書(2号)'!M275=\"\",\"\",'見積書(2号)'!M275)","v":""},null,"","",null,"",""]
[{"$f":"IF('見積書(2号)'!A276=\"\",\"\",'見積書(2号)'!A276)","v":""},{"$f":"IF('見積書(2号)'!B276=\"\",\"\",'見積書(2号)'!B276)","v":""},{"$f":"IF('見積書(2号)'!C276=\"\",\"\",'見積書(2号)'!C276)","v":""},{"$f":"IF('見積書(2号)'!H276=\"\",\"\",'見積書(2号)'!H276)","v":""},{"$f":"IF('見積書(2号)'!E276=\"\",\"\",'見積書(2号)'!E276)","v":""},{"$f":"IF('見積書(2号)'!I276=\"\",\"\",'見積書(2号)'!I276)","v":""},{"$f":"IF('見積書(2号)'!J276=\"\",\"\",'見積書(2号)'!J276)","v":""},{"$f":"IF('見積書(2号)'!K276=\"\",\"\",'見積書(2号)'!K276)","v":""},{"$f":"IF('見積書(2号)'!L276=\"\",\"\",'見積書(2号)'!L276)","v":""},{"$f":"IF('見積書(2号)'!M276=\"\",\"\",'見積書(2号)'!M276)","v":""},null,"","",null,"",""]
[{"$f":"IF('見積書(2号)'!A277=\"\",\"\",'見積書(2号)'!A277)","v":""},{"$f":"IF('見積書(2号)'!B277=\"\",\"\",'見積書(2号)'!B277)","v":""},{"$f":"IF('見積書(2号)'!C277=\"\",\"\",'見積書(2号)'!C277)","v":""},{"$f":"IF('見積書(2号)'!H277=\"\",\"\",'見積書(2号)'!H277)","v":""},{"$f":"IF('見積書(2号)'!E277=\"\",\"\",'見積書(2号)'!E277)","v":""},{"$f":"IF('見積書(2号)'!I277=\"\",\"\",'見積書(2号)'!I277)","v":""},{"$f":"IF('見積書(2号)'!J277=\"\",\"\",'見積書(2号)'!J277)","v":""},{"$f":"IF('見積書(2号)'!K277=\"\",\"\",'見積書(2号)'!K277)","v":""},{"$f":"IF('見積書(2号)'!L277=\"\",\"\",'見積書(2号)'!L277)","v":""},{"$f":"IF('見積書(2号)'!M277=\"\",\"\",'見積書(2号)'!M277)","v":""},null,"","",null,"",""]
[{"$f":"IF('見積書(2号)'!A278=\"\",\"\",'見積書(2号)'!A278)","v":""},{"$f":"IF('見積書(2号)'!B278=\"\",\"\",'見積書(2号)'!B278)","v":""},{"$f":"IF('見積書(2号)'!C278=\"\",\"\",'見積書(2号)'!C278)","v":""},{"$f":"IF('見積書(2号)'!H278=\"\",\"\",'見積書(2号)'!H278)","v":""},{"$f":"IF('見積書(2号)'!E278=\"\",\"\",'見積書(2号)'!E278)","v":""},{"$f":"IF('見積書(2号)'!I278=\"\",\"\",'見積書(2号)'!I278)","v":""},{"$f":"IF('見積書(2号)'!J278=\"\",\"\",'見積書(2号)'!J278)","v":""},{"$f":"IF('見積書(2号)'!K278=\"\",\"\",'見積書(2号)'!K278)","v":""},{"$f":"IF('見積書(2号)'!L278=\"\",\"\",'見積書(2号)'!L278)","v":""},{"$f":"IF('見積書(2号)'!M278=\"\",\"\",'見積書(2号)'!M278)","v":""},null,"","",null,"",""]
[{"$f":"IF('見積書(2号)'!A279=\"\",\"\",'見積書(2号)'!A279)","v":""},{"$f":"IF('見積書(2号)'!B279=\"\",\"\",'見積書(2号)'!B279)","v":""},{"$f":"IF('見積書(2号)'!C279=\"\",\"\",'見積書(2号)'!C279)","v":""},{"$f":"IF('見積書(2号)'!H279=\"\",\"\",'見積書(2号)'!H279)","v":""},{"$f":"IF('見積書(2号)'!E279=\"\",\"\",'見積書(2号)'!E279)","v":""},{"$f":"IF('見積書(2号)'!I279=\"\",\"\",'見積書(2号)'!I279)","v":""},{"$f":"IF('見積書(2号)'!J279=\"\",\"\",'見積書(2号)'!J279)","v":""},{"$f":"IF('見積書(2号)'!K279=\"\",\"\",'見積書(2号)'!K279)","v":""},{"$f":"IF('見積書(2号)'!L279=\"\",\"\",'見積書(2号)'!L279)","v":""},{"$f":"IF('見積書(2号)'!M279=\"\",\"\",'見積書(2号)'!M279)","v":""},null,"","",null,"",""]
[{"$f":"IF('見積書(2号)'!A280=\"\",\"\",'見積書(2号)'!A280)","v":""},{"$f":"IF('見積書(2号)'!B280=\"\",\"\",'見積書(2号)'!B280)","v":""},{"$f":"IF('見積書(2号)'!C280=\"\",\"\",'見積書(2号)'!C280)","v":""},{"$f":"IF('見積書(2号)'!H280=\"\",\"\",'見積書(2号)'!H280)","v":""},{"$f":"IF('見積書(2号)'!E280=\"\",\"\",'見積書(2号)'!E280)","v":""},{"$f":"IF('見積書(2号)'!I280=\"\",\"\",'見積書(2号)'!I280)","v":""},{"$f":"IF('見積書(2号)'!J280=\"\",\"\",'見積書(2号)'!J280)","v":""},{"$f":"IF('見積書(2号)'!K280=\"\",\"\",'見積書(2号)'!K280)","v":""},{"$f":"IF('見積書(2号)'!L280=\"\",\"\",'見積書(2号)'!L280)","v":""},{"$f":"IF('見積書(2号)'!M280=\"\",\"\",'見積書(2号)'!M280)","v":""},null,"","",null,"",""]
[{"$f":"IF('見積書(2号)'!A281=\"\",\"\",'見積書(2号)'!A281)","v":""},{"$f":"IF('見積書(2号)'!B281=\"\",\"\",'見積書(2号)'!B281)","v":""},{"$f":"IF('見積書(2号)'!C281=\"\",\"\",'見積書(2号)'!C281)","v":""},{"$f":"IF('見積書(2号)'!H281=\"\",\"\",'見積書(2号)'!H281)","v":""},{"$f":"IF('見積書(2号)'!E281=\"\",\"\",'見積書(2号)'!E281)","v":""},{"$f":"IF('見積書(2号)'!I281=\"\",\"\",'見積書(2号)'!I281)","v":""},{"$f":"IF('見積書(2号)'!J281=\"\",\"\",'見積書(2号)'!J281)","v":""},{"$f":"IF('見積書(2号)'!K281=\"\",\"\",'見積書(2号)'!K281)","v":""},{"$f":"IF('見積書(2号)'!L281=\"\",\"\",'見積書(2号)'!L281)","v":""},{"$f":"IF('見積書(2号)'!M281=\"\",\"\",'見積書(2号)'!M281)","v":""},null,"","",null,"",""]
[{"$f":"IF('見積書(2号)'!A282=\"\",\"\",'見積書(2号)'!A282)","v":""},{"$f":"IF('見積書(2号)'!B282=\"\",\"\",'見積書(2号)'!B282)","v":""},{"$f":"IF('見積書(2号)'!C282=\"\",\"\",'見積書(2号)'!C282)","v":""},{"$f":"IF('見積書(2号)'!H282=\"\",\"\",'見積書(2号)'!H282)","v":""},{"$f":"IF('見積書(2号)'!E282=\"\",\"\",'見積書(2号)'!E282)","v":""},{"$f":"IF('見積書(2号)'!I282=\"\",\"\",'見積書(2号)'!I282)","v":""},{"$f":"IF('見積書(2号)'!J282=\"\",\"\",'見積書(2号)'!J282)","v":""},{"$f":"IF('見積書(2号)'!K282=\"\",\"\",'見積書(2号)'!K282)","v":""},{"$f":"IF('見積書(2号)'!L282=\"\",\"\",'見積書(2号)'!L282)","v":""},{"$f":"IF('見積書(2号)'!M282=\"\",\"\",'見積書(2号)'!M282)","v":""},null,"","",null,"",""]
[{"$f":"IF('見積書(2号)'!A283=\"\",\"\",'見積書(2号)'!A283)","v":""},{"$f":"IF('見積書(2号)'!B283=\"\",\"\",'見積書(2号)'!B283)","v":""},{"$f":"IF('見積書(2号)'!C283=\"\",\"\",'見積書(2号)'!C283)","v":""},{"$f":"IF('見積書(2号)'!H283=\"\",\"\",'見積書(2号)'!H283)","v":""},{"$f":"IF('見積書(2号)'!E283=\"\",\"\",'見積書(2号)'!E283)","v":""},{"$f":"IF('見積書(2号)'!I283=\"\",\"\",'見積書(2号)'!I283)","v":""},{"$f":"IF('見積書(2号)'!J283=\"\",\"\",'見積書(2号)'!J283)","v":""},{"$f":"IF('見積書(2号)'!K283=\"\",\"\",'見積書(2号)'!K283)","v":""},{"$f":"IF('見積書(2号)'!L283=\"\",\"\",'見積書(2号)'!L283)","v":""},{"$f":"IF('見積書(2号)'!M283=\"\",\"\",'見積書(2号)'!M283)","v":""},null,"","",null,"",""]
[{"$f":"IF('見積書(2号)'!A284=\"\",\"\",'見積書(2号)'!A284)","v":""},{"$f":"IF('見積書(2号)'!B284=\"\",\"\",'見積書(2号)'!B284)","v":""},{"$f":"IF('見積書(2号)'!C284=\"\",\"\",'見積書(2号)'!C284)","v":""},{"$f":"IF('見積書(2号)'!H284=\"\",\"\",'見積書(2号)'!H284)","v":""},{"$f":"IF('見積書(2号)'!E284=\"\",\"\",'見積書(2号)'!E284)","v":""},{"$f":"IF('見積書(2号)'!I284=\"\",\"\",'見積書(2号)'!I284)","v":""},{"$f":"IF('見積書(2号)'!J284=\"\",\"\",'見積書(2号)'!J284)","v":""},{"$f":"IF('見積書(2号)'!K284=\"\",\"\",'見積書(2号)'!K284)","v":""},{"$f":"IF('見積書(2号)'!L284=\"\",\"\",'見積書(2号)'!L284)","v":""},{"$f":"IF('見積書(2号)'!M284=\"\",\"\",'見積書(2号)'!M284)","v":""},null,"","",null,"",""]
[{"$f":"IF('見積書(2号)'!A285=\"\",\"\",'見積書(2号)'!A285)","v":""},{"$f":"IF('見積書(2号)'!B285=\"\",\"\",'見積書(2号)'!B285)","v":""},{"$f":"IF('見積書(2号)'!C285=\"\",\"\",'見積書(2号)'!C285)","v":""},{"$f":"IF('見積書(2号)'!H285=\"\",\"\",'見積書(2号)'!H285)","v":""},{"$f":"IF('見積書(2号)'!E285=\"\",\"\",'見積書(2号)'!E285)","v":""},{"$f":"IF('見積書(2号)'!I285=\"\",\"\",'見積書(2号)'!I285)","v":""},{"$f":"IF('見積書(2号)'!J285=\"\",\"\",'見積書(2号)'!J285)","v":""},{"$f":"IF('見積書(2号)'!K285=\"\",\"\",'見積書(2号)'!K285)","v":""},{"$f":"IF('見積書(2号)'!L285=\"\",\"\",'見積書(2号)'!L285)","v":""},{"$f":"IF('見積書(2号)'!M285=\"\",\"\",'見積書(2号)'!M285)","v":""},null,"","",null,"",""]
[{"$f":"IF('見積書(2号)'!A286=\"\",\"\",'見積書(2号)'!A286)","v":""},{"$f":"IF('見積書(2号)'!B286=\"\",\"\",'見積書(2号)'!B286)","v":""},{"$f":"IF('見積書(2号)'!C286=\"\",\"\",'見積書(2号)'!C286)","v":""},{"$f":"IF('見積書(2号)'!H286=\"\",\"\",'見積書(2号)'!H286)","v":""},{"$f":"IF('見積書(2号)'!E286=\"\",\"\",'見積書(2号)'!E286)","v":""},{"$f":"IF('見積書(2号)'!I286=\"\",\"\",'見積書(2号)'!I286)","v":""},{"$f":"IF('見積書(2号)'!J286=\"\",\"\",'見積書(2号)'!J286)","v":""},{"$f":"IF('見積書(2号)'!K286=\"\",\"\",'見積書(2号)'!K286)","v":""},{"$f":"IF('見積書(2号)'!L286=\"\",\"\",'見積書(2号)'!L286)","v":""},{"$f":"IF('見積書(2号)'!M286=\"\",\"\",'見積書(2号)'!M286)","v":""},null,"","",null,"",""]
[{"$f":"IF('見積書(2号)'!A287=\"\",\"\",'見積書(2号)'!A287)","v":""},{"$f":"IF('見積書(2号)'!B287=\"\",\"\",'見積書(2号)'!B287)","v":""},{"$f":"IF('見積書(2号)'!C287=\"\",\"\",'見積書(2号)'!C287)","v":""},{"$f":"IF('見積書(2号)'!H287=\"\",\"\",'見積書(2号)'!H287)","v":""},{"$f":"IF('見積書(2号)'!E287=\"\",\"\",'見積書(2号)'!E287)","v":""},{"$f":"IF('見積書(2号)'!I287=\"\",\"\",'見積書(2号)'!I287)","v":""},{"$f":"IF('見積書(2号)'!J287=\"\",\"\",'見積書(2号)'!J287)","v":""},{"$f":"IF('見積書(2号)'!K287=\"\",\"\",'見積書(2号)'!K287)","v":""},{"$f":"IF('見積書(2号)'!L287=\"\",\"\",'見積書(2号)'!L287)","v":""},{"$f":"IF('見積書(2号)'!M287=\"\",\"\",'見積書(2号)'!M287)","v":""},null,"","",null,"",""]
[{"$f":"IF('見積書(2号)'!A288=\"\",\"\",'見積書(2号)'!A288)","v":""},{"$f":"IF('見積書(2号)'!B288=\"\",\"\",'見積書(2号)'!B288)","v":""},{"$f":"IF('見積書(2号)'!C288=\"\",\"\",'見積書(2号)'!C288)","v":""},{"$f":"IF('見積書(2号)'!H288=\"\",\"\",'見積書(2号)'!H288)","v":""},{"$f":"IF('見積書(2号)'!E288=\"\",\"\",'見積書(2号)'!E288)","v":""},{"$f":"IF('見積書(2号)'!I288=\"\",\"\",'見積書(2号)'!I288)","v":""},{"$f":"IF('見積書(2号)'!J288=\"\",\"\",'見積書(2号)'!J288)","v":""},{"$f":"IF('見積書(2号)'!K288=\"\",\"\",'見積書(2号)'!K288)","v":""},{"$f":"IF('見積書(2号)'!L288=\"\",\"\",'見積書(2号)'!L288)","v":""},{"$f":"IF('見積書(2号)'!M288=\"\",\"\",'見積書(2号)'!M288)","v":""},null,"","",null,"",""]
[{"$f":"IF('見積書(2号)'!A289=\"\",\"\",'見積書(2号)'!A289)","v":""},{"$f":"IF('見積書(2号)'!B289=\"\",\"\",'見積書(2号)'!B289)","v":""},{"$f":"IF('見積書(2号)'!C289=\"\",\"\",'見積書(2号)'!C289)","v":""},{"$f":"IF('見積書(2号)'!H289=\"\",\"\",'見積書(2号)'!H289)","v":""},{"$f":"IF('見積書(2号)'!E289=\"\",\"\",'見積書(2号)'!E289)","v":""},{"$f":"IF('見積書(2号)'!I289=\"\",\"\",'見積書(2号)'!I289)","v":""},{"$f":"IF('見積書(2号)'!J289=\"\",\"\",'見積書(2号)'!J289)","v":""},{"$f":"IF('見積書(2号)'!K289=\"\",\"\",'見積書(2号)'!K289)","v":""},{"$f":"IF('見積書(2号)'!L289=\"\",\"\",'見積書(2号)'!L289)","v":""},{"$f":"IF('見積書(2号)'!M289=\"\",\"\",'見積書(2号)'!M289)","v":""},null,"","",null,"",""]
[{"$f":"IF('見積書(2号)'!A290=\"\",\"\",'見積書(2号)'!A290)","v":""},{"$f":"IF('見積書(2号)'!B290=\"\",\"\",'見積書(2号)'!B290)","v":""},{"$f":"IF('見積書(2号)'!C290=\"\",\"\",'見積書(2号)'!C290)","v":""},{"$f":"IF('見積書(2号)'!H290=\"\",\"\",'見積書(2号)'!H290)","v":""},{"$f":"IF('見積書(2号)'!E290=\"\",\"\",'見積書(2号)'!E290)","v":""},{"$f":"IF('見積書(2号)'!I290=\"\",\"\",'見積書(2号)'!I290)","v":""},{"$f":"IF('見積書(2号)'!J290=\"\",\"\",'見積書(2号)'!J290)","v":""},{"$f":"IF('見積書(2号)'!K290=\"\",\"\",'見積書(2号)'!K290)","v":""},{"$f":"IF('見積書(2号)'!L290=\"\",\"\",'見積書(2号)'!L290)","v":""},{"$f":"IF('見積書(2号)'!M290=\"\",\"\",'見積書(2号)'!M290)","v":""},null,"","",null,"",""]
[{"$f":"IF('見積書(2号)'!A291=\"\",\"\",'見積書(2号)'!A291)","v":""},{"$f":"IF('見積書(2号)'!B291=\"\",\"\",'見積書(2号)'!B291)","v":""},{"$f":"IF('見積書(2号)'!C291=\"\",\"\",'見積書(2号)'!C291)","v":""},{"$f":"IF('見積書(2号)'!H291=\"\",\"\",'見積書(2号)'!H291)","v":""},{"$f":"IF('見積書(2号)'!E291=\"\",\"\",'見積書(2号)'!E291)","v":""},{"$f":"IF('見積書(2号)'!I291=\"\",\"\",'見積書(2号)'!I291)","v":""},{"$f":"IF('見積書(2号)'!J291=\"\",\"\",'見積書(2号)'!J291)","v":""},{"$f":"IF('見積書(2号)'!K291=\"\",\"\",'見積書(2号)'!K291)","v":""},{"$f":"IF('見積書(2号)'!L291=\"\",\"\",'見積書(2号)'!L291)","v":""},{"$f":"IF('見積書(2号)'!M291=\"\",\"\",'見積書(2号)'!M291)","v":""},null,"","",null,"",""]
[{"$f":"IF('見積書(2号)'!A292=\"\",\"\",'見積書(2号)'!A292)","v":""},{"$f":"IF('見積書(2号)'!B292=\"\",\"\",'見積書(2号)'!B292)","v":""},{"$f":"IF('見積書(2号)'!C292=\"\",\"\",'見積書(2号)'!C292)","v":""},{"$f":"IF('見積書(2号)'!H292=\"\",\"\",'見積書(2号)'!H292)","v":""},{"$f":"IF('見積書(2号)'!E292=\"\",\"\",'見積書(2号)'!E292)","v":""},{"$f":"IF('見積書(2号)'!I292=\"\",\"\",'見積書(2号)'!I292)","v":""},{"$f":"IF('見積書(2号)'!J292=\"\",\"\",'見積書(2号)'!J292)","v":""},{"$f":"IF('見積書(2号)'!K292=\"\",\"\",'見積書(2号)'!K292)","v":""},{"$f":"IF('見積書(2号)'!L292=\"\",\"\",'見積書(2号)'!L292)","v":""},{"$f":"IF('見積書(2号)'!M292=\"\",\"\",'見積書(2号)'!M292)","v":""},null,"","",null,"",""]
[{"$f":"IF('見積書(2号)'!A293=\"\",\"\",'見積書(2号)'!A293)","v":""},{"$f":"IF('見積書(2号)'!B293=\"\",\"\",'見積書(2号)'!B293)","v":""},{"$f":"IF('見積書(2号)'!C293=\"\",\"\",'見積書(2号)'!C293)","v":""},{"$f":"IF('見積書(2号)'!H293=\"\",\"\",'見積書(2号)'!H293)","v":""},{"$f":"IF('見積書(2号)'!E293=\"\",\"\",'見積書(2号)'!E293)","v":""},{"$f":"IF('見積書(2号)'!I293=\"\",\"\",'見積書(2号)'!I293)","v":""},{"$f":"IF('見積書(2号)'!J293=\"\",\"\",'見積書(2号)'!J293)","v":""},{"$f":"IF('見積書(2号)'!K293=\"\",\"\",'見積書(2号)'!K293)","v":""},{"$f":"IF('見積書(2号)'!L293=\"\",\"\",'見積書(2号)'!L293)","v":""},{"$f":"IF('見積書(2号)'!M293=\"\",\"\",'見積書(2号)'!M293)","v":""},null,"","",null,"",""]
[{"$f":"IF('見積書(2号)'!A294=\"\",\"\",'見積書(2号)'!A294)","v":""},{"$f":"IF('見積書(2号)'!B294=\"\",\"\",'見積書(2号)'!B294)","v":""},{"$f":"IF('見積書(2号)'!C294=\"\",\"\",'見積書(2号)'!C294)","v":""},{"$f":"IF('見積書(2号)'!H294=\"\",\"\",'見積書(2号)'!H294)","v":""},{"$f":"IF('見積書(2号)'!E294=\"\",\"\",'見積書(2号)'!E294)","v":""},{"$f":"IF('見積書(2号)'!I294=\"\",\"\",'見積書(2号)'!I294)","v":""},{"$f":"IF('見積書(2号)'!J294=\"\",\"\",'見積書(2号)'!J294)","v":""},{"$f":"IF('見積書(2号)'!K294=\"\",\"\",'見積書(2号)'!K294)","v":""},{"$f":"IF('見積書(2号)'!L294=\"\",\"\",'見積書(2号)'!L294)","v":""},{"$f":"IF('見積書(2号)'!M294=\"\",\"\",'見積書(2号)'!M294)","v":""},null,"","",null,"",""]
[{"$f":"IF('見積書(2号)'!A295=\"\",\"\",'見積書(2号)'!A295)","v":""},{"$f":"IF('見積書(2号)'!B295=\"\",\"\",'見積書(2号)'!B295)","v":""},{"$f":"IF('見積書(2号)'!C295=\"\",\"\",'見積書(2号)'!C295)","v":""},{"$f":"IF('見積書(2号)'!H295=\"\",\"\",'見積書(2号)'!H295)","v":""},{"$f":"IF('見積書(2号)'!E295=\"\",\"\",'見積書(2号)'!E295)","v":""},{"$f":"IF('見積書(2号)'!I295=\"\",\"\",'見積書(2号)'!I295)","v":""},{"$f":"IF('見積書(2号)'!J295=\"\",\"\",'見積書(2号)'!J295)","v":""},{"$f":"IF('見積書(2号)'!K295=\"\",\"\",'見積書(2号)'!K295)","v":""},{"$f":"IF('見積書(2号)'!L295=\"\",\"\",'見積書(2号)'!L295)","v":""},{"$f":"IF('見積書(2号)'!M295=\"\",\"\",'見積書(2号)'!M295)","v":""},null,"","",null,"",""]
[{"$f":"IF('見積書(2号)'!A296=\"\",\"\",'見積書(2号)'!A296)","v":""},{"$f":"IF('見積書(2号)'!B296=\"\",\"\",'見積書(2号)'!B296)","v":""},{"$f":"IF('見積書(2号)'!C296=\"\",\"\",'見積書(2号)'!C296)","v":""},{"$f":"IF('見積書(2号)'!H296=\"\",\"\",'見積書(2号)'!H296)","v":""},{"$f":"IF('見積書(2号)'!E296=\"\",\"\",'見積書(2号)'!E296)","v":""},{"$f":"IF('見積書(2号)'!I296=\"\",\"\",'見積書(2号)'!I296)","v":""},{"$f":"IF('見積書(2号)'!J296=\"\",\"\",'見積書(2号)'!J296)","v":""},{"$f":"IF('見積書(2号)'!K296=\"\",\"\",'見積書(2号)'!K296)","v":""},{"$f":"IF('見積書(2号)'!L296=\"\",\"\",'見積書(2号)'!L296)","v":""},{"$f":"IF('見積書(2号)'!M296=\"\",\"\",'見積書(2号)'!M296)","v":""},null,"","",null,"",""]
[{"$f":"IF('見積書(2号)'!A297=\"\",\"\",'見積書(2号)'!A297)","v":""},{"$f":"IF('見積書(2号)'!B297=\"\",\"\",'見積書(2号)'!B297)","v":""},{"$f":"IF('見積書(2号)'!C297=\"\",\"\",'見積書(2号)'!C297)","v":""},{"$f":"IF('見積書(2号)'!H297=\"\",\"\",'見積書(2号)'!H297)","v":""},{"$f":"IF('見積書(2号)'!E297=\"\",\"\",'見積書(2号)'!E297)","v":""},{"$f":"IF('見積書(2号)'!I297=\"\",\"\",'見積書(2号)'!I297)","v":""},{"$f":"IF('見積書(2号)'!J297=\"\",\"\",'見積書(2号)'!J297)","v":""},{"$f":"IF('見積書(2号)'!K297=\"\",\"\",'見積書(2号)'!K297)","v":""},{"$f":"IF('見積書(2号)'!L297=\"\",\"\",'見積書(2号)'!L297)","v":""},{"$f":"IF('見積書(2号)'!M297=\"\",\"\",'見積書(2号)'!M297)","v":""},null,"","",null,"",""]
[{"$f":"IF('見積書(2号)'!A298=\"\",\"\",'見積書(2号)'!A298)","v":""},{"$f":"IF('見積書(2号)'!B298=\"\",\"\",'見積書(2号)'!B298)","v":""},{"$f":"IF('見積書(2号)'!C298=\"\",\"\",'見積書(2号)'!C298)","v":""},{"$f":"IF('見積書(2号)'!H298=\"\",\"\",'見積書(2号)'!H298)","v":""},{"$f":"IF('見積書(2号)'!E298=\"\",\"\",'見積書(2号)'!E298)","v":""},{"$f":"IF('見積書(2号)'!I298=\"\",\"\",'見積書(2号)'!I298)","v":""},{"$f":"IF('見積書(2号)'!J298=\"\",\"\",'見積書(2号)'!J298)","v":""},{"$f":"IF('見積書(2号)'!K298=\"\",\"\",'見積書(2号)'!K298)","v":""},{"$f":"IF('見積書(2号)'!L298=\"\",\"\",'見積書(2号)'!L298)","v":""},{"$f":"IF('見積書(2号)'!M298=\"\",\"\",'見積書(2号)'!M298)","v":""},null,"","",null,"",""]
[{"$f":"IF('見積書(2号)'!A299=\"\",\"\",'見積書(2号)'!A299)","v":""},{"$f":"IF('見積書(2号)'!B299=\"\",\"\",'見積書(2号)'!B299)","v":""},{"$f":"IF('見積書(2号)'!C299=\"\",\"\",'見積書(2号)'!C299)","v":""},{"$f":"IF('見積書(2号)'!H299=\"\",\"\",'見積書(2号)'!H299)","v":""},{"$f":"IF('見積書(2号)'!E299=\"\",\"\",'見積書(2号)'!E299)","v":""},{"$f":"IF('見積書(2号)'!I299=\"\",\"\",'見積書(2号)'!I299)","v":""},{"$f":"IF('見積書(2号)'!J299=\"\",\"\",'見積書(2号)'!J299)","v":""},{"$f":"IF('見積書(2号)'!K299=\"\",\"\",'見積書(2号)'!K299)","v":""},{"$f":"IF('見積書(2号)'!L299=\"\",\"\",'見積書(2号)'!L299)","v":""},{"$f":"IF('見積書(2号)'!M299=\"\",\"\",'見積書(2号)'!M299)","v":""},null,"","",null,"",""]
[{"$f":"IF('見積書(2号)'!A300=\"\",\"\",'見積書(2号)'!A300)","v":""},{"$f":"IF('見積書(2号)'!B300=\"\",\"\",'見積書(2号)'!B300)","v":""},{"$f":"IF('見積書(2号)'!C300=\"\",\"\",'見積書(2号)'!C300)","v":""},{"$f":"IF('見積書(2号)'!H300=\"\",\"\",'見積書(2号)'!H300)","v":""},{"$f":"IF('見積書(2号)'!E300=\"\",\"\",'見積書(2号)'!E300)","v":""},{"$f":"IF('見積書(2号)'!I300=\"\",\"\",'見積書(2号)'!I300)","v":""},{"$f":"IF('見積書(2号)'!J300=\"\",\"\",'見積書(2号)'!J300)","v":""},{"$f":"IF('見積書(2号)'!K300=\"\",\"\",'見積書(2号)'!K300)","v":""},{"$f":"IF('見積書(2号)'!L300=\"\",\"\",'見積書(2号)'!L300)","v":""},{"$f":"IF('見積書(2号)'!M300=\"\",\"\",'見積書(2号)'!M300)","v":""},null,"","",null,"",""]
[{"$f":"IF('見積書(2号)'!A301=\"\",\"\",'見積書(2号)'!A301)","v":""},{"$f":"IF('見積書(2号)'!B301=\"\",\"\",'見積書(2号)'!B301)","v":""},{"$f":"IF('見積書(2号)'!C301=\"\",\"\",'見積書(2号)'!C301)","v":""},{"$f":"IF('見積書(2号)'!H301=\"\",\"\",'見積書(2号)'!H301)","v":""},{"$f":"IF('見積書(2号)'!E301=\"\",\"\",'見積書(2号)'!E301)","v":""},{"$f":"IF('見積書(2号)'!I301=\"\",\"\",'見積書(2号)'!I301)","v":""},{"$f":"IF('見積書(2号)'!J301=\"\",\"\",'見積書(2号)'!J301)","v":""},{"$f":"IF('見積書(2号)'!K301=\"\",\"\",'見積書(2号)'!K301)","v":""},{"$f":"IF('見積書(2号)'!L301=\"\",\"\",'見積書(2号)'!L301)","v":""},{"$f":"IF('見積書(2号)'!M301=\"\",\"\",'見積書(2号)'!M301)","v":""},null,"","",null,"",""]
[{"$f":"IF('見積書(2号)'!A302=\"\",\"\",'見積書(2号)'!A302)","v":""},{"$f":"IF('見積書(2号)'!B302=\"\",\"\",'見積書(2号)'!B302)","v":""},{"$f":"IF('見積書(2号)'!C302=\"\",\"\",'見積書(2号)'!C302)","v":""},{"$f":"IF('見積書(2号)'!H302=\"\",\"\",'見積書(2号)'!H302)","v":""},{"$f":"IF('見積書(2号)'!E302=\"\",\"\",'見積書(2号)'!E302)","v":""},{"$f":"IF('見積書(2号)'!I302=\"\",\"\",'見積書(2号)'!I302)","v":""},{"$f":"IF('見積書(2号)'!J302=\"\",\"\",'見積書(2号)'!J302)","v":""},{"$f":"IF('見積書(2号)'!K302=\"\",\"\",'見積書(2号)'!K302)","v":""},{"$f":"IF('見積書(2号)'!L302=\"\",\"\",'見積書(2号)'!L302)","v":""},{"$f":"IF('見積書(2号)'!M302=\"\",\"\",'見積書(2号)'!M302)","v":""},null,"","",null,"",""]
[{"$f":"IF('見積書(2号)'!A303=\"\",\"\",'見積書(2号)'!A303)","v":""},{"$f":"IF('見積書(2号)'!B303=\"\",\"\",'見積書(2号)'!B303)","v":""},{"$f":"IF('見積書(2号)'!C303=\"\",\"\",'見積書(2号)'!C303)","v":""},{"$f":"IF('見積書(2号)'!H303=\"\",\"\",'見積書(2号)'!H303)","v":""},{"$f":"IF('見積書(2号)'!E303=\"\",\"\",'見積書(2号)'!E303)","v":""},{"$f":"IF('見積書(2号)'!I303=\"\",\"\",'見積書(2号)'!I303)","v":""},{"$f":"IF('見積書(2号)'!J303=\"\",\"\",'見積書(2号)'!J303)","v":""},{"$f":"IF('見積書(2号)'!K303=\"\",\"\",'見積書(2号)'!K303)","v":""},{"$f":"IF('見積書(2号)'!L303=\"\",\"\",'見積書(2号)'!L303)","v":""},{"$f":"IF('見積書(2号)'!M303=\"\",\"\",'見積書(2号)'!M303)","v":""},null,"","",null,"",""]
[{"$f":"IF('見積書(2号)'!A304=\"\",\"\",'見積書(2号)'!A304)","v":""},{"$f":"IF('見積書(2号)'!B304=\"\",\"\",'見積書(2号)'!B304)","v":""},{"$f":"IF('見積書(2号)'!C304=\"\",\"\",'見積書(2号)'!C304)","v":""},{"$f":"IF('見積書(2号)'!H304=\"\",\"\",'見積書(2号)'!H304)","v":""},{"$f":"IF('見積書(2号)'!E304=\"\",\"\",'見積書(2号)'!E304)","v":""},{"$f":"IF('見積書(2号)'!I304=\"\",\"\",'見積書(2号)'!I304)","v":""},{"$f":"IF('見積書(2号)'!J304=\"\",\"\",'見積書(2号)'!J304)","v":""},{"$f":"IF('見積書(2号)'!K304=\"\",\"\",'見積書(2号)'!K304)","v":""},{"$f":"IF('見積書(2号)'!L304=\"\",\"\",'見積書(2号)'!L304)","v":""},{"$f":"IF('見積書(2号)'!M304=\"\",\"\",'見積書(2号)'!M304)","v":""},null,"","",null,"",""]
[{"$f":"IF('見積書(2号)'!A305=\"\",\"\",'見積書(2号)'!A305)","v":""},{"$f":"IF('見積書(2号)'!B305=\"\",\"\",'見積書(2号)'!B305)","v":""},{"$f":"IF('見積書(2号)'!C305=\"\",\"\",'見積書(2号)'!C305)","v":""},{"$f":"IF('見積書(2号)'!H305=\"\",\"\",'見積書(2号)'!H305)","v":""},{"$f":"IF('見積書(2号)'!E305=\"\",\"\",'見積書(2号)'!E305)","v":""},{"$f":"IF('見積書(2号)'!I305=\"\",\"\",'見積書(2号)'!I305)","v":""},{"$f":"IF('見積書(2号)'!J305=\"\",\"\",'見積書(2号)'!J305)","v":""},{"$f":"IF('見積書(2号)'!K305=\"\",\"\",'見積書(2号)'!K305)","v":""},{"$f":"IF('見積書(2号)'!L305=\"\",\"\",'見積書(2号)'!L305)","v":""},{"$f":"IF('見積書(2号)'!M305=\"\",\"\",'見積書(2号)'!M305)","v":""},null,"","",null,"",""]
[{"$f":"IF('見積書(2号)'!A306=\"\",\"\",'見積書(2号)'!A306)","v":""},{"$f":"IF('見積書(2号)'!B306=\"\",\"\",'見積書(2号)'!B306)","v":""},{"$f":"IF('見積書(2号)'!C306=\"\",\"\",'見積書(2号)'!C306)","v":""},{"$f":"IF('見積書(2号)'!H306=\"\",\"\",'見積書(2号)'!H306)","v":""},{"$f":"IF('見積書(2号)'!E306=\"\",\"\",'見積書(2号)'!E306)","v":""},{"$f":"IF('見積書(2号)'!I306=\"\",\"\",'見積書(2号)'!I306)","v":""},{"$f":"IF('見積書(2号)'!J306=\"\",\"\",'見積書(2号)'!J306)","v":""},{"$f":"IF('見積書(2号)'!K306=\"\",\"\",'見積書(2号)'!K306)","v":""},{"$f":"IF('見積書(2号)'!L306=\"\",\"\",'見積書(2号)'!L306)","v":""},{"$f":"IF('見積書(2号)'!M306=\"\",\"\",'見積書(2号)'!M306)","v":""},null,"","",null,"",""]
[{"$f":"IF('見積書(2号)'!A307=\"\",\"\",'見積書(2号)'!A307)","v":""},{"$f":"IF('見積書(2号)'!B307=\"\",\"\",'見積書(2号)'!B307)","v":""},{"$f":"IF('見積書(2号)'!C307=\"\",\"\",'見積書(2号)'!C307)","v":""},{"$f":"IF('見積書(2号)'!H307=\"\",\"\",'見積書(2号)'!H307)","v":""},{"$f":"IF('見積書(2号)'!E307=\"\",\"\",'見積書(2号)'!E307)","v":""},{"$f":"IF('見積書(2号)'!I307=\"\",\"\",'見積書(2号)'!I307)","v":""},{"$f":"IF('見積書(2号)'!J307=\"\",\"\",'見積書(2号)'!J307)","v":""},{"$f":"IF('見積書(2号)'!K307=\"\",\"\",'見積書(2号)'!K307)","v":""},{"$f":"IF('見積書(2号)'!L307=\"\",\"\",'見積書(2号)'!L307)","v":""},{"$f":"IF('見積書(2号)'!M307=\"\",\"\",'見積書(2号)'!M307)","v":""},null,"","",null,"",""]
[{"$f":"IF('見積書(2号)'!A308=\"\",\"\",'見積書(2号)'!A308)","v":""},{"$f":"IF('見積書(2号)'!B308=\"\",\"\",'見積書(2号)'!B308)","v":""},{"$f":"IF('見積書(2号)'!C308=\"\",\"\",'見積書(2号)'!C308)","v":""},{"$f":"IF('見積書(2号)'!H308=\"\",\"\",'見積書(2号)'!H308)","v":""},{"$f":"IF('見積書(2号)'!E308=\"\",\"\",'見積書(2号)'!E308)","v":""},{"$f":"IF('見積書(2号)'!I308=\"\",\"\",'見積書(2号)'!I308)","v":""},{"$f":"IF('見積書(2号)'!J308=\"\",\"\",'見積書(2号)'!J308)","v":""},{"$f":"IF('見積書(2号)'!K308=\"\",\"\",'見積書(2号)'!K308)","v":""},{"$f":"IF('見積書(2号)'!L308=\"\",\"\",'見積書(2号)'!L308)","v":""},{"$f":"IF('見積書(2号)'!M308=\"\",\"\",'見積書(2号)'!M308)","v":""},null,"","",null,"",""]
[{"$f":"IF('見積書(2号)'!A309=\"\",\"\",'見積書(2号)'!A309)","v":""},{"$f":"IF('見積書(2号)'!B309=\"\",\"\",'見積書(2号)'!B309)","v":""},{"$f":"IF('見積書(2号)'!C309=\"\",\"\",'見積書(2号)'!C309)","v":""},{"$f":"IF('見積書(2号)'!H309=\"\",\"\",'見積書(2号)'!H309)","v":""},{"$f":"IF('見積書(2号)'!E309=\"\",\"\",'見積書(2号)'!E309)","v":""},{"$f":"IF('見積書(2号)'!I309=\"\",\"\",'見積書(2号)'!I309)","v":""},{"$f":"IF('見積書(2号)'!J309=\"\",\"\",'見積書(2号)'!J309)","v":""},{"$f":"IF('見積書(2号)'!K309=\"\",\"\",'見積書(2号)'!K309)","v":""},{"$f":"IF('見積書(2号)'!L309=\"\",\"\",'見積書(2号)'!L309)","v":""},{"$f":"IF('見積書(2号)'!M309=\"\",\"\",'見積書(2号)'!M309)","v":""},null,"","",null,"",""]
[{"$f":"IF('見積書(2号)'!A310=\"\",\"\",'見積書(2号)'!A310)","v":""},{"$f":"IF('見積書(2号)'!B310=\"\",\"\",'見積書(2号)'!B310)","v":""},{"$f":"IF('見積書(2号)'!C310=\"\",\"\",'見積書(2号)'!C310)","v":""},{"$f":"IF('見積書(2号)'!H310=\"\",\"\",'見積書(2号)'!H310)","v":""},{"$f":"IF('見積書(2号)'!E310=\"\",\"\",'見積書(2号)'!E310)","v":""},{"$f":"IF('見積書(2号)'!I310=\"\",\"\",'見積書(2号)'!I310)","v":""},{"$f":"IF('見積書(2号)'!J310=\"\",\"\",'見積書(2号)'!J310)","v":""},{"$f":"IF('見積書(2号)'!K310=\"\",\"\",'見積書(2号)'!K310)","v":""},{"$f":"IF('見積書(2号)'!L310=\"\",\"\",'見積書(2号)'!L310)","v":""},{"$f":"IF('見積書(2号)'!M310=\"\",\"\",'見積書(2号)'!M310)","v":""},null,"","",null,"",""]
[{"$f":"IF('見積書(2号)'!A311=\"\",\"\",'見積書(2号)'!A311)","v":""},{"$f":"IF('見積書(2号)'!B311=\"\",\"\",'見積書(2号)'!B311)","v":""},{"$f":"IF('見積書(2号)'!C311=\"\",\"\",'見積書(2号)'!C311)","v":""},{"$f":"IF('見積書(2号)'!H311=\"\",\"\",'見積書(2号)'!H311)","v":""},{"$f":"IF('見積書(2号)'!E311=\"\",\"\",'見積書(2号)'!E311)","v":""},{"$f":"IF('見積書(2号)'!I311=\"\",\"\",'見積書(2号)'!I311)","v":""},{"$f":"IF('見積書(2号)'!J311=\"\",\"\",'見積書(2号)'!J311)","v":""},{"$f":"IF('見積書(2号)'!K311=\"\",\"\",'見積書(2号)'!K311)","v":""},{"$f":"IF('見積書(2号)'!L311=\"\",\"\",'見積書(2号)'!L311)","v":""},{"$f":"IF('見積書(2号)'!M311=\"\",\"\",'見積書(2号)'!M311)","v":""},null,"","",null,"",""]
[{"$f":"IF('見積書(2号)'!A312=\"\",\"\",'見積書(2号)'!A312)","v":""},{"$f":"IF('見積書(2号)'!B312=\"\",\"\",'見積書(2号)'!B312)","v":""},{"$f":"IF('見積書(2号)'!C312=\"\",\"\",'見積書(2号)'!C312)","v":""},{"$f":"IF('見積書(2号)'!H312=\"\",\"\",'見積書(2号)'!H312)","v":""},{"$f":"IF('見積書(2号)'!E312=\"\",\"\",'見積書(2号)'!E312)","v":""},{"$f":"IF('見積書(2号)'!I312=\"\",\"\",'見積書(2号)'!I312)","v":""},{"$f":"IF('見積書(2号)'!J312=\"\",\"\",'見積書(2号)'!J312)","v":""},{"$f":"IF('見積書(2号)'!K312=\"\",\"\",'見積書(2号)'!K312)","v":""},{"$f":"IF('見積書(2号)'!L312=\"\",\"\",'見積書(2号)'!L312)","v":""},{"$f":"IF('見積書(2号)'!M312=\"\",\"\",'見積書(2号)'!M312)","v":""},null,"","",null,"",""]
[{"$f":"IF('見積書(2号)'!A313=\"\",\"\",'見積書(2号)'!A313)","v":""},{"$f":"IF('見積書(2号)'!B313=\"\",\"\",'見積書(2号)'!B313)","v":""},{"$f":"IF('見積書(2号)'!C313=\"\",\"\",'見積書(2号)'!C313)","v":""},{"$f":"IF('見積書(2号)'!H313=\"\",\"\",'見積書(2号)'!H313)","v":""},{"$f":"IF('見積書(2号)'!E313=\"\",\"\",'見積書(2号)'!E313)","v":""},{"$f":"IF('見積書(2号)'!I313=\"\",\"\",'見積書(2号)'!I313)","v":""},{"$f":"IF('見積書(2号)'!J313=\"\",\"\",'見積書(2号)'!J313)","v":""},{"$f":"IF('見積書(2号)'!K313=\"\",\"\",'見積書(2号)'!K313)","v":""},{"$f":"IF('見積書(2号)'!L313=\"\",\"\",'見積書(2号)'!L313)","v":""},{"$f":"IF('見積書(2号)'!M313=\"\",\"\",'見積書(2号)'!M313)","v":""},null,"","",null,"",""]
[{"$f":"IF('見積書(2号)'!A314=\"\",\"\",'見積書(2号)'!A314)","v":""},{"$f":"IF('見積書(2号)'!B314=\"\",\"\",'見積書(2号)'!B314)","v":""},{"$f":"IF('見積書(2号)'!C314=\"\",\"\",'見積書(2号)'!C314)","v":""},{"$f":"IF('見積書(2号)'!H314=\"\",\"\",'見積書(2号)'!H314)","v":""},{"$f":"IF('見積書(2号)'!E314=\"\",\"\",'見積書(2号)'!E314)","v":""},{"$f":"IF('見積書(2号)'!I314=\"\",\"\",'見積書(2号)'!I314)","v":""},{"$f":"IF('見積書(2号)'!J314=\"\",\"\",'見積書(2号)'!J314)","v":""},{"$f":"IF('見積書(2号)'!K314=\"\",\"\",'見積書(2号)'!K314)","v":""},{"$f":"IF('見積書(2号)'!L314=\"\",\"\",'見積書(2号)'!L314)","v":""},{"$f":"IF('見積書(2号)'!M314=\"\",\"\",'見積書(2号)'!M314)","v":""},null,"","",null,"",""]
[{"$f":"IF('見積書(2号)'!A315=\"\",\"\",'見積書(2号)'!A315)","v":""},{"$f":"IF('見積書(2号)'!B315=\"\",\"\",'見積書(2号)'!B315)","v":""},{"$f":"IF('見積書(2号)'!C315=\"\",\"\",'見積書(2号)'!C315)","v":""},{"$f":"IF('見積書(2号)'!H315=\"\",\"\",'見積書(2号)'!H315)","v":""},{"$f":"IF('見積書(2号)'!E315=\"\",\"\",'見積書(2号)'!E315)","v":""},{"$f":"IF('見積書(2号)'!I315=\"\",\"\",'見積書(2号)'!I315)","v":""},{"$f":"IF('見積書(2号)'!J315=\"\",\"\",'見積書(2号)'!J315)","v":""},{"$f":"IF('見積書(2号)'!K315=\"\",\"\",'見積書(2号)'!K315)","v":""},{"$f":"IF('見積書(2号)'!L315=\"\",\"\",'見積書(2号)'!L315)","v":""},{"$f":"IF('見積書(2号)'!M315=\"\",\"\",'見積書(2号)'!M315)","v":""},null,"","",null,"",""]
[{"$f":"IF('見積書(2号)'!A316=\"\",\"\",'見積書(2号)'!A316)","v":""},{"$f":"IF('見積書(2号)'!B316=\"\",\"\",'見積書(2号)'!B316)","v":""},{"$f":"IF('見積書(2号)'!C316=\"\",\"\",'見積書(2号)'!C316)","v":""},{"$f":"IF('見積書(2号)'!H316=\"\",\"\",'見積書(2号)'!H316)","v":""},{"$f":"IF('見積書(2号)'!E316=\"\",\"\",'見積書(2号)'!E316)","v":""},{"$f":"IF('見積書(2号)'!I316=\"\",\"\",'見積書(2号)'!I316)","v":""},{"$f":"IF('見積書(2号)'!J316=\"\",\"\",'見積書(2号)'!J316)","v":""},{"$f":"IF('見積書(2号)'!K316=\"\",\"\",'見積書(2号)'!K316)","v":""},{"$f":"IF('見積書(2号)'!L316=\"\",\"\",'見積書(2号)'!L316)","v":""},{"$f":"IF('見積書(2号)'!M316=\"\",\"\",'見積書(2号)'!M316)","v":""},null,"","",null,"",""]
[{"$f":"IF('見積書(2号)'!A317=\"\",\"\",'見積書(2号)'!A317)","v":""},{"$f":"IF('見積書(2号)'!B317=\"\",\"\",'見積書(2号)'!B317)","v":""},{"$f":"IF('見積書(2号)'!C317=\"\",\"\",'見積書(2号)'!C317)","v":""},{"$f":"IF('見積書(2号)'!H317=\"\",\"\",'見積書(2号)'!H317)","v":""},{"$f":"IF('見積書(2号)'!E317=\"\",\"\",'見積書(2号)'!E317)","v":""},{"$f":"IF('見積書(2号)'!I317=\"\",\"\",'見積書(2号)'!I317)","v":""},{"$f":"IF('見積書(2号)'!J317=\"\",\"\",'見積書(2号)'!J317)","v":""},{"$f":"IF('見積書(2号)'!K317=\"\",\"\",'見積書(2号)'!K317)","v":""},{"$f":"IF('見積書(2号)'!L317=\"\",\"\",'見積書(2号)'!L317)","v":""},{"$f":"IF('見積書(2号)'!M317=\"\",\"\",'見積書(2号)'!M317)","v":""},null,"","",null,"",""]
[{"$f":"IF('見積書(2号)'!A318=\"\",\"\",'見積書(2号)'!A318)","v":""},{"$f":"IF('見積書(2号)'!B318=\"\",\"\",'見積書(2号)'!B318)","v":""},{"$f":"IF('見積書(2号)'!C318=\"\",\"\",'見積書(2号)'!C318)","v":""},{"$f":"IF('見積書(2号)'!H318=\"\",\"\",'見積書(2号)'!H318)","v":""},{"$f":"IF('見積書(2号)'!E318=\"\",\"\",'見積書(2号)'!E318)","v":""},{"$f":"IF('見積書(2号)'!I318=\"\",\"\",'見積書(2号)'!I318)","v":""},{"$f":"IF('見積書(2号)'!J318=\"\",\"\",'見積書(2号)'!J318)","v":""},{"$f":"IF('見積書(2号)'!K318=\"\",\"\",'見積書(2号)'!K318)","v":""},{"$f":"IF('見積書(2号)'!L318=\"\",\"\",'見積書(2号)'!L318)","v":""},{"$f":"IF('見積書(2号)'!M318=\"\",\"\",'見積書(2号)'!M318)","v":""},null,"","",null,"",""]
[{"$f":"IF('見積書(2号)'!A319=\"\",\"\",'見積書(2号)'!A319)","v":""},{"$f":"IF('見積書(2号)'!B319=\"\",\"\",'見積書(2号)'!B319)","v":""},{"$f":"IF('見積書(2号)'!C319=\"\",\"\",'見積書(2号)'!C319)","v":""},{"$f":"IF('見積書(2号)'!H319=\"\",\"\",'見積書(2号)'!H319)","v":""},{"$f":"IF('見積書(2号)'!E319=\"\",\"\",'見積書(2号)'!E319)","v":""},{"$f":"IF('見積書(2号)'!I319=\"\",\"\",'見積書(2号)'!I319)","v":""},{"$f":"IF('見積書(2号)'!J319=\"\",\"\",'見積書(2号)'!J319)","v":""},{"$f":"IF('見積書(2号)'!K319=\"\",\"\",'見積書(2号)'!K319)","v":""},{"$f":"IF('見積書(2号)'!L319=\"\",\"\",'見積書(2号)'!L319)","v":""},{"$f":"IF('見積書(2号)'!M319=\"\",\"\",'見積書(2号)'!M319)","v":""},null,"","",null,"",""]
[{"$f":"IF('見積書(2号)'!A320=\"\",\"\",'見積書(2号)'!A320)","v":""},{"$f":"IF('見積書(2号)'!B320=\"\",\"\",'見積書(2号)'!B320)","v":""},{"$f":"IF('見積書(2号)'!C320=\"\",\"\",'見積書(2号)'!C320)","v":""},{"$f":"IF('見積書(2号)'!H320=\"\",\"\",'見積書(2号)'!H320)","v":""},{"$f":"IF('見積書(2号)'!E320=\"\",\"\",'見積書(2号)'!E320)","v":""},{"$f":"IF('見積書(2号)'!I320=\"\",\"\",'見積書(2号)'!I320)","v":""},{"$f":"IF('見積書(2号)'!J320=\"\",\"\",'見積書(2号)'!J320)","v":""},{"$f":"IF('見積書(2号)'!K320=\"\",\"\",'見積書(2号)'!K320)","v":""},{"$f":"IF('見積書(2号)'!L320=\"\",\"\",'見積書(2号)'!L320)","v":""},{"$f":"IF('見積書(2号)'!M320=\"\",\"\",'見積書(2号)'!M320)","v":""},null,"","",null,"",""]
[{"$f":"IF('見積書(2号)'!A321=\"\",\"\",'見積書(2号)'!A321)","v":""},{"$f":"IF('見積書(2号)'!B321=\"\",\"\",'見積書(2号)'!B321)","v":""},{"$f":"IF('見積書(2号)'!C321=\"\",\"\",'見積書(2号)'!C321)","v":""},{"$f":"IF('見積書(2号)'!H321=\"\",\"\",'見積書(2号)'!H321)","v":""},{"$f":"IF('見積書(2号)'!E321=\"\",\"\",'見積書(2号)'!E321)","v":""},{"$f":"IF('見積書(2号)'!I321=\"\",\"\",'見積書(2号)'!I321)","v":""},{"$f":"IF('見積書(2号)'!J321=\"\",\"\",'見積書(2号)'!J321)","v":""},{"$f":"IF('見積書(2号)'!K321=\"\",\"\",'見積書(2号)'!K321)","v":""},{"$f":"IF('見積書(2号)'!L321=\"\",\"\",'見積書(2号)'!L321)","v":""},{"$f":"IF('見積書(2号)'!M321=\"\",\"\",'見積書(2号)'!M321)","v":""},null,"","",null,"",""]
[{"$f":"IF('見積書(2号)'!A322=\"\",\"\",'見積書(2号)'!A322)","v":""},{"$f":"IF('見積書(2号)'!B322=\"\",\"\",'見積書(2号)'!B322)","v":""},{"$f":"IF('見積書(2号)'!C322=\"\",\"\",'見積書(2号)'!C322)","v":""},{"$f":"IF('見積書(2号)'!H322=\"\",\"\",'見積書(2号)'!H322)","v":""},{"$f":"IF('見積書(2号)'!E322=\"\",\"\",'見積書(2号)'!E322)","v":""},{"$f":"IF('見積書(2号)'!I322=\"\",\"\",'見積書(2号)'!I322)","v":""},{"$f":"IF('見積書(2号)'!J322=\"\",\"\",'見積書(2号)'!J322)","v":""},{"$f":"IF('見積書(2号)'!K322=\"\",\"\",'見積書(2号)'!K322)","v":""},{"$f":"IF('見積書(2号)'!L322=\"\",\"\",'見積書(2号)'!L322)","v":""},{"$f":"IF('見積書(2号)'!M322=\"\",\"\",'見積書(2号)'!M322)","v":""},null,"","",null,"",""]
[{"$f":"IF('見積書(2号)'!A323=\"\",\"\",'見積書(2号)'!A323)","v":""},{"$f":"IF('見積書(2号)'!B323=\"\",\"\",'見積書(2号)'!B323)","v":""},{"$f":"IF('見積書(2号)'!C323=\"\",\"\",'見積書(2号)'!C323)","v":""},{"$f":"IF('見積書(2号)'!H323=\"\",\"\",'見積書(2号)'!H323)","v":""},{"$f":"IF('見積書(2号)'!E323=\"\",\"\",'見積書(2号)'!E323)","v":""},{"$f":"IF('見積書(2号)'!I323=\"\",\"\",'見積書(2号)'!I323)","v":""},{"$f":"IF('見積書(2号)'!J323=\"\",\"\",'見積書(2号)'!J323)","v":""},{"$f":"IF('見積書(2号)'!K323=\"\",\"\",'見積書(2号)'!K323)","v":""},{"$f":"IF('見積書(2号)'!L323=\"\",\"\",'見積書(2号)'!L323)","v":""},{"$f":"IF('見積書(2号)'!M323=\"\",\"\",'見積書(2号)'!M323)","v":""},null,"","",null,"",""]
[{"$f":"IF('見積書(2号)'!A324=\"\",\"\",'見積書(2号)'!A324)","v":""},{"$f":"IF('見積書(2号)'!B324=\"\",\"\",'見積書(2号)'!B324)","v":""},{"$f":"IF('見積書(2号)'!C324=\"\",\"\",'見積書(2号)'!C324)","v":""},{"$f":"IF('見積書(2号)'!H324=\"\",\"\",'見積書(2号)'!H324)","v":""},{"$f":"IF('見積書(2号)'!E324=\"\",\"\",'見積書(2号)'!E324)","v":""},{"$f":"IF('見積書(2号)'!I324=\"\",\"\",'見積書(2号)'!I324)","v":""},{"$f":"IF('見積書(2号)'!J324=\"\",\"\",'見積書(2号)'!J324)","v":""},{"$f":"IF('見積書(2号)'!K324=\"\",\"\",'見積書(2号)'!K324)","v":""},{"$f":"IF('見積書(2号)'!L324=\"\",\"\",'見積書(2号)'!L324)","v":""},{"$f":"IF('見積書(2号)'!M324=\"\",\"\",'見積書(2号)'!M324)","v":""},null,"","",null,"",""]
[{"$f":"IF('見積書(2号)'!A325=\"\",\"\",'見積書(2号)'!A325)","v":""},{"$f":"IF('見積書(2号)'!B325=\"\",\"\",'見積書(2号)'!B325)","v":""},{"$f":"IF('見積書(2号)'!C325=\"\",\"\",'見積書(2号)'!C325)","v":""},{"$f":"IF('見積書(2号)'!H325=\"\",\"\",'見積書(2号)'!H325)","v":""},{"$f":"IF('見積書(2号)'!E325=\"\",\"\",'見積書(2号)'!E325)","v":""},{"$f":"IF('見積書(2号)'!I325=\"\",\"\",'見積書(2号)'!I325)","v":""},{"$f":"IF('見積書(2号)'!J325=\"\",\"\",'見積書(2号)'!J325)","v":""},{"$f":"IF('見積書(2号)'!K325=\"\",\"\",'見積書(2号)'!K325)","v":""},{"$f":"IF('見積書(2号)'!L325=\"\",\"\",'見積書(2号)'!L325)","v":""},{"$f":"IF('見積書(2号)'!M325=\"\",\"\",'見積書(2号)'!M325)","v":""},null,"","",null,"",""]
[{"$f":"IF('見積書(2号)'!A326=\"\",\"\",'見積書(2号)'!A326)","v":""},{"$f":"IF('見積書(2号)'!B326=\"\",\"\",'見積書(2号)'!B326)","v":""},{"$f":"IF('見積書(2号)'!C326=\"\",\"\",'見積書(2号)'!C326)","v":""},{"$f":"IF('見積書(2号)'!H326=\"\",\"\",'見積書(2号)'!H326)","v":""},{"$f":"IF('見積書(2号)'!E326=\"\",\"\",'見積書(2号)'!E326)","v":""},{"$f":"IF('見積書(2号)'!I326=\"\",\"\",'見積書(2号)'!I326)","v":""},{"$f":"IF('見積書(2号)'!J326=\"\",\"\",'見積書(2号)'!J326)","v":""},{"$f":"IF('見積書(2号)'!K326=\"\",\"\",'見積書(2号)'!K326)","v":""},{"$f":"IF('見積書(2号)'!L326=\"\",\"\",'見積書(2号)'!L326)","v":""},{"$f":"IF('見積書(2号)'!M326=\"\",\"\",'見積書(2号)'!M326)","v":""},null,"","",null,"",""]
[{"$f":"IF('見積書(2号)'!A327=\"\",\"\",'見積書(2号)'!A327)","v":""},{"$f":"IF('見積書(2号)'!B327=\"\",\"\",'見積書(2号)'!B327)","v":""},{"$f":"IF('見積書(2号)'!C327=\"\",\"\",'見積書(2号)'!C327)","v":""},{"$f":"IF('見積書(2号)'!H327=\"\",\"\",'見積書(2号)'!H327)","v":""},{"$f":"IF('見積書(2号)'!E327=\"\",\"\",'見積書(2号)'!E327)","v":""},{"$f":"IF('見積書(2号)'!I327=\"\",\"\",'見積書(2号)'!I327)","v":""},{"$f":"IF('見積書(2号)'!J327=\"\",\"\",'見積書(2号)'!J327)","v":""},{"$f":"IF('見積書(2号)'!K327=\"\",\"\",'見積書(2号)'!K327)","v":""},{"$f":"IF('見積書(2号)'!L327=\"\",\"\",'見積書(2号)'!L327)","v":""},{"$f":"IF('見積書(2号)'!M327=\"\",\"\",'見積書(2号)'!M327)","v":""},null,"","",null,"",""]
[{"$f":"IF('見積書(2号)'!A328=\"\",\"\",'見積書(2号)'!A328)","v":""},{"$f":"IF('見積書(2号)'!B328=\"\",\"\",'見積書(2号)'!B328)","v":""},{"$f":"IF('見積書(2号)'!C328=\"\",\"\",'見積書(2号)'!C328)","v":""},{"$f":"IF('見積書(2号)'!H328=\"\",\"\",'見積書(2号)'!H328)","v":""},{"$f":"IF('見積書(2号)'!E328=\"\",\"\",'見積書(2号)'!E328)","v":""},{"$f":"IF('見積書(2号)'!I328=\"\",\"\",'見積書(2号)'!I328)","v":""},{"$f":"IF('見積書(2号)'!J328=\"\",\"\",'見積書(2号)'!J328)","v":""},{"$f":"IF('見積書(2号)'!K328=\"\",\"\",'見積書(2号)'!K328)","v":""},{"$f":"IF('見積書(2号)'!L328=\"\",\"\",'見積書(2号)'!L328)","v":""},{"$f":"IF('見積書(2号)'!M328=\"\",\"\",'見積書(2号)'!M328)","v":""},null,"","",null,"",""]
[{"$f":"IF('見積書(2号)'!A329=\"\",\"\",'見積書(2号)'!A329)","v":""},{"$f":"IF('見積書(2号)'!B329=\"\",\"\",'見積書(2号)'!B329)","v":""},{"$f":"IF('見積書(2号)'!C329=\"\",\"\",'見積書(2号)'!C329)","v":""},{"$f":"IF('見積書(2号)'!H329=\"\",\"\",'見積書(2号)'!H329)","v":""},{"$f":"IF('見積書(2号)'!E329=\"\",\"\",'見積書(2号)'!E329)","v":""},{"$f":"IF('見積書(2号)'!I329=\"\",\"\",'見積書(2号)'!I329)","v":""},{"$f":"IF('見積書(2号)'!J329=\"\",\"\",'見積書(2号)'!J329)","v":""},{"$f":"IF('見積書(2号)'!K329=\"\",\"\",'見積書(2号)'!K329)","v":""},{"$f":"IF('見積書(2号)'!L329=\"\",\"\",'見積書(2号)'!L329)","v":""},{"$f":"IF('見積書(2号)'!M329=\"\",\"\",'見積書(2号)'!M329)","v":""},null,"","",null,"",""]
[{"$f":"IF('見積書(2号)'!A330=\"\",\"\",'見積書(2号)'!A330)","v":""},{"$f":"IF('見積書(2号)'!B330=\"\",\"\",'見積書(2号)'!B330)","v":""},{"$f":"IF('見積書(2号)'!C330=\"\",\"\",'見積書(2号)'!C330)","v":""},{"$f":"IF('見積書(2号)'!H330=\"\",\"\",'見積書(2号)'!H330)","v":""},{"$f":"IF('見積書(2号)'!E330=\"\",\"\",'見積書(2号)'!E330)","v":""},{"$f":"IF('見積書(2号)'!I330=\"\",\"\",'見積書(2号)'!I330)","v":""},{"$f":"IF('見積書(2号)'!J330=\"\",\"\",'見積書(2号)'!J330)","v":""},{"$f":"IF('見積書(2号)'!K330=\"\",\"\",'見積書(2号)'!K330)","v":""},{"$f":"IF('見積書(2号)'!L330=\"\",\"\",'見積書(2号)'!L330)","v":""},{"$f":"IF('見積書(2号)'!M330=\"\",\"\",'見積書(2号)'!M330)","v":""},null,"","",null,"",""]
[{"$f":"IF('見積書(2号)'!A331=\"\",\"\",'見積書(2号)'!A331)","v":""},{"$f":"IF('見積書(2号)'!B331=\"\",\"\",'見積書(2号)'!B331)","v":""},{"$f":"IF('見積書(2号)'!C331=\"\",\"\",'見積書(2号)'!C331)","v":""},{"$f":"IF('見積書(2号)'!H331=\"\",\"\",'見積書(2号)'!H331)","v":""},{"$f":"IF('見積書(2号)'!E331=\"\",\"\",'見積書(2号)'!E331)","v":""},{"$f":"IF('見積書(2号)'!I331=\"\",\"\",'見積書(2号)'!I331)","v":""},{"$f":"IF('見積書(2号)'!J331=\"\",\"\",'見積書(2号)'!J331)","v":""},{"$f":"IF('見積書(2号)'!K331=\"\",\"\",'見積書(2号)'!K331)","v":""},{"$f":"IF('見積書(2号)'!L331=\"\",\"\",'見積書(2号)'!L331)","v":""},{"$f":"IF('見積書(2号)'!M331=\"\",\"\",'見積書(2号)'!M331)","v":""},null,{"$f":"IF(I331=\"\",F331,I331)","v":""},{"$f":"IF(L331=\"\",\"\",L331*K331)","v":""},null,"",""]
[{"$f":"IF('見積書(2号)'!A332=\"\",\"\",'見積書(2号)'!A332)","v":""},{"$f":"IF('見積書(2号)'!B332=\"\",\"\",'見積書(2号)'!B332)","v":""},{"$f":"IF('見積書(2号)'!C332=\"\",\"\",'見積書(2号)'!C332)","v":""},{"$f":"IF('見積書(2号)'!H332=\"\",\"\",'見積書(2号)'!H332)","v":""},{"$f":"IF('見積書(2号)'!E332=\"\",\"\",'見積書(2号)'!E332)","v":""},{"$f":"IF('見積書(2号)'!I332=\"\",\"\",'見積書(2号)'!I332)","v":""},{"$f":"IF('見積書(2号)'!J332=\"\",\"\",'見積書(2号)'!J332)","v":""},{"$f":"IF('見積書(2号)'!K332=\"\",\"\",'見積書(2号)'!K332)","v":""},{"$f":"IF('見積書(2号)'!L332=\"\",\"\",'見積書(2号)'!L332)","v":""},{"$f":"IF('見積書(2号)'!M332=\"\",\"\",'見積書(2号)'!M332)","v":""},null,"","",null,"",""]
[{"$f":"IF('見積書(2号)'!A333=\"\",\"\",'見積書(2号)'!A333)","v":""},{"$f":"IF('見積書(2号)'!B333=\"\",\"\",'見積書(2号)'!B333)","v":""},{"$f":"IF('見積書(2号)'!C333=\"\",\"\",'見積書(2号)'!C333)","v":""},{"$f":"IF('見積書(2号)'!H333=\"\",\"\",'見積書(2号)'!H333)","v":""},{"$f":"IF('見積書(2号)'!E333=\"\",\"\",'見積書(2号)'!E333)","v":""},{"$f":"IF('見積書(2号)'!I333=\"\",\"\",'見積書(2号)'!I333)","v":""},{"$f":"IF('見積書(2号)'!J333=\"\",\"\",'見積書(2号)'!J333)","v":""},{"$f":"IF('見積書(2号)'!K333=\"\",\"\",'見積書(2号)'!K333)","v":""},{"$f":"IF('見積書(2号)'!L333=\"\",\"\",'見積書(2号)'!L333)","v":""},{"$f":"IF('見積書(2号)'!M333=\"\",\"\",'見積書(2号)'!M333)","v":""},null,"","",null,"",""]
[{"$f":"IF('見積書(2号)'!A334=\"\",\"\",'見積書(2号)'!A334)","v":""},{"$f":"IF('見積書(2号)'!B334=\"\",\"\",'見積書(2号)'!B334)","v":""},{"$f":"IF('見積書(2号)'!C334=\"\",\"\",'見積書(2号)'!C334)","v":""},{"$f":"IF('見積書(2号)'!H334=\"\",\"\",'見積書(2号)'!H334)","v":""},{"$f":"IF('見積書(2号)'!E334=\"\",\"\",'見積書(2号)'!E334)","v":""},{"$f":"IF('見積書(2号)'!I334=\"\",\"\",'見積書(2号)'!I334)","v":""},{"$f":"IF('見積書(2号)'!J334=\"\",\"\",'見積書(2号)'!J334)","v":""},{"$f":"IF('見積書(2号)'!K334=\"\",\"\",'見積書(2号)'!K334)","v":""},{"$f":"IF('見積書(2号)'!L334=\"\",\"\",'見積書(2号)'!L334)","v":""},{"$f":"IF('見積書(2号)'!M334=\"\",\"\",'見積書(2号)'!M334)","v":""},null,"","",null,"",""]
[{"$f":"IF('見積書(2号)'!A335=\"\",\"\",'見積書(2号)'!A335)","v":""},{"$f":"IF('見積書(2号)'!B335=\"\",\"\",'見積書(2号)'!B335)","v":""},{"$f":"IF('見積書(2号)'!C335=\"\",\"\",'見積書(2号)'!C335)","v":""},{"$f":"IF('見積書(2号)'!H335=\"\",\"\",'見積書(2号)'!H335)","v":""},{"$f":"IF('見積書(2号)'!E335=\"\",\"\",'見積書(2号)'!E335)","v":""},{"$f":"IF('見積書(2号)'!I335=\"\",\"\",'見積書(2号)'!I335)","v":""},{"$f":"IF('見積書(2号)'!J335=\"\",\"\",'見積書(2号)'!J335)","v":""},{"$f":"IF('見積書(2号)'!K335=\"\",\"\",'見積書(2号)'!K335)","v":""},{"$f":"IF('見積書(2号)'!L335=\"\",\"\",'見積書(2号)'!L335)","v":""},{"$f":"IF('見積書(2号)'!M335=\"\",\"\",'見積書(2号)'!M335)","v":""},null,"","",null,"",""]
[{"$f":"IF('見積書(2号)'!A336=\"\",\"\",'見積書(2号)'!A336)","v":""},{"$f":"IF('見積書(2号)'!B336=\"\",\"\",'見積書(2号)'!B336)","v":""},{"$f":"IF('見積書(2号)'!C336=\"\",\"\",'見積書(2号)'!C336)","v":""},{"$f":"IF('見積書(2号)'!H336=\"\",\"\",'見積書(2号)'!H336)","v":""},{"$f":"IF('見積書(2号)'!E336=\"\",\"\",'見積書(2号)'!E336)","v":""},{"$f":"IF('見積書(2号)'!I336=\"\",\"\",'見積書(2号)'!I336)","v":""},{"$f":"IF('見積書(2号)'!J336=\"\",\"\",'見積書(2号)'!J336)","v":""},{"$f":"IF('見積書(2号)'!K336=\"\",\"\",'見積書(2号)'!K336)","v":""},{"$f":"IF('見積書(2号)'!L336=\"\",\"\",'見積書(2号)'!L336)","v":""},{"$f":"IF('見積書(2号)'!M336=\"\",\"\",'見積書(2号)'!M336)","v":""},null,"","",null,"",""]
[{"$f":"IF('見積書(2号)'!A337=\"\",\"\",'見積書(2号)'!A337)","v":""},{"$f":"IF('見積書(2号)'!B337=\"\",\"\",'見積書(2号)'!B337)","v":""},{"$f":"IF('見積書(2号)'!C337=\"\",\"\",'見積書(2号)'!C337)","v":""},{"$f":"IF('見積書(2号)'!H337=\"\",\"\",'見積書(2号)'!H337)","v":""},{"$f":"IF('見積書(2号)'!E337=\"\",\"\",'見積書(2号)'!E337)","v":""},{"$f":"IF('見積書(2号)'!I337=\"\",\"\",'見積書(2号)'!I337)","v":""},{"$f":"IF('見積書(2号)'!J337=\"\",\"\",'見積書(2号)'!J337)","v":""},{"$f":"IF('見積書(2号)'!K337=\"\",\"\",'見積書(2号)'!K337)","v":""},{"$f":"IF('見積書(2号)'!L337=\"\",\"\",'見積書(2号)'!L337)","v":""},{"$f":"IF('見積書(2号)'!M337=\"\",\"\",'見積書(2号)'!M337)","v":""},null,"","",null,"",""]
[{"$f":"IF('見積書(2号)'!A338=\"\",\"\",'見積書(2号)'!A338)","v":""},{"$f":"IF('見積書(2号)'!B338=\"\",\"\",'見積書(2号)'!B338)","v":""},{"$f":"IF('見積書(2号)'!C338=\"\",\"\",'見積書(2号)'!C338)","v":""},{"$f":"IF('見積書(2号)'!H338=\"\",\"\",'見積書(2号)'!H338)","v":""},{"$f":"IF('見積書(2号)'!E338=\"\",\"\",'見積書(2号)'!E338)","v":""},{"$f":"IF('見積書(2号)'!I338=\"\",\"\",'見積書(2号)'!I338)","v":""},{"$f":"IF('見積書(2号)'!J338=\"\",\"\",'見積書(2号)'!J338)","v":""},{"$f":"IF('見積書(2号)'!K338=\"\",\"\",'見積書(2号)'!K338)","v":""},{"$f":"IF('見積書(2号)'!L338=\"\",\"\",'見積書(2号)'!L338)","v":""},{"$f":"IF('見積書(2号)'!M338=\"\",\"\",'見積書(2号)'!M338)","v":""},null,"","",null,"",""]
[{"$f":"IF('見積書(2号)'!A339=\"\",\"\",'見積書(2号)'!A339)","v":""},{"$f":"IF('見積書(2号)'!B339=\"\",\"\",'見積書(2号)'!B339)","v":""},{"$f":"IF('見積書(2号)'!C339=\"\",\"\",'見積書(2号)'!C339)","v":""},{"$f":"IF('見積書(2号)'!H339=\"\",\"\",'見積書(2号)'!H339)","v":""},{"$f":"IF('見積書(2号)'!E339=\"\",\"\",'見積書(2号)'!E339)","v":""},{"$f":"IF('見積書(2号)'!I339=\"\",\"\",'見積書(2号)'!I339)","v":""},{"$f":"IF('見積書(2号)'!J339=\"\",\"\",'見積書(2号)'!J339)","v":""},{"$f":"IF('見積書(2号)'!K339=\"\",\"\",'見積書(2号)'!K339)","v":""},{"$f":"IF('見積書(2号)'!L339=\"\",\"\",'見積書(2号)'!L339)","v":""},{"$f":"IF('見積書(2号)'!M339=\"\",\"\",'見積書(2号)'!M339)","v":""},null,"","",null,"",""]
[{"$f":"IF('見積書(2号)'!A340=\"\",\"\",'見積書(2号)'!A340)","v":""},{"$f":"IF('見積書(2号)'!B340=\"\",\"\",'見積書(2号)'!B340)","v":""},{"$f":"IF('見積書(2号)'!C340=\"\",\"\",'見積書(2号)'!C340)","v":""},{"$f":"IF('見積書(2号)'!H340=\"\",\"\",'見積書(2号)'!H340)","v":""},{"$f":"IF('見積書(2号)'!E340=\"\",\"\",'見積書(2号)'!E340)","v":""},{"$f":"IF('見積書(2号)'!I340=\"\",\"\",'見積書(2号)'!I340)","v":""},{"$f":"IF('見積書(2号)'!J340=\"\",\"\",'見積書(2号)'!J340)","v":""},{"$f":"IF('見積書(2号)'!K340=\"\",\"\",'見積書(2号)'!K340)","v":""},{"$f":"IF('見積書(2号)'!L340=\"\",\"\",'見積書(2号)'!L340)","v":""},{"$f":"IF('見積書(2号)'!M340=\"\",\"\",'見積書(2号)'!M340)","v":""},null,"","",null,"",""]
[{"$f":"IF('見積書(2号)'!A341=\"\",\"\",'見積書(2号)'!A341)","v":""},{"$f":"IF('見積書(2号)'!B341=\"\",\"\",'見積書(2号)'!B341)","v":""},{"$f":"IF('見積書(2号)'!C341=\"\",\"\",'見積書(2号)'!C341)","v":""},{"$f":"IF('見積書(2号)'!H341=\"\",\"\",'見積書(2号)'!H341)","v":""},{"$f":"IF('見積書(2号)'!E341=\"\",\"\",'見積書(2号)'!E341)","v":""},{"$f":"IF('見積書(2号)'!I341=\"\",\"\",'見積書(2号)'!I341)","v":""},{"$f":"IF('見積書(2号)'!J341=\"\",\"\",'見積書(2号)'!J341)","v":""},{"$f":"IF('見積書(2号)'!K341=\"\",\"\",'見積書(2号)'!K341)","v":""},{"$f":"IF('見積書(2号)'!L341=\"\",\"\",'見積書(2号)'!L341)","v":""},{"$f":"IF('見積書(2号)'!M341=\"\",\"\",'見積書(2号)'!M341)","v":""},null,"","",null,"",""]
[{"$f":"IF('見積書(2号)'!A342=\"\",\"\",'見積書(2号)'!A342)","v":""},{"$f":"IF('見積書(2号)'!B342=\"\",\"\",'見積書(2号)'!B342)","v":""},{"$f":"IF('見積書(2号)'!C342=\"\",\"\",'見積書(2号)'!C342)","v":""},{"$f":"IF('見積書(2号)'!H342=\"\",\"\",'見積書(2号)'!H342)","v":""},{"$f":"IF('見積書(2号)'!E342=\"\",\"\",'見積書(2号)'!E342)","v":""},{"$f":"IF('見積書(2号)'!I342=\"\",\"\",'見積書(2号)'!I342)","v":""},{"$f":"IF('見積書(2号)'!J342=\"\",\"\",'見積書(2号)'!J342)","v":""},{"$f":"IF('見積書(2号)'!K342=\"\",\"\",'見積書(2号)'!K342)","v":""},{"$f":"IF('見積書(2号)'!L342=\"\",\"\",'見積書(2号)'!L342)","v":""},{"$f":"IF('見積書(2号)'!M342=\"\",\"\",'見積書(2号)'!M342)","v":""},null,"","",null,"",""]
[{"$f":"IF('見積書(2号)'!A343=\"\",\"\",'見積書(2号)'!A343)","v":""},{"$f":"IF('見積書(2号)'!B343=\"\",\"\",'見積書(2号)'!B343)","v":""},{"$f":"IF('見積書(2号)'!C343=\"\",\"\",'見積書(2号)'!C343)","v":""},{"$f":"IF('見積書(2号)'!H343=\"\",\"\",'見積書(2号)'!H343)","v":""},{"$f":"IF('見積書(2号)'!E343=\"\",\"\",'見積書(2号)'!E343)","v":""},{"$f":"IF('見積書(2号)'!I343=\"\",\"\",'見積書(2号)'!I343)","v":""},{"$f":"IF('見積書(2号)'!J343=\"\",\"\",'見積書(2号)'!J343)","v":""},{"$f":"IF('見積書(2号)'!K343=\"\",\"\",'見積書(2号)'!K343)","v":""},{"$f":"IF('見積書(2号)'!L343=\"\",\"\",'見積書(2号)'!L343)","v":""},{"$f":"IF('見積書(2号)'!M343=\"\",\"\",'見積書(2号)'!M343)","v":""},null,"","",null,"",""]
[{"$f":"IF('見積書(2号)'!A344=\"\",\"\",'見積書(2号)'!A344)","v":""},{"$f":"IF('見積書(2号)'!B344=\"\",\"\",'見積書(2号)'!B344)","v":""},{"$f":"IF('見積書(2号)'!C344=\"\",\"\",'見積書(2号)'!C344)","v":""},{"$f":"IF('見積書(2号)'!H344=\"\",\"\",'見積書(2号)'!H344)","v":""},{"$f":"IF('見積書(2号)'!E344=\"\",\"\",'見積書(2号)'!E344)","v":""},{"$f":"IF('見積書(2号)'!I344=\"\",\"\",'見積書(2号)'!I344)","v":""},{"$f":"IF('見積書(2号)'!J344=\"\",\"\",'見積書(2号)'!J344)","v":""},{"$f":"IF('見積書(2号)'!K344=\"\",\"\",'見積書(2号)'!K344)","v":""},{"$f":"IF('見積書(2号)'!L344=\"\",\"\",'見積書(2号)'!L344)","v":""},{"$f":"IF('見積書(2号)'!M344=\"\",\"\",'見積書(2号)'!M344)","v":""},null,"","",null,"",""]
[{"$f":"IF('見積書(2号)'!A345=\"\",\"\",'見積書(2号)'!A345)","v":""},{"$f":"IF('見積書(2号)'!B345=\"\",\"\",'見積書(2号)'!B345)","v":""},{"$f":"IF('見積書(2号)'!C345=\"\",\"\",'見積書(2号)'!C345)","v":""},{"$f":"IF('見積書(2号)'!H345=\"\",\"\",'見積書(2号)'!H345)","v":""},{"$f":"IF('見積書(2号)'!E345=\"\",\"\",'見積書(2号)'!E345)","v":""},{"$f":"IF('見積書(2号)'!I345=\"\",\"\",'見積書(2号)'!I345)","v":""},{"$f":"IF('見積書(2号)'!J345=\"\",\"\",'見積書(2号)'!J345)","v":""},{"$f":"IF('見積書(2号)'!K345=\"\",\"\",'見積書(2号)'!K345)","v":""},{"$f":"IF('見積書(2号)'!L345=\"\",\"\",'見積書(2号)'!L345)","v":""},{"$f":"IF('見積書(2号)'!M345=\"\",\"\",'見積書(2号)'!M345)","v":""},null,"","",null,"",""]
[{"$f":"IF('見積書(2号)'!A346=\"\",\"\",'見積書(2号)'!A346)","v":""},{"$f":"IF('見積書(2号)'!B346=\"\",\"\",'見積書(2号)'!B346)","v":""},{"$f":"IF('見積書(2号)'!C346=\"\",\"\",'見積書(2号)'!C346)","v":""},{"$f":"IF('見積書(2号)'!H346=\"\",\"\",'見積書(2号)'!H346)","v":""},{"$f":"IF('見積書(2号)'!E346=\"\",\"\",'見積書(2号)'!E346)","v":""},{"$f":"IF('見積書(2号)'!I346=\"\",\"\",'見積書(2号)'!I346)","v":""},{"$f":"IF('見積書(2号)'!J346=\"\",\"\",'見積書(2号)'!J346)","v":""},{"$f":"IF('見積書(2号)'!K346=\"\",\"\",'見積書(2号)'!K346)","v":""},{"$f":"IF('見積書(2号)'!L346=\"\",\"\",'見積書(2号)'!L346)","v":""},{"$f":"IF('見積書(2号)'!M346=\"\",\"\",'見積書(2号)'!M346)","v":""},null,"","",null,"",""]
[{"$f":"IF('見積書(2号)'!A347=\"\",\"\",'見積書(2号)'!A347)","v":""},{"$f":"IF('見積書(2号)'!B347=\"\",\"\",'見積書(2号)'!B347)","v":""},{"$f":"IF('見積書(2号)'!C347=\"\",\"\",'見積書(2号)'!C347)","v":""},{"$f":"IF('見積書(2号)'!H347=\"\",\"\",'見積書(2号)'!H347)","v":""},{"$f":"IF('見積書(2号)'!E347=\"\",\"\",'見積書(2号)'!E347)","v":""},{"$f":"IF('見積書(2号)'!I347=\"\",\"\",'見積書(2号)'!I347)","v":""},{"$f":"IF('見積書(2号)'!J347=\"\",\"\",'見積書(2号)'!J347)","v":""},{"$f":"IF('見積書(2号)'!K347=\"\",\"\",'見積書(2号)'!K347)","v":""},{"$f":"IF('見積書(2号)'!L347=\"\",\"\",'見積書(2号)'!L347)","v":""},{"$f":"IF('見積書(2号)'!M347=\"\",\"\",'見積書(2号)'!M347)","v":""},null,"","",null,"",""]
[{"$f":"IF('見積書(2号)'!A348=\"\",\"\",'見積書(2号)'!A348)","v":""},{"$f":"IF('見積書(2号)'!B348=\"\",\"\",'見積書(2号)'!B348)","v":""},{"$f":"IF('見積書(2号)'!C348=\"\",\"\",'見積書(2号)'!C348)","v":""},{"$f":"IF('見積書(2号)'!H348=\"\",\"\",'見積書(2号)'!H348)","v":""},{"$f":"IF('見積書(2号)'!E348=\"\",\"\",'見積書(2号)'!E348)","v":""},{"$f":"IF('見積書(2号)'!I348=\"\",\"\",'見積書(2号)'!I348)","v":""},{"$f":"IF('見積書(2号)'!J348=\"\",\"\",'見積書(2号)'!J348)","v":""},{"$f":"IF('見積書(2号)'!K348=\"\",\"\",'見積書(2号)'!K348)","v":""},{"$f":"IF('見積書(2号)'!L348=\"\",\"\",'見積書(2号)'!L348)","v":""},{"$f":"IF('見積書(2号)'!M348=\"\",\"\",'見積書(2号)'!M348)","v":""},null,"","",null,"",""]
[{"$f":"IF('見積書(2号)'!A349=\"\",\"\",'見積書(2号)'!A349)","v":""},{"$f":"IF('見積書(2号)'!B349=\"\",\"\",'見積書(2号)'!B349)","v":""},{"$f":"IF('見積書(2号)'!C349=\"\",\"\",'見積書(2号)'!C349)","v":""},{"$f":"IF('見積書(2号)'!H349=\"\",\"\",'見積書(2号)'!H349)","v":""},{"$f":"IF('見積書(2号)'!E349=\"\",\"\",'見積書(2号)'!E349)","v":""},{"$f":"IF('見積書(2号)'!I349=\"\",\"\",'見積書(2号)'!I349)","v":""},{"$f":"IF('見積書(2号)'!J349=\"\",\"\",'見積書(2号)'!J349)","v":""},{"$f":"IF('見積書(2号)'!K349=\"\",\"\",'見積書(2号)'!K349)","v":""},{"$f":"IF('見積書(2号)'!L349=\"\",\"\",'見積書(2号)'!L349)","v":""},{"$f":"IF('見積書(2号)'!M349=\"\",\"\",'見積書(2号)'!M349)","v":""},null,"","",null,"",""]
[{"$f":"IF('見積書(2号)'!A350=\"\",\"\",'見積書(2号)'!A350)","v":""},{"$f":"IF('見積書(2号)'!B350=\"\",\"\",'見積書(2号)'!B350)","v":""},{"$f":"IF('見積書(2号)'!C350=\"\",\"\",'見積書(2号)'!C350)","v":""},{"$f":"IF('見積書(2号)'!H350=\"\",\"\",'見積書(2号)'!H350)","v":""},{"$f":"IF('見積書(2号)'!E350=\"\",\"\",'見積書(2号)'!E350)","v":""},{"$f":"IF('見積書(2号)'!I350=\"\",\"\",'見積書(2号)'!I350)","v":""},{"$f":"IF('見積書(2号)'!J350=\"\",\"\",'見積書(2号)'!J350)","v":""},{"$f":"IF('見積書(2号)'!K350=\"\",\"\",'見積書(2号)'!K350)","v":""},{"$f":"IF('見積書(2号)'!L350=\"\",\"\",'見積書(2号)'!L350)","v":""},{"$f":"IF('見積書(2号)'!M350=\"\",\"\",'見積書(2号)'!M350)","v":""},null,"","",null,"",""]
[{"$f":"IF('見積書(2号)'!A351=\"\",\"\",'見積書(2号)'!A351)","v":""},{"$f":"IF('見積書(2号)'!B351=\"\",\"\",'見積書(2号)'!B351)","v":""},{"$f":"IF('見積書(2号)'!C351=\"\",\"\",'見積書(2号)'!C351)","v":""},{"$f":"IF('見積書(2号)'!H351=\"\",\"\",'見積書(2号)'!H351)","v":""},{"$f":"IF('見積書(2号)'!E351=\"\",\"\",'見積書(2号)'!E351)","v":""},{"$f":"IF('見積書(2号)'!I351=\"\",\"\",'見積書(2号)'!I351)","v":""},{"$f":"IF('見積書(2号)'!J351=\"\",\"\",'見積書(2号)'!J351)","v":""},{"$f":"IF('見積書(2号)'!K351=\"\",\"\",'見積書(2号)'!K351)","v":""},{"$f":"IF('見積書(2号)'!L351=\"\",\"\",'見積書(2号)'!L351)","v":""},{"$f":"IF('見積書(2号)'!M351=\"\",\"\",'見積書(2号)'!M351)","v":""},null,"","",null,"",""]
[{"$f":"IF('見積書(2号)'!A352=\"\",\"\",'見積書(2号)'!A352)","v":""},{"$f":"IF('見積書(2号)'!B352=\"\",\"\",'見積書(2号)'!B352)","v":""},{"$f":"IF('見積書(2号)'!C352=\"\",\"\",'見積書(2号)'!C352)","v":""},{"$f":"IF('見積書(2号)'!H352=\"\",\"\",'見積書(2号)'!H352)","v":""},{"$f":"IF('見積書(2号)'!E352=\"\",\"\",'見積書(2号)'!E352)","v":""},{"$f":"IF('見積書(2号)'!I352=\"\",\"\",'見積書(2号)'!I352)","v":""},{"$f":"IF('見積書(2号)'!J352=\"\",\"\",'見積書(2号)'!J352)","v":""},{"$f":"IF('見積書(2号)'!K352=\"\",\"\",'見積書(2号)'!K352)","v":""},{"$f":"IF('見積書(2号)'!L352=\"\",\"\",'見積書(2号)'!L352)","v":""},{"$f":"IF('見積書(2号)'!M352=\"\",\"\",'見積書(2号)'!M352)","v":""},null,"","",null,"",""]
[{"$f":"IF('見積書(2号)'!A353=\"\",\"\",'見積書(2号)'!A353)","v":""},{"$f":"IF('見積書(2号)'!B353=\"\",\"\",'見積書(2号)'!B353)","v":""},{"$f":"IF('見積書(2号)'!C353=\"\",\"\",'見積書(2号)'!C353)","v":""},{"$f":"IF('見積書(2号)'!H353=\"\",\"\",'見積書(2号)'!H353)","v":""},{"$f":"IF('見積書(2号)'!E353=\"\",\"\",'見積書(2号)'!E353)","v":""},{"$f":"IF('見積書(2号)'!I353=\"\",\"\",'見積書(2号)'!I353)","v":""},{"$f":"IF('見積書(2号)'!J353=\"\",\"\",'見積書(2号)'!J353)","v":""},{"$f":"IF('見積書(2号)'!K353=\"\",\"\",'見積書(2号)'!K353)","v":""},{"$f":"IF('見積書(2号)'!L353=\"\",\"\",'見積書(2号)'!L353)","v":""},{"$f":"IF('見積書(2号)'!M353=\"\",\"\",'見積書(2号)'!M353)","v":""},null,"","",null,"",""]
[{"$f":"IF('見積書(2号)'!A354=\"\",\"\",'見積書(2号)'!A354)","v":""},{"$f":"IF('見積書(2号)'!B354=\"\",\"\",'見積書(2号)'!B354)","v":""},{"$f":"IF('見積書(2号)'!C354=\"\",\"\",'見積書(2号)'!C354)","v":""},{"$f":"IF('見積書(2号)'!H354=\"\",\"\",'見積書(2号)'!H354)","v":""},{"$f":"IF('見積書(2号)'!E354=\"\",\"\",'見積書(2号)'!E354)","v":""},{"$f":"IF('見積書(2号)'!I354=\"\",\"\",'見積書(2号)'!I354)","v":""},{"$f":"IF('見積書(2号)'!J354=\"\",\"\",'見積書(2号)'!J354)","v":""},{"$f":"IF('見積書(2号)'!K354=\"\",\"\",'見積書(2号)'!K354)","v":""},{"$f":"IF('見積書(2号)'!L354=\"\",\"\",'見積書(2号)'!L354)","v":""},{"$f":"IF('見積書(2号)'!M354=\"\",\"\",'見積書(2号)'!M354)","v":""},null,"","",null,"",""]
[{"$f":"IF('見積書(2号)'!A355=\"\",\"\",'見積書(2号)'!A355)","v":""},{"$f":"IF('見積書(2号)'!B355=\"\",\"\",'見積書(2号)'!B355)","v":""},{"$f":"IF('見積書(2号)'!C355=\"\",\"\",'見積書(2号)'!C355)","v":""},{"$f":"IF('見積書(2号)'!H355=\"\",\"\",'見積書(2号)'!H355)","v":""},{"$f":"IF('見積書(2号)'!E355=\"\",\"\",'見積書(2号)'!E355)","v":""},{"$f":"IF('見積書(2号)'!I355=\"\",\"\",'見積書(2号)'!I355)","v":""},{"$f":"IF('見積書(2号)'!J355=\"\",\"\",'見積書(2号)'!J355)","v":""},{"$f":"IF('見積書(2号)'!K355=\"\",\"\",'見積書(2号)'!K355)","v":""},{"$f":"IF('見積書(2号)'!L355=\"\",\"\",'見積書(2号)'!L355)","v":""},{"$f":"IF('見積書(2号)'!M355=\"\",\"\",'見積書(2号)'!M355)","v":""},null,"","",null,"",""]
[{"$f":"IF('見積書(2号)'!A356=\"\",\"\",'見積書(2号)'!A356)","v":""},{"$f":"IF('見積書(2号)'!B356=\"\",\"\",'見積書(2号)'!B356)","v":""},{"$f":"IF('見積書(2号)'!C356=\"\",\"\",'見積書(2号)'!C356)","v":""},{"$f":"IF('見積書(2号)'!H356=\"\",\"\",'見積書(2号)'!H356)","v":""},{"$f":"IF('見積書(2号)'!E356=\"\",\"\",'見積書(2号)'!E356)","v":""},{"$f":"IF('見積書(2号)'!I356=\"\",\"\",'見積書(2号)'!I356)","v":""},{"$f":"IF('見積書(2号)'!J356=\"\",\"\",'見積書(2号)'!J356)","v":""},{"$f":"IF('見積書(2号)'!K356=\"\",\"\",'見積書(2号)'!K356)","v":""},{"$f":"IF('見積書(2号)'!L356=\"\",\"\",'見積書(2号)'!L356)","v":""},{"$f":"IF('見積書(2号)'!M356=\"\",\"\",'見積書(2号)'!M356)","v":""},null,"","",null,"",""]
[{"$f":"IF('見積書(2号)'!A357=\"\",\"\",'見積書(2号)'!A357)","v":""},{"$f":"IF('見積書(2号)'!B357=\"\",\"\",'見積書(2号)'!B357)","v":""},{"$f":"IF('見積書(2号)'!C357=\"\",\"\",'見積書(2号)'!C357)","v":""},{"$f":"IF('見積書(2号)'!H357=\"\",\"\",'見積書(2号)'!H357)","v":""},{"$f":"IF('見積書(2号)'!E357=\"\",\"\",'見積書(2号)'!E357)","v":""},{"$f":"IF('見積書(2号)'!I357=\"\",\"\",'見積書(2号)'!I357)","v":""},{"$f":"IF('見積書(2号)'!J357=\"\",\"\",'見積書(2号)'!J357)","v":""},{"$f":"IF('見積書(2号)'!K357=\"\",\"\",'見積書(2号)'!K357)","v":""},{"$f":"IF('見積書(2号)'!L357=\"\",\"\",'見積書(2号)'!L357)","v":""},{"$f":"IF('見積書(2号)'!M357=\"\",\"\",'見積書(2号)'!M357)","v":""},null,"","",null,"",""]
[{"$f":"IF('見積書(2号)'!A358=\"\",\"\",'見積書(2号)'!A358)","v":""},{"$f":"IF('見積書(2号)'!B358=\"\",\"\",'見積書(2号)'!B358)","v":""},{"$f":"IF('見積書(2号)'!C358=\"\",\"\",'見積書(2号)'!C358)","v":""},{"$f":"IF('見積書(2号)'!H358=\"\",\"\",'見積書(2号)'!H358)","v":""},{"$f":"IF('見積書(2号)'!E358=\"\",\"\",'見積書(2号)'!E358)","v":""},{"$f":"IF('見積書(2号)'!I358=\"\",\"\",'見積書(2号)'!I358)","v":""},{"$f":"IF('見積書(2号)'!J358=\"\",\"\",'見積書(2号)'!J358)","v":""},{"$f":"IF('見積書(2号)'!K358=\"\",\"\",'見積書(2号)'!K358)","v":""},{"$f":"IF('見積書(2号)'!L358=\"\",\"\",'見積書(2号)'!L358)","v":""},{"$f":"IF('見積書(2号)'!M358=\"\",\"\",'見積書(2号)'!M358)","v":""},null,"","",null,"",""]
[{"$f":"IF('見積書(2号)'!A359=\"\",\"\",'見積書(2号)'!A359)","v":""},{"$f":"IF('見積書(2号)'!B359=\"\",\"\",'見積書(2号)'!B359)","v":""},{"$f":"IF('見積書(2号)'!C359=\"\",\"\",'見積書(2号)'!C359)","v":""},{"$f":"IF('見積書(2号)'!H359=\"\",\"\",'見積書(2号)'!H359)","v":""},{"$f":"IF('見積書(2号)'!E359=\"\",\"\",'見積書(2号)'!E359)","v":""},{"$f":"IF('見積書(2号)'!I359=\"\",\"\",'見積書(2号)'!I359)","v":""},{"$f":"IF('見積書(2号)'!J359=\"\",\"\",'見積書(2号)'!J359)","v":""},{"$f":"IF('見積書(2号)'!K359=\"\",\"\",'見積書(2号)'!K359)","v":""},{"$f":"IF('見積書(2号)'!L359=\"\",\"\",'見積書(2号)'!L359)","v":""},{"$f":"IF('見積書(2号)'!M359=\"\",\"\",'見積書(2号)'!M359)","v":""},null,"","",null,"",""]
[{"$f":"IF('見積書(2号)'!A360=\"\",\"\",'見積書(2号)'!A360)","v":""},{"$f":"IF('見積書(2号)'!B360=\"\",\"\",'見積書(2号)'!B360)","v":""},{"$f":"IF('見積書(2号)'!C360=\"\",\"\",'見積書(2号)'!C360)","v":""},{"$f":"IF('見積書(2号)'!H360=\"\",\"\",'見積書(2号)'!H360)","v":""},{"$f":"IF('見積書(2号)'!E360=\"\",\"\",'見積書(2号)'!E360)","v":""},{"$f":"IF('見積書(2号)'!I360=\"\",\"\",'見積書(2号)'!I360)","v":""},{"$f":"IF('見積書(2号)'!J360=\"\",\"\",'見積書(2号)'!J360)","v":""},{"$f":"IF('見積書(2号)'!K360=\"\",\"\",'見積書(2号)'!K360)","v":""},{"$f":"IF('見積書(2号)'!L360=\"\",\"\",'見積書(2号)'!L360)","v":""},{"$f":"IF('見積書(2号)'!M360=\"\",\"\",'見積書(2号)'!M360)","v":""},null,"","",null,"",""]
[{"$f":"IF('見積書(2号)'!A361=\"\",\"\",'見積書(2号)'!A361)","v":""},{"$f":"IF('見積書(2号)'!B361=\"\",\"\",'見積書(2号)'!B361)","v":""},{"$f":"IF('見積書(2号)'!C361=\"\",\"\",'見積書(2号)'!C361)","v":""},{"$f":"IF('見積書(2号)'!H361=\"\",\"\",'見積書(2号)'!H361)","v":""},{"$f":"IF('見積書(2号)'!E361=\"\",\"\",'見積書(2号)'!E361)","v":""},{"$f":"IF('見積書(2号)'!I361=\"\",\"\",'見積書(2号)'!I361)","v":""},{"$f":"IF('見積書(2号)'!J361=\"\",\"\",'見積書(2号)'!J361)","v":""},{"$f":"IF('見積書(2号)'!K361=\"\",\"\",'見積書(2号)'!K361)","v":""},{"$f":"IF('見積書(2号)'!L361=\"\",\"\",'見積書(2号)'!L361)","v":""},{"$f":"IF('見積書(2号)'!M361=\"\",\"\",'見積書(2号)'!M361)","v":""},null,"","",null,"",""]
[{"$f":"IF('見積書(2号)'!A362=\"\",\"\",'見積書(2号)'!A362)","v":""},{"$f":"IF('見積書(2号)'!B362=\"\",\"\",'見積書(2号)'!B362)","v":""},{"$f":"IF('見積書(2号)'!C362=\"\",\"\",'見積書(2号)'!C362)","v":""},{"$f":"IF('見積書(2号)'!H362=\"\",\"\",'見積書(2号)'!H362)","v":""},{"$f":"IF('見積書(2号)'!E362=\"\",\"\",'見積書(2号)'!E362)","v":""},{"$f":"IF('見積書(2号)'!I362=\"\",\"\",'見積書(2号)'!I362)","v":""},{"$f":"IF('見積書(2号)'!J362=\"\",\"\",'見積書(2号)'!J362)","v":""},{"$f":"IF('見積書(2号)'!K362=\"\",\"\",'見積書(2号)'!K362)","v":""},{"$f":"IF('見積書(2号)'!L362=\"\",\"\",'見積書(2号)'!L362)","v":""},{"$f":"IF('見積書(2号)'!M362=\"\",\"\",'見積書(2号)'!M362)","v":""},null,"","",null,"",""]
[{"$f":"IF('見積書(2号)'!A363=\"\",\"\",'見積書(2号)'!A363)","v":""},{"$f":"IF('見積書(2号)'!B363=\"\",\"\",'見積書(2号)'!B363)","v":""},{"$f":"IF('見積書(2号)'!C363=\"\",\"\",'見積書(2号)'!C363)","v":""},{"$f":"IF('見積書(2号)'!H363=\"\",\"\",'見積書(2号)'!H363)","v":""},{"$f":"IF('見積書(2号)'!E363=\"\",\"\",'見積書(2号)'!E363)","v":""},{"$f":"IF('見積書(2号)'!I363=\"\",\"\",'見積書(2号)'!I363)","v":""},{"$f":"IF('見積書(2号)'!J363=\"\",\"\",'見積書(2号)'!J363)","v":""},{"$f":"IF('見積書(2号)'!K363=\"\",\"\",'見積書(2号)'!K363)","v":""},{"$f":"IF('見積書(2号)'!L363=\"\",\"\",'見積書(2号)'!L363)","v":""},{"$f":"IF('見積書(2号)'!M363=\"\",\"\",'見積書(2号)'!M363)","v":""},null,"","",null,"",""]
[{"$f":"IF('見積書(2号)'!A364=\"\",\"\",'見積書(2号)'!A364)","v":""},{"$f":"IF('見積書(2号)'!B364=\"\",\"\",'見積書(2号)'!B364)","v":""},{"$f":"IF('見積書(2号)'!C364=\"\",\"\",'見積書(2号)'!C364)","v":""},{"$f":"IF('見積書(2号)'!H364=\"\",\"\",'見積書(2号)'!H364)","v":""},{"$f":"IF('見積書(2号)'!E364=\"\",\"\",'見積書(2号)'!E364)","v":""},{"$f":"IF('見積書(2号)'!I364=\"\",\"\",'見積書(2号)'!I364)","v":""},{"$f":"IF('見積書(2号)'!J364=\"\",\"\",'見積書(2号)'!J364)","v":""},{"$f":"IF('見積書(2号)'!K364=\"\",\"\",'見積書(2号)'!K364)","v":""},{"$f":"IF('見積書(2号)'!L364=\"\",\"\",'見積書(2号)'!L364)","v":""},{"$f":"IF('見積書(2号)'!M364=\"\",\"\",'見積書(2号)'!M364)","v":""},null,"","",null,"",""]
[{"$f":"IF('見積書(2号)'!A365=\"\",\"\",'見積書(2号)'!A365)","v":""},{"$f":"IF('見積書(2号)'!B365=\"\",\"\",'見積書(2号)'!B365)","v":""},{"$f":"IF('見積書(2号)'!C365=\"\",\"\",'見積書(2号)'!C365)","v":""},{"$f":"IF('見積書(2号)'!H365=\"\",\"\",'見積書(2号)'!H365)","v":""},{"$f":"IF('見積書(2号)'!E365=\"\",\"\",'見積書(2号)'!E365)","v":""},{"$f":"IF('見積書(2号)'!I365=\"\",\"\",'見積書(2号)'!I365)","v":""},{"$f":"IF('見積書(2号)'!J365=\"\",\"\",'見積書(2号)'!J365)","v":""},{"$f":"IF('見積書(2号)'!K365=\"\",\"\",'見積書(2号)'!K365)","v":""},{"$f":"IF('見積書(2号)'!L365=\"\",\"\",'見積書(2号)'!L365)","v":""},{"$f":"IF('見積書(2号)'!M365=\"\",\"\",'見積書(2号)'!M365)","v":""},null,"","",null,"",""]
[{"$f":"IF('見積書(2号)'!A366=\"\",\"\",'見積書(2号)'!A366)","v":""},{"$f":"IF('見積書(2号)'!B366=\"\",\"\",'見積書(2号)'!B366)","v":""},{"$f":"IF('見積書(2号)'!C366=\"\",\"\",'見積書(2号)'!C366)","v":""},{"$f":"IF('見積書(2号)'!H366=\"\",\"\",'見積書(2号)'!H366)","v":""},{"$f":"IF('見積書(2号)'!E366=\"\",\"\",'見積書(2号)'!E366)","v":""},{"$f":"IF('見積書(2号)'!I366=\"\",\"\",'見積書(2号)'!I366)","v":""},{"$f":"IF('見積書(2号)'!J366=\"\",\"\",'見積書(2号)'!J366)","v":""},{"$f":"IF('見積書(2号)'!K366=\"\",\"\",'見積書(2号)'!K366)","v":""},{"$f":"IF('見積書(2号)'!L366=\"\",\"\",'見積書(2号)'!L366)","v":""},{"$f":"IF('見積書(2号)'!M366=\"\",\"\",'見積書(2号)'!M366)","v":""},null,"","",null,"",""]
[{"$f":"IF('見積書(2号)'!A367=\"\",\"\",'見積書(2号)'!A367)","v":""},{"$f":"IF('見積書(2号)'!B367=\"\",\"\",'見積書(2号)'!B367)","v":""},{"$f":"IF('見積書(2号)'!C367=\"\",\"\",'見積書(2号)'!C367)","v":""},{"$f":"IF('見積書(2号)'!H367=\"\",\"\",'見積書(2号)'!H367)","v":""},{"$f":"IF('見積書(2号)'!E367=\"\",\"\",'見積書(2号)'!E367)","v":""},{"$f":"IF('見積書(2号)'!I367=\"\",\"\",'見積書(2号)'!I367)","v":""},{"$f":"IF('見積書(2号)'!J367=\"\",\"\",'見積書(2号)'!J367)","v":""},{"$f":"IF('見積書(2号)'!K367=\"\",\"\",'見積書(2号)'!K367)","v":""},{"$f":"IF('見積書(2号)'!L367=\"\",\"\",'見積書(2号)'!L367)","v":""},{"$f":"IF('見積書(2号)'!M367=\"\",\"\",'見積書(2号)'!M367)","v":""},null,"","",null,"",""]
[{"$f":"IF('見積書(2号)'!A368=\"\",\"\",'見積書(2号)'!A368)","v":""},{"$f":"IF('見積書(2号)'!B368=\"\",\"\",'見積書(2号)'!B368)","v":""},{"$f":"IF('見積書(2号)'!C368=\"\",\"\",'見積書(2号)'!C368)","v":""},{"$f":"IF('見積書(2号)'!H368=\"\",\"\",'見積書(2号)'!H368)","v":""},{"$f":"IF('見積書(2号)'!E368=\"\",\"\",'見積書(2号)'!E368)","v":""},{"$f":"IF('見積書(2号)'!I368=\"\",\"\",'見積書(2号)'!I368)","v":""},{"$f":"IF('見積書(2号)'!J368=\"\",\"\",'見積書(2号)'!J368)","v":""},{"$f":"IF('見積書(2号)'!K368=\"\",\"\",'見積書(2号)'!K368)","v":""},{"$f":"IF('見積書(2号)'!L368=\"\",\"\",'見積書(2号)'!L368)","v":""},{"$f":"IF('見積書(2号)'!M368=\"\",\"\",'見積書(2号)'!M368)","v":""},null,"","",null,"",""]
[{"$f":"IF('見積書(2号)'!A369=\"\",\"\",'見積書(2号)'!A369)","v":""},{"$f":"IF('見積書(2号)'!B369=\"\",\"\",'見積書(2号)'!B369)","v":""},{"$f":"IF('見積書(2号)'!C369=\"\",\"\",'見積書(2号)'!C369)","v":""},{"$f":"IF('見積書(2号)'!H369=\"\",\"\",'見積書(2号)'!H369)","v":""},{"$f":"IF('見積書(2号)'!E369=\"\",\"\",'見積書(2号)'!E369)","v":""},{"$f":"IF('見積書(2号)'!I369=\"\",\"\",'見積書(2号)'!I369)","v":""},{"$f":"IF('見積書(2号)'!J369=\"\",\"\",'見積書(2号)'!J369)","v":""},{"$f":"IF('見積書(2号)'!K369=\"\",\"\",'見積書(2号)'!K369)","v":""},{"$f":"IF('見積書(2号)'!L369=\"\",\"\",'見積書(2号)'!L369)","v":""},{"$f":"IF('見積書(2号)'!M369=\"\",\"\",'見積書(2号)'!M369)","v":""},null,"","",null,"",""]
[{"$f":"IF('見積書(2号)'!A370=\"\",\"\",'見積書(2号)'!A370)","v":""},{"$f":"IF('見積書(2号)'!B370=\"\",\"\",'見積書(2号)'!B370)","v":""},{"$f":"IF('見積書(2号)'!C370=\"\",\"\",'見積書(2号)'!C370)","v":""},{"$f":"IF('見積書(2号)'!H370=\"\",\"\",'見積書(2号)'!H370)","v":""},{"$f":"IF('見積書(2号)'!E370=\"\",\"\",'見積書(2号)'!E370)","v":""},{"$f":"IF('見積書(2号)'!I370=\"\",\"\",'見積書(2号)'!I370)","v":""},{"$f":"IF('見積書(2号)'!J370=\"\",\"\",'見積書(2号)'!J370)","v":""},{"$f":"IF('見積書(2号)'!K370=\"\",\"\",'見積書(2号)'!K370)","v":""},{"$f":"IF('見積書(2号)'!L370=\"\",\"\",'見積書(2号)'!L370)","v":""},{"$f":"IF('見積書(2号)'!M370=\"\",\"\",'見積書(2号)'!M370)","v":""},null,"","",null,"",""]
[{"$f":"IF('見積書(2号)'!A371=\"\",\"\",'見積書(2号)'!A371)","v":""},{"$f":"IF('見積書(2号)'!B371=\"\",\"\",'見積書(2号)'!B371)","v":""},{"$f":"IF('見積書(2号)'!C371=\"\",\"\",'見積書(2号)'!C371)","v":""},{"$f":"IF('見積書(2号)'!H371=\"\",\"\",'見積書(2号)'!H371)","v":""},{"$f":"IF('見積書(2号)'!E371=\"\",\"\",'見積書(2号)'!E371)","v":""},{"$f":"IF('見積書(2号)'!I371=\"\",\"\",'見積書(2号)'!I371)","v":""},{"$f":"IF('見積書(2号)'!J371=\"\",\"\",'見積書(2号)'!J371)","v":""},{"$f":"IF('見積書(2号)'!K371=\"\",\"\",'見積書(2号)'!K371)","v":""},{"$f":"IF('見積書(2号)'!L371=\"\",\"\",'見積書(2号)'!L371)","v":""},{"$f":"IF('見積書(2号)'!M371=\"\",\"\",'見積書(2号)'!M371)","v":""},null,"","",null,"",""]
[{"$f":"IF('見積書(2号)'!A372=\"\",\"\",'見積書(2号)'!A372)","v":""},{"$f":"IF('見積書(2号)'!B372=\"\",\"\",'見積書(2号)'!B372)","v":""},{"$f":"IF('見積書(2号)'!C372=\"\",\"\",'見積書(2号)'!C372)","v":""},{"$f":"IF('見積書(2号)'!H372=\"\",\"\",'見積書(2号)'!H372)","v":""},{"$f":"IF('見積書(2号)'!E372=\"\",\"\",'見積書(2号)'!E372)","v":""},{"$f":"IF('見積書(2号)'!I372=\"\",\"\",'見積書(2号)'!I372)","v":""},{"$f":"IF('見積書(2号)'!J372=\"\",\"\",'見積書(2号)'!J372)","v":""},{"$f":"IF('見積書(2号)'!K372=\"\",\"\",'見積書(2号)'!K372)","v":""},{"$f":"IF('見積書(2号)'!L372=\"\",\"\",'見積書(2号)'!L372)","v":""},{"$f":"IF('見積書(2号)'!M372=\"\",\"\",'見積書(2号)'!M372)","v":""},null,"","",null,"",""]
[{"$f":"IF('見積書(2号)'!A373=\"\",\"\",'見積書(2号)'!A373)","v":""},{"$f":"IF('見積書(2号)'!B373=\"\",\"\",'見積書(2号)'!B373)","v":""},{"$f":"IF('見積書(2号)'!C373=\"\",\"\",'見積書(2号)'!C373)","v":""},{"$f":"IF('見積書(2号)'!H373=\"\",\"\",'見積書(2号)'!H373)","v":""},{"$f":"IF('見積書(2号)'!E373=\"\",\"\",'見積書(2号)'!E373)","v":""},{"$f":"IF('見積書(2号)'!I373=\"\",\"\",'見積書(2号)'!I373)","v":""},{"$f":"IF('見積書(2号)'!J373=\"\",\"\",'見積書(2号)'!J373)","v":""},{"$f":"IF('見積書(2号)'!K373=\"\",\"\",'見積書(2号)'!K373)","v":""},{"$f":"IF('見積書(2号)'!L373=\"\",\"\",'見積書(2号)'!L373)","v":""},{"$f":"IF('見積書(2号)'!M373=\"\",\"\",'見積書(2号)'!M373)","v":""},null,"","",null,"",""]
[{"$f":"IF('見積書(2号)'!A374=\"\",\"\",'見積書(2号)'!A374)","v":""},{"$f":"IF('見積書(2号)'!B374=\"\",\"\",'見積書(2号)'!B374)","v":""},{"$f":"IF('見積書(2号)'!C374=\"\",\"\",'見積書(2号)'!C374)","v":""},{"$f":"IF('見積書(2号)'!H374=\"\",\"\",'見積書(2号)'!H374)","v":""},{"$f":"IF('見積書(2号)'!E374=\"\",\"\",'見積書(2号)'!E374)","v":""},{"$f":"IF('見積書(2号)'!I374=\"\",\"\",'見積書(2号)'!I374)","v":""},{"$f":"IF('見積書(2号)'!J374=\"\",\"\",'見積書(2号)'!J374)","v":""},{"$f":"IF('見積書(2号)'!K374=\"\",\"\",'見積書(2号)'!K374)","v":""},{"$f":"IF('見積書(2号)'!L374=\"\",\"\",'見積書(2号)'!L374)","v":""},{"$f":"IF('見積書(2号)'!M374=\"\",\"\",'見積書(2号)'!M374)","v":""},null,"","",null,"",""]
[{"$f":"IF('見積書(2号)'!A375=\"\",\"\",'見積書(2号)'!A375)","v":""},{"$f":"IF('見積書(2号)'!B375=\"\",\"\",'見積書(2号)'!B375)","v":""},{"$f":"IF('見積書(2号)'!C375=\"\",\"\",'見積書(2号)'!C375)","v":""},{"$f":"IF('見積書(2号)'!H375=\"\",\"\",'見積書(2号)'!H375)","v":""},{"$f":"IF('見積書(2号)'!E375=\"\",\"\",'見積書(2号)'!E375)","v":""},{"$f":"IF('見積書(2号)'!I375=\"\",\"\",'見積書(2号)'!I375)","v":""},{"$f":"IF('見積書(2号)'!J375=\"\",\"\",'見積書(2号)'!J375)","v":""},{"$f":"IF('見積書(2号)'!K375=\"\",\"\",'見積書(2号)'!K375)","v":""},{"$f":"IF('見積書(2号)'!L375=\"\",\"\",'見積書(2号)'!L375)","v":""},{"$f":"IF('見積書(2号)'!M375=\"\",\"\",'見積書(2号)'!M375)","v":""},null,"","",null,"",""]
[{"$f":"IF('見積書(2号)'!A376=\"\",\"\",'見積書(2号)'!A376)","v":""},{"$f":"IF('見積書(2号)'!B376=\"\",\"\",'見積書(2号)'!B376)","v":""},{"$f":"IF('見積書(2号)'!C376=\"\",\"\",'見積書(2号)'!C376)","v":""},{"$f":"IF('見積書(2号)'!H376=\"\",\"\",'見積書(2号)'!H376)","v":""},{"$f":"IF('見積書(2号)'!E376=\"\",\"\",'見積書(2号)'!E376)","v":""},{"$f":"IF('見積書(2号)'!I376=\"\",\"\",'見積書(2号)'!I376)","v":""},{"$f":"IF('見積書(2号)'!J376=\"\",\"\",'見積書(2号)'!J376)","v":""},{"$f":"IF('見積書(2号)'!K376=\"\",\"\",'見積書(2号)'!K376)","v":""},{"$f":"IF('見積書(2号)'!L376=\"\",\"\",'見積書(2号)'!L376)","v":""},{"$f":"IF('見積書(2号)'!M376=\"\",\"\",'見積書(2号)'!M376)","v":""},null,"","",null,"",""]
[{"$f":"IF('見積書(2号)'!A377=\"\",\"\",'見積書(2号)'!A377)","v":""},{"$f":"IF('見積書(2号)'!B377=\"\",\"\",'見積書(2号)'!B377)","v":""},{"$f":"IF('見積書(2号)'!C377=\"\",\"\",'見積書(2号)'!C377)","v":""},{"$f":"IF('見積書(2号)'!H377=\"\",\"\",'見積書(2号)'!H377)","v":""},{"$f":"IF('見積書(2号)'!E377=\"\",\"\",'見積書(2号)'!E377)","v":""},{"$f":"IF('見積書(2号)'!I377=\"\",\"\",'見積書(2号)'!I377)","v":""},{"$f":"IF('見積書(2号)'!J377=\"\",\"\",'見積書(2号)'!J377)","v":""},{"$f":"IF('見積書(2号)'!K377=\"\",\"\",'見積書(2号)'!K377)","v":""},{"$f":"IF('見積書(2号)'!L377=\"\",\"\",'見積書(2号)'!L377)","v":""},{"$f":"IF('見積書(2号)'!M377=\"\",\"\",'見積書(2号)'!M377)","v":""},null,"","",null,"",""]
[{"$f":"IF('見積書(2号)'!A378=\"\",\"\",'見積書(2号)'!A378)","v":""},{"$f":"IF('見積書(2号)'!B378=\"\",\"\",'見積書(2号)'!B378)","v":""},{"$f":"IF('見積書(2号)'!C378=\"\",\"\",'見積書(2号)'!C378)","v":""},{"$f":"IF('見積書(2号)'!H378=\"\",\"\",'見積書(2号)'!H378)","v":""},{"$f":"IF('見積書(2号)'!E378=\"\",\"\",'見積書(2号)'!E378)","v":""},{"$f":"IF('見積書(2号)'!I378=\"\",\"\",'見積書(2号)'!I378)","v":""},{"$f":"IF('見積書(2号)'!J378=\"\",\"\",'見積書(2号)'!J378)","v":""},{"$f":"IF('見積書(2号)'!K378=\"\",\"\",'見積書(2号)'!K378)","v":""},{"$f":"IF('見積書(2号)'!L378=\"\",\"\",'見積書(2号)'!L378)","v":""},{"$f":"IF('見積書(2号)'!M378=\"\",\"\",'見積書(2号)'!M378)","v":""},null,"","",null,"",""]
[{"$f":"IF('見積書(2号)'!A379=\"\",\"\",'見積書(2号)'!A379)","v":""},{"$f":"IF('見積書(2号)'!B379=\"\",\"\",'見積書(2号)'!B379)","v":""},{"$f":"IF('見積書(2号)'!C379=\"\",\"\",'見積書(2号)'!C379)","v":""},{"$f":"IF('見積書(2号)'!H379=\"\",\"\",'見積書(2号)'!H379)","v":""},{"$f":"IF('見積書(2号)'!E379=\"\",\"\",'見積書(2号)'!E379)","v":""},{"$f":"IF('見積書(2号)'!I379=\"\",\"\",'見積書(2号)'!I379)","v":""},{"$f":"IF('見積書(2号)'!J379=\"\",\"\",'見積書(2号)'!J379)","v":""},{"$f":"IF('見積書(2号)'!K379=\"\",\"\",'見積書(2号)'!K379)","v":""},{"$f":"IF('見積書(2号)'!L379=\"\",\"\",'見積書(2号)'!L379)","v":""},{"$f":"IF('見積書(2号)'!M379=\"\",\"\",'見積書(2号)'!M379)","v":""},null,"","",null,"",""]
[{"$f":"IF('見積書(2号)'!A380=\"\",\"\",'見積書(2号)'!A380)","v":""},{"$f":"IF('見積書(2号)'!B380=\"\",\"\",'見積書(2号)'!B380)","v":""},{"$f":"IF('見積書(2号)'!C380=\"\",\"\",'見積書(2号)'!C380)","v":""},{"$f":"IF('見積書(2号)'!H380=\"\",\"\",'見積書(2号)'!H380)","v":""},{"$f":"IF('見積書(2号)'!E380=\"\",\"\",'見積書(2号)'!E380)","v":""},{"$f":"IF('見積書(2号)'!I380=\"\",\"\",'見積書(2号)'!I380)","v":""},{"$f":"IF('見積書(2号)'!J380=\"\",\"\",'見積書(2号)'!J380)","v":""},{"$f":"IF('見積書(2号)'!K380=\"\",\"\",'見積書(2号)'!K380)","v":""},{"$f":"IF('見積書(2号)'!L380=\"\",\"\",'見積書(2号)'!L380)","v":""},{"$f":"IF('見積書(2号)'!M380=\"\",\"\",'見積書(2号)'!M380)","v":""},null,"","",null,"",""]
[{"$f":"IF('見積書(2号)'!A381=\"\",\"\",'見積書(2号)'!A381)","v":""},{"$f":"IF('見積書(2号)'!B381=\"\",\"\",'見積書(2号)'!B381)","v":""},{"$f":"IF('見積書(2号)'!C381=\"\",\"\",'見積書(2号)'!C381)","v":""},{"$f":"IF('見積書(2号)'!H381=\"\",\"\",'見積書(2号)'!H381)","v":""},{"$f":"IF('見積書(2号)'!E381=\"\",\"\",'見積書(2号)'!E381)","v":""},{"$f":"IF('見積書(2号)'!I381=\"\",\"\",'見積書(2号)'!I381)","v":""},{"$f":"IF('見積書(2号)'!J381=\"\",\"\",'見積書(2号)'!J381)","v":""},{"$f":"IF('見積書(2号)'!K381=\"\",\"\",'見積書(2号)'!K381)","v":""},{"$f":"IF('見積書(2号)'!L381=\"\",\"\",'見積書(2号)'!L381)","v":""},{"$f":"IF('見積書(2号)'!M381=\"\",\"\",'見積書(2号)'!M381)","v":""},null,"","",null,"",""]
[{"$f":"IF('見積書(2号)'!A382=\"\",\"\",'見積書(2号)'!A382)","v":""},{"$f":"IF('見積書(2号)'!B382=\"\",\"\",'見積書(2号)'!B382)","v":""},{"$f":"IF('見積書(2号)'!C382=\"\",\"\",'見積書(2号)'!C382)","v":""},{"$f":"IF('見積書(2号)'!H382=\"\",\"\",'見積書(2号)'!H382)","v":""},{"$f":"IF('見積書(2号)'!E382=\"\",\"\",'見積書(2号)'!E382)","v":""},{"$f":"IF('見積書(2号)'!I382=\"\",\"\",'見積書(2号)'!I382)","v":""},{"$f":"IF('見積書(2号)'!J382=\"\",\"\",'見積書(2号)'!J382)","v":""},{"$f":"IF('見積書(2号)'!K382=\"\",\"\",'見積書(2号)'!K382)","v":""},{"$f":"IF('見積書(2号)'!L382=\"\",\"\",'見積書(2号)'!L382)","v":""},{"$f":"IF('見積書(2号)'!M382=\"\",\"\",'見積書(2号)'!M382)","v":""},null,"","",null,"",""]
[{"$f":"IF('見積書(2号)'!A383=\"\",\"\",'見積書(2号)'!A383)","v":""},{"$f":"IF('見積書(2号)'!B383=\"\",\"\",'見積書(2号)'!B383)","v":""},{"$f":"IF('見積書(2号)'!C383=\"\",\"\",'見積書(2号)'!C383)","v":""},{"$f":"IF('見積書(2号)'!H383=\"\",\"\",'見積書(2号)'!H383)","v":""},{"$f":"IF('見積書(2号)'!E383=\"\",\"\",'見積書(2号)'!E383)","v":""},{"$f":"IF('見積書(2号)'!I383=\"\",\"\",'見積書(2号)'!I383)","v":""},{"$f":"IF('見積書(2号)'!J383=\"\",\"\",'見積書(2号)'!J383)","v":""},{"$f":"IF('見積書(2号)'!K383=\"\",\"\",'見積書(2号)'!K383)","v":""},{"$f":"IF('見積書(2号)'!L383=\"\",\"\",'見積書(2号)'!L383)","v":""},{"$f":"IF('見積書(2号)'!M383=\"\",\"\",'見積書(2号)'!M383)","v":""},null,"","",null,"",""]
[{"$f":"IF('見積書(2号)'!A384=\"\",\"\",'見積書(2号)'!A384)","v":""},{"$f":"IF('見積書(2号)'!B384=\"\",\"\",'見積書(2号)'!B384)","v":""},{"$f":"IF('見積書(2号)'!C384=\"\",\"\",'見積書(2号)'!C384)","v":""},{"$f":"IF('見積書(2号)'!H384=\"\",\"\",'見積書(2号)'!H384)","v":""},{"$f":"IF('見積書(2号)'!E384=\"\",\"\",'見積書(2号)'!E384)","v":""},{"$f":"IF('見積書(2号)'!I384=\"\",\"\",'見積書(2号)'!I384)","v":""},{"$f":"IF('見積書(2号)'!J384=\"\",\"\",'見積書(2号)'!J384)","v":""},{"$f":"IF('見積書(2号)'!K384=\"\",\"\",'見積書(2号)'!K384)","v":""},{"$f":"IF('見積書(2号)'!L384=\"\",\"\",'見積書(2号)'!L384)","v":""},{"$f":"IF('見積書(2号)'!M384=\"\",\"\",'見積書(2号)'!M384)","v":""},null,"","",null,"",""]
[{"$f":"IF('見積書(2号)'!A385=\"\",\"\",'見積書(2号)'!A385)","v":""},{"$f":"IF('見積書(2号)'!B385=\"\",\"\",'見積書(2号)'!B385)","v":""},{"$f":"IF('見積書(2号)'!C385=\"\",\"\",'見積書(2号)'!C385)","v":""},{"$f":"IF('見積書(2号)'!H385=\"\",\"\",'見積書(2号)'!H385)","v":""},{"$f":"IF('見積書(2号)'!E385=\"\",\"\",'見積書(2号)'!E385)","v":""},{"$f":"IF('見積書(2号)'!I385=\"\",\"\",'見積書(2号)'!I385)","v":""},{"$f":"IF('見積書(2号)'!J385=\"\",\"\",'見積書(2号)'!J385)","v":""},{"$f":"IF('見積書(2号)'!K385=\"\",\"\",'見積書(2号)'!K385)","v":""},{"$f":"IF('見積書(2号)'!L385=\"\",\"\",'見積書(2号)'!L385)","v":""},{"$f":"IF('見積書(2号)'!M385=\"\",\"\",'見積書(2号)'!M385)","v":""},null,"","",null,"",""]
[{"$f":"IF('見積書(2号)'!A386=\"\",\"\",'見積書(2号)'!A386)","v":""},{"$f":"IF('見積書(2号)'!B386=\"\",\"\",'見積書(2号)'!B386)","v":""},{"$f":"IF('見積書(2号)'!C386=\"\",\"\",'見積書(2号)'!C386)","v":""},{"$f":"IF('見積書(2号)'!H386=\"\",\"\",'見積書(2号)'!H386)","v":""},{"$f":"IF('見積書(2号)'!E386=\"\",\"\",'見積書(2号)'!E386)","v":""},{"$f":"IF('見積書(2号)'!I386=\"\",\"\",'見積書(2号)'!I386)","v":""},{"$f":"IF('見積書(2号)'!J386=\"\",\"\",'見積書(2号)'!J386)","v":""},{"$f":"IF('見積書(2号)'!K386=\"\",\"\",'見積書(2号)'!K386)","v":""},{"$f":"IF('見積書(2号)'!L386=\"\",\"\",'見積書(2号)'!L386)","v":""},{"$f":"IF('見積書(2号)'!M386=\"\",\"\",'見積書(2号)'!M386)","v":""},null,"","",null,"",""]
[{"$f":"IF('見積書(2号)'!A387=\"\",\"\",'見積書(2号)'!A387)","v":""},{"$f":"IF('見積書(2号)'!B387=\"\",\"\",'見積書(2号)'!B387)","v":""},{"$f":"IF('見積書(2号)'!C387=\"\",\"\",'見積書(2号)'!C387)","v":""},{"$f":"IF('見積書(2号)'!H387=\"\",\"\",'見積書(2号)'!H387)","v":""},{"$f":"IF('見積書(2号)'!E387=\"\",\"\",'見積書(2号)'!E387)","v":""},{"$f":"IF('見積書(2号)'!I387=\"\",\"\",'見積書(2号)'!I387)","v":""},{"$f":"IF('見積書(2号)'!J387=\"\",\"\",'見積書(2号)'!J387)","v":""},{"$f":"IF('見積書(2号)'!K387=\"\",\"\",'見積書(2号)'!K387)","v":""},{"$f":"IF('見積書(2号)'!L387=\"\",\"\",'見積書(2号)'!L387)","v":""},{"$f":"IF('見積書(2号)'!M387=\"\",\"\",'見積書(2号)'!M387)","v":""},null,"","",null,"",""]
[{"$f":"IF('見積書(2号)'!A388=\"\",\"\",'見積書(2号)'!A388)","v":""},{"$f":"IF('見積書(2号)'!B388=\"\",\"\",'見積書(2号)'!B388)","v":""},{"$f":"IF('見積書(2号)'!C388=\"\",\"\",'見積書(2号)'!C388)","v":""},{"$f":"IF('見積書(2号)'!H388=\"\",\"\",'見積書(2号)'!H388)","v":""},{"$f":"IF('見積書(2号)'!E388=\"\",\"\",'見積書(2号)'!E388)","v":""},{"$f":"IF('見積書(2号)'!I388=\"\",\"\",'見積書(2号)'!I388)","v":""},{"$f":"IF('見積書(2号)'!J388=\"\",\"\",'見積書(2号)'!J388)","v":""},{"$f":"IF('見積書(2号)'!K388=\"\",\"\",'見積書(2号)'!K388)","v":""},{"$f":"IF('見積書(2号)'!L388=\"\",\"\",'見積書(2号)'!L388)","v":""},{"$f":"IF('見積書(2号)'!M388=\"\",\"\",'見積書(2号)'!M388)","v":""},null,"","",null,"",""]
[{"$f":"IF('見積書(2号)'!A389=\"\",\"\",'見積書(2号)'!A389)","v":""},{"$f":"IF('見積書(2号)'!B389=\"\",\"\",'見積書(2号)'!B389)","v":""},{"$f":"IF('見積書(2号)'!C389=\"\",\"\",'見積書(2号)'!C389)","v":""},{"$f":"IF('見積書(2号)'!H389=\"\",\"\",'見積書(2号)'!H389)","v":""},{"$f":"IF('見積書(2号)'!E389=\"\",\"\",'見積書(2号)'!E389)","v":""},{"$f":"IF('見積書(2号)'!I389=\"\",\"\",'見積書(2号)'!I389)","v":""},{"$f":"IF('見積書(2号)'!J389=\"\",\"\",'見積書(2号)'!J389)","v":""},{"$f":"IF('見積書(2号)'!K389=\"\",\"\",'見積書(2号)'!K389)","v":""},{"$f":"IF('見積書(2号)'!L389=\"\",\"\",'見積書(2号)'!L389)","v":""},{"$f":"IF('見積書(2号)'!M389=\"\",\"\",'見積書(2号)'!M389)","v":""},null,"","",null,"",""]
[{"$f":"IF('見積書(2号)'!A390=\"\",\"\",'見積書(2号)'!A390)","v":""},{"$f":"IF('見積書(2号)'!B390=\"\",\"\",'見積書(2号)'!B390)","v":""},{"$f":"IF('見積書(2号)'!C390=\"\",\"\",'見積書(2号)'!C390)","v":""},{"$f":"IF('見積書(2号)'!H390=\"\",\"\",'見積書(2号)'!H390)","v":""},{"$f":"IF('見積書(2号)'!E390=\"\",\"\",'見積書(2号)'!E390)","v":""},{"$f":"IF('見積書(2号)'!I390=\"\",\"\",'見積書(2号)'!I390)","v":""},{"$f":"IF('見積書(2号)'!J390=\"\",\"\",'見積書(2号)'!J390)","v":""},{"$f":"IF('見積書(2号)'!K390=\"\",\"\",'見積書(2号)'!K390)","v":""},{"$f":"IF('見積書(2号)'!L390=\"\",\"\",'見積書(2号)'!L390)","v":""},{"$f":"IF('見積書(2号)'!M390=\"\",\"\",'見積書(2号)'!M390)","v":""},null,"","",null,"",""]
[{"$f":"IF('見積書(2号)'!A391=\"\",\"\",'見積書(2号)'!A391)","v":""},{"$f":"IF('見積書(2号)'!B391=\"\",\"\",'見積書(2号)'!B391)","v":""},{"$f":"IF('見積書(2号)'!C391=\"\",\"\",'見積書(2号)'!C391)","v":""},{"$f":"IF('見積書(2号)'!H391=\"\",\"\",'見積書(2号)'!H391)","v":""},{"$f":"IF('見積書(2号)'!E391=\"\",\"\",'見積書(2号)'!E391)","v":""},{"$f":"IF('見積書(2号)'!I391=\"\",\"\",'見積書(2号)'!I391)","v":""},{"$f":"IF('見積書(2号)'!J391=\"\",\"\",'見積書(2号)'!J391)","v":""},{"$f":"IF('見積書(2号)'!K391=\"\",\"\",'見積書(2号)'!K391)","v":""},{"$f":"IF('見積書(2号)'!L391=\"\",\"\",'見積書(2号)'!L391)","v":""},{"$f":"IF('見積書(2号)'!M391=\"\",\"\",'見積書(2号)'!M391)","v":""},null,"","",null,"",""]
[{"$f":"IF('見積書(2号)'!A392=\"\",\"\",'見積書(2号)'!A392)","v":""},{"$f":"IF('見積書(2号)'!B392=\"\",\"\",'見積書(2号)'!B392)","v":""},{"$f":"IF('見積書(2号)'!C392=\"\",\"\",'見積書(2号)'!C392)","v":""},{"$f":"IF('見積書(2号)'!H392=\"\",\"\",'見積書(2号)'!H392)","v":""},{"$f":"IF('見積書(2号)'!E392=\"\",\"\",'見積書(2号)'!E392)","v":""},{"$f":"IF('見積書(2号)'!I392=\"\",\"\",'見積書(2号)'!I392)","v":""},{"$f":"IF('見積書(2号)'!J392=\"\",\"\",'見積書(2号)'!J392)","v":""},{"$f":"IF('見積書(2号)'!K392=\"\",\"\",'見積書(2号)'!K392)","v":""},{"$f":"IF('見積書(2号)'!L392=\"\",\"\",'見積書(2号)'!L392)","v":""},{"$f":"IF('見積書(2号)'!M392=\"\",\"\",'見積書(2号)'!M392)","v":""},null,"","",null,"",""]
[{"$f":"IF('見積書(2号)'!A393=\"\",\"\",'見積書(2号)'!A393)","v":""},{"$f":"IF('見積書(2号)'!B393=\"\",\"\",'見積書(2号)'!B393)","v":""},{"$f":"IF('見積書(2号)'!C393=\"\",\"\",'見積書(2号)'!C393)","v":""},{"$f":"IF('見積書(2号)'!H393=\"\",\"\",'見積書(2号)'!H393)","v":""},{"$f":"IF('見積書(2号)'!E393=\"\",\"\",'見積書(2号)'!E393)","v":""},{"$f":"IF('見積書(2号)'!I393=\"\",\"\",'見積書(2号)'!I393)","v":""},{"$f":"IF('見積書(2号)'!J393=\"\",\"\",'見積書(2号)'!J393)","v":""},{"$f":"IF('見積書(2号)'!K393=\"\",\"\",'見積書(2号)'!K393)","v":""},{"$f":"IF('見積書(2号)'!L393=\"\",\"\",'見積書(2号)'!L393)","v":""},{"$f":"IF('見積書(2号)'!M393=\"\",\"\",'見積書(2号)'!M393)","v":""},null,"","",null,"",""]
[{"$f":"IF('見積書(2号)'!A394=\"\",\"\",'見積書(2号)'!A394)","v":""},{"$f":"IF('見積書(2号)'!B394=\"\",\"\",'見積書(2号)'!B394)","v":""},{"$f":"IF('見積書(2号)'!C394=\"\",\"\",'見積書(2号)'!C394)","v":""},{"$f":"IF('見積書(2号)'!H394=\"\",\"\",'見積書(2号)'!H394)","v":""},{"$f":"IF('見積書(2号)'!E394=\"\",\"\",'見積書(2号)'!E394)","v":""},{"$f":"IF('見積書(2号)'!I394=\"\",\"\",'見積書(2号)'!I394)","v":""},{"$f":"IF('見積書(2号)'!J394=\"\",\"\",'見積書(2号)'!J394)","v":""},{"$f":"IF('見積書(2号)'!K394=\"\",\"\",'見積書(2号)'!K394)","v":""},{"$f":"IF('見積書(2号)'!L394=\"\",\"\",'見積書(2号)'!L394)","v":""},{"$f":"IF('見積書(2号)'!M394=\"\",\"\",'見積書(2号)'!M394)","v":""},null,"","",null,"",""]
[{"$f":"IF('見積書(2号)'!A395=\"\",\"\",'見積書(2号)'!A395)","v":""},{"$f":"IF('見積書(2号)'!B395=\"\",\"\",'見積書(2号)'!B395)","v":""},{"$f":"IF('見積書(2号)'!C395=\"\",\"\",'見積書(2号)'!C395)","v":""},{"$f":"IF('見積書(2号)'!H395=\"\",\"\",'見積書(2号)'!H395)","v":""},{"$f":"IF('見積書(2号)'!E395=\"\",\"\",'見積書(2号)'!E395)","v":""},{"$f":"IF('見積書(2号)'!I395=\"\",\"\",'見積書(2号)'!I395)","v":""},{"$f":"IF('見積書(2号)'!J395=\"\",\"\",'見積書(2号)'!J395)","v":""},{"$f":"IF('見積書(2号)'!K395=\"\",\"\",'見積書(2号)'!K395)","v":""},{"$f":"IF('見積書(2号)'!L395=\"\",\"\",'見積書(2号)'!L395)","v":""},{"$f":"IF('見積書(2号)'!M395=\"\",\"\",'見積書(2号)'!M395)","v":""},null,{"$f":"IF(I395=\"\",F395,I395)","v":""},{"$f":"IF(L395=\"\",\"\",L395*K395)","v":""},null,"",""]
[{"$f":"IF('見積書(2号)'!A396=\"\",\"\",'見積書(2号)'!A396)","v":""},{"$f":"IF('見積書(2号)'!B396=\"\",\"\",'見積書(2号)'!B396)","v":""},{"$f":"IF('見積書(2号)'!C396=\"\",\"\",'見積書(2号)'!C396)","v":""},{"$f":"IF('見積書(2号)'!H396=\"\",\"\",'見積書(2号)'!H396)","v":""},{"$f":"IF('見積書(2号)'!E396=\"\",\"\",'見積書(2号)'!E396)","v":""},{"$f":"IF('見積書(2号)'!I396=\"\",\"\",'見積書(2号)'!I396)","v":""},{"$f":"IF('見積書(2号)'!J396=\"\",\"\",'見積書(2号)'!J396)","v":""},{"$f":"IF('見積書(2号)'!K396=\"\",\"\",'見積書(2号)'!K396)","v":""},{"$f":"IF('見積書(2号)'!L396=\"\",\"\",'見積書(2号)'!L396)","v":""},{"$f":"IF('見積書(2号)'!M396=\"\",\"\",'見積書(2号)'!M396)","v":""},null,"","",null,"",""]
[{"$f":"IF('見積書(2号)'!A397=\"\",\"\",'見積書(2号)'!A397)","v":""},{"$f":"IF('見積書(2号)'!B397=\"\",\"\",'見積書(2号)'!B397)","v":""},{"$f":"IF('見積書(2号)'!C397=\"\",\"\",'見積書(2号)'!C397)","v":""},{"$f":"IF('見積書(2号)'!H397=\"\",\"\",'見積書(2号)'!H397)","v":""},{"$f":"IF('見積書(2号)'!E397=\"\",\"\",'見積書(2号)'!E397)","v":""},{"$f":"IF('見積書(2号)'!I397=\"\",\"\",'見積書(2号)'!I397)","v":""},{"$f":"IF('見積書(2号)'!J397=\"\",\"\",'見積書(2号)'!J397)","v":""},{"$f":"IF('見積書(2号)'!K397=\"\",\"\",'見積書(2号)'!K397)","v":""},{"$f":"IF('見積書(2号)'!L397=\"\",\"\",'見積書(2号)'!L397)","v":""},{"$f":"IF('見積書(2号)'!M397=\"\",\"\",'見積書(2号)'!M397)","v":""},null,"","",null,"",""]
[{"$f":"IF('見積書(2号)'!A398=\"\",\"\",'見積書(2号)'!A398)","v":""},{"$f":"IF('見積書(2号)'!B398=\"\",\"\",'見積書(2号)'!B398)","v":""},{"$f":"IF('見積書(2号)'!C398=\"\",\"\",'見積書(2号)'!C398)","v":""},{"$f":"IF('見積書(2号)'!H398=\"\",\"\",'見積書(2号)'!H398)","v":""},{"$f":"IF('見積書(2号)'!E398=\"\",\"\",'見積書(2号)'!E398)","v":""},{"$f":"IF('見積書(2号)'!I398=\"\",\"\",'見積書(2号)'!I398)","v":""},{"$f":"IF('見積書(2号)'!J398=\"\",\"\",'見積書(2号)'!J398)","v":""},{"$f":"IF('見積書(2号)'!K398=\"\",\"\",'見積書(2号)'!K398)","v":""},{"$f":"IF('見積書(2号)'!L398=\"\",\"\",'見積書(2号)'!L398)","v":""},{"$f":"IF('見積書(2号)'!M398=\"\",\"\",'見積書(2号)'!M398)","v":""},null,"","",null,"",""]
[{"$f":"IF('見積書(2号)'!A399=\"\",\"\",'見積書(2号)'!A399)","v":""},{"$f":"IF('見積書(2号)'!B399=\"\",\"\",'見積書(2号)'!B399)","v":""},{"$f":"IF('見積書(2号)'!C399=\"\",\"\",'見積書(2号)'!C399)","v":""},{"$f":"IF('見積書(2号)'!H399=\"\",\"\",'見積書(2号)'!H399)","v":""},{"$f":"IF('見積書(2号)'!E399=\"\",\"\",'見積書(2号)'!E399)","v":""},{"$f":"IF('見積書(2号)'!I399=\"\",\"\",'見積書(2号)'!I399)","v":""},{"$f":"IF('見積書(2号)'!J399=\"\",\"\",'見積書(2号)'!J399)","v":""},{"$f":"IF('見積書(2号)'!K399=\"\",\"\",'見積書(2号)'!K399)","v":""},{"$f":"IF('見積書(2号)'!L399=\"\",\"\",'見積書(2号)'!L399)","v":""},{"$f":"IF('見積書(2号)'!M399=\"\",\"\",'見積書(2号)'!M399)","v":""},null,"","",null,"",""]
[{"$f":"IF('見積書(2号)'!A400=\"\",\"\",'見積書(2号)'!A400)","v":""},{"$f":"IF('見積書(2号)'!B400=\"\",\"\",'見積書(2号)'!B400)","v":""},{"$f":"IF('見積書(2号)'!C400=\"\",\"\",'見積書(2号)'!C400)","v":""},{"$f":"IF('見積書(2号)'!H400=\"\",\"\",'見積書(2号)'!H400)","v":""},{"$f":"IF('見積書(2号)'!E400=\"\",\"\",'見積書(2号)'!E400)","v":""},{"$f":"IF('見積書(2号)'!I400=\"\",\"\",'見積書(2号)'!I400)","v":""},{"$f":"IF('見積書(2号)'!J400=\"\",\"\",'見積書(2号)'!J400)","v":""},{"$f":"IF('見積書(2号)'!K400=\"\",\"\",'見積書(2号)'!K400)","v":""},{"$f":"IF('見積書(2号)'!L400=\"\",\"\",'見積書(2号)'!L400)","v":""},{"$f":"IF('見積書(2号)'!M400=\"\",\"\",'見積書(2号)'!M400)","v":""},null,"","",null,"",""]
[{"$f":"IF('見積書(2号)'!A401=\"\",\"\",'見積書(2号)'!A401)","v":""},{"$f":"IF('見積書(2号)'!B401=\"\",\"\",'見積書(2号)'!B401)","v":""},{"$f":"IF('見積書(2号)'!C401=\"\",\"\",'見積書(2号)'!C401)","v":""},{"$f":"IF('見積書(2号)'!H401=\"\",\"\",'見積書(2号)'!H401)","v":""},{"$f":"IF('見積書(2号)'!E401=\"\",\"\",'見積書(2号)'!E401)","v":""},{"$f":"IF('見積書(2号)'!I401=\"\",\"\",'見積書(2号)'!I401)","v":""},{"$f":"IF('見積書(2号)'!J401=\"\",\"\",'見積書(2号)'!J401)","v":""},{"$f":"IF('見積書(2号)'!K401=\"\",\"\",'見積書(2号)'!K401)","v":""},{"$f":"IF('見積書(2号)'!L401=\"\",\"\",'見積書(2号)'!L401)","v":""},{"$f":"IF('見積書(2号)'!M401=\"\",\"\",'見積書(2号)'!M401)","v":""},null,"","",null,"",""]
[{"$f":"IF('見積書(2号)'!A402=\"\",\"\",'見積書(2号)'!A402)","v":""},{"$f":"IF('見積書(2号)'!B402=\"\",\"\",'見積書(2号)'!B402)","v":""},{"$f":"IF('見積書(2号)'!C402=\"\",\"\",'見積書(2号)'!C402)","v":""},{"$f":"IF('見積書(2号)'!H402=\"\",\"\",'見積書(2号)'!H402)","v":""},{"$f":"IF('見積書(2号)'!E402=\"\",\"\",'見積書(2号)'!E402)","v":""},{"$f":"IF('見積書(2号)'!I402=\"\",\"\",'見積書(2号)'!I402)","v":""},{"$f":"IF('見積書(2号)'!J402=\"\",\"\",'見積書(2号)'!J402)","v":""},{"$f":"IF('見積書(2号)'!K402=\"\",\"\",'見積書(2号)'!K402)","v":""},{"$f":"IF('見積書(2号)'!L402=\"\",\"\",'見積書(2号)'!L402)","v":""},{"$f":"IF('見積書(2号)'!M402=\"\",\"\",'見積書(2号)'!M402)","v":""},null,"","",null,"",""]
[{"$f":"IF('見積書(2号)'!A403=\"\",\"\",'見積書(2号)'!A403)","v":""},{"$f":"IF('見積書(2号)'!B403=\"\",\"\",'見積書(2号)'!B403)","v":""},{"$f":"IF('見積書(2号)'!C403=\"\",\"\",'見積書(2号)'!C403)","v":""},{"$f":"IF('見積書(2号)'!H403=\"\",\"\",'見積書(2号)'!H403)","v":""},{"$f":"IF('見積書(2号)'!E403=\"\",\"\",'見積書(2号)'!E403)","v":""},{"$f":"IF('見積書(2号)'!I403=\"\",\"\",'見積書(2号)'!I403)","v":""},{"$f":"IF('見積書(2号)'!J403=\"\",\"\",'見積書(2号)'!J403)","v":""},{"$f":"IF('見積書(2号)'!K403=\"\",\"\",'見積書(2号)'!K403)","v":""},{"$f":"IF('見積書(2号)'!L403=\"\",\"\",'見積書(2号)'!L403)","v":""},{"$f":"IF('見積書(2号)'!M403=\"\",\"\",'見積書(2号)'!M403)","v":""},null,"","",null,"",""]
[{"$f":"IF('見積書(2号)'!A404=\"\",\"\",'見積書(2号)'!A404)","v":""},{"$f":"IF('見積書(2号)'!B404=\"\",\"\",'見積書(2号)'!B404)","v":""},{"$f":"IF('見積書(2号)'!C404=\"\",\"\",'見積書(2号)'!C404)","v":""},{"$f":"IF('見積書(2号)'!H404=\"\",\"\",'見積書(2号)'!H404)","v":""},{"$f":"IF('見積書(2号)'!E404=\"\",\"\",'見積書(2号)'!E404)","v":""},{"$f":"IF('見積書(2号)'!I404=\"\",\"\",'見積書(2号)'!I404)","v":""},{"$f":"IF('見積書(2号)'!J404=\"\",\"\",'見積書(2号)'!J404)","v":""},{"$f":"IF('見積書(2号)'!K404=\"\",\"\",'見積書(2号)'!K404)","v":""},{"$f":"IF('見積書(2号)'!L404=\"\",\"\",'見積書(2号)'!L404)","v":""},{"$f":"IF('見積書(2号)'!M404=\"\",\"\",'見積書(2号)'!M404)","v":""},null,"","",null,"",""]
[{"$f":"IF('見積書(2号)'!A405=\"\",\"\",'見積書(2号)'!A405)","v":""},{"$f":"IF('見積書(2号)'!B405=\"\",\"\",'見積書(2号)'!B405)","v":""},{"$f":"IF('見積書(2号)'!C405=\"\",\"\",'見積書(2号)'!C405)","v":""},{"$f":"IF('見積書(2号)'!H405=\"\",\"\",'見積書(2号)'!H405)","v":""},{"$f":"IF('見積書(2号)'!E405=\"\",\"\",'見積書(2号)'!E405)","v":""},{"$f":"IF('見積書(2号)'!I405=\"\",\"\",'見積書(2号)'!I405)","v":""},{"$f":"IF('見積書(2号)'!J405=\"\",\"\",'見積書(2号)'!J405)","v":""},{"$f":"IF('見積書(2号)'!K405=\"\",\"\",'見積書(2号)'!K405)","v":""},{"$f":"IF('見積書(2号)'!L405=\"\",\"\",'見積書(2号)'!L405)","v":""},{"$f":"IF('見積書(2号)'!M405=\"\",\"\",'見積書(2号)'!M405)","v":""},null,"","",null,"",""]
[{"$f":"IF('見積書(2号)'!A406=\"\",\"\",'見積書(2号)'!A406)","v":""},{"$f":"IF('見積書(2号)'!B406=\"\",\"\",'見積書(2号)'!B406)","v":""},{"$f":"IF('見積書(2号)'!C406=\"\",\"\",'見積書(2号)'!C406)","v":""},{"$f":"IF('見積書(2号)'!H406=\"\",\"\",'見積書(2号)'!H406)","v":""},{"$f":"IF('見積書(2号)'!E406=\"\",\"\",'見積書(2号)'!E406)","v":""},{"$f":"IF('見積書(2号)'!I406=\"\",\"\",'見積書(2号)'!I406)","v":""},{"$f":"IF('見積書(2号)'!J406=\"\",\"\",'見積書(2号)'!J406)","v":""},{"$f":"IF('見積書(2号)'!K406=\"\",\"\",'見積書(2号)'!K406)","v":""},{"$f":"IF('見積書(2号)'!L406=\"\",\"\",'見積書(2号)'!L406)","v":""},{"$f":"IF('見積書(2号)'!M406=\"\",\"\",'見積書(2号)'!M406)","v":""},null,"","",null,"",""]
[{"$f":"IF('見積書(2号)'!A407=\"\",\"\",'見積書(2号)'!A407)","v":""},{"$f":"IF('見積書(2号)'!B407=\"\",\"\",'見積書(2号)'!B407)","v":""},{"$f":"IF('見積書(2号)'!C407=\"\",\"\",'見積書(2号)'!C407)","v":""},{"$f":"IF('見積書(2号)'!H407=\"\",\"\",'見積書(2号)'!H407)","v":""},{"$f":"IF('見積書(2号)'!E407=\"\",\"\",'見積書(2号)'!E407)","v":""},{"$f":"IF('見積書(2号)'!I407=\"\",\"\",'見積書(2号)'!I407)","v":""},{"$f":"IF('見積書(2号)'!J407=\"\",\"\",'見積書(2号)'!J407)","v":""},{"$f":"IF('見積書(2号)'!K407=\"\",\"\",'見積書(2号)'!K407)","v":""},{"$f":"IF('見積書(2号)'!L407=\"\",\"\",'見積書(2号)'!L407)","v":""},{"$f":"IF('見積書(2号)'!M407=\"\",\"\",'見積書(2号)'!M407)","v":""},null,"","",null,"",""]
[{"$f":"IF('見積書(2号)'!A408=\"\",\"\",'見積書(2号)'!A408)","v":""},{"$f":"IF('見積書(2号)'!B408=\"\",\"\",'見積書(2号)'!B408)","v":""},{"$f":"IF('見積書(2号)'!C408=\"\",\"\",'見積書(2号)'!C408)","v":""},{"$f":"IF('見積書(2号)'!H408=\"\",\"\",'見積書(2号)'!H408)","v":""},{"$f":"IF('見積書(2号)'!E408=\"\",\"\",'見積書(2号)'!E408)","v":""},{"$f":"IF('見積書(2号)'!I408=\"\",\"\",'見積書(2号)'!I408)","v":""},{"$f":"IF('見積書(2号)'!J408=\"\",\"\",'見積書(2号)'!J408)","v":""},{"$f":"IF('見積書(2号)'!K408=\"\",\"\",'見積書(2号)'!K408)","v":""},{"$f":"IF('見積書(2号)'!L408=\"\",\"\",'見積書(2号)'!L408)","v":""},{"$f":"IF('見積書(2号)'!M408=\"\",\"\",'見積書(2号)'!M408)","v":""},null,"","",null,"",""]
[{"$f":"IF('見積書(2号)'!A409=\"\",\"\",'見積書(2号)'!A409)","v":""},{"$f":"IF('見積書(2号)'!B409=\"\",\"\",'見積書(2号)'!B409)","v":""},{"$f":"IF('見積書(2号)'!C409=\"\",\"\",'見積書(2号)'!C409)","v":""},{"$f":"IF('見積書(2号)'!H409=\"\",\"\",'見積書(2号)'!H409)","v":""},{"$f":"IF('見積書(2号)'!E409=\"\",\"\",'見積書(2号)'!E409)","v":""},{"$f":"IF('見積書(2号)'!I409=\"\",\"\",'見積書(2号)'!I409)","v":""},{"$f":"IF('見積書(2号)'!J409=\"\",\"\",'見積書(2号)'!J409)","v":""},{"$f":"IF('見積書(2号)'!K409=\"\",\"\",'見積書(2号)'!K409)","v":""},{"$f":"IF('見積書(2号)'!L409=\"\",\"\",'見積書(2号)'!L409)","v":""},{"$f":"IF('見積書(2号)'!M409=\"\",\"\",'見積書(2号)'!M409)","v":""},null,"","",null,"",""]
[{"$f":"IF('見積書(2号)'!A410=\"\",\"\",'見積書(2号)'!A410)","v":""},{"$f":"IF('見積書(2号)'!B410=\"\",\"\",'見積書(2号)'!B410)","v":""},{"$f":"IF('見積書(2号)'!C410=\"\",\"\",'見積書(2号)'!C410)","v":""},{"$f":"IF('見積書(2号)'!H410=\"\",\"\",'見積書(2号)'!H410)","v":""},{"$f":"IF('見積書(2号)'!E410=\"\",\"\",'見積書(2号)'!E410)","v":""},{"$f":"IF('見積書(2号)'!I410=\"\",\"\",'見積書(2号)'!I410)","v":""},{"$f":"IF('見積書(2号)'!J410=\"\",\"\",'見積書(2号)'!J410)","v":""},{"$f":"IF('見積書(2号)'!K410=\"\",\"\",'見積書(2号)'!K410)","v":""},{"$f":"IF('見積書(2号)'!L410=\"\",\"\",'見積書(2号)'!L410)","v":""},{"$f":"IF('見積書(2号)'!M410=\"\",\"\",'見積書(2号)'!M410)","v":""},null,"","",null,"",""]
[{"$f":"IF('見積書(2号)'!A411=\"\",\"\",'見積書(2号)'!A411)","v":""},{"$f":"IF('見積書(2号)'!B411=\"\",\"\",'見積書(2号)'!B411)","v":""},{"$f":"IF('見積書(2号)'!C411=\"\",\"\",'見積書(2号)'!C411)","v":""},{"$f":"IF('見積書(2号)'!H411=\"\",\"\",'見積書(2号)'!H411)","v":""},{"$f":"IF('見積書(2号)'!E411=\"\",\"\",'見積書(2号)'!E411)","v":""},{"$f":"IF('見積書(2号)'!I411=\"\",\"\",'見積書(2号)'!I411)","v":""},{"$f":"IF('見積書(2号)'!J411=\"\",\"\",'見積書(2号)'!J411)","v":""},{"$f":"IF('見積書(2号)'!K411=\"\",\"\",'見積書(2号)'!K411)","v":""},{"$f":"IF('見積書(2号)'!L411=\"\",\"\",'見積書(2号)'!L411)","v":""},{"$f":"IF('見積書(2号)'!M411=\"\",\"\",'見積書(2号)'!M411)","v":""},null,"","",null,"",""]
[{"$f":"IF('見積書(2号)'!A412=\"\",\"\",'見積書(2号)'!A412)","v":""},{"$f":"IF('見積書(2号)'!B412=\"\",\"\",'見積書(2号)'!B412)","v":""},{"$f":"IF('見積書(2号)'!C412=\"\",\"\",'見積書(2号)'!C412)","v":""},{"$f":"IF('見積書(2号)'!H412=\"\",\"\",'見積書(2号)'!H412)","v":""},{"$f":"IF('見積書(2号)'!E412=\"\",\"\",'見積書(2号)'!E412)","v":""},{"$f":"IF('見積書(2号)'!I412=\"\",\"\",'見積書(2号)'!I412)","v":""},{"$f":"IF('見積書(2号)'!J412=\"\",\"\",'見積書(2号)'!J412)","v":""},{"$f":"IF('見積書(2号)'!K412=\"\",\"\",'見積書(2号)'!K412)","v":""},{"$f":"IF('見積書(2号)'!L412=\"\",\"\",'見積書(2号)'!L412)","v":""},{"$f":"IF('見積書(2号)'!M412=\"\",\"\",'見積書(2号)'!M412)","v":""},null,"","",null,"",""]
[{"$f":"IF('見積書(2号)'!A413=\"\",\"\",'見積書(2号)'!A413)","v":""},{"$f":"IF('見積書(2号)'!B413=\"\",\"\",'見積書(2号)'!B413)","v":""},{"$f":"IF('見積書(2号)'!C413=\"\",\"\",'見積書(2号)'!C413)","v":""},{"$f":"IF('見積書(2号)'!H413=\"\",\"\",'見積書(2号)'!H413)","v":""},{"$f":"IF('見積書(2号)'!E413=\"\",\"\",'見積書(2号)'!E413)","v":""},{"$f":"IF('見積書(2号)'!I413=\"\",\"\",'見積書(2号)'!I413)","v":""},{"$f":"IF('見積書(2号)'!J413=\"\",\"\",'見積書(2号)'!J413)","v":""},{"$f":"IF('見積書(2号)'!K413=\"\",\"\",'見積書(2号)'!K413)","v":""},{"$f":"IF('見積書(2号)'!L413=\"\",\"\",'見積書(2号)'!L413)","v":""},{"$f":"IF('見積書(2号)'!M413=\"\",\"\",'見積書(2号)'!M413)","v":""},null,"","",null,"",""]
[{"$f":"IF('見積書(2号)'!A414=\"\",\"\",'見積書(2号)'!A414)","v":""},{"$f":"IF('見積書(2号)'!B414=\"\",\"\",'見積書(2号)'!B414)","v":""},{"$f":"IF('見積書(2号)'!C414=\"\",\"\",'見積書(2号)'!C414)","v":""},{"$f":"IF('見積書(2号)'!H414=\"\",\"\",'見積書(2号)'!H414)","v":""},{"$f":"IF('見積書(2号)'!E414=\"\",\"\",'見積書(2号)'!E414)","v":""},{"$f":"IF('見積書(2号)'!I414=\"\",\"\",'見積書(2号)'!I414)","v":""},{"$f":"IF('見積書(2号)'!J414=\"\",\"\",'見積書(2号)'!J414)","v":""},{"$f":"IF('見積書(2号)'!K414=\"\",\"\",'見積書(2号)'!K414)","v":""},{"$f":"IF('見積書(2号)'!L414=\"\",\"\",'見積書(2号)'!L414)","v":""},{"$f":"IF('見積書(2号)'!M414=\"\",\"\",'見積書(2号)'!M414)","v":""},null,"","",null,"",""]
[{"$f":"IF('見積書(2号)'!A415=\"\",\"\",'見積書(2号)'!A415)","v":""},{"$f":"IF('見積書(2号)'!B415=\"\",\"\",'見積書(2号)'!B415)","v":""},{"$f":"IF('見積書(2号)'!C415=\"\",\"\",'見積書(2号)'!C415)","v":""},{"$f":"IF('見積書(2号)'!H415=\"\",\"\",'見積書(2号)'!H415)","v":""},{"$f":"IF('見積書(2号)'!E415=\"\",\"\",'見積書(2号)'!E415)","v":""},{"$f":"IF('見積書(2号)'!I415=\"\",\"\",'見積書(2号)'!I415)","v":""},{"$f":"IF('見積書(2号)'!J415=\"\",\"\",'見積書(2号)'!J415)","v":""},{"$f":"IF('見積書(2号)'!K415=\"\",\"\",'見積書(2号)'!K415)","v":""},{"$f":"IF('見積書(2号)'!L415=\"\",\"\",'見積書(2号)'!L415)","v":""},{"$f":"IF('見積書(2号)'!M415=\"\",\"\",'見積書(2号)'!M415)","v":""},null,"","",null,"",""]
[{"$f":"IF('見積書(2号)'!A416=\"\",\"\",'見積書(2号)'!A416)","v":""},{"$f":"IF('見積書(2号)'!B416=\"\",\"\",'見積書(2号)'!B416)","v":""},{"$f":"IF('見積書(2号)'!C416=\"\",\"\",'見積書(2号)'!C416)","v":""},{"$f":"IF('見積書(2号)'!H416=\"\",\"\",'見積書(2号)'!H416)","v":""},{"$f":"IF('見積書(2号)'!E416=\"\",\"\",'見積書(2号)'!E416)","v":""},{"$f":"IF('見積書(2号)'!I416=\"\",\"\",'見積書(2号)'!I416)","v":""},{"$f":"IF('見積書(2号)'!J416=\"\",\"\",'見積書(2号)'!J416)","v":""},{"$f":"IF('見積書(2号)'!K416=\"\",\"\",'見積書(2号)'!K416)","v":""},{"$f":"IF('見積書(2号)'!L416=\"\",\"\",'見積書(2号)'!L416)","v":""},{"$f":"IF('見積書(2号)'!M416=\"\",\"\",'見積書(2号)'!M416)","v":""},null,"","",null,"",""]
[{"$f":"IF('見積書(2号)'!A417=\"\",\"\",'見積書(2号)'!A417)","v":""},{"$f":"IF('見積書(2号)'!B417=\"\",\"\",'見積書(2号)'!B417)","v":""},{"$f":"IF('見積書(2号)'!C417=\"\",\"\",'見積書(2号)'!C417)","v":""},{"$f":"IF('見積書(2号)'!H417=\"\",\"\",'見積書(2号)'!H417)","v":""},{"$f":"IF('見積書(2号)'!E417=\"\",\"\",'見積書(2号)'!E417)","v":""},{"$f":"IF('見積書(2号)'!I417=\"\",\"\",'見積書(2号)'!I417)","v":""},{"$f":"IF('見積書(2号)'!J417=\"\",\"\",'見積書(2号)'!J417)","v":""},{"$f":"IF('見積書(2号)'!K417=\"\",\"\",'見積書(2号)'!K417)","v":""},{"$f":"IF('見積書(2号)'!L417=\"\",\"\",'見積書(2号)'!L417)","v":""},{"$f":"IF('見積書(2号)'!M417=\"\",\"\",'見積書(2号)'!M417)","v":""},null,"","",null,"",""]
[{"$f":"IF('見積書(2号)'!A418=\"\",\"\",'見積書(2号)'!A418)","v":""},{"$f":"IF('見積書(2号)'!B418=\"\",\"\",'見積書(2号)'!B418)","v":""},{"$f":"IF('見積書(2号)'!C418=\"\",\"\",'見積書(2号)'!C418)","v":""},{"$f":"IF('見積書(2号)'!H418=\"\",\"\",'見積書(2号)'!H418)","v":""},{"$f":"IF('見積書(2号)'!E418=\"\",\"\",'見積書(2号)'!E418)","v":""},{"$f":"IF('見積書(2号)'!I418=\"\",\"\",'見積書(2号)'!I418)","v":""},{"$f":"IF('見積書(2号)'!J418=\"\",\"\",'見積書(2号)'!J418)","v":""},{"$f":"IF('見積書(2号)'!K418=\"\",\"\",'見積書(2号)'!K418)","v":""},{"$f":"IF('見積書(2号)'!L418=\"\",\"\",'見積書(2号)'!L418)","v":""},{"$f":"IF('見積書(2号)'!M418=\"\",\"\",'見積書(2号)'!M418)","v":""},null,"","",null,"",""]
[{"$f":"IF('見積書(2号)'!A419=\"\",\"\",'見積書(2号)'!A419)","v":""},{"$f":"IF('見積書(2号)'!B419=\"\",\"\",'見積書(2号)'!B419)","v":""},{"$f":"IF('見積書(2号)'!C419=\"\",\"\",'見積書(2号)'!C419)","v":""},{"$f":"IF('見積書(2号)'!H419=\"\",\"\",'見積書(2号)'!H419)","v":""},{"$f":"IF('見積書(2号)'!E419=\"\",\"\",'見積書(2号)'!E419)","v":""},{"$f":"IF('見積書(2号)'!I419=\"\",\"\",'見積書(2号)'!I419)","v":""},{"$f":"IF('見積書(2号)'!J419=\"\",\"\",'見積書(2号)'!J419)","v":""},{"$f":"IF('見積書(2号)'!K419=\"\",\"\",'見積書(2号)'!K419)","v":""},{"$f":"IF('見積書(2号)'!L419=\"\",\"\",'見積書(2号)'!L419)","v":""},{"$f":"IF('見積書(2号)'!M419=\"\",\"\",'見積書(2号)'!M419)","v":""},null,"","",null,"",""]
[{"$f":"IF('見積書(2号)'!A420=\"\",\"\",'見積書(2号)'!A420)","v":""},{"$f":"IF('見積書(2号)'!B420=\"\",\"\",'見積書(2号)'!B420)","v":""},{"$f":"IF('見積書(2号)'!C420=\"\",\"\",'見積書(2号)'!C420)","v":""},{"$f":"IF('見積書(2号)'!H420=\"\",\"\",'見積書(2号)'!H420)","v":""},{"$f":"IF('見積書(2号)'!E420=\"\",\"\",'見積書(2号)'!E420)","v":""},{"$f":"IF('見積書(2号)'!I420=\"\",\"\",'見積書(2号)'!I420)","v":""},{"$f":"IF('見積書(2号)'!J420=\"\",\"\",'見積書(2号)'!J420)","v":""},{"$f":"IF('見積書(2号)'!K420=\"\",\"\",'見積書(2号)'!K420)","v":""},{"$f":"IF('見積書(2号)'!L420=\"\",\"\",'見積書(2号)'!L420)","v":""},{"$f":"IF('見積書(2号)'!M420=\"\",\"\",'見積書(2号)'!M420)","v":""},null,"","",null,"",""]
[{"$f":"IF('見積書(2号)'!A421=\"\",\"\",'見積書(2号)'!A421)","v":""},{"$f":"IF('見積書(2号)'!B421=\"\",\"\",'見積書(2号)'!B421)","v":""},{"$f":"IF('見積書(2号)'!C421=\"\",\"\",'見積書(2号)'!C421)","v":""},{"$f":"IF('見積書(2号)'!H421=\"\",\"\",'見積書(2号)'!H421)","v":""},{"$f":"IF('見積書(2号)'!E421=\"\",\"\",'見積書(2号)'!E421)","v":""},{"$f":"IF('見積書(2号)'!I421=\"\",\"\",'見積書(2号)'!I421)","v":""},{"$f":"IF('見積書(2号)'!J421=\"\",\"\",'見積書(2号)'!J421)","v":""},{"$f":"IF('見積書(2号)'!K421=\"\",\"\",'見積書(2号)'!K421)","v":""},{"$f":"IF('見積書(2号)'!L421=\"\",\"\",'見積書(2号)'!L421)","v":""},{"$f":"IF('見積書(2号)'!M421=\"\",\"\",'見積書(2号)'!M421)","v":""},null,"","",null,"",""]
[{"$f":"IF('見積書(2号)'!A422=\"\",\"\",'見積書(2号)'!A422)","v":""},{"$f":"IF('見積書(2号)'!B422=\"\",\"\",'見積書(2号)'!B422)","v":""},{"$f":"IF('見積書(2号)'!C422=\"\",\"\",'見積書(2号)'!C422)","v":""},{"$f":"IF('見積書(2号)'!H422=\"\",\"\",'見積書(2号)'!H422)","v":""},{"$f":"IF('見積書(2号)'!E422=\"\",\"\",'見積書(2号)'!E422)","v":""},{"$f":"IF('見積書(2号)'!I422=\"\",\"\",'見積書(2号)'!I422)","v":""},{"$f":"IF('見積書(2号)'!J422=\"\",\"\",'見積書(2号)'!J422)","v":""},{"$f":"IF('見積書(2号)'!K422=\"\",\"\",'見積書(2号)'!K422)","v":""},{"$f":"IF('見積書(2号)'!L422=\"\",\"\",'見積書(2号)'!L422)","v":""},{"$f":"IF('見積書(2号)'!M422=\"\",\"\",'見積書(2号)'!M422)","v":""},null,"","",null,"",""]
[{"$f":"IF('見積書(2号)'!A423=\"\",\"\",'見積書(2号)'!A423)","v":""},{"$f":"IF('見積書(2号)'!B423=\"\",\"\",'見積書(2号)'!B423)","v":""},{"$f":"IF('見積書(2号)'!C423=\"\",\"\",'見積書(2号)'!C423)","v":""},{"$f":"IF('見積書(2号)'!H423=\"\",\"\",'見積書(2号)'!H423)","v":""},{"$f":"IF('見積書(2号)'!E423=\"\",\"\",'見積書(2号)'!E423)","v":""},{"$f":"IF('見積書(2号)'!I423=\"\",\"\",'見積書(2号)'!I423)","v":""},{"$f":"IF('見積書(2号)'!J423=\"\",\"\",'見積書(2号)'!J423)","v":""},{"$f":"IF('見積書(2号)'!K423=\"\",\"\",'見積書(2号)'!K423)","v":""},{"$f":"IF('見積書(2号)'!L423=\"\",\"\",'見積書(2号)'!L423)","v":""},{"$f":"IF('見積書(2号)'!M423=\"\",\"\",'見積書(2号)'!M423)","v":""},null,"","",null,"",""]
[{"$f":"IF('見積書(2号)'!A424=\"\",\"\",'見積書(2号)'!A424)","v":""},{"$f":"IF('見積書(2号)'!B424=\"\",\"\",'見積書(2号)'!B424)","v":""},{"$f":"IF('見積書(2号)'!C424=\"\",\"\",'見積書(2号)'!C424)","v":""},{"$f":"IF('見積書(2号)'!H424=\"\",\"\",'見積書(2号)'!H424)","v":""},{"$f":"IF('見積書(2号)'!E424=\"\",\"\",'見積書(2号)'!E424)","v":""},{"$f":"IF('見積書(2号)'!I424=\"\",\"\",'見積書(2号)'!I424)","v":""},{"$f":"IF('見積書(2号)'!J424=\"\",\"\",'見積書(2号)'!J424)","v":""},{"$f":"IF('見積書(2号)'!K424=\"\",\"\",'見積書(2号)'!K424)","v":""},{"$f":"IF('見積書(2号)'!L424=\"\",\"\",'見積書(2号)'!L424)","v":""},{"$f":"IF('見積書(2号)'!M424=\"\",\"\",'見積書(2号)'!M424)","v":""},null,"","",null,"",""]
[{"$f":"IF('見積書(2号)'!A425=\"\",\"\",'見積書(2号)'!A425)","v":""},{"$f":"IF('見積書(2号)'!B425=\"\",\"\",'見積書(2号)'!B425)","v":""},{"$f":"IF('見積書(2号)'!C425=\"\",\"\",'見積書(2号)'!C425)","v":""},{"$f":"IF('見積書(2号)'!H425=\"\",\"\",'見積書(2号)'!H425)","v":""},{"$f":"IF('見積書(2号)'!E425=\"\",\"\",'見積書(2号)'!E425)","v":""},{"$f":"IF('見積書(2号)'!I425=\"\",\"\",'見積書(2号)'!I425)","v":""},{"$f":"IF('見積書(2号)'!J425=\"\",\"\",'見積書(2号)'!J425)","v":""},{"$f":"IF('見積書(2号)'!K425=\"\",\"\",'見積書(2号)'!K425)","v":""},{"$f":"IF('見積書(2号)'!L425=\"\",\"\",'見積書(2号)'!L425)","v":""},{"$f":"IF('見積書(2号)'!M425=\"\",\"\",'見積書(2号)'!M425)","v":""},null,"","",null,"",""]
[{"$f":"IF('見積書(2号)'!A426=\"\",\"\",'見積書(2号)'!A426)","v":""},{"$f":"IF('見積書(2号)'!B426=\"\",\"\",'見積書(2号)'!B426)","v":""},{"$f":"IF('見積書(2号)'!C426=\"\",\"\",'見積書(2号)'!C426)","v":""},{"$f":"IF('見積書(2号)'!H426=\"\",\"\",'見積書(2号)'!H426)","v":""},{"$f":"IF('見積書(2号)'!E426=\"\",\"\",'見積書(2号)'!E426)","v":""},{"$f":"IF('見積書(2号)'!I426=\"\",\"\",'見積書(2号)'!I426)","v":""},{"$f":"IF('見積書(2号)'!J426=\"\",\"\",'見積書(2号)'!J426)","v":""},{"$f":"IF('見積書(2号)'!K426=\"\",\"\",'見積書(2号)'!K426)","v":""},{"$f":"IF('見積書(2号)'!L426=\"\",\"\",'見積書(2号)'!L426)","v":""},{"$f":"IF('見積書(2号)'!M426=\"\",\"\",'見積書(2号)'!M426)","v":""},null,"","",null,"",""]
[{"$f":"IF('見積書(2号)'!A427=\"\",\"\",'見積書(2号)'!A427)","v":""},{"$f":"IF('見積書(2号)'!B427=\"\",\"\",'見積書(2号)'!B427)","v":""},{"$f":"IF('見積書(2号)'!C427=\"\",\"\",'見積書(2号)'!C427)","v":""},{"$f":"IF('見積書(2号)'!H427=\"\",\"\",'見積書(2号)'!H427)","v":""},{"$f":"IF('見積書(2号)'!E427=\"\",\"\",'見積書(2号)'!E427)","v":""},{"$f":"IF('見積書(2号)'!I427=\"\",\"\",'見積書(2号)'!I427)","v":""},{"$f":"IF('見積書(2号)'!J427=\"\",\"\",'見積書(2号)'!J427)","v":""},{"$f":"IF('見積書(2号)'!K427=\"\",\"\",'見積書(2号)'!K427)","v":""},{"$f":"IF('見積書(2号)'!L427=\"\",\"\",'見積書(2号)'!L427)","v":""},{"$f":"IF('見積書(2号)'!M427=\"\",\"\",'見積書(2号)'!M427)","v":""},null,"","",null,"",""]
[{"$f":"IF('見積書(2号)'!A428=\"\",\"\",'見積書(2号)'!A428)","v":""},{"$f":"IF('見積書(2号)'!B428=\"\",\"\",'見積書(2号)'!B428)","v":""},{"$f":"IF('見積書(2号)'!C428=\"\",\"\",'見積書(2号)'!C428)","v":""},{"$f":"IF('見積書(2号)'!H428=\"\",\"\",'見積書(2号)'!H428)","v":""},{"$f":"IF('見積書(2号)'!E428=\"\",\"\",'見積書(2号)'!E428)","v":""},{"$f":"IF('見積書(2号)'!I428=\"\",\"\",'見積書(2号)'!I428)","v":""},{"$f":"IF('見積書(2号)'!J428=\"\",\"\",'見積書(2号)'!J428)","v":""},{"$f":"IF('見積書(2号)'!K428=\"\",\"\",'見積書(2号)'!K428)","v":""},{"$f":"IF('見積書(2号)'!L428=\"\",\"\",'見積書(2号)'!L428)","v":""},{"$f":"IF('見積書(2号)'!M428=\"\",\"\",'見積書(2号)'!M428)","v":""},null,"","",null,"",""]
[{"$f":"IF('見積書(2号)'!A429=\"\",\"\",'見積書(2号)'!A429)","v":""},{"$f":"IF('見積書(2号)'!B429=\"\",\"\",'見積書(2号)'!B429)","v":""},{"$f":"IF('見積書(2号)'!C429=\"\",\"\",'見積書(2号)'!C429)","v":""},{"$f":"IF('見積書(2号)'!H429=\"\",\"\",'見積書(2号)'!H429)","v":""},{"$f":"IF('見積書(2号)'!E429=\"\",\"\",'見積書(2号)'!E429)","v":""},{"$f":"IF('見積書(2号)'!I429=\"\",\"\",'見積書(2号)'!I429)","v":""},{"$f":"IF('見積書(2号)'!J429=\"\",\"\",'見積書(2号)'!J429)","v":""},{"$f":"IF('見積書(2号)'!K429=\"\",\"\",'見積書(2号)'!K429)","v":""},{"$f":"IF('見積書(2号)'!L429=\"\",\"\",'見積書(2号)'!L429)","v":""},{"$f":"IF('見積書(2号)'!M429=\"\",\"\",'見積書(2号)'!M429)","v":""},null,"","",null,"",""]
[{"$f":"IF('見積書(2号)'!A430=\"\",\"\",'見積書(2号)'!A430)","v":""},{"$f":"IF('見積書(2号)'!B430=\"\",\"\",'見積書(2号)'!B430)","v":""},{"$f":"IF('見積書(2号)'!C430=\"\",\"\",'見積書(2号)'!C430)","v":""},{"$f":"IF('見積書(2号)'!H430=\"\",\"\",'見積書(2号)'!H430)","v":""},{"$f":"IF('見積書(2号)'!E430=\"\",\"\",'見積書(2号)'!E430)","v":""},{"$f":"IF('見積書(2号)'!I430=\"\",\"\",'見積書(2号)'!I430)","v":""},{"$f":"IF('見積書(2号)'!J430=\"\",\"\",'見積書(2号)'!J430)","v":""},{"$f":"IF('見積書(2号)'!K430=\"\",\"\",'見積書(2号)'!K430)","v":""},{"$f":"IF('見積書(2号)'!L430=\"\",\"\",'見積書(2号)'!L430)","v":""},{"$f":"IF('見積書(2号)'!M430=\"\",\"\",'見積書(2号)'!M430)","v":""},null,"","",null,"",""]
[{"$f":"IF('見積書(2号)'!A431=\"\",\"\",'見積書(2号)'!A431)","v":""},{"$f":"IF('見積書(2号)'!B431=\"\",\"\",'見積書(2号)'!B431)","v":""},{"$f":"IF('見積書(2号)'!C431=\"\",\"\",'見積書(2号)'!C431)","v":""},{"$f":"IF('見積書(2号)'!H431=\"\",\"\",'見積書(2号)'!H431)","v":""},{"$f":"IF('見積書(2号)'!E431=\"\",\"\",'見積書(2号)'!E431)","v":""},{"$f":"IF('見積書(2号)'!I431=\"\",\"\",'見積書(2号)'!I431)","v":""},{"$f":"IF('見積書(2号)'!J431=\"\",\"\",'見積書(2号)'!J431)","v":""},{"$f":"IF('見積書(2号)'!K431=\"\",\"\",'見積書(2号)'!K431)","v":""},{"$f":"IF('見積書(2号)'!L431=\"\",\"\",'見積書(2号)'!L431)","v":""},{"$f":"IF('見積書(2号)'!M431=\"\",\"\",'見積書(2号)'!M431)","v":""},null,"","",null,"",""]
[{"$f":"IF('見積書(2号)'!A432=\"\",\"\",'見積書(2号)'!A432)","v":""},{"$f":"IF('見積書(2号)'!B432=\"\",\"\",'見積書(2号)'!B432)","v":""},{"$f":"IF('見積書(2号)'!C432=\"\",\"\",'見積書(2号)'!C432)","v":""},{"$f":"IF('見積書(2号)'!H432=\"\",\"\",'見積書(2号)'!H432)","v":""},{"$f":"IF('見積書(2号)'!E432=\"\",\"\",'見積書(2号)'!E432)","v":""},{"$f":"IF('見積書(2号)'!I432=\"\",\"\",'見積書(2号)'!I432)","v":""},{"$f":"IF('見積書(2号)'!J432=\"\",\"\",'見積書(2号)'!J432)","v":""},{"$f":"IF('見積書(2号)'!K432=\"\",\"\",'見積書(2号)'!K432)","v":""},{"$f":"IF('見積書(2号)'!L432=\"\",\"\",'見積書(2号)'!L432)","v":""},{"$f":"IF('見積書(2号)'!M432=\"\",\"\",'見積書(2号)'!M432)","v":""},null,"","",null,"",""]
[{"$f":"IF('見積書(2号)'!A433=\"\",\"\",'見積書(2号)'!A433)","v":""},{"$f":"IF('見積書(2号)'!B433=\"\",\"\",'見積書(2号)'!B433)","v":""},{"$f":"IF('見積書(2号)'!C433=\"\",\"\",'見積書(2号)'!C433)","v":""},{"$f":"IF('見積書(2号)'!H433=\"\",\"\",'見積書(2号)'!H433)","v":""},{"$f":"IF('見積書(2号)'!E433=\"\",\"\",'見積書(2号)'!E433)","v":""},{"$f":"IF('見積書(2号)'!I433=\"\",\"\",'見積書(2号)'!I433)","v":""},{"$f":"IF('見積書(2号)'!J433=\"\",\"\",'見積書(2号)'!J433)","v":""},{"$f":"IF('見積書(2号)'!K433=\"\",\"\",'見積書(2号)'!K433)","v":""},{"$f":"IF('見積書(2号)'!L433=\"\",\"\",'見積書(2号)'!L433)","v":""},{"$f":"IF('見積書(2号)'!M433=\"\",\"\",'見積書(2号)'!M433)","v":""},null,"","",null,"",""]
[{"$f":"IF('見積書(2号)'!A434=\"\",\"\",'見積書(2号)'!A434)","v":""},{"$f":"IF('見積書(2号)'!B434=\"\",\"\",'見積書(2号)'!B434)","v":""},{"$f":"IF('見積書(2号)'!C434=\"\",\"\",'見積書(2号)'!C434)","v":""},{"$f":"IF('見積書(2号)'!H434=\"\",\"\",'見積書(2号)'!H434)","v":""},{"$f":"IF('見積書(2号)'!E434=\"\",\"\",'見積書(2号)'!E434)","v":""},{"$f":"IF('見積書(2号)'!I434=\"\",\"\",'見積書(2号)'!I434)","v":""},{"$f":"IF('見積書(2号)'!J434=\"\",\"\",'見積書(2号)'!J434)","v":""},{"$f":"IF('見積書(2号)'!K434=\"\",\"\",'見積書(2号)'!K434)","v":""},{"$f":"IF('見積書(2号)'!L434=\"\",\"\",'見積書(2号)'!L434)","v":""},{"$f":"IF('見積書(2号)'!M434=\"\",\"\",'見積書(2号)'!M434)","v":""},null,"","",null,"",""]
[{"$f":"IF('見積書(2号)'!A435=\"\",\"\",'見積書(2号)'!A435)","v":""},{"$f":"IF('見積書(2号)'!B435=\"\",\"\",'見積書(2号)'!B435)","v":""},{"$f":"IF('見積書(2号)'!C435=\"\",\"\",'見積書(2号)'!C435)","v":""},{"$f":"IF('見積書(2号)'!H435=\"\",\"\",'見積書(2号)'!H435)","v":""},{"$f":"IF('見積書(2号)'!E435=\"\",\"\",'見積書(2号)'!E435)","v":""},{"$f":"IF('見積書(2号)'!I435=\"\",\"\",'見積書(2号)'!I435)","v":""},{"$f":"IF('見積書(2号)'!J435=\"\",\"\",'見積書(2号)'!J435)","v":""},{"$f":"IF('見積書(2号)'!K435=\"\",\"\",'見積書(2号)'!K435)","v":""},{"$f":"IF('見積書(2号)'!L435=\"\",\"\",'見積書(2号)'!L435)","v":""},{"$f":"IF('見積書(2号)'!M435=\"\",\"\",'見積書(2号)'!M435)","v":""},null,"","",null,"",""]
[{"$f":"IF('見積書(2号)'!A436=\"\",\"\",'見積書(2号)'!A436)","v":""},{"$f":"IF('見積書(2号)'!B436=\"\",\"\",'見積書(2号)'!B436)","v":""},{"$f":"IF('見積書(2号)'!C436=\"\",\"\",'見積書(2号)'!C436)","v":""},{"$f":"IF('見積書(2号)'!H436=\"\",\"\",'見積書(2号)'!H436)","v":""},{"$f":"IF('見積書(2号)'!E436=\"\",\"\",'見積書(2号)'!E436)","v":""},{"$f":"IF('見積書(2号)'!I436=\"\",\"\",'見積書(2号)'!I436)","v":""},{"$f":"IF('見積書(2号)'!J436=\"\",\"\",'見積書(2号)'!J436)","v":""},{"$f":"IF('見積書(2号)'!K436=\"\",\"\",'見積書(2号)'!K436)","v":""},{"$f":"IF('見積書(2号)'!L436=\"\",\"\",'見積書(2号)'!L436)","v":""},{"$f":"IF('見積書(2号)'!M436=\"\",\"\",'見積書(2号)'!M436)","v":""},null,"","",null,"",""]
[{"$f":"IF('見積書(2号)'!A437=\"\",\"\",'見積書(2号)'!A437)","v":""},{"$f":"IF('見積書(2号)'!B437=\"\",\"\",'見積書(2号)'!B437)","v":""},{"$f":"IF('見積書(2号)'!C437=\"\",\"\",'見積書(2号)'!C437)","v":""},{"$f":"IF('見積書(2号)'!H437=\"\",\"\",'見積書(2号)'!H437)","v":""},{"$f":"IF('見積書(2号)'!E437=\"\",\"\",'見積書(2号)'!E437)","v":""},{"$f":"IF('見積書(2号)'!I437=\"\",\"\",'見積書(2号)'!I437)","v":""},{"$f":"IF('見積書(2号)'!J437=\"\",\"\",'見積書(2号)'!J437)","v":""},{"$f":"IF('見積書(2号)'!K437=\"\",\"\",'見積書(2号)'!K437)","v":""},{"$f":"IF('見積書(2号)'!L437=\"\",\"\",'見積書(2号)'!L437)","v":""},{"$f":"IF('見積書(2号)'!M437=\"\",\"\",'見積書(2号)'!M437)","v":""},null,"","",null,"",""]
[{"$f":"IF('見積書(2号)'!A438=\"\",\"\",'見積書(2号)'!A438)","v":""},{"$f":"IF('見積書(2号)'!B438=\"\",\"\",'見積書(2号)'!B438)","v":""},{"$f":"IF('見積書(2号)'!C438=\"\",\"\",'見積書(2号)'!C438)","v":""},{"$f":"IF('見積書(2号)'!H438=\"\",\"\",'見積書(2号)'!H438)","v":""},{"$f":"IF('見積書(2号)'!E438=\"\",\"\",'見積書(2号)'!E438)","v":""},{"$f":"IF('見積書(2号)'!I438=\"\",\"\",'見積書(2号)'!I438)","v":""},{"$f":"IF('見積書(2号)'!J438=\"\",\"\",'見積書(2号)'!J438)","v":""},{"$f":"IF('見積書(2号)'!K438=\"\",\"\",'見積書(2号)'!K438)","v":""},{"$f":"IF('見積書(2号)'!L438=\"\",\"\",'見積書(2号)'!L438)","v":""},{"$f":"IF('見積書(2号)'!M438=\"\",\"\",'見積書(2号)'!M438)","v":""},null,"","",null,"",""]
[{"$f":"IF('見積書(2号)'!A439=\"\",\"\",'見積書(2号)'!A439)","v":""},{"$f":"IF('見積書(2号)'!B439=\"\",\"\",'見積書(2号)'!B439)","v":""},{"$f":"IF('見積書(2号)'!C439=\"\",\"\",'見積書(2号)'!C439)","v":""},{"$f":"IF('見積書(2号)'!H439=\"\",\"\",'見積書(2号)'!H439)","v":""},{"$f":"IF('見積書(2号)'!E439=\"\",\"\",'見積書(2号)'!E439)","v":""},{"$f":"IF('見積書(2号)'!I439=\"\",\"\",'見積書(2号)'!I439)","v":""},{"$f":"IF('見積書(2号)'!J439=\"\",\"\",'見積書(2号)'!J439)","v":""},{"$f":"IF('見積書(2号)'!K439=\"\",\"\",'見積書(2号)'!K439)","v":""},{"$f":"IF('見積書(2号)'!L439=\"\",\"\",'見積書(2号)'!L439)","v":""},{"$f":"IF('見積書(2号)'!M439=\"\",\"\",'見積書(2号)'!M439)","v":""},null,"","",null,"",""]
[{"$f":"IF('見積書(2号)'!A440=\"\",\"\",'見積書(2号)'!A440)","v":""},{"$f":"IF('見積書(2号)'!B440=\"\",\"\",'見積書(2号)'!B440)","v":""},{"$f":"IF('見積書(2号)'!C440=\"\",\"\",'見積書(2号)'!C440)","v":""},{"$f":"IF('見積書(2号)'!H440=\"\",\"\",'見積書(2号)'!H440)","v":""},{"$f":"IF('見積書(2号)'!E440=\"\",\"\",'見積書(2号)'!E440)","v":""},{"$f":"IF('見積書(2号)'!I440=\"\",\"\",'見積書(2号)'!I440)","v":""},{"$f":"IF('見積書(2号)'!J440=\"\",\"\",'見積書(2号)'!J440)","v":""},{"$f":"IF('見積書(2号)'!K440=\"\",\"\",'見積書(2号)'!K440)","v":""},{"$f":"IF('見積書(2号)'!L440=\"\",\"\",'見積書(2号)'!L440)","v":""},{"$f":"IF('見積書(2号)'!M440=\"\",\"\",'見積書(2号)'!M440)","v":""},null,"","",null,"",""]
[{"$f":"IF('見積書(2号)'!A441=\"\",\"\",'見積書(2号)'!A441)","v":""},{"$f":"IF('見積書(2号)'!B441=\"\",\"\",'見積書(2号)'!B441)","v":""},{"$f":"IF('見積書(2号)'!C441=\"\",\"\",'見積書(2号)'!C441)","v":""},{"$f":"IF('見積書(2号)'!H441=\"\",\"\",'見積書(2号)'!H441)","v":""},{"$f":"IF('見積書(2号)'!E441=\"\",\"\",'見積書(2号)'!E441)","v":""},{"$f":"IF('見積書(2号)'!I441=\"\",\"\",'見積書(2号)'!I441)","v":""},{"$f":"IF('見積書(2号)'!J441=\"\",\"\",'見積書(2号)'!J441)","v":""},{"$f":"IF('見積書(2号)'!K441=\"\",\"\",'見積書(2号)'!K441)","v":""},{"$f":"IF('見積書(2号)'!L441=\"\",\"\",'見積書(2号)'!L441)","v":""},{"$f":"IF('見積書(2号)'!M441=\"\",\"\",'見積書(2号)'!M441)","v":""},null,"","",null,"",""]
[{"$f":"IF('見積書(2号)'!A442=\"\",\"\",'見積書(2号)'!A442)","v":""},{"$f":"IF('見積書(2号)'!B442=\"\",\"\",'見積書(2号)'!B442)","v":""},{"$f":"IF('見積書(2号)'!C442=\"\",\"\",'見積書(2号)'!C442)","v":""},{"$f":"IF('見積書(2号)'!H442=\"\",\"\",'見積書(2号)'!H442)","v":""},{"$f":"IF('見積書(2号)'!E442=\"\",\"\",'見積書(2号)'!E442)","v":""},{"$f":"IF('見積書(2号)'!I442=\"\",\"\",'見積書(2号)'!I442)","v":""},{"$f":"IF('見積書(2号)'!J442=\"\",\"\",'見積書(2号)'!J442)","v":""},{"$f":"IF('見積書(2号)'!K442=\"\",\"\",'見積書(2号)'!K442)","v":""},{"$f":"IF('見積書(2号)'!L442=\"\",\"\",'見積書(2号)'!L442)","v":""},{"$f":"IF('見積書(2号)'!M442=\"\",\"\",'見積書(2号)'!M442)","v":""},null,"","",null,"",""]
[{"$f":"IF('見積書(2号)'!A443=\"\",\"\",'見積書(2号)'!A443)","v":""},{"$f":"IF('見積書(2号)'!B443=\"\",\"\",'見積書(2号)'!B443)","v":""},{"$f":"IF('見積書(2号)'!C443=\"\",\"\",'見積書(2号)'!C443)","v":""},{"$f":"IF('見積書(2号)'!H443=\"\",\"\",'見積書(2号)'!H443)","v":""},{"$f":"IF('見積書(2号)'!E443=\"\",\"\",'見積書(2号)'!E443)","v":""},{"$f":"IF('見積書(2号)'!I443=\"\",\"\",'見積書(2号)'!I443)","v":""},{"$f":"IF('見積書(2号)'!J443=\"\",\"\",'見積書(2号)'!J443)","v":""},{"$f":"IF('見積書(2号)'!K443=\"\",\"\",'見積書(2号)'!K443)","v":""},{"$f":"IF('見積書(2号)'!L443=\"\",\"\",'見積書(2号)'!L443)","v":""},{"$f":"IF('見積書(2号)'!M443=\"\",\"\",'見積書(2号)'!M443)","v":""},null,"","",null,"",""]
[{"$f":"IF('見積書(2号)'!A444=\"\",\"\",'見積書(2号)'!A444)","v":""},{"$f":"IF('見積書(2号)'!B444=\"\",\"\",'見積書(2号)'!B444)","v":""},{"$f":"IF('見積書(2号)'!C444=\"\",\"\",'見積書(2号)'!C444)","v":""},{"$f":"IF('見積書(2号)'!H444=\"\",\"\",'見積書(2号)'!H444)","v":""},{"$f":"IF('見積書(2号)'!E444=\"\",\"\",'見積書(2号)'!E444)","v":""},{"$f":"IF('見積書(2号)'!I444=\"\",\"\",'見積書(2号)'!I444)","v":""},{"$f":"IF('見積書(2号)'!J444=\"\",\"\",'見積書(2号)'!J444)","v":""},{"$f":"IF('見積書(2号)'!K444=\"\",\"\",'見積書(2号)'!K444)","v":""},{"$f":"IF('見積書(2号)'!L444=\"\",\"\",'見積書(2号)'!L444)","v":""},{"$f":"IF('見積書(2号)'!M444=\"\",\"\",'見積書(2号)'!M444)","v":""},null,"","",null,"",""]
[{"$f":"IF('見積書(2号)'!A445=\"\",\"\",'見積書(2号)'!A445)","v":""},{"$f":"IF('見積書(2号)'!B445=\"\",\"\",'見積書(2号)'!B445)","v":""},{"$f":"IF('見積書(2号)'!C445=\"\",\"\",'見積書(2号)'!C445)","v":""},{"$f":"IF('見積書(2号)'!H445=\"\",\"\",'見積書(2号)'!H445)","v":""},{"$f":"IF('見積書(2号)'!E445=\"\",\"\",'見積書(2号)'!E445)","v":""},{"$f":"IF('見積書(2号)'!I445=\"\",\"\",'見積書(2号)'!I445)","v":""},{"$f":"IF('見積書(2号)'!J445=\"\",\"\",'見積書(2号)'!J445)","v":""},{"$f":"IF('見積書(2号)'!K445=\"\",\"\",'見積書(2号)'!K445)","v":""},{"$f":"IF('見積書(2号)'!L445=\"\",\"\",'見積書(2号)'!L445)","v":""},{"$f":"IF('見積書(2号)'!M445=\"\",\"\",'見積書(2号)'!M445)","v":""},null,"","",null,"",""]
[{"$f":"IF('見積書(2号)'!A446=\"\",\"\",'見積書(2号)'!A446)","v":""},{"$f":"IF('見積書(2号)'!B446=\"\",\"\",'見積書(2号)'!B446)","v":""},{"$f":"IF('見積書(2号)'!C446=\"\",\"\",'見積書(2号)'!C446)","v":""},{"$f":"IF('見積書(2号)'!H446=\"\",\"\",'見積書(2号)'!H446)","v":""},{"$f":"IF('見積書(2号)'!E446=\"\",\"\",'見積書(2号)'!E446)","v":""},{"$f":"IF('見積書(2号)'!I446=\"\",\"\",'見積書(2号)'!I446)","v":""},{"$f":"IF('見積書(2号)'!J446=\"\",\"\",'見積書(2号)'!J446)","v":""},{"$f":"IF('見積書(2号)'!K446=\"\",\"\",'見積書(2号)'!K446)","v":""},{"$f":"IF('見積書(2号)'!L446=\"\",\"\",'見積書(2号)'!L446)","v":""},{"$f":"IF('見積書(2号)'!M446=\"\",\"\",'見積書(2号)'!M446)","v":""},null,"","",null,"",""]
[{"$f":"IF('見積書(2号)'!A447=\"\",\"\",'見積書(2号)'!A447)","v":""},{"$f":"IF('見積書(2号)'!B447=\"\",\"\",'見積書(2号)'!B447)","v":""},{"$f":"IF('見積書(2号)'!C447=\"\",\"\",'見積書(2号)'!C447)","v":""},{"$f":"IF('見積書(2号)'!H447=\"\",\"\",'見積書(2号)'!H447)","v":""},{"$f":"IF('見積書(2号)'!E447=\"\",\"\",'見積書(2号)'!E447)","v":""},{"$f":"IF('見積書(2号)'!I447=\"\",\"\",'見積書(2号)'!I447)","v":""},{"$f":"IF('見積書(2号)'!J447=\"\",\"\",'見積書(2号)'!J447)","v":""},{"$f":"IF('見積書(2号)'!K447=\"\",\"\",'見積書(2号)'!K447)","v":""},{"$f":"IF('見積書(2号)'!L447=\"\",\"\",'見積書(2号)'!L447)","v":""},{"$f":"IF('見積書(2号)'!M447=\"\",\"\",'見積書(2号)'!M447)","v":""},null,"","",null,"",""]
[{"$f":"IF('見積書(2号)'!A448=\"\",\"\",'見積書(2号)'!A448)","v":""},{"$f":"IF('見積書(2号)'!B448=\"\",\"\",'見積書(2号)'!B448)","v":""},{"$f":"IF('見積書(2号)'!C448=\"\",\"\",'見積書(2号)'!C448)","v":""},{"$f":"IF('見積書(2号)'!H448=\"\",\"\",'見積書(2号)'!H448)","v":""},{"$f":"IF('見積書(2号)'!E448=\"\",\"\",'見積書(2号)'!E448)","v":""},{"$f":"IF('見積書(2号)'!I448=\"\",\"\",'見積書(2号)'!I448)","v":""},{"$f":"IF('見積書(2号)'!J448=\"\",\"\",'見積書(2号)'!J448)","v":""},{"$f":"IF('見積書(2号)'!K448=\"\",\"\",'見積書(2号)'!K448)","v":""},{"$f":"IF('見積書(2号)'!L448=\"\",\"\",'見積書(2号)'!L448)","v":""},{"$f":"IF('見積書(2号)'!M448=\"\",\"\",'見積書(2号)'!M448)","v":""},null,"","",null,"",""]
[{"$f":"IF('見積書(2号)'!A449=\"\",\"\",'見積書(2号)'!A449)","v":""},{"$f":"IF('見積書(2号)'!B449=\"\",\"\",'見積書(2号)'!B449)","v":""},{"$f":"IF('見積書(2号)'!C449=\"\",\"\",'見積書(2号)'!C449)","v":""},{"$f":"IF('見積書(2号)'!H449=\"\",\"\",'見積書(2号)'!H449)","v":""},{"$f":"IF('見積書(2号)'!E449=\"\",\"\",'見積書(2号)'!E449)","v":""},{"$f":"IF('見積書(2号)'!I449=\"\",\"\",'見積書(2号)'!I449)","v":""},{"$f":"IF('見積書(2号)'!J449=\"\",\"\",'見積書(2号)'!J449)","v":""},{"$f":"IF('見積書(2号)'!K449=\"\",\"\",'見積書(2号)'!K449)","v":""},{"$f":"IF('見積書(2号)'!L449=\"\",\"\",'見積書(2号)'!L449)","v":""},{"$f":"IF('見積書(2号)'!M449=\"\",\"\",'見積書(2号)'!M449)","v":""},null,"","",null,"",""]
[{"$f":"IF('見積書(2号)'!A450=\"\",\"\",'見積書(2号)'!A450)","v":""},{"$f":"IF('見積書(2号)'!B450=\"\",\"\",'見積書(2号)'!B450)","v":""},{"$f":"IF('見積書(2号)'!C450=\"\",\"\",'見積書(2号)'!C450)","v":""},{"$f":"IF('見積書(2号)'!H450=\"\",\"\",'見積書(2号)'!H450)","v":""},{"$f":"IF('見積書(2号)'!E450=\"\",\"\",'見積書(2号)'!E450)","v":""},{"$f":"IF('見積書(2号)'!I450=\"\",\"\",'見積書(2号)'!I450)","v":""},{"$f":"IF('見積書(2号)'!J450=\"\",\"\",'見積書(2号)'!J450)","v":""},{"$f":"IF('見積書(2号)'!K450=\"\",\"\",'見積書(2号)'!K450)","v":""},{"$f":"IF('見積書(2号)'!L450=\"\",\"\",'見積書(2号)'!L450)","v":""},{"$f":"IF('見積書(2号)'!M450=\"\",\"\",'見積書(2号)'!M450)","v":""},null,"","",null,"",""]
[{"$f":"IF('見積書(2号)'!A451=\"\",\"\",'見積書(2号)'!A451)","v":""},{"$f":"IF('見積書(2号)'!B451=\"\",\"\",'見積書(2号)'!B451)","v":""},{"$f":"IF('見積書(2号)'!C451=\"\",\"\",'見積書(2号)'!C451)","v":""},{"$f":"IF('見積書(2号)'!H451=\"\",\"\",'見積書(2号)'!H451)","v":""},{"$f":"IF('見積書(2号)'!E451=\"\",\"\",'見積書(2号)'!E451)","v":""},{"$f":"IF('見積書(2号)'!I451=\"\",\"\",'見積書(2号)'!I451)","v":""},{"$f":"IF('見積書(2号)'!J451=\"\",\"\",'見積書(2号)'!J451)","v":""},{"$f":"IF('見積書(2号)'!K451=\"\",\"\",'見積書(2号)'!K451)","v":""},{"$f":"IF('見積書(2号)'!L451=\"\",\"\",'見積書(2号)'!L451)","v":""},{"$f":"IF('見積書(2号)'!M451=\"\",\"\",'見積書(2号)'!M451)","v":""},null,"","",null,"",""]
[{"$f":"IF('見積書(2号)'!A452=\"\",\"\",'見積書(2号)'!A452)","v":""},{"$f":"IF('見積書(2号)'!B452=\"\",\"\",'見積書(2号)'!B452)","v":""},{"$f":"IF('見積書(2号)'!C452=\"\",\"\",'見積書(2号)'!C452)","v":""},{"$f":"IF('見積書(2号)'!H452=\"\",\"\",'見積書(2号)'!H452)","v":""},{"$f":"IF('見積書(2号)'!E452=\"\",\"\",'見積書(2号)'!E452)","v":""},{"$f":"IF('見積書(2号)'!I452=\"\",\"\",'見積書(2号)'!I452)","v":""},{"$f":"IF('見積書(2号)'!J452=\"\",\"\",'見積書(2号)'!J452)","v":""},{"$f":"IF('見積書(2号)'!K452=\"\",\"\",'見積書(2号)'!K452)","v":""},{"$f":"IF('見積書(2号)'!L452=\"\",\"\",'見積書(2号)'!L452)","v":""},{"$f":"IF('見積書(2号)'!M452=\"\",\"\",'見積書(2号)'!M452)","v":""},null,"","",null,"",""]
[{"$f":"IF('見積書(2号)'!A453=\"\",\"\",'見積書(2号)'!A453)","v":""},{"$f":"IF('見積書(2号)'!B453=\"\",\"\",'見積書(2号)'!B453)","v":""},{"$f":"IF('見積書(2号)'!C453=\"\",\"\",'見積書(2号)'!C453)","v":""},{"$f":"IF('見積書(2号)'!H453=\"\",\"\",'見積書(2号)'!H453)","v":""},{"$f":"IF('見積書(2号)'!E453=\"\",\"\",'見積書(2号)'!E453)","v":""},{"$f":"IF('見積書(2号)'!I453=\"\",\"\",'見積書(2号)'!I453)","v":""},{"$f":"IF('見積書(2号)'!J453=\"\",\"\",'見積書(2号)'!J453)","v":""},{"$f":"IF('見積書(2号)'!K453=\"\",\"\",'見積書(2号)'!K453)","v":""},{"$f":"IF('見積書(2号)'!L453=\"\",\"\",'見積書(2号)'!L453)","v":""},{"$f":"IF('見積書(2号)'!M453=\"\",\"\",'見積書(2号)'!M453)","v":""},null,"","",null,"",""]
[{"$f":"IF('見積書(2号)'!A454=\"\",\"\",'見積書(2号)'!A454)","v":""},{"$f":"IF('見積書(2号)'!B454=\"\",\"\",'見積書(2号)'!B454)","v":""},{"$f":"IF('見積書(2号)'!C454=\"\",\"\",'見積書(2号)'!C454)","v":""},{"$f":"IF('見積書(2号)'!H454=\"\",\"\",'見積書(2号)'!H454)","v":""},{"$f":"IF('見積書(2号)'!E454=\"\",\"\",'見積書(2号)'!E454)","v":""},{"$f":"IF('見積書(2号)'!I454=\"\",\"\",'見積書(2号)'!I454)","v":""},{"$f":"IF('見積書(2号)'!J454=\"\",\"\",'見積書(2号)'!J454)","v":""},{"$f":"IF('見積書(2号)'!K454=\"\",\"\",'見積書(2号)'!K454)","v":""},{"$f":"IF('見積書(2号)'!L454=\"\",\"\",'見積書(2号)'!L454)","v":""},{"$f":"IF('見積書(2号)'!M454=\"\",\"\",'見積書(2号)'!M454)","v":""},null,"","",null,"",""]
[{"$f":"IF('見積書(2号)'!A455=\"\",\"\",'見積書(2号)'!A455)","v":""},{"$f":"IF('見積書(2号)'!B455=\"\",\"\",'見積書(2号)'!B455)","v":""},{"$f":"IF('見積書(2号)'!C455=\"\",\"\",'見積書(2号)'!C455)","v":""},{"$f":"IF('見積書(2号)'!H455=\"\",\"\",'見積書(2号)'!H455)","v":""},{"$f":"IF('見積書(2号)'!E455=\"\",\"\",'見積書(2号)'!E455)","v":""},{"$f":"IF('見積書(2号)'!I455=\"\",\"\",'見積書(2号)'!I455)","v":""},{"$f":"IF('見積書(2号)'!J455=\"\",\"\",'見積書(2号)'!J455)","v":""},{"$f":"IF('見積書(2号)'!K455=\"\",\"\",'見積書(2号)'!K455)","v":""},{"$f":"IF('見積書(2号)'!L455=\"\",\"\",'見積書(2号)'!L455)","v":""},{"$f":"IF('見積書(2号)'!M455=\"\",\"\",'見積書(2号)'!M455)","v":""},null,"","",null,"",""]
[{"$f":"IF('見積書(2号)'!A456=\"\",\"\",'見積書(2号)'!A456)","v":""},{"$f":"IF('見積書(2号)'!B456=\"\",\"\",'見積書(2号)'!B456)","v":""},{"$f":"IF('見積書(2号)'!C456=\"\",\"\",'見積書(2号)'!C456)","v":""},{"$f":"IF('見積書(2号)'!H456=\"\",\"\",'見積書(2号)'!H456)","v":""},{"$f":"IF('見積書(2号)'!E456=\"\",\"\",'見積書(2号)'!E456)","v":""},{"$f":"IF('見積書(2号)'!I456=\"\",\"\",'見積書(2号)'!I456)","v":""},{"$f":"IF('見積書(2号)'!J456=\"\",\"\",'見積書(2号)'!J456)","v":""},{"$f":"IF('見積書(2号)'!K456=\"\",\"\",'見積書(2号)'!K456)","v":""},{"$f":"IF('見積書(2号)'!L456=\"\",\"\",'見積書(2号)'!L456)","v":""},{"$f":"IF('見積書(2号)'!M456=\"\",\"\",'見積書(2号)'!M456)","v":""},null,"","",null,"",""]
[{"$f":"IF('見積書(2号)'!A457=\"\",\"\",'見積書(2号)'!A457)","v":""},{"$f":"IF('見積書(2号)'!B457=\"\",\"\",'見積書(2号)'!B457)","v":""},{"$f":"IF('見積書(2号)'!C457=\"\",\"\",'見積書(2号)'!C457)","v":""},{"$f":"IF('見積書(2号)'!H457=\"\",\"\",'見積書(2号)'!H457)","v":""},{"$f":"IF('見積書(2号)'!E457=\"\",\"\",'見積書(2号)'!E457)","v":""},{"$f":"IF('見積書(2号)'!I457=\"\",\"\",'見積書(2号)'!I457)","v":""},{"$f":"IF('見積書(2号)'!J457=\"\",\"\",'見積書(2号)'!J457)","v":""},{"$f":"IF('見積書(2号)'!K457=\"\",\"\",'見積書(2号)'!K457)","v":""},{"$f":"IF('見積書(2号)'!L457=\"\",\"\",'見積書(2号)'!L457)","v":""},{"$f":"IF('見積書(2号)'!M457=\"\",\"\",'見積書(2号)'!M457)","v":""},null,"","",null,"",""]
[{"$f":"IF('見積書(2号)'!A458=\"\",\"\",'見積書(2号)'!A458)","v":""},{"$f":"IF('見積書(2号)'!B458=\"\",\"\",'見積書(2号)'!B458)","v":""},{"$f":"IF('見積書(2号)'!C458=\"\",\"\",'見積書(2号)'!C458)","v":""},{"$f":"IF('見積書(2号)'!H458=\"\",\"\",'見積書(2号)'!H458)","v":""},{"$f":"IF('見積書(2号)'!E458=\"\",\"\",'見積書(2号)'!E458)","v":""},{"$f":"IF('見積書(2号)'!I458=\"\",\"\",'見積書(2号)'!I458)","v":""},{"$f":"IF('見積書(2号)'!J458=\"\",\"\",'見積書(2号)'!J458)","v":""},{"$f":"IF('見積書(2号)'!K458=\"\",\"\",'見積書(2号)'!K458)","v":""},{"$f":"IF('見積書(2号)'!L458=\"\",\"\",'見積書(2号)'!L458)","v":""},{"$f":"IF('見積書(2号)'!M458=\"\",\"\",'見積書(2号)'!M458)","v":""},null,"","",null,"",""]
[{"$f":"IF('見積書(2号)'!A459=\"\",\"\",'見積書(2号)'!A459)","v":""},{"$f":"IF('見積書(2号)'!B459=\"\",\"\",'見積書(2号)'!B459)","v":""},{"$f":"IF('見積書(2号)'!C459=\"\",\"\",'見積書(2号)'!C459)","v":""},{"$f":"IF('見積書(2号)'!H459=\"\",\"\",'見積書(2号)'!H459)","v":""},{"$f":"IF('見積書(2号)'!E459=\"\",\"\",'見積書(2号)'!E459)","v":""},{"$f":"IF('見積書(2号)'!I459=\"\",\"\",'見積書(2号)'!I459)","v":""},{"$f":"IF('見積書(2号)'!J459=\"\",\"\",'見積書(2号)'!J459)","v":""},{"$f":"IF('見積書(2号)'!K459=\"\",\"\",'見積書(2号)'!K459)","v":""},{"$f":"IF('見積書(2号)'!L459=\"\",\"\",'見積書(2号)'!L459)","v":""},{"$f":"IF('見積書(2号)'!M459=\"\",\"\",'見積書(2号)'!M459)","v":""},null,{"$f":"IF(I459=\"\",F459,I459)","v":""},{"$f":"IF(L459=\"\",\"\",L459*K459)","v":""},null,"",""]
[{"$f":"IF('見積書(2号)'!A460=\"\",\"\",'見積書(2号)'!A460)","v":""},{"$f":"IF('見積書(2号)'!B460=\"\",\"\",'見積書(2号)'!B460)","v":""},{"$f":"IF('見積書(2号)'!C460=\"\",\"\",'見積書(2号)'!C460)","v":""},{"$f":"IF('見積書(2号)'!H460=\"\",\"\",'見積書(2号)'!H460)","v":""},{"$f":"IF('見積書(2号)'!E460=\"\",\"\",'見積書(2号)'!E460)","v":""},{"$f":"IF('見積書(2号)'!I460=\"\",\"\",'見積書(2号)'!I460)","v":""},{"$f":"IF('見積書(2号)'!J460=\"\",\"\",'見積書(2号)'!J460)","v":""},{"$f":"IF('見積書(2号)'!K460=\"\",\"\",'見積書(2号)'!K460)","v":""},{"$f":"IF('見積書(2号)'!L460=\"\",\"\",'見積書(2号)'!L460)","v":""},{"$f":"IF('見積書(2号)'!M460=\"\",\"\",'見積書(2号)'!M460)","v":""},null,"","",null,"",""]
[{"$f":"IF('見積書(2号)'!A461=\"\",\"\",'見積書(2号)'!A461)","v":""},{"$f":"IF('見積書(2号)'!B461=\"\",\"\",'見積書(2号)'!B461)","v":""},{"$f":"IF('見積書(2号)'!C461=\"\",\"\",'見積書(2号)'!C461)","v":""},{"$f":"IF('見積書(2号)'!H461=\"\",\"\",'見積書(2号)'!H461)","v":""},{"$f":"IF('見積書(2号)'!E461=\"\",\"\",'見積書(2号)'!E461)","v":""},{"$f":"IF('見積書(2号)'!I461=\"\",\"\",'見積書(2号)'!I461)","v":""},{"$f":"IF('見積書(2号)'!J461=\"\",\"\",'見積書(2号)'!J461)","v":""},{"$f":"IF('見積書(2号)'!K461=\"\",\"\",'見積書(2号)'!K461)","v":""},{"$f":"IF('見積書(2号)'!L461=\"\",\"\",'見積書(2号)'!L461)","v":""},{"$f":"IF('見積書(2号)'!M461=\"\",\"\",'見積書(2号)'!M461)","v":""},null,"","",null,"",""]
[{"$f":"IF('見積書(2号)'!A462=\"\",\"\",'見積書(2号)'!A462)","v":""},{"$f":"IF('見積書(2号)'!B462=\"\",\"\",'見積書(2号)'!B462)","v":""},{"$f":"IF('見積書(2号)'!C462=\"\",\"\",'見積書(2号)'!C462)","v":""},{"$f":"IF('見積書(2号)'!H462=\"\",\"\",'見積書(2号)'!H462)","v":""},{"$f":"IF('見積書(2号)'!E462=\"\",\"\",'見積書(2号)'!E462)","v":""},{"$f":"IF('見積書(2号)'!I462=\"\",\"\",'見積書(2号)'!I462)","v":""},{"$f":"IF('見積書(2号)'!J462=\"\",\"\",'見積書(2号)'!J462)","v":""},{"$f":"IF('見積書(2号)'!K462=\"\",\"\",'見積書(2号)'!K462)","v":""},{"$f":"IF('見積書(2号)'!L462=\"\",\"\",'見積書(2号)'!L462)","v":""},{"$f":"IF('見積書(2号)'!M462=\"\",\"\",'見積書(2号)'!M462)","v":""},null,"","",null,"",""]
[{"$f":"IF('見積書(2号)'!A463=\"\",\"\",'見積書(2号)'!A463)","v":""},{"$f":"IF('見積書(2号)'!B463=\"\",\"\",'見積書(2号)'!B463)","v":""},{"$f":"IF('見積書(2号)'!C463=\"\",\"\",'見積書(2号)'!C463)","v":""},{"$f":"IF('見積書(2号)'!H463=\"\",\"\",'見積書(2号)'!H463)","v":""},{"$f":"IF('見積書(2号)'!E463=\"\",\"\",'見積書(2号)'!E463)","v":""},{"$f":"IF('見積書(2号)'!I463=\"\",\"\",'見積書(2号)'!I463)","v":""},{"$f":"IF('見積書(2号)'!J463=\"\",\"\",'見積書(2号)'!J463)","v":""},{"$f":"IF('見積書(2号)'!K463=\"\",\"\",'見積書(2号)'!K463)","v":""},{"$f":"IF('見積書(2号)'!L463=\"\",\"\",'見積書(2号)'!L463)","v":""},{"$f":"IF('見積書(2号)'!M463=\"\",\"\",'見積書(2号)'!M463)","v":""},null,"","",null,"",""]
[{"$f":"IF('見積書(2号)'!A464=\"\",\"\",'見積書(2号)'!A464)","v":""},{"$f":"IF('見積書(2号)'!B464=\"\",\"\",'見積書(2号)'!B464)","v":""},{"$f":"IF('見積書(2号)'!C464=\"\",\"\",'見積書(2号)'!C464)","v":""},{"$f":"IF('見積書(2号)'!H464=\"\",\"\",'見積書(2号)'!H464)","v":""},{"$f":"IF('見積書(2号)'!E464=\"\",\"\",'見積書(2号)'!E464)","v":""},{"$f":"IF('見積書(2号)'!I464=\"\",\"\",'見積書(2号)'!I464)","v":""},{"$f":"IF('見積書(2号)'!J464=\"\",\"\",'見積書(2号)'!J464)","v":""},{"$f":"IF('見積書(2号)'!K464=\"\",\"\",'見積書(2号)'!K464)","v":""},{"$f":"IF('見積書(2号)'!L464=\"\",\"\",'見積書(2号)'!L464)","v":""},{"$f":"IF('見積書(2号)'!M464=\"\",\"\",'見積書(2号)'!M464)","v":""},null,"","",null,"",""]
[{"$f":"IF('見積書(2号)'!A465=\"\",\"\",'見積書(2号)'!A465)","v":""},{"$f":"IF('見積書(2号)'!B465=\"\",\"\",'見積書(2号)'!B465)","v":""},{"$f":"IF('見積書(2号)'!C465=\"\",\"\",'見積書(2号)'!C465)","v":""},{"$f":"IF('見積書(2号)'!H465=\"\",\"\",'見積書(2号)'!H465)","v":""},{"$f":"IF('見積書(2号)'!E465=\"\",\"\",'見積書(2号)'!E465)","v":""},{"$f":"IF('見積書(2号)'!I465=\"\",\"\",'見積書(2号)'!I465)","v":""},{"$f":"IF('見積書(2号)'!J465=\"\",\"\",'見積書(2号)'!J465)","v":""},{"$f":"IF('見積書(2号)'!K465=\"\",\"\",'見積書(2号)'!K465)","v":""},{"$f":"IF('見積書(2号)'!L465=\"\",\"\",'見積書(2号)'!L465)","v":""},{"$f":"IF('見積書(2号)'!M465=\"\",\"\",'見積書(2号)'!M465)","v":""},null,"","",null,"",""]
[{"$f":"IF('見積書(2号)'!A466=\"\",\"\",'見積書(2号)'!A466)","v":""},{"$f":"IF('見積書(2号)'!B466=\"\",\"\",'見積書(2号)'!B466)","v":""},{"$f":"IF('見積書(2号)'!C466=\"\",\"\",'見積書(2号)'!C466)","v":""},{"$f":"IF('見積書(2号)'!H466=\"\",\"\",'見積書(2号)'!H466)","v":""},{"$f":"IF('見積書(2号)'!E466=\"\",\"\",'見積書(2号)'!E466)","v":""},{"$f":"IF('見積書(2号)'!I466=\"\",\"\",'見積書(2号)'!I466)","v":""},{"$f":"IF('見積書(2号)'!J466=\"\",\"\",'見積書(2号)'!J466)","v":""},{"$f":"IF('見積書(2号)'!K466=\"\",\"\",'見積書(2号)'!K466)","v":""},{"$f":"IF('見積書(2号)'!L466=\"\",\"\",'見積書(2号)'!L466)","v":""},{"$f":"IF('見積書(2号)'!M466=\"\",\"\",'見積書(2号)'!M466)","v":""},null,"","",null,"",""]
[{"$f":"IF('見積書(2号)'!A467=\"\",\"\",'見積書(2号)'!A467)","v":""},{"$f":"IF('見積書(2号)'!B467=\"\",\"\",'見積書(2号)'!B467)","v":""},{"$f":"IF('見積書(2号)'!C467=\"\",\"\",'見積書(2号)'!C467)","v":""},{"$f":"IF('見積書(2号)'!H467=\"\",\"\",'見積書(2号)'!H467)","v":""},{"$f":"IF('見積書(2号)'!E467=\"\",\"\",'見積書(2号)'!E467)","v":""},{"$f":"IF('見積書(2号)'!I467=\"\",\"\",'見積書(2号)'!I467)","v":""},{"$f":"IF('見積書(2号)'!J467=\"\",\"\",'見積書(2号)'!J467)","v":""},{"$f":"IF('見積書(2号)'!K467=\"\",\"\",'見積書(2号)'!K467)","v":""},{"$f":"IF('見積書(2号)'!L467=\"\",\"\",'見積書(2号)'!L467)","v":""},{"$f":"IF('見積書(2号)'!M467=\"\",\"\",'見積書(2号)'!M467)","v":""},null,"","",null,"",""]
[{"$f":"IF('見積書(2号)'!A468=\"\",\"\",'見積書(2号)'!A468)","v":""},{"$f":"IF('見積書(2号)'!B468=\"\",\"\",'見積書(2号)'!B468)","v":""},{"$f":"IF('見積書(2号)'!C468=\"\",\"\",'見積書(2号)'!C468)","v":""},{"$f":"IF('見積書(2号)'!H468=\"\",\"\",'見積書(2号)'!H468)","v":""},{"$f":"IF('見積書(2号)'!E468=\"\",\"\",'見積書(2号)'!E468)","v":""},{"$f":"IF('見積書(2号)'!I468=\"\",\"\",'見積書(2号)'!I468)","v":""},{"$f":"IF('見積書(2号)'!J468=\"\",\"\",'見積書(2号)'!J468)","v":""},{"$f":"IF('見積書(2号)'!K468=\"\",\"\",'見積書(2号)'!K468)","v":""},{"$f":"IF('見積書(2号)'!L468=\"\",\"\",'見積書(2号)'!L468)","v":""},{"$f":"IF('見積書(2号)'!M468=\"\",\"\",'見積書(2号)'!M468)","v":""},null,"","",null,"",""]
[{"$f":"IF('見積書(2号)'!A469=\"\",\"\",'見積書(2号)'!A469)","v":""},{"$f":"IF('見積書(2号)'!B469=\"\",\"\",'見積書(2号)'!B469)","v":""},{"$f":"IF('見積書(2号)'!C469=\"\",\"\",'見積書(2号)'!C469)","v":""},{"$f":"IF('見積書(2号)'!H469=\"\",\"\",'見積書(2号)'!H469)","v":""},{"$f":"IF('見積書(2号)'!E469=\"\",\"\",'見積書(2号)'!E469)","v":""},{"$f":"IF('見積書(2号)'!I469=\"\",\"\",'見積書(2号)'!I469)","v":""},{"$f":"IF('見積書(2号)'!J469=\"\",\"\",'見積書(2号)'!J469)","v":""},{"$f":"IF('見積書(2号)'!K469=\"\",\"\",'見積書(2号)'!K469)","v":""},{"$f":"IF('見積書(2号)'!L469=\"\",\"\",'見積書(2号)'!L469)","v":""},{"$f":"IF('見積書(2号)'!M469=\"\",\"\",'見積書(2号)'!M469)","v":""},null,"","",null,"",""]
[{"$f":"IF('見積書(2号)'!A470=\"\",\"\",'見積書(2号)'!A470)","v":""},{"$f":"IF('見積書(2号)'!B470=\"\",\"\",'見積書(2号)'!B470)","v":""},{"$f":"IF('見積書(2号)'!C470=\"\",\"\",'見積書(2号)'!C470)","v":""},{"$f":"IF('見積書(2号)'!H470=\"\",\"\",'見積書(2号)'!H470)","v":""},{"$f":"IF('見積書(2号)'!E470=\"\",\"\",'見積書(2号)'!E470)","v":""},{"$f":"IF('見積書(2号)'!I470=\"\",\"\",'見積書(2号)'!I470)","v":""},{"$f":"IF('見積書(2号)'!J470=\"\",\"\",'見積書(2号)'!J470)","v":""},{"$f":"IF('見積書(2号)'!K470=\"\",\"\",'見積書(2号)'!K470)","v":""},{"$f":"IF('見積書(2号)'!L470=\"\",\"\",'見積書(2号)'!L470)","v":""},{"$f":"IF('見積書(2号)'!M470=\"\",\"\",'見積書(2号)'!M470)","v":""},null,"","",null,"",""]
[{"$f":"IF('見積書(2号)'!A471=\"\",\"\",'見積書(2号)'!A471)","v":""},{"$f":"IF('見積書(2号)'!B471=\"\",\"\",'見積書(2号)'!B471)","v":""},{"$f":"IF('見積書(2号)'!C471=\"\",\"\",'見積書(2号)'!C471)","v":""},{"$f":"IF('見積書(2号)'!H471=\"\",\"\",'見積書(2号)'!H471)","v":""},{"$f":"IF('見積書(2号)'!E471=\"\",\"\",'見積書(2号)'!E471)","v":""},{"$f":"IF('見積書(2号)'!I471=\"\",\"\",'見積書(2号)'!I471)","v":""},{"$f":"IF('見積書(2号)'!J471=\"\",\"\",'見積書(2号)'!J471)","v":""},{"$f":"IF('見積書(2号)'!K471=\"\",\"\",'見積書(2号)'!K471)","v":""},{"$f":"IF('見積書(2号)'!L471=\"\",\"\",'見積書(2号)'!L471)","v":""},{"$f":"IF('見積書(2号)'!M471=\"\",\"\",'見積書(2号)'!M471)","v":""},null,"","",null,"",""]
[{"$f":"IF('見積書(2号)'!A472=\"\",\"\",'見積書(2号)'!A472)","v":""},{"$f":"IF('見積書(2号)'!B472=\"\",\"\",'見積書(2号)'!B472)","v":""},{"$f":"IF('見積書(2号)'!C472=\"\",\"\",'見積書(2号)'!C472)","v":""},{"$f":"IF('見積書(2号)'!H472=\"\",\"\",'見積書(2号)'!H472)","v":""},{"$f":"IF('見積書(2号)'!E472=\"\",\"\",'見積書(2号)'!E472)","v":""},{"$f":"IF('見積書(2号)'!I472=\"\",\"\",'見積書(2号)'!I472)","v":""},{"$f":"IF('見積書(2号)'!J472=\"\",\"\",'見積書(2号)'!J472)","v":""},{"$f":"IF('見積書(2号)'!K472=\"\",\"\",'見積書(2号)'!K472)","v":""},{"$f":"IF('見積書(2号)'!L472=\"\",\"\",'見積書(2号)'!L472)","v":""},{"$f":"IF('見積書(2号)'!M472=\"\",\"\",'見積書(2号)'!M472)","v":""},null,"","",null,"",""]
[{"$f":"IF('見積書(2号)'!A473=\"\",\"\",'見積書(2号)'!A473)","v":""},{"$f":"IF('見積書(2号)'!B473=\"\",\"\",'見積書(2号)'!B473)","v":""},{"$f":"IF('見積書(2号)'!C473=\"\",\"\",'見積書(2号)'!C473)","v":""},{"$f":"IF('見積書(2号)'!H473=\"\",\"\",'見積書(2号)'!H473)","v":""},{"$f":"IF('見積書(2号)'!E473=\"\",\"\",'見積書(2号)'!E473)","v":""},{"$f":"IF('見積書(2号)'!I473=\"\",\"\",'見積書(2号)'!I473)","v":""},{"$f":"IF('見積書(2号)'!J473=\"\",\"\",'見積書(2号)'!J473)","v":""},{"$f":"IF('見積書(2号)'!K473=\"\",\"\",'見積書(2号)'!K473)","v":""},{"$f":"IF('見積書(2号)'!L473=\"\",\"\",'見積書(2号)'!L473)","v":""},{"$f":"IF('見積書(2号)'!M473=\"\",\"\",'見積書(2号)'!M473)","v":""},null,"","",null,"",""]
[{"$f":"IF('見積書(2号)'!A474=\"\",\"\",'見積書(2号)'!A474)","v":""},{"$f":"IF('見積書(2号)'!B474=\"\",\"\",'見積書(2号)'!B474)","v":""},{"$f":"IF('見積書(2号)'!C474=\"\",\"\",'見積書(2号)'!C474)","v":""},{"$f":"IF('見積書(2号)'!H474=\"\",\"\",'見積書(2号)'!H474)","v":""},{"$f":"IF('見積書(2号)'!E474=\"\",\"\",'見積書(2号)'!E474)","v":""},{"$f":"IF('見積書(2号)'!I474=\"\",\"\",'見積書(2号)'!I474)","v":""},{"$f":"IF('見積書(2号)'!J474=\"\",\"\",'見積書(2号)'!J474)","v":""},{"$f":"IF('見積書(2号)'!K474=\"\",\"\",'見積書(2号)'!K474)","v":""},{"$f":"IF('見積書(2号)'!L474=\"\",\"\",'見積書(2号)'!L474)","v":""},{"$f":"IF('見積書(2号)'!M474=\"\",\"\",'見積書(2号)'!M474)","v":""},null,"","",null,"",""]
[{"$f":"IF('見積書(2号)'!A475=\"\",\"\",'見積書(2号)'!A475)","v":""},{"$f":"IF('見積書(2号)'!B475=\"\",\"\",'見積書(2号)'!B475)","v":""},{"$f":"IF('見積書(2号)'!C475=\"\",\"\",'見積書(2号)'!C475)","v":""},{"$f":"IF('見積書(2号)'!H475=\"\",\"\",'見積書(2号)'!H475)","v":""},{"$f":"IF('見積書(2号)'!E475=\"\",\"\",'見積書(2号)'!E475)","v":""},{"$f":"IF('見積書(2号)'!I475=\"\",\"\",'見積書(2号)'!I475)","v":""},{"$f":"IF('見積書(2号)'!J475=\"\",\"\",'見積書(2号)'!J475)","v":""},{"$f":"IF('見積書(2号)'!K475=\"\",\"\",'見積書(2号)'!K475)","v":""},{"$f":"IF('見積書(2号)'!L475=\"\",\"\",'見積書(2号)'!L475)","v":""},{"$f":"IF('見積書(2号)'!M475=\"\",\"\",'見積書(2号)'!M475)","v":""},null,"","",null,"",""]
[{"$f":"IF('見積書(2号)'!A476=\"\",\"\",'見積書(2号)'!A476)","v":""},{"$f":"IF('見積書(2号)'!B476=\"\",\"\",'見積書(2号)'!B476)","v":""},{"$f":"IF('見積書(2号)'!C476=\"\",\"\",'見積書(2号)'!C476)","v":""},{"$f":"IF('見積書(2号)'!H476=\"\",\"\",'見積書(2号)'!H476)","v":""},{"$f":"IF('見積書(2号)'!E476=\"\",\"\",'見積書(2号)'!E476)","v":""},{"$f":"IF('見積書(2号)'!I476=\"\",\"\",'見積書(2号)'!I476)","v":""},{"$f":"IF('見積書(2号)'!J476=\"\",\"\",'見積書(2号)'!J476)","v":""},{"$f":"IF('見積書(2号)'!K476=\"\",\"\",'見積書(2号)'!K476)","v":""},{"$f":"IF('見積書(2号)'!L476=\"\",\"\",'見積書(2号)'!L476)","v":""},{"$f":"IF('見積書(2号)'!M476=\"\",\"\",'見積書(2号)'!M476)","v":""},null,"","",null,"",""]
[{"$f":"IF('見積書(2号)'!A477=\"\",\"\",'見積書(2号)'!A477)","v":""},{"$f":"IF('見積書(2号)'!B477=\"\",\"\",'見積書(2号)'!B477)","v":""},{"$f":"IF('見積書(2号)'!C477=\"\",\"\",'見積書(2号)'!C477)","v":""},{"$f":"IF('見積書(2号)'!H477=\"\",\"\",'見積書(2号)'!H477)","v":""},{"$f":"IF('見積書(2号)'!E477=\"\",\"\",'見積書(2号)'!E477)","v":""},{"$f":"IF('見積書(2号)'!I477=\"\",\"\",'見積書(2号)'!I477)","v":""},{"$f":"IF('見積書(2号)'!J477=\"\",\"\",'見積書(2号)'!J477)","v":""},{"$f":"IF('見積書(2号)'!K477=\"\",\"\",'見積書(2号)'!K477)","v":""},{"$f":"IF('見積書(2号)'!L477=\"\",\"\",'見積書(2号)'!L477)","v":""},{"$f":"IF('見積書(2号)'!M477=\"\",\"\",'見積書(2号)'!M477)","v":""},null,"","",null,"",""]
[{"$f":"IF('見積書(2号)'!A478=\"\",\"\",'見積書(2号)'!A478)","v":""},{"$f":"IF('見積書(2号)'!B478=\"\",\"\",'見積書(2号)'!B478)","v":""},{"$f":"IF('見積書(2号)'!C478=\"\",\"\",'見積書(2号)'!C478)","v":""},{"$f":"IF('見積書(2号)'!H478=\"\",\"\",'見積書(2号)'!H478)","v":""},{"$f":"IF('見積書(2号)'!E478=\"\",\"\",'見積書(2号)'!E478)","v":""},{"$f":"IF('見積書(2号)'!I478=\"\",\"\",'見積書(2号)'!I478)","v":""},{"$f":"IF('見積書(2号)'!J478=\"\",\"\",'見積書(2号)'!J478)","v":""},{"$f":"IF('見積書(2号)'!K478=\"\",\"\",'見積書(2号)'!K478)","v":""},{"$f":"IF('見積書(2号)'!L478=\"\",\"\",'見積書(2号)'!L478)","v":""},{"$f":"IF('見積書(2号)'!M478=\"\",\"\",'見積書(2号)'!M478)","v":""},null,"","",null,"",""]
[{"$f":"IF('見積書(2号)'!A479=\"\",\"\",'見積書(2号)'!A479)","v":""},{"$f":"IF('見積書(2号)'!B479=\"\",\"\",'見積書(2号)'!B479)","v":""},{"$f":"IF('見積書(2号)'!C479=\"\",\"\",'見積書(2号)'!C479)","v":""},{"$f":"IF('見積書(2号)'!H479=\"\",\"\",'見積書(2号)'!H479)","v":""},{"$f":"IF('見積書(2号)'!E479=\"\",\"\",'見積書(2号)'!E479)","v":""},{"$f":"IF('見積書(2号)'!I479=\"\",\"\",'見積書(2号)'!I479)","v":""},{"$f":"IF('見積書(2号)'!J479=\"\",\"\",'見積書(2号)'!J479)","v":""},{"$f":"IF('見積書(2号)'!K479=\"\",\"\",'見積書(2号)'!K479)","v":""},{"$f":"IF('見積書(2号)'!L479=\"\",\"\",'見積書(2号)'!L479)","v":""},{"$f":"IF('見積書(2号)'!M479=\"\",\"\",'見積書(2号)'!M479)","v":""},null,"","",null,"",""]
[{"$f":"IF('見積書(2号)'!A480=\"\",\"\",'見積書(2号)'!A480)","v":""},{"$f":"IF('見積書(2号)'!B480=\"\",\"\",'見積書(2号)'!B480)","v":""},{"$f":"IF('見積書(2号)'!C480=\"\",\"\",'見積書(2号)'!C480)","v":""},{"$f":"IF('見積書(2号)'!H480=\"\",\"\",'見積書(2号)'!H480)","v":""},{"$f":"IF('見積書(2号)'!E480=\"\",\"\",'見積書(2号)'!E480)","v":""},{"$f":"IF('見積書(2号)'!I480=\"\",\"\",'見積書(2号)'!I480)","v":""},{"$f":"IF('見積書(2号)'!J480=\"\",\"\",'見積書(2号)'!J480)","v":""},{"$f":"IF('見積書(2号)'!K480=\"\",\"\",'見積書(2号)'!K480)","v":""},{"$f":"IF('見積書(2号)'!L480=\"\",\"\",'見積書(2号)'!L480)","v":""},{"$f":"IF('見積書(2号)'!M480=\"\",\"\",'見積書(2号)'!M480)","v":""},null,"","",null,"",""]
[{"$f":"IF('見積書(2号)'!A481=\"\",\"\",'見積書(2号)'!A481)","v":""},{"$f":"IF('見積書(2号)'!B481=\"\",\"\",'見積書(2号)'!B481)","v":""},{"$f":"IF('見積書(2号)'!C481=\"\",\"\",'見積書(2号)'!C481)","v":""},{"$f":"IF('見積書(2号)'!H481=\"\",\"\",'見積書(2号)'!H481)","v":""},{"$f":"IF('見積書(2号)'!E481=\"\",\"\",'見積書(2号)'!E481)","v":""},{"$f":"IF('見積書(2号)'!I481=\"\",\"\",'見積書(2号)'!I481)","v":""},{"$f":"IF('見積書(2号)'!J481=\"\",\"\",'見積書(2号)'!J481)","v":""},{"$f":"IF('見積書(2号)'!K481=\"\",\"\",'見積書(2号)'!K481)","v":""},{"$f":"IF('見積書(2号)'!L481=\"\",\"\",'見積書(2号)'!L481)","v":""},{"$f":"IF('見積書(2号)'!M481=\"\",\"\",'見積書(2号)'!M481)","v":""},null,"","",null,"",""]
[{"$f":"IF('見積書(2号)'!A482=\"\",\"\",'見積書(2号)'!A482)","v":""},{"$f":"IF('見積書(2号)'!B482=\"\",\"\",'見積書(2号)'!B482)","v":""},{"$f":"IF('見積書(2号)'!C482=\"\",\"\",'見積書(2号)'!C482)","v":""},{"$f":"IF('見積書(2号)'!H482=\"\",\"\",'見積書(2号)'!H482)","v":""},{"$f":"IF('見積書(2号)'!E482=\"\",\"\",'見積書(2号)'!E482)","v":""},{"$f":"IF('見積書(2号)'!I482=\"\",\"\",'見積書(2号)'!I482)","v":""},{"$f":"IF('見積書(2号)'!J482=\"\",\"\",'見積書(2号)'!J482)","v":""},{"$f":"IF('見積書(2号)'!K482=\"\",\"\",'見積書(2号)'!K482)","v":""},{"$f":"IF('見積書(2号)'!L482=\"\",\"\",'見積書(2号)'!L482)","v":""},{"$f":"IF('見積書(2号)'!M482=\"\",\"\",'見積書(2号)'!M482)","v":""},null,"","",null,"",""]
[{"$f":"IF('見積書(2号)'!A483=\"\",\"\",'見積書(2号)'!A483)","v":""},{"$f":"IF('見積書(2号)'!B483=\"\",\"\",'見積書(2号)'!B483)","v":""},{"$f":"IF('見積書(2号)'!C483=\"\",\"\",'見積書(2号)'!C483)","v":""},{"$f":"IF('見積書(2号)'!H483=\"\",\"\",'見積書(2号)'!H483)","v":""},{"$f":"IF('見積書(2号)'!E483=\"\",\"\",'見積書(2号)'!E483)","v":""},{"$f":"IF('見積書(2号)'!I483=\"\",\"\",'見積書(2号)'!I483)","v":""},{"$f":"IF('見積書(2号)'!J483=\"\",\"\",'見積書(2号)'!J483)","v":""},{"$f":"IF('見積書(2号)'!K483=\"\",\"\",'見積書(2号)'!K483)","v":""},{"$f":"IF('見積書(2号)'!L483=\"\",\"\",'見積書(2号)'!L483)","v":""},{"$f":"IF('見積書(2号)'!M483=\"\",\"\",'見積書(2号)'!M483)","v":""},null,"","",null,"",""]
[{"$f":"IF('見積書(2号)'!A484=\"\",\"\",'見積書(2号)'!A484)","v":""},{"$f":"IF('見積書(2号)'!B484=\"\",\"\",'見積書(2号)'!B484)","v":""},{"$f":"IF('見積書(2号)'!C484=\"\",\"\",'見積書(2号)'!C484)","v":""},{"$f":"IF('見積書(2号)'!H484=\"\",\"\",'見積書(2号)'!H484)","v":""},{"$f":"IF('見積書(2号)'!E484=\"\",\"\",'見積書(2号)'!E484)","v":""},{"$f":"IF('見積書(2号)'!I484=\"\",\"\",'見積書(2号)'!I484)","v":""},{"$f":"IF('見積書(2号)'!J484=\"\",\"\",'見積書(2号)'!J484)","v":""},{"$f":"IF('見積書(2号)'!K484=\"\",\"\",'見積書(2号)'!K484)","v":""},{"$f":"IF('見積書(2号)'!L484=\"\",\"\",'見積書(2号)'!L484)","v":""},{"$f":"IF('見積書(2号)'!M484=\"\",\"\",'見積書(2号)'!M484)","v":""},null,"","",null,"",""]
[{"$f":"IF('見積書(2号)'!A485=\"\",\"\",'見積書(2号)'!A485)","v":""},{"$f":"IF('見積書(2号)'!B485=\"\",\"\",'見積書(2号)'!B485)","v":""},{"$f":"IF('見積書(2号)'!C485=\"\",\"\",'見積書(2号)'!C485)","v":""},{"$f":"IF('見積書(2号)'!H485=\"\",\"\",'見積書(2号)'!H485)","v":""},{"$f":"IF('見積書(2号)'!E485=\"\",\"\",'見積書(2号)'!E485)","v":""},{"$f":"IF('見積書(2号)'!I485=\"\",\"\",'見積書(2号)'!I485)","v":""},{"$f":"IF('見積書(2号)'!J485=\"\",\"\",'見積書(2号)'!J485)","v":""},{"$f":"IF('見積書(2号)'!K485=\"\",\"\",'見積書(2号)'!K485)","v":""},{"$f":"IF('見積書(2号)'!L485=\"\",\"\",'見積書(2号)'!L485)","v":""},{"$f":"IF('見積書(2号)'!M485=\"\",\"\",'見積書(2号)'!M485)","v":""},null,"","",null,"",""]
[{"$f":"IF('見積書(2号)'!A486=\"\",\"\",'見積書(2号)'!A486)","v":""},{"$f":"IF('見積書(2号)'!B486=\"\",\"\",'見積書(2号)'!B486)","v":""},{"$f":"IF('見積書(2号)'!C486=\"\",\"\",'見積書(2号)'!C486)","v":""},{"$f":"IF('見積書(2号)'!H486=\"\",\"\",'見積書(2号)'!H486)","v":""},{"$f":"IF('見積書(2号)'!E486=\"\",\"\",'見積書(2号)'!E486)","v":""},{"$f":"IF('見積書(2号)'!I486=\"\",\"\",'見積書(2号)'!I486)","v":""},{"$f":"IF('見積書(2号)'!J486=\"\",\"\",'見積書(2号)'!J486)","v":""},{"$f":"IF('見積書(2号)'!K486=\"\",\"\",'見積書(2号)'!K486)","v":""},{"$f":"IF('見積書(2号)'!L486=\"\",\"\",'見積書(2号)'!L486)","v":""},{"$f":"IF('見積書(2号)'!M486=\"\",\"\",'見積書(2号)'!M486)","v":""},null,"","",null,"",""]
[{"$f":"IF('見積書(2号)'!A487=\"\",\"\",'見積書(2号)'!A487)","v":""},{"$f":"IF('見積書(2号)'!B487=\"\",\"\",'見積書(2号)'!B487)","v":""},{"$f":"IF('見積書(2号)'!C487=\"\",\"\",'見積書(2号)'!C487)","v":""},{"$f":"IF('見積書(2号)'!H487=\"\",\"\",'見積書(2号)'!H487)","v":""},{"$f":"IF('見積書(2号)'!E487=\"\",\"\",'見積書(2号)'!E487)","v":""},{"$f":"IF('見積書(2号)'!I487=\"\",\"\",'見積書(2号)'!I487)","v":""},{"$f":"IF('見積書(2号)'!J487=\"\",\"\",'見積書(2号)'!J487)","v":""},{"$f":"IF('見積書(2号)'!K487=\"\",\"\",'見積書(2号)'!K487)","v":""},{"$f":"IF('見積書(2号)'!L487=\"\",\"\",'見積書(2号)'!L487)","v":""},{"$f":"IF('見積書(2号)'!M487=\"\",\"\",'見積書(2号)'!M487)","v":""},null,"","",null,"",""]
[{"$f":"IF('見積書(2号)'!A488=\"\",\"\",'見積書(2号)'!A488)","v":""},{"$f":"IF('見積書(2号)'!B488=\"\",\"\",'見積書(2号)'!B488)","v":""},{"$f":"IF('見積書(2号)'!C488=\"\",\"\",'見積書(2号)'!C488)","v":""},{"$f":"IF('見積書(2号)'!H488=\"\",\"\",'見積書(2号)'!H488)","v":""},{"$f":"IF('見積書(2号)'!E488=\"\",\"\",'見積書(2号)'!E488)","v":""},{"$f":"IF('見積書(2号)'!I488=\"\",\"\",'見積書(2号)'!I488)","v":""},{"$f":"IF('見積書(2号)'!J488=\"\",\"\",'見積書(2号)'!J488)","v":""},{"$f":"IF('見積書(2号)'!K488=\"\",\"\",'見積書(2号)'!K488)","v":""},{"$f":"IF('見積書(2号)'!L488=\"\",\"\",'見積書(2号)'!L488)","v":""},{"$f":"IF('見積書(2号)'!M488=\"\",\"\",'見積書(2号)'!M488)","v":""},null,"","",null,"",""]
[{"$f":"IF('見積書(2号)'!A489=\"\",\"\",'見積書(2号)'!A489)","v":""},{"$f":"IF('見積書(2号)'!B489=\"\",\"\",'見積書(2号)'!B489)","v":""},{"$f":"IF('見積書(2号)'!C489=\"\",\"\",'見積書(2号)'!C489)","v":""},{"$f":"IF('見積書(2号)'!H489=\"\",\"\",'見積書(2号)'!H489)","v":""},{"$f":"IF('見積書(2号)'!E489=\"\",\"\",'見積書(2号)'!E489)","v":""},{"$f":"IF('見積書(2号)'!I489=\"\",\"\",'見積書(2号)'!I489)","v":""},{"$f":"IF('見積書(2号)'!J489=\"\",\"\",'見積書(2号)'!J489)","v":""},{"$f":"IF('見積書(2号)'!K489=\"\",\"\",'見積書(2号)'!K489)","v":""},{"$f":"IF('見積書(2号)'!L489=\"\",\"\",'見積書(2号)'!L489)","v":""},{"$f":"IF('見積書(2号)'!M489=\"\",\"\",'見積書(2号)'!M489)","v":""},null,"","",null,"",""]
[{"$f":"IF('見積書(2号)'!A490=\"\",\"\",'見積書(2号)'!A490)","v":""},{"$f":"IF('見積書(2号)'!B490=\"\",\"\",'見積書(2号)'!B490)","v":""},{"$f":"IF('見積書(2号)'!C490=\"\",\"\",'見積書(2号)'!C490)","v":""},{"$f":"IF('見積書(2号)'!H490=\"\",\"\",'見積書(2号)'!H490)","v":""},{"$f":"IF('見積書(2号)'!E490=\"\",\"\",'見積書(2号)'!E490)","v":""},{"$f":"IF('見積書(2号)'!I490=\"\",\"\",'見積書(2号)'!I490)","v":""},{"$f":"IF('見積書(2号)'!J490=\"\",\"\",'見積書(2号)'!J490)","v":""},{"$f":"IF('見積書(2号)'!K490=\"\",\"\",'見積書(2号)'!K490)","v":""},{"$f":"IF('見積書(2号)'!L490=\"\",\"\",'見積書(2号)'!L490)","v":""},{"$f":"IF('見積書(2号)'!M490=\"\",\"\",'見積書(2号)'!M490)","v":""},null,"","",null,"",""]
[{"$f":"IF('見積書(2号)'!A491=\"\",\"\",'見積書(2号)'!A491)","v":""},{"$f":"IF('見積書(2号)'!B491=\"\",\"\",'見積書(2号)'!B491)","v":""},{"$f":"IF('見積書(2号)'!C491=\"\",\"\",'見積書(2号)'!C491)","v":""},{"$f":"IF('見積書(2号)'!H491=\"\",\"\",'見積書(2号)'!H491)","v":""},{"$f":"IF('見積書(2号)'!E491=\"\",\"\",'見積書(2号)'!E491)","v":""},{"$f":"IF('見積書(2号)'!I491=\"\",\"\",'見積書(2号)'!I491)","v":""},{"$f":"IF('見積書(2号)'!J491=\"\",\"\",'見積書(2号)'!J491)","v":""},{"$f":"IF('見積書(2号)'!K491=\"\",\"\",'見積書(2号)'!K491)","v":""},{"$f":"IF('見積書(2号)'!L491=\"\",\"\",'見積書(2号)'!L491)","v":""},{"$f":"IF('見積書(2号)'!M491=\"\",\"\",'見積書(2号)'!M491)","v":""},null,"","",null,"",""]
[{"$f":"IF('見積書(2号)'!A492=\"\",\"\",'見積書(2号)'!A492)","v":""},{"$f":"IF('見積書(2号)'!B492=\"\",\"\",'見積書(2号)'!B492)","v":""},{"$f":"IF('見積書(2号)'!C492=\"\",\"\",'見積書(2号)'!C492)","v":""},{"$f":"IF('見積書(2号)'!H492=\"\",\"\",'見積書(2号)'!H492)","v":""},{"$f":"IF('見積書(2号)'!E492=\"\",\"\",'見積書(2号)'!E492)","v":""},{"$f":"IF('見積書(2号)'!I492=\"\",\"\",'見積書(2号)'!I492)","v":""},{"$f":"IF('見積書(2号)'!J492=\"\",\"\",'見積書(2号)'!J492)","v":""},{"$f":"IF('見積書(2号)'!K492=\"\",\"\",'見積書(2号)'!K492)","v":""},{"$f":"IF('見積書(2号)'!L492=\"\",\"\",'見積書(2号)'!L492)","v":""},{"$f":"IF('見積書(2号)'!M492=\"\",\"\",'見積書(2号)'!M492)","v":""},null,"","",null,"",""]
[{"$f":"IF('見積書(2号)'!A493=\"\",\"\",'見積書(2号)'!A493)","v":""},{"$f":"IF('見積書(2号)'!B493=\"\",\"\",'見積書(2号)'!B493)","v":""},{"$f":"IF('見積書(2号)'!C493=\"\",\"\",'見積書(2号)'!C493)","v":""},{"$f":"IF('見積書(2号)'!H493=\"\",\"\",'見積書(2号)'!H493)","v":""},{"$f":"IF('見積書(2号)'!E493=\"\",\"\",'見積書(2号)'!E493)","v":""},{"$f":"IF('見積書(2号)'!I493=\"\",\"\",'見積書(2号)'!I493)","v":""},{"$f":"IF('見積書(2号)'!J493=\"\",\"\",'見積書(2号)'!J493)","v":""},{"$f":"IF('見積書(2号)'!K493=\"\",\"\",'見積書(2号)'!K493)","v":""},{"$f":"IF('見積書(2号)'!L493=\"\",\"\",'見積書(2号)'!L493)","v":""},{"$f":"IF('見積書(2号)'!M493=\"\",\"\",'見積書(2号)'!M493)","v":""},null,"","",null,"",""]
[{"$f":"IF('見積書(2号)'!A494=\"\",\"\",'見積書(2号)'!A494)","v":""},{"$f":"IF('見積書(2号)'!B494=\"\",\"\",'見積書(2号)'!B494)","v":""},{"$f":"IF('見積書(2号)'!C494=\"\",\"\",'見積書(2号)'!C494)","v":""},{"$f":"IF('見積書(2号)'!H494=\"\",\"\",'見積書(2号)'!H494)","v":""},{"$f":"IF('見積書(2号)'!E494=\"\",\"\",'見積書(2号)'!E494)","v":""},{"$f":"IF('見積書(2号)'!I494=\"\",\"\",'見積書(2号)'!I494)","v":""},{"$f":"IF('見積書(2号)'!J494=\"\",\"\",'見積書(2号)'!J494)","v":""},{"$f":"IF('見積書(2号)'!K494=\"\",\"\",'見積書(2号)'!K494)","v":""},{"$f":"IF('見積書(2号)'!L494=\"\",\"\",'見積書(2号)'!L494)","v":""},{"$f":"IF('見積書(2号)'!M494=\"\",\"\",'見積書(2号)'!M494)","v":""},null,"","",null,"",""]
[{"$f":"IF('見積書(2号)'!A495=\"\",\"\",'見積書(2号)'!A495)","v":""},{"$f":"IF('見積書(2号)'!B495=\"\",\"\",'見積書(2号)'!B495)","v":""},{"$f":"IF('見積書(2号)'!C495=\"\",\"\",'見積書(2号)'!C495)","v":""},{"$f":"IF('見積書(2号)'!H495=\"\",\"\",'見積書(2号)'!H495)","v":""},{"$f":"IF('見積書(2号)'!E495=\"\",\"\",'見積書(2号)'!E495)","v":""},{"$f":"IF('見積書(2号)'!I495=\"\",\"\",'見積書(2号)'!I495)","v":""},{"$f":"IF('見積書(2号)'!J495=\"\",\"\",'見積書(2号)'!J495)","v":""},{"$f":"IF('見積書(2号)'!K495=\"\",\"\",'見積書(2号)'!K495)","v":""},{"$f":"IF('見積書(2号)'!L495=\"\",\"\",'見積書(2号)'!L495)","v":""},{"$f":"IF('見積書(2号)'!M495=\"\",\"\",'見積書(2号)'!M495)","v":""},null,"","",null,"",""]
[{"$f":"IF('見積書(2号)'!A496=\"\",\"\",'見積書(2号)'!A496)","v":""},{"$f":"IF('見積書(2号)'!B496=\"\",\"\",'見積書(2号)'!B496)","v":""},{"$f":"IF('見積書(2号)'!C496=\"\",\"\",'見積書(2号)'!C496)","v":""},{"$f":"IF('見積書(2号)'!H496=\"\",\"\",'見積書(2号)'!H496)","v":""},{"$f":"IF('見積書(2号)'!E496=\"\",\"\",'見積書(2号)'!E496)","v":""},{"$f":"IF('見積書(2号)'!I496=\"\",\"\",'見積書(2号)'!I496)","v":""},{"$f":"IF('見積書(2号)'!J496=\"\",\"\",'見積書(2号)'!J496)","v":""},{"$f":"IF('見積書(2号)'!K496=\"\",\"\",'見積書(2号)'!K496)","v":""},{"$f":"IF('見積書(2号)'!L496=\"\",\"\",'見積書(2号)'!L496)","v":""},{"$f":"IF('見積書(2号)'!M496=\"\",\"\",'見積書(2号)'!M496)","v":""},null,"","",null,"",""]
[{"$f":"IF('見積書(2号)'!A497=\"\",\"\",'見積書(2号)'!A497)","v":""},{"$f":"IF('見積書(2号)'!B497=\"\",\"\",'見積書(2号)'!B497)","v":""},{"$f":"IF('見積書(2号)'!C497=\"\",\"\",'見積書(2号)'!C497)","v":""},{"$f":"IF('見積書(2号)'!H497=\"\",\"\",'見積書(2号)'!H497)","v":""},{"$f":"IF('見積書(2号)'!E497=\"\",\"\",'見積書(2号)'!E497)","v":""},{"$f":"IF('見積書(2号)'!I497=\"\",\"\",'見積書(2号)'!I497)","v":""},{"$f":"IF('見積書(2号)'!J497=\"\",\"\",'見積書(2号)'!J497)","v":""},{"$f":"IF('見積書(2号)'!K497=\"\",\"\",'見積書(2号)'!K497)","v":""},{"$f":"IF('見積書(2号)'!L497=\"\",\"\",'見積書(2号)'!L497)","v":""},{"$f":"IF('見積書(2号)'!M497=\"\",\"\",'見積書(2号)'!M497)","v":""},null,"","",null,"",""]
[{"$f":"IF('見積書(2号)'!A498=\"\",\"\",'見積書(2号)'!A498)","v":""},{"$f":"IF('見積書(2号)'!B498=\"\",\"\",'見積書(2号)'!B498)","v":""},{"$f":"IF('見積書(2号)'!C498=\"\",\"\",'見積書(2号)'!C498)","v":""},{"$f":"IF('見積書(2号)'!H498=\"\",\"\",'見積書(2号)'!H498)","v":""},{"$f":"IF('見積書(2号)'!E498=\"\",\"\",'見積書(2号)'!E498)","v":""},{"$f":"IF('見積書(2号)'!I498=\"\",\"\",'見積書(2号)'!I498)","v":""},{"$f":"IF('見積書(2号)'!J498=\"\",\"\",'見積書(2号)'!J498)","v":""},{"$f":"IF('見積書(2号)'!K498=\"\",\"\",'見積書(2号)'!K498)","v":""},{"$f":"IF('見積書(2号)'!L498=\"\",\"\",'見積書(2号)'!L498)","v":""},{"$f":"IF('見積書(2号)'!M498=\"\",\"\",'見積書(2号)'!M498)","v":""},null,"","",null,"",""]
[{"$f":"IF('見積書(2号)'!A499=\"\",\"\",'見積書(2号)'!A499)","v":""},{"$f":"IF('見積書(2号)'!B499=\"\",\"\",'見積書(2号)'!B499)","v":""},{"$f":"IF('見積書(2号)'!C499=\"\",\"\",'見積書(2号)'!C499)","v":""},{"$f":"IF('見積書(2号)'!H499=\"\",\"\",'見積書(2号)'!H499)","v":""},{"$f":"IF('見積書(2号)'!E499=\"\",\"\",'見積書(2号)'!E499)","v":""},{"$f":"IF('見積書(2号)'!I499=\"\",\"\",'見積書(2号)'!I499)","v":""},{"$f":"IF('見積書(2号)'!J499=\"\",\"\",'見積書(2号)'!J499)","v":""},{"$f":"IF('見積書(2号)'!K499=\"\",\"\",'見積書(2号)'!K499)","v":""},{"$f":"IF('見積書(2号)'!L499=\"\",\"\",'見積書(2号)'!L499)","v":""},{"$f":"IF('見積書(2号)'!M499=\"\",\"\",'見積書(2号)'!M499)","v":""},null,"","",null,"",""]
[{"$f":"IF('見積書(2号)'!A500=\"\",\"\",'見積書(2号)'!A500)","v":""},{"$f":"IF('見積書(2号)'!B500=\"\",\"\",'見積書(2号)'!B500)","v":""},{"$f":"IF('見積書(2号)'!C500=\"\",\"\",'見積書(2号)'!C500)","v":""},{"$f":"IF('見積書(2号)'!H500=\"\",\"\",'見積書(2号)'!H500)","v":""},{"$f":"IF('見積書(2号)'!E500=\"\",\"\",'見積書(2号)'!E500)","v":""},{"$f":"IF('見積書(2号)'!I500=\"\",\"\",'見積書(2号)'!I500)","v":""},{"$f":"IF('見積書(2号)'!J500=\"\",\"\",'見積書(2号)'!J500)","v":""},{"$f":"IF('見積書(2号)'!K500=\"\",\"\",'見積書(2号)'!K500)","v":""},{"$f":"IF('見積書(2号)'!L500=\"\",\"\",'見積書(2号)'!L500)","v":""},{"$f":"IF('見積書(2号)'!M500=\"\",\"\",'見積書(2号)'!M500)","v":""},null,"","",null,"",""]
[{"$f":"IF('見積書(2号)'!A501=\"\",\"\",'見積書(2号)'!A501)","v":""},{"$f":"IF('見積書(2号)'!B501=\"\",\"\",'見積書(2号)'!B501)","v":""},{"$f":"IF('見積書(2号)'!C501=\"\",\"\",'見積書(2号)'!C501)","v":""},{"$f":"IF('見積書(2号)'!H501=\"\",\"\",'見積書(2号)'!H501)","v":""},{"$f":"IF('見積書(2号)'!E501=\"\",\"\",'見積書(2号)'!E501)","v":""},{"$f":"IF('見積書(2号)'!I501=\"\",\"\",'見積書(2号)'!I501)","v":""},{"$f":"IF('見積書(2号)'!J501=\"\",\"\",'見積書(2号)'!J501)","v":""},{"$f":"IF('見積書(2号)'!K501=\"\",\"\",'見積書(2号)'!K501)","v":""},{"$f":"IF('見積書(2号)'!L501=\"\",\"\",'見積書(2号)'!L501)","v":""},{"$f":"IF('見積書(2号)'!M501=\"\",\"\",'見積書(2号)'!M501)","v":""},null,"","",null,"",""]
[{"$f":"IF('見積書(2号)'!A502=\"\",\"\",'見積書(2号)'!A502)","v":""},{"$f":"IF('見積書(2号)'!B502=\"\",\"\",'見積書(2号)'!B502)","v":""},{"$f":"IF('見積書(2号)'!C502=\"\",\"\",'見積書(2号)'!C502)","v":""},{"$f":"IF('見積書(2号)'!H502=\"\",\"\",'見積書(2号)'!H502)","v":""},{"$f":"IF('見積書(2号)'!E502=\"\",\"\",'見積書(2号)'!E502)","v":""},{"$f":"IF('見積書(2号)'!I502=\"\",\"\",'見積書(2号)'!I502)","v":""},{"$f":"IF('見積書(2号)'!J502=\"\",\"\",'見積書(2号)'!J502)","v":""},{"$f":"IF('見積書(2号)'!K502=\"\",\"\",'見積書(2号)'!K502)","v":""},{"$f":"IF('見積書(2号)'!L502=\"\",\"\",'見積書(2号)'!L502)","v":""},{"$f":"IF('見積書(2号)'!M502=\"\",\"\",'見積書(2号)'!M502)","v":""},null,"","",null,"",""]
[{"$f":"IF('見積書(2号)'!A503=\"\",\"\",'見積書(2号)'!A503)","v":""},{"$f":"IF('見積書(2号)'!B503=\"\",\"\",'見積書(2号)'!B503)","v":""},{"$f":"IF('見積書(2号)'!C503=\"\",\"\",'見積書(2号)'!C503)","v":""},{"$f":"IF('見積書(2号)'!H503=\"\",\"\",'見積書(2号)'!H503)","v":""},{"$f":"IF('見積書(2号)'!E503=\"\",\"\",'見積書(2号)'!E503)","v":""},{"$f":"IF('見積書(2号)'!I503=\"\",\"\",'見積書(2号)'!I503)","v":""},{"$f":"IF('見積書(2号)'!J503=\"\",\"\",'見積書(2号)'!J503)","v":""},{"$f":"IF('見積書(2号)'!K503=\"\",\"\",'見積書(2号)'!K503)","v":""},{"$f":"IF('見積書(2号)'!L503=\"\",\"\",'見積書(2号)'!L503)","v":""},{"$f":"IF('見積書(2号)'!M503=\"\",\"\",'見積書(2号)'!M503)","v":""},null,"","",null,"",""]
[{"$f":"IF('見積書(2号)'!A504=\"\",\"\",'見積書(2号)'!A504)","v":""},{"$f":"IF('見積書(2号)'!B504=\"\",\"\",'見積書(2号)'!B504)","v":""},{"$f":"IF('見積書(2号)'!C504=\"\",\"\",'見積書(2号)'!C504)","v":""},{"$f":"IF('見積書(2号)'!H504=\"\",\"\",'見積書(2号)'!H504)","v":""},{"$f":"IF('見積書(2号)'!E504=\"\",\"\",'見積書(2号)'!E504)","v":""},{"$f":"IF('見積書(2号)'!I504=\"\",\"\",'見積書(2号)'!I504)","v":""},{"$f":"IF('見積書(2号)'!J504=\"\",\"\",'見積書(2号)'!J504)","v":""},{"$f":"IF('見積書(2号)'!K504=\"\",\"\",'見積書(2号)'!K504)","v":""},{"$f":"IF('見積書(2号)'!L504=\"\",\"\",'見積書(2号)'!L504)","v":""},{"$f":"IF('見積書(2号)'!M504=\"\",\"\",'見積書(2号)'!M504)","v":""},null,"","",null,"",""]
[{"$f":"IF('見積書(2号)'!A505=\"\",\"\",'見積書(2号)'!A505)","v":""},{"$f":"IF('見積書(2号)'!B505=\"\",\"\",'見積書(2号)'!B505)","v":""},{"$f":"IF('見積書(2号)'!C505=\"\",\"\",'見積書(2号)'!C505)","v":""},{"$f":"IF('見積書(2号)'!H505=\"\",\"\",'見積書(2号)'!H505)","v":""},{"$f":"IF('見積書(2号)'!E505=\"\",\"\",'見積書(2号)'!E505)","v":""},{"$f":"IF('見積書(2号)'!I505=\"\",\"\",'見積書(2号)'!I505)","v":""},{"$f":"IF('見積書(2号)'!J505=\"\",\"\",'見積書(2号)'!J505)","v":""},{"$f":"IF('見積書(2号)'!K505=\"\",\"\",'見積書(2号)'!K505)","v":""},{"$f":"IF('見積書(2号)'!L505=\"\",\"\",'見積書(2号)'!L505)","v":""},{"$f":"IF('見積書(2号)'!M505=\"\",\"\",'見積書(2号)'!M505)","v":""},null,"","",null,"",""]
[{"$f":"IF('見積書(2号)'!A506=\"\",\"\",'見積書(2号)'!A506)","v":""},{"$f":"IF('見積書(2号)'!B506=\"\",\"\",'見積書(2号)'!B506)","v":""},{"$f":"IF('見積書(2号)'!C506=\"\",\"\",'見積書(2号)'!C506)","v":""},{"$f":"IF('見積書(2号)'!H506=\"\",\"\",'見積書(2号)'!H506)","v":""},{"$f":"IF('見積書(2号)'!E506=\"\",\"\",'見積書(2号)'!E506)","v":""},{"$f":"IF('見積書(2号)'!I506=\"\",\"\",'見積書(2号)'!I506)","v":""},{"$f":"IF('見積書(2号)'!J506=\"\",\"\",'見積書(2号)'!J506)","v":""},{"$f":"IF('見積書(2号)'!K506=\"\",\"\",'見積書(2号)'!K506)","v":""},{"$f":"IF('見積書(2号)'!L506=\"\",\"\",'見積書(2号)'!L506)","v":""},{"$f":"IF('見積書(2号)'!M506=\"\",\"\",'見積書(2号)'!M506)","v":""},null,"","",null,"",""]
[{"$f":"IF('見積書(2号)'!A507=\"\",\"\",'見積書(2号)'!A507)","v":""},{"$f":"IF('見積書(2号)'!B507=\"\",\"\",'見積書(2号)'!B507)","v":""},{"$f":"IF('見積書(2号)'!C507=\"\",\"\",'見積書(2号)'!C507)","v":""},{"$f":"IF('見積書(2号)'!H507=\"\",\"\",'見積書(2号)'!H507)","v":""},{"$f":"IF('見積書(2号)'!E507=\"\",\"\",'見積書(2号)'!E507)","v":""},{"$f":"IF('見積書(2号)'!I507=\"\",\"\",'見積書(2号)'!I507)","v":""},{"$f":"IF('見積書(2号)'!J507=\"\",\"\",'見積書(2号)'!J507)","v":""},{"$f":"IF('見積書(2号)'!K507=\"\",\"\",'見積書(2号)'!K507)","v":""},{"$f":"IF('見積書(2号)'!L507=\"\",\"\",'見積書(2号)'!L507)","v":""},{"$f":"IF('見積書(2号)'!M507=\"\",\"\",'見積書(2号)'!M507)","v":""},null,"","",null,"",""]
[{"$f":"IF('見積書(2号)'!A508=\"\",\"\",'見積書(2号)'!A508)","v":""},{"$f":"IF('見積書(2号)'!B508=\"\",\"\",'見積書(2号)'!B508)","v":""},{"$f":"IF('見積書(2号)'!C508=\"\",\"\",'見積書(2号)'!C508)","v":""},{"$f":"IF('見積書(2号)'!H508=\"\",\"\",'見積書(2号)'!H508)","v":""},{"$f":"IF('見積書(2号)'!E508=\"\",\"\",'見積書(2号)'!E508)","v":""},{"$f":"IF('見積書(2号)'!I508=\"\",\"\",'見積書(2号)'!I508)","v":""},{"$f":"IF('見積書(2号)'!J508=\"\",\"\",'見積書(2号)'!J508)","v":""},{"$f":"IF('見積書(2号)'!K508=\"\",\"\",'見積書(2号)'!K508)","v":""},{"$f":"IF('見積書(2号)'!L508=\"\",\"\",'見積書(2号)'!L508)","v":""},{"$f":"IF('見積書(2号)'!M508=\"\",\"\",'見積書(2号)'!M508)","v":""},null,"","",null,"",""]
[{"$f":"IF('見積書(2号)'!A509=\"\",\"\",'見積書(2号)'!A509)","v":""},{"$f":"IF('見積書(2号)'!B509=\"\",\"\",'見積書(2号)'!B509)","v":""},{"$f":"IF('見積書(2号)'!C509=\"\",\"\",'見積書(2号)'!C509)","v":""},{"$f":"IF('見積書(2号)'!H509=\"\",\"\",'見積書(2号)'!H509)","v":""},{"$f":"IF('見積書(2号)'!E509=\"\",\"\",'見積書(2号)'!E509)","v":""},{"$f":"IF('見積書(2号)'!I509=\"\",\"\",'見積書(2号)'!I509)","v":""},{"$f":"IF('見積書(2号)'!J509=\"\",\"\",'見積書(2号)'!J509)","v":""},{"$f":"IF('見積書(2号)'!K509=\"\",\"\",'見積書(2号)'!K509)","v":""},{"$f":"IF('見積書(2号)'!L509=\"\",\"\",'見積書(2号)'!L509)","v":""},{"$f":"IF('見積書(2号)'!M509=\"\",\"\",'見積書(2号)'!M509)","v":""},null,"","",null,"",""]
[{"$f":"IF('見積書(2号)'!A510=\"\",\"\",'見積書(2号)'!A510)","v":""},{"$f":"IF('見積書(2号)'!B510=\"\",\"\",'見積書(2号)'!B510)","v":""},{"$f":"IF('見積書(2号)'!C510=\"\",\"\",'見積書(2号)'!C510)","v":""},{"$f":"IF('見積書(2号)'!H510=\"\",\"\",'見積書(2号)'!H510)","v":""},{"$f":"IF('見積書(2号)'!E510=\"\",\"\",'見積書(2号)'!E510)","v":""},{"$f":"IF('見積書(2号)'!I510=\"\",\"\",'見積書(2号)'!I510)","v":""},{"$f":"IF('見積書(2号)'!J510=\"\",\"\",'見積書(2号)'!J510)","v":""},{"$f":"IF('見積書(2号)'!K510=\"\",\"\",'見積書(2号)'!K510)","v":""},{"$f":"IF('見積書(2号)'!L510=\"\",\"\",'見積書(2号)'!L510)","v":""},{"$f":"IF('見積書(2号)'!M510=\"\",\"\",'見積書(2号)'!M510)","v":""},null,"","",null,"",""]
[{"$f":"IF('見積書(2号)'!A511=\"\",\"\",'見積書(2号)'!A511)","v":""},{"$f":"IF('見積書(2号)'!B511=\"\",\"\",'見積書(2号)'!B511)","v":""},{"$f":"IF('見積書(2号)'!C511=\"\",\"\",'見積書(2号)'!C511)","v":""},{"$f":"IF('見積書(2号)'!H511=\"\",\"\",'見積書(2号)'!H511)","v":""},{"$f":"IF('見積書(2号)'!E511=\"\",\"\",'見積書(2号)'!E511)","v":""},{"$f":"IF('見積書(2号)'!I511=\"\",\"\",'見積書(2号)'!I511)","v":""},{"$f":"IF('見積書(2号)'!J511=\"\",\"\",'見積書(2号)'!J511)","v":""},{"$f":"IF('見積書(2号)'!K511=\"\",\"\",'見積書(2号)'!K511)","v":""},{"$f":"IF('見積書(2号)'!L511=\"\",\"\",'見積書(2号)'!L511)","v":""},{"$f":"IF('見積書(2号)'!M511=\"\",\"\",'見積書(2号)'!M511)","v":""},null,"","",null,"",""]
[{"$f":"IF('見積書(2号)'!A512=\"\",\"\",'見積書(2号)'!A512)","v":""},{"$f":"IF('見積書(2号)'!B512=\"\",\"\",'見積書(2号)'!B512)","v":""},{"$f":"IF('見積書(2号)'!C512=\"\",\"\",'見積書(2号)'!C512)","v":""},{"$f":"IF('見積書(2号)'!H512=\"\",\"\",'見積書(2号)'!H512)","v":""},{"$f":"IF('見積書(2号)'!E512=\"\",\"\",'見積書(2号)'!E512)","v":""},{"$f":"IF('見積書(2号)'!I512=\"\",\"\",'見積書(2号)'!I512)","v":""},{"$f":"IF('見積書(2号)'!J512=\"\",\"\",'見積書(2号)'!J512)","v":""},{"$f":"IF('見積書(2号)'!K512=\"\",\"\",'見積書(2号)'!K512)","v":""},{"$f":"IF('見積書(2号)'!L512=\"\",\"\",'見積書(2号)'!L512)","v":""},{"$f":"IF('見積書(2号)'!M512=\"\",\"\",'見積書(2号)'!M512)","v":""},null,"","",null,"",""]
[{"$f":"IF('見積書(2号)'!A513=\"\",\"\",'見積書(2号)'!A513)","v":""},{"$f":"IF('見積書(2号)'!B513=\"\",\"\",'見積書(2号)'!B513)","v":""},{"$f":"IF('見積書(2号)'!C513=\"\",\"\",'見積書(2号)'!C513)","v":""},{"$f":"IF('見積書(2号)'!H513=\"\",\"\",'見積書(2号)'!H513)","v":""},{"$f":"IF('見積書(2号)'!E513=\"\",\"\",'見積書(2号)'!E513)","v":""},{"$f":"IF('見積書(2号)'!I513=\"\",\"\",'見積書(2号)'!I513)","v":""},{"$f":"IF('見積書(2号)'!J513=\"\",\"\",'見積書(2号)'!J513)","v":""},{"$f":"IF('見積書(2号)'!K513=\"\",\"\",'見積書(2号)'!K513)","v":""},{"$f":"IF('見積書(2号)'!L513=\"\",\"\",'見積書(2号)'!L513)","v":""},{"$f":"IF('見積書(2号)'!M513=\"\",\"\",'見積書(2号)'!M513)","v":""},null,"","",null,"",""]
[{"$f":"IF('見積書(2号)'!A514=\"\",\"\",'見積書(2号)'!A514)","v":""},{"$f":"IF('見積書(2号)'!B514=\"\",\"\",'見積書(2号)'!B514)","v":""},{"$f":"IF('見積書(2号)'!C514=\"\",\"\",'見積書(2号)'!C514)","v":""},{"$f":"IF('見積書(2号)'!H514=\"\",\"\",'見積書(2号)'!H514)","v":""},{"$f":"IF('見積書(2号)'!E514=\"\",\"\",'見積書(2号)'!E514)","v":""},{"$f":"IF('見積書(2号)'!I514=\"\",\"\",'見積書(2号)'!I514)","v":""},{"$f":"IF('見積書(2号)'!J514=\"\",\"\",'見積書(2号)'!J514)","v":""},{"$f":"IF('見積書(2号)'!K514=\"\",\"\",'見積書(2号)'!K514)","v":""},{"$f":"IF('見積書(2号)'!L514=\"\",\"\",'見積書(2号)'!L514)","v":""},{"$f":"IF('見積書(2号)'!M514=\"\",\"\",'見積書(2号)'!M514)","v":""},null,"","",null,"",""]
[{"$f":"IF('見積書(2号)'!A515=\"\",\"\",'見積書(2号)'!A515)","v":""},{"$f":"IF('見積書(2号)'!B515=\"\",\"\",'見積書(2号)'!B515)","v":""},{"$f":"IF('見積書(2号)'!C515=\"\",\"\",'見積書(2号)'!C515)","v":""},{"$f":"IF('見積書(2号)'!H515=\"\",\"\",'見積書(2号)'!H515)","v":""},{"$f":"IF('見積書(2号)'!E515=\"\",\"\",'見積書(2号)'!E515)","v":""},{"$f":"IF('見積書(2号)'!I515=\"\",\"\",'見積書(2号)'!I515)","v":""},{"$f":"IF('見積書(2号)'!J515=\"\",\"\",'見積書(2号)'!J515)","v":""},{"$f":"IF('見積書(2号)'!K515=\"\",\"\",'見積書(2号)'!K515)","v":""},{"$f":"IF('見積書(2号)'!L515=\"\",\"\",'見積書(2号)'!L515)","v":""},{"$f":"IF('見積書(2号)'!M515=\"\",\"\",'見積書(2号)'!M515)","v":""},null,"","",null,"",""]
[{"$f":"IF('見積書(2号)'!A516=\"\",\"\",'見積書(2号)'!A516)","v":""},{"$f":"IF('見積書(2号)'!B516=\"\",\"\",'見積書(2号)'!B516)","v":""},{"$f":"IF('見積書(2号)'!C516=\"\",\"\",'見積書(2号)'!C516)","v":""},{"$f":"IF('見積書(2号)'!H516=\"\",\"\",'見積書(2号)'!H516)","v":""},{"$f":"IF('見積書(2号)'!E516=\"\",\"\",'見積書(2号)'!E516)","v":""},{"$f":"IF('見積書(2号)'!I516=\"\",\"\",'見積書(2号)'!I516)","v":""},{"$f":"IF('見積書(2号)'!J516=\"\",\"\",'見積書(2号)'!J516)","v":""},{"$f":"IF('見積書(2号)'!K516=\"\",\"\",'見積書(2号)'!K516)","v":""},{"$f":"IF('見積書(2号)'!L516=\"\",\"\",'見積書(2号)'!L516)","v":""},{"$f":"IF('見積書(2号)'!M516=\"\",\"\",'見積書(2号)'!M516)","v":""},null,"","",null,"",""]
[{"$f":"IF('見積書(2号)'!A517=\"\",\"\",'見積書(2号)'!A517)","v":""},{"$f":"IF('見積書(2号)'!B517=\"\",\"\",'見積書(2号)'!B517)","v":""},{"$f":"IF('見積書(2号)'!C517=\"\",\"\",'見積書(2号)'!C517)","v":""},{"$f":"IF('見積書(2号)'!H517=\"\",\"\",'見積書(2号)'!H517)","v":""},{"$f":"IF('見積書(2号)'!E517=\"\",\"\",'見積書(2号)'!E517)","v":""},{"$f":"IF('見積書(2号)'!I517=\"\",\"\",'見積書(2号)'!I517)","v":""},{"$f":"IF('見積書(2号)'!J517=\"\",\"\",'見積書(2号)'!J517)","v":""},{"$f":"IF('見積書(2号)'!K517=\"\",\"\",'見積書(2号)'!K517)","v":""},{"$f":"IF('見積書(2号)'!L517=\"\",\"\",'見積書(2号)'!L517)","v":""},{"$f":"IF('見積書(2号)'!M517=\"\",\"\",'見積書(2号)'!M517)","v":""},null,"","",null,"",""]
[{"$f":"IF('見積書(2号)'!A518=\"\",\"\",'見積書(2号)'!A518)","v":""},{"$f":"IF('見積書(2号)'!B518=\"\",\"\",'見積書(2号)'!B518)","v":""},{"$f":"IF('見積書(2号)'!C518=\"\",\"\",'見積書(2号)'!C518)","v":""},{"$f":"IF('見積書(2号)'!H518=\"\",\"\",'見積書(2号)'!H518)","v":""},{"$f":"IF('見積書(2号)'!E518=\"\",\"\",'見積書(2号)'!E518)","v":""},{"$f":"IF('見積書(2号)'!I518=\"\",\"\",'見積書(2号)'!I518)","v":""},{"$f":"IF('見積書(2号)'!J518=\"\",\"\",'見積書(2号)'!J518)","v":""},{"$f":"IF('見積書(2号)'!K518=\"\",\"\",'見積書(2号)'!K518)","v":""},{"$f":"IF('見積書(2号)'!L518=\"\",\"\",'見積書(2号)'!L518)","v":""},{"$f":"IF('見積書(2号)'!M518=\"\",\"\",'見積書(2号)'!M518)","v":""},null,"","",null,"",""]
[{"$f":"IF('見積書(2号)'!A519=\"\",\"\",'見積書(2号)'!A519)","v":""},{"$f":"IF('見積書(2号)'!B519=\"\",\"\",'見積書(2号)'!B519)","v":""},{"$f":"IF('見積書(2号)'!C519=\"\",\"\",'見積書(2号)'!C519)","v":""},{"$f":"IF('見積書(2号)'!H519=\"\",\"\",'見積書(2号)'!H519)","v":""},{"$f":"IF('見積書(2号)'!E519=\"\",\"\",'見積書(2号)'!E519)","v":""},{"$f":"IF('見積書(2号)'!I519=\"\",\"\",'見積書(2号)'!I519)","v":""},{"$f":"IF('見積書(2号)'!J519=\"\",\"\",'見積書(2号)'!J519)","v":""},{"$f":"IF('見積書(2号)'!K519=\"\",\"\",'見積書(2号)'!K519)","v":""},{"$f":"IF('見積書(2号)'!L519=\"\",\"\",'見積書(2号)'!L519)","v":""},{"$f":"IF('見積書(2号)'!M519=\"\",\"\",'見積書(2号)'!M519)","v":""},null,"","",null,"",""]
[{"$f":"IF('見積書(2号)'!A520=\"\",\"\",'見積書(2号)'!A520)","v":""},{"$f":"IF('見積書(2号)'!B520=\"\",\"\",'見積書(2号)'!B520)","v":""},{"$f":"IF('見積書(2号)'!C520=\"\",\"\",'見積書(2号)'!C520)","v":""},{"$f":"IF('見積書(2号)'!H520=\"\",\"\",'見積書(2号)'!H520)","v":""},{"$f":"IF('見積書(2号)'!E520=\"\",\"\",'見積書(2号)'!E520)","v":""},{"$f":"IF('見積書(2号)'!I520=\"\",\"\",'見積書(2号)'!I520)","v":""},{"$f":"IF('見積書(2号)'!J520=\"\",\"\",'見積書(2号)'!J520)","v":""},{"$f":"IF('見積書(2号)'!K520=\"\",\"\",'見積書(2号)'!K520)","v":""},{"$f":"IF('見積書(2号)'!L520=\"\",\"\",'見積書(2号)'!L520)","v":""},{"$f":"IF('見積書(2号)'!M520=\"\",\"\",'見積書(2号)'!M520)","v":""},null,"","",null,"",""]
[{"$f":"IF('見積書(2号)'!A521=\"\",\"\",'見積書(2号)'!A521)","v":""},{"$f":"IF('見積書(2号)'!B521=\"\",\"\",'見積書(2号)'!B521)","v":""},{"$f":"IF('見積書(2号)'!C521=\"\",\"\",'見積書(2号)'!C521)","v":""},{"$f":"IF('見積書(2号)'!H521=\"\",\"\",'見積書(2号)'!H521)","v":""},{"$f":"IF('見積書(2号)'!E521=\"\",\"\",'見積書(2号)'!E521)","v":""},{"$f":"IF('見積書(2号)'!I521=\"\",\"\",'見積書(2号)'!I521)","v":""},{"$f":"IF('見積書(2号)'!J521=\"\",\"\",'見積書(2号)'!J521)","v":""},{"$f":"IF('見積書(2号)'!K521=\"\",\"\",'見積書(2号)'!K521)","v":""},{"$f":"IF('見積書(2号)'!L521=\"\",\"\",'見積書(2号)'!L521)","v":""},{"$f":"IF('見積書(2号)'!M521=\"\",\"\",'見積書(2号)'!M521)","v":""},null,"","",null,"",""]
[{"$f":"IF('見積書(2号)'!A522=\"\",\"\",'見積書(2号)'!A522)","v":""},{"$f":"IF('見積書(2号)'!B522=\"\",\"\",'見積書(2号)'!B522)","v":""},{"$f":"IF('見積書(2号)'!C522=\"\",\"\",'見積書(2号)'!C522)","v":""},{"$f":"IF('見積書(2号)'!H522=\"\",\"\",'見積書(2号)'!H522)","v":""},{"$f":"IF('見積書(2号)'!E522=\"\",\"\",'見積書(2号)'!E522)","v":""},{"$f":"IF('見積書(2号)'!I522=\"\",\"\",'見積書(2号)'!I522)","v":""},{"$f":"IF('見積書(2号)'!J522=\"\",\"\",'見積書(2号)'!J522)","v":""},{"$f":"IF('見積書(2号)'!K522=\"\",\"\",'見積書(2号)'!K522)","v":""},{"$f":"IF('見積書(2号)'!L522=\"\",\"\",'見積書(2号)'!L522)","v":""},{"$f":"IF('見積書(2号)'!M522=\"\",\"\",'見積書(2号)'!M522)","v":""},null,"","",null,"",""]
[{"$f":"IF('見積書(2号)'!A523=\"\",\"\",'見積書(2号)'!A523)","v":""},{"$f":"IF('見積書(2号)'!B523=\"\",\"\",'見積書(2号)'!B523)","v":""},{"$f":"IF('見積書(2号)'!C523=\"\",\"\",'見積書(2号)'!C523)","v":""},{"$f":"IF('見積書(2号)'!H523=\"\",\"\",'見積書(2号)'!H523)","v":""},{"$f":"IF('見積書(2号)'!E523=\"\",\"\",'見積書(2号)'!E523)","v":""},{"$f":"IF('見積書(2号)'!I523=\"\",\"\",'見積書(2号)'!I523)","v":""},{"$f":"IF('見積書(2号)'!J523=\"\",\"\",'見積書(2号)'!J523)","v":""},{"$f":"IF('見積書(2号)'!K523=\"\",\"\",'見積書(2号)'!K523)","v":""},{"$f":"IF('見積書(2号)'!L523=\"\",\"\",'見積書(2号)'!L523)","v":""},{"$f":"IF('見積書(2号)'!M523=\"\",\"\",'見積書(2号)'!M523)","v":""},null,{"$f":"IF(I523=\"\",F523,I523)","v":""},{"$f":"IF(L523=\"\",\"\",L523*K523)","v":""},null,"",""]
[{"$f":"IF('見積書(2号)'!A524=\"\",\"\",'見積書(2号)'!A524)","v":""},{"$f":"IF('見積書(2号)'!B524=\"\",\"\",'見積書(2号)'!B524)","v":""},{"$f":"IF('見積書(2号)'!C524=\"\",\"\",'見積書(2号)'!C524)","v":""},{"$f":"IF('見積書(2号)'!H524=\"\",\"\",'見積書(2号)'!H524)","v":""},{"$f":"IF('見積書(2号)'!E524=\"\",\"\",'見積書(2号)'!E524)","v":""},{"$f":"IF('見積書(2号)'!I524=\"\",\"\",'見積書(2号)'!I524)","v":""},{"$f":"IF('見積書(2号)'!J524=\"\",\"\",'見積書(2号)'!J524)","v":""},{"$f":"IF('見積書(2号)'!K524=\"\",\"\",'見積書(2号)'!K524)","v":""},{"$f":"IF('見積書(2号)'!L524=\"\",\"\",'見積書(2号)'!L524)","v":""},{"$f":"IF('見積書(2号)'!M524=\"\",\"\",'見積書(2号)'!M524)","v":""},null,"","",null,"",""]
[{"$f":"IF('見積書(2号)'!A525=\"\",\"\",'見積書(2号)'!A525)","v":""},{"$f":"IF('見積書(2号)'!B525=\"\",\"\",'見積書(2号)'!B525)","v":""},{"$f":"IF('見積書(2号)'!C525=\"\",\"\",'見積書(2号)'!C525)","v":""},{"$f":"IF('見積書(2号)'!H525=\"\",\"\",'見積書(2号)'!H525)","v":""},{"$f":"IF('見積書(2号)'!E525=\"\",\"\",'見積書(2号)'!E525)","v":""},{"$f":"IF('見積書(2号)'!I525=\"\",\"\",'見積書(2号)'!I525)","v":""},{"$f":"IF('見積書(2号)'!J525=\"\",\"\",'見積書(2号)'!J525)","v":""},{"$f":"IF('見積書(2号)'!K525=\"\",\"\",'見積書(2号)'!K525)","v":""},{"$f":"IF('見積書(2号)'!L525=\"\",\"\",'見積書(2号)'!L525)","v":""},{"$f":"IF('見積書(2号)'!M525=\"\",\"\",'見積書(2号)'!M525)","v":""},null,"","",null,"",""]
[{"$f":"IF('見積書(2号)'!A526=\"\",\"\",'見積書(2号)'!A526)","v":""},{"$f":"IF('見積書(2号)'!B526=\"\",\"\",'見積書(2号)'!B526)","v":""},{"$f":"IF('見積書(2号)'!C526=\"\",\"\",'見積書(2号)'!C526)","v":""},{"$f":"IF('見積書(2号)'!H526=\"\",\"\",'見積書(2号)'!H526)","v":""},{"$f":"IF('見積書(2号)'!E526=\"\",\"\",'見積書(2号)'!E526)","v":""},{"$f":"IF('見積書(2号)'!I526=\"\",\"\",'見積書(2号)'!I526)","v":""},{"$f":"IF('見積書(2号)'!J526=\"\",\"\",'見積書(2号)'!J526)","v":""},{"$f":"IF('見積書(2号)'!K526=\"\",\"\",'見積書(2号)'!K526)","v":""},{"$f":"IF('見積書(2号)'!L526=\"\",\"\",'見積書(2号)'!L526)","v":""},{"$f":"IF('見積書(2号)'!M526=\"\",\"\",'見積書(2号)'!M526)","v":""},null,"","",null,"",""]
[{"$f":"IF('見積書(2号)'!A527=\"\",\"\",'見積書(2号)'!A527)","v":""},{"$f":"IF('見積書(2号)'!B527=\"\",\"\",'見積書(2号)'!B527)","v":""},{"$f":"IF('見積書(2号)'!C527=\"\",\"\",'見積書(2号)'!C527)","v":""},{"$f":"IF('見積書(2号)'!H527=\"\",\"\",'見積書(2号)'!H527)","v":""},{"$f":"IF('見積書(2号)'!E527=\"\",\"\",'見積書(2号)'!E527)","v":""},{"$f":"IF('見積書(2号)'!I527=\"\",\"\",'見積書(2号)'!I527)","v":""},{"$f":"IF('見積書(2号)'!J527=\"\",\"\",'見積書(2号)'!J527)","v":""},{"$f":"IF('見積書(2号)'!K527=\"\",\"\",'見積書(2号)'!K527)","v":""},{"$f":"IF('見積書(2号)'!L527=\"\",\"\",'見積書(2号)'!L527)","v":""},{"$f":"IF('見積書(2号)'!M527=\"\",\"\",'見積書(2号)'!M527)","v":""},null,"","",null,"",""]
[{"$f":"IF('見積書(2号)'!A528=\"\",\"\",'見積書(2号)'!A528)","v":""},{"$f":"IF('見積書(2号)'!B528=\"\",\"\",'見積書(2号)'!B528)","v":""},{"$f":"IF('見積書(2号)'!C528=\"\",\"\",'見積書(2号)'!C528)","v":""},{"$f":"IF('見積書(2号)'!H528=\"\",\"\",'見積書(2号)'!H528)","v":""},{"$f":"IF('見積書(2号)'!E528=\"\",\"\",'見積書(2号)'!E528)","v":""},{"$f":"IF('見積書(2号)'!I528=\"\",\"\",'見積書(2号)'!I528)","v":""},{"$f":"IF('見積書(2号)'!J528=\"\",\"\",'見積書(2号)'!J528)","v":""},{"$f":"IF('見積書(2号)'!K528=\"\",\"\",'見積書(2号)'!K528)","v":""},{"$f":"IF('見積書(2号)'!L528=\"\",\"\",'見積書(2号)'!L528)","v":""},{"$f":"IF('見積書(2号)'!M528=\"\",\"\",'見積書(2号)'!M528)","v":""},null,"","",null,"",""]
[{"$f":"IF('見積書(2号)'!A529=\"\",\"\",'見積書(2号)'!A529)","v":""},{"$f":"IF('見積書(2号)'!B529=\"\",\"\",'見積書(2号)'!B529)","v":""},{"$f":"IF('見積書(2号)'!C529=\"\",\"\",'見積書(2号)'!C529)","v":""},{"$f":"IF('見積書(2号)'!H529=\"\",\"\",'見積書(2号)'!H529)","v":""},{"$f":"IF('見積書(2号)'!E529=\"\",\"\",'見積書(2号)'!E529)","v":""},{"$f":"IF('見積書(2号)'!I529=\"\",\"\",'見積書(2号)'!I529)","v":""},{"$f":"IF('見積書(2号)'!J529=\"\",\"\",'見積書(2号)'!J529)","v":""},{"$f":"IF('見積書(2号)'!K529=\"\",\"\",'見積書(2号)'!K529)","v":""},{"$f":"IF('見積書(2号)'!L529=\"\",\"\",'見積書(2号)'!L529)","v":""},{"$f":"IF('見積書(2号)'!M529=\"\",\"\",'見積書(2号)'!M529)","v":""},null,"","",null,"",""]
[{"$f":"IF('見積書(2号)'!A530=\"\",\"\",'見積書(2号)'!A530)","v":""},{"$f":"IF('見積書(2号)'!B530=\"\",\"\",'見積書(2号)'!B530)","v":""},{"$f":"IF('見積書(2号)'!C530=\"\",\"\",'見積書(2号)'!C530)","v":""},{"$f":"IF('見積書(2号)'!H530=\"\",\"\",'見積書(2号)'!H530)","v":""},{"$f":"IF('見積書(2号)'!E530=\"\",\"\",'見積書(2号)'!E530)","v":""},{"$f":"IF('見積書(2号)'!I530=\"\",\"\",'見積書(2号)'!I530)","v":""},{"$f":"IF('見積書(2号)'!J530=\"\",\"\",'見積書(2号)'!J530)","v":""},{"$f":"IF('見積書(2号)'!K530=\"\",\"\",'見積書(2号)'!K530)","v":""},{"$f":"IF('見積書(2号)'!L530=\"\",\"\",'見積書(2号)'!L530)","v":""},{"$f":"IF('見積書(2号)'!M530=\"\",\"\",'見積書(2号)'!M530)","v":""},null,"","",null,"",""]
[{"$f":"IF('見積書(2号)'!A531=\"\",\"\",'見積書(2号)'!A531)","v":""},{"$f":"IF('見積書(2号)'!B531=\"\",\"\",'見積書(2号)'!B531)","v":""},{"$f":"IF('見積書(2号)'!C531=\"\",\"\",'見積書(2号)'!C531)","v":""},{"$f":"IF('見積書(2号)'!H531=\"\",\"\",'見積書(2号)'!H531)","v":""},{"$f":"IF('見積書(2号)'!E531=\"\",\"\",'見積書(2号)'!E531)","v":""},{"$f":"IF('見積書(2号)'!I531=\"\",\"\",'見積書(2号)'!I531)","v":""},{"$f":"IF('見積書(2号)'!J531=\"\",\"\",'見積書(2号)'!J531)","v":""},{"$f":"IF('見積書(2号)'!K531=\"\",\"\",'見積書(2号)'!K531)","v":""},{"$f":"IF('見積書(2号)'!L531=\"\",\"\",'見積書(2号)'!L531)","v":""},{"$f":"IF('見積書(2号)'!M531=\"\",\"\",'見積書(2号)'!M531)","v":""},null,"","",null,"",""]
[{"$f":"IF('見積書(2号)'!A532=\"\",\"\",'見積書(2号)'!A532)","v":""},{"$f":"IF('見積書(2号)'!B532=\"\",\"\",'見積書(2号)'!B532)","v":""},{"$f":"IF('見積書(2号)'!C532=\"\",\"\",'見積書(2号)'!C532)","v":""},{"$f":"IF('見積書(2号)'!H532=\"\",\"\",'見積書(2号)'!H532)","v":""},{"$f":"IF('見積書(2号)'!E532=\"\",\"\",'見積書(2号)'!E532)","v":""},{"$f":"IF('見積書(2号)'!I532=\"\",\"\",'見積書(2号)'!I532)","v":""},{"$f":"IF('見積書(2号)'!J532=\"\",\"\",'見積書(2号)'!J532)","v":""},{"$f":"IF('見積書(2号)'!K532=\"\",\"\",'見積書(2号)'!K532)","v":""},{"$f":"IF('見積書(2号)'!L532=\"\",\"\",'見積書(2号)'!L532)","v":""},{"$f":"IF('見積書(2号)'!M532=\"\",\"\",'見積書(2号)'!M532)","v":""},null,"","",null,"",""]
[{"$f":"IF('見積書(2号)'!A533=\"\",\"\",'見積書(2号)'!A533)","v":""},{"$f":"IF('見積書(2号)'!B533=\"\",\"\",'見積書(2号)'!B533)","v":""},{"$f":"IF('見積書(2号)'!C533=\"\",\"\",'見積書(2号)'!C533)","v":""},{"$f":"IF('見積書(2号)'!H533=\"\",\"\",'見積書(2号)'!H533)","v":""},{"$f":"IF('見積書(2号)'!E533=\"\",\"\",'見積書(2号)'!E533)","v":""},{"$f":"IF('見積書(2号)'!I533=\"\",\"\",'見積書(2号)'!I533)","v":""},{"$f":"IF('見積書(2号)'!J533=\"\",\"\",'見積書(2号)'!J533)","v":""},{"$f":"IF('見積書(2号)'!K533=\"\",\"\",'見積書(2号)'!K533)","v":""},{"$f":"IF('見積書(2号)'!L533=\"\",\"\",'見積書(2号)'!L533)","v":""},{"$f":"IF('見積書(2号)'!M533=\"\",\"\",'見積書(2号)'!M533)","v":""},null,"","",null,"",""]
[{"$f":"IF('見積書(2号)'!A534=\"\",\"\",'見積書(2号)'!A534)","v":""},{"$f":"IF('見積書(2号)'!B534=\"\",\"\",'見積書(2号)'!B534)","v":""},{"$f":"IF('見積書(2号)'!C534=\"\",\"\",'見積書(2号)'!C534)","v":""},{"$f":"IF('見積書(2号)'!H534=\"\",\"\",'見積書(2号)'!H534)","v":""},{"$f":"IF('見積書(2号)'!E534=\"\",\"\",'見積書(2号)'!E534)","v":""},{"$f":"IF('見積書(2号)'!I534=\"\",\"\",'見積書(2号)'!I534)","v":""},{"$f":"IF('見積書(2号)'!J534=\"\",\"\",'見積書(2号)'!J534)","v":""},{"$f":"IF('見積書(2号)'!K534=\"\",\"\",'見積書(2号)'!K534)","v":""},{"$f":"IF('見積書(2号)'!L534=\"\",\"\",'見積書(2号)'!L534)","v":""},{"$f":"IF('見積書(2号)'!M534=\"\",\"\",'見積書(2号)'!M534)","v":""},null,"","",null,"",""]
[{"$f":"IF('見積書(2号)'!A535=\"\",\"\",'見積書(2号)'!A535)","v":""},{"$f":"IF('見積書(2号)'!B535=\"\",\"\",'見積書(2号)'!B535)","v":""},{"$f":"IF('見積書(2号)'!C535=\"\",\"\",'見積書(2号)'!C535)","v":""},{"$f":"IF('見積書(2号)'!H535=\"\",\"\",'見積書(2号)'!H535)","v":""},{"$f":"IF('見積書(2号)'!E535=\"\",\"\",'見積書(2号)'!E535)","v":""},{"$f":"IF('見積書(2号)'!I535=\"\",\"\",'見積書(2号)'!I535)","v":""},{"$f":"IF('見積書(2号)'!J535=\"\",\"\",'見積書(2号)'!J535)","v":""},{"$f":"IF('見積書(2号)'!K535=\"\",\"\",'見積書(2号)'!K535)","v":""},{"$f":"IF('見積書(2号)'!L535=\"\",\"\",'見積書(2号)'!L535)","v":""},{"$f":"IF('見積書(2号)'!M535=\"\",\"\",'見積書(2号)'!M535)","v":""},null,"","",null,"",""]
[{"$f":"IF('見積書(2号)'!A536=\"\",\"\",'見積書(2号)'!A536)","v":""},{"$f":"IF('見積書(2号)'!B536=\"\",\"\",'見積書(2号)'!B536)","v":""},{"$f":"IF('見積書(2号)'!C536=\"\",\"\",'見積書(2号)'!C536)","v":""},{"$f":"IF('見積書(2号)'!H536=\"\",\"\",'見積書(2号)'!H536)","v":""},{"$f":"IF('見積書(2号)'!E536=\"\",\"\",'見積書(2号)'!E536)","v":""},{"$f":"IF('見積書(2号)'!I536=\"\",\"\",'見積書(2号)'!I536)","v":""},{"$f":"IF('見積書(2号)'!J536=\"\",\"\",'見積書(2号)'!J536)","v":""},{"$f":"IF('見積書(2号)'!K536=\"\",\"\",'見積書(2号)'!K536)","v":""},{"$f":"IF('見積書(2号)'!L536=\"\",\"\",'見積書(2号)'!L536)","v":""},{"$f":"IF('見積書(2号)'!M536=\"\",\"\",'見積書(2号)'!M536)","v":""},null,"","",null,"",""]
[{"$f":"IF('見積書(2号)'!A537=\"\",\"\",'見積書(2号)'!A537)","v":""},{"$f":"IF('見積書(2号)'!B537=\"\",\"\",'見積書(2号)'!B537)","v":""},{"$f":"IF('見積書(2号)'!C537=\"\",\"\",'見積書(2号)'!C537)","v":""},{"$f":"IF('見積書(2号)'!H537=\"\",\"\",'見積書(2号)'!H537)","v":""},{"$f":"IF('見積書(2号)'!E537=\"\",\"\",'見積書(2号)'!E537)","v":""},{"$f":"IF('見積書(2号)'!I537=\"\",\"\",'見積書(2号)'!I537)","v":""},{"$f":"IF('見積書(2号)'!J537=\"\",\"\",'見積書(2号)'!J537)","v":""},{"$f":"IF('見積書(2号)'!K537=\"\",\"\",'見積書(2号)'!K537)","v":""},{"$f":"IF('見積書(2号)'!L537=\"\",\"\",'見積書(2号)'!L537)","v":""},{"$f":"IF('見積書(2号)'!M537=\"\",\"\",'見積書(2号)'!M537)","v":""},null,"","",null,"",""]
[{"$f":"IF('見積書(2号)'!A538=\"\",\"\",'見積書(2号)'!A538)","v":""},{"$f":"IF('見積書(2号)'!B538=\"\",\"\",'見積書(2号)'!B538)","v":""},{"$f":"IF('見積書(2号)'!C538=\"\",\"\",'見積書(2号)'!C538)","v":""},{"$f":"IF('見積書(2号)'!H538=\"\",\"\",'見積書(2号)'!H538)","v":""},{"$f":"IF('見積書(2号)'!E538=\"\",\"\",'見積書(2号)'!E538)","v":""},{"$f":"IF('見積書(2号)'!I538=\"\",\"\",'見積書(2号)'!I538)","v":""},{"$f":"IF('見積書(2号)'!J538=\"\",\"\",'見積書(2号)'!J538)","v":""},{"$f":"IF('見積書(2号)'!K538=\"\",\"\",'見積書(2号)'!K538)","v":""},{"$f":"IF('見積書(2号)'!L538=\"\",\"\",'見積書(2号)'!L538)","v":""},{"$f":"IF('見積書(2号)'!M538=\"\",\"\",'見積書(2号)'!M538)","v":""},null,"","",null,"",""]
[{"$f":"IF('見積書(2号)'!A539=\"\",\"\",'見積書(2号)'!A539)","v":""},{"$f":"IF('見積書(2号)'!B539=\"\",\"\",'見積書(2号)'!B539)","v":""},{"$f":"IF('見積書(2号)'!C539=\"\",\"\",'見積書(2号)'!C539)","v":""},{"$f":"IF('見積書(2号)'!H539=\"\",\"\",'見積書(2号)'!H539)","v":""},{"$f":"IF('見積書(2号)'!E539=\"\",\"\",'見積書(2号)'!E539)","v":""},{"$f":"IF('見積書(2号)'!I539=\"\",\"\",'見積書(2号)'!I539)","v":""},{"$f":"IF('見積書(2号)'!J539=\"\",\"\",'見積書(2号)'!J539)","v":""},{"$f":"IF('見積書(2号)'!K539=\"\",\"\",'見積書(2号)'!K539)","v":""},{"$f":"IF('見積書(2号)'!L539=\"\",\"\",'見積書(2号)'!L539)","v":""},{"$f":"IF('見積書(2号)'!M539=\"\",\"\",'見積書(2号)'!M539)","v":""},null,"","",null,"",""]
[{"$f":"IF('見積書(2号)'!A540=\"\",\"\",'見積書(2号)'!A540)","v":""},{"$f":"IF('見積書(2号)'!B540=\"\",\"\",'見積書(2号)'!B540)","v":""},{"$f":"IF('見積書(2号)'!C540=\"\",\"\",'見積書(2号)'!C540)","v":""},{"$f":"IF('見積書(2号)'!H540=\"\",\"\",'見積書(2号)'!H540)","v":""},{"$f":"IF('見積書(2号)'!E540=\"\",\"\",'見積書(2号)'!E540)","v":""},{"$f":"IF('見積書(2号)'!I540=\"\",\"\",'見積書(2号)'!I540)","v":""},{"$f":"IF('見積書(2号)'!J540=\"\",\"\",'見積書(2号)'!J540)","v":""},{"$f":"IF('見積書(2号)'!K540=\"\",\"\",'見積書(2号)'!K540)","v":""},{"$f":"IF('見積書(2号)'!L540=\"\",\"\",'見積書(2号)'!L540)","v":""},{"$f":"IF('見積書(2号)'!M540=\"\",\"\",'見積書(2号)'!M540)","v":""},null,"","",null,"",""]
[{"$f":"IF('見積書(2号)'!A541=\"\",\"\",'見積書(2号)'!A541)","v":""},{"$f":"IF('見積書(2号)'!B541=\"\",\"\",'見積書(2号)'!B541)","v":""},{"$f":"IF('見積書(2号)'!C541=\"\",\"\",'見積書(2号)'!C541)","v":""},{"$f":"IF('見積書(2号)'!H541=\"\",\"\",'見積書(2号)'!H541)","v":""},{"$f":"IF('見積書(2号)'!E541=\"\",\"\",'見積書(2号)'!E541)","v":""},{"$f":"IF('見積書(2号)'!I541=\"\",\"\",'見積書(2号)'!I541)","v":""},{"$f":"IF('見積書(2号)'!J541=\"\",\"\",'見積書(2号)'!J541)","v":""},{"$f":"IF('見積書(2号)'!K541=\"\",\"\",'見積書(2号)'!K541)","v":""},{"$f":"IF('見積書(2号)'!L541=\"\",\"\",'見積書(2号)'!L541)","v":""},{"$f":"IF('見積書(2号)'!M541=\"\",\"\",'見積書(2号)'!M541)","v":""},null,"","",null,"",""]
[{"$f":"IF('見積書(2号)'!A542=\"\",\"\",'見積書(2号)'!A542)","v":""},{"$f":"IF('見積書(2号)'!B542=\"\",\"\",'見積書(2号)'!B542)","v":""},{"$f":"IF('見積書(2号)'!C542=\"\",\"\",'見積書(2号)'!C542)","v":""},{"$f":"IF('見積書(2号)'!H542=\"\",\"\",'見積書(2号)'!H542)","v":""},{"$f":"IF('見積書(2号)'!E542=\"\",\"\",'見積書(2号)'!E542)","v":""},{"$f":"IF('見積書(2号)'!I542=\"\",\"\",'見積書(2号)'!I542)","v":""},{"$f":"IF('見積書(2号)'!J542=\"\",\"\",'見積書(2号)'!J542)","v":""},{"$f":"IF('見積書(2号)'!K542=\"\",\"\",'見積書(2号)'!K542)","v":""},{"$f":"IF('見積書(2号)'!L542=\"\",\"\",'見積書(2号)'!L542)","v":""},{"$f":"IF('見積書(2号)'!M542=\"\",\"\",'見積書(2号)'!M542)","v":""},null,"","",null,"",""]
[{"$f":"IF('見積書(2号)'!A543=\"\",\"\",'見積書(2号)'!A543)","v":""},{"$f":"IF('見積書(2号)'!B543=\"\",\"\",'見積書(2号)'!B543)","v":""},{"$f":"IF('見積書(2号)'!C543=\"\",\"\",'見積書(2号)'!C543)","v":""},{"$f":"IF('見積書(2号)'!H543=\"\",\"\",'見積書(2号)'!H543)","v":""},{"$f":"IF('見積書(2号)'!E543=\"\",\"\",'見積書(2号)'!E543)","v":""},{"$f":"IF('見積書(2号)'!I543=\"\",\"\",'見積書(2号)'!I543)","v":""},{"$f":"IF('見積書(2号)'!J543=\"\",\"\",'見積書(2号)'!J543)","v":""},{"$f":"IF('見積書(2号)'!K543=\"\",\"\",'見積書(2号)'!K543)","v":""},{"$f":"IF('見積書(2号)'!L543=\"\",\"\",'見積書(2号)'!L543)","v":""},{"$f":"IF('見積書(2号)'!M543=\"\",\"\",'見積書(2号)'!M543)","v":""},null,"","",null,"",""]
[{"$f":"IF('見積書(2号)'!A544=\"\",\"\",'見積書(2号)'!A544)","v":""},{"$f":"IF('見積書(2号)'!B544=\"\",\"\",'見積書(2号)'!B544)","v":""},{"$f":"IF('見積書(2号)'!C544=\"\",\"\",'見積書(2号)'!C544)","v":""},{"$f":"IF('見積書(2号)'!H544=\"\",\"\",'見積書(2号)'!H544)","v":""},{"$f":"IF('見積書(2号)'!E544=\"\",\"\",'見積書(2号)'!E544)","v":""},{"$f":"IF('見積書(2号)'!I544=\"\",\"\",'見積書(2号)'!I544)","v":""},{"$f":"IF('見積書(2号)'!J544=\"\",\"\",'見積書(2号)'!J544)","v":""},{"$f":"IF('見積書(2号)'!K544=\"\",\"\",'見積書(2号)'!K544)","v":""},{"$f":"IF('見積書(2号)'!L544=\"\",\"\",'見積書(2号)'!L544)","v":""},{"$f":"IF('見積書(2号)'!M544=\"\",\"\",'見積書(2号)'!M544)","v":""},null,"","",null,"",""]
[{"$f":"IF('見積書(2号)'!A545=\"\",\"\",'見積書(2号)'!A545)","v":""},{"$f":"IF('見積書(2号)'!B545=\"\",\"\",'見積書(2号)'!B545)","v":""},{"$f":"IF('見積書(2号)'!C545=\"\",\"\",'見積書(2号)'!C545)","v":""},{"$f":"IF('見積書(2号)'!H545=\"\",\"\",'見積書(2号)'!H545)","v":""},{"$f":"IF('見積書(2号)'!E545=\"\",\"\",'見積書(2号)'!E545)","v":""},{"$f":"IF('見積書(2号)'!I545=\"\",\"\",'見積書(2号)'!I545)","v":""},{"$f":"IF('見積書(2号)'!J545=\"\",\"\",'見積書(2号)'!J545)","v":""},{"$f":"IF('見積書(2号)'!K545=\"\",\"\",'見積書(2号)'!K545)","v":""},{"$f":"IF('見積書(2号)'!L545=\"\",\"\",'見積書(2号)'!L545)","v":""},{"$f":"IF('見積書(2号)'!M545=\"\",\"\",'見積書(2号)'!M545)","v":""},null,"","",null,"",""]
[{"$f":"IF('見積書(2号)'!A546=\"\",\"\",'見積書(2号)'!A546)","v":""},{"$f":"IF('見積書(2号)'!B546=\"\",\"\",'見積書(2号)'!B546)","v":""},{"$f":"IF('見積書(2号)'!C546=\"\",\"\",'見積書(2号)'!C546)","v":""},{"$f":"IF('見積書(2号)'!H546=\"\",\"\",'見積書(2号)'!H546)","v":""},{"$f":"IF('見積書(2号)'!E546=\"\",\"\",'見積書(2号)'!E546)","v":""},{"$f":"IF('見積書(2号)'!I546=\"\",\"\",'見積書(2号)'!I546)","v":""},{"$f":"IF('見積書(2号)'!J546=\"\",\"\",'見積書(2号)'!J546)","v":""},{"$f":"IF('見積書(2号)'!K546=\"\",\"\",'見積書(2号)'!K546)","v":""},{"$f":"IF('見積書(2号)'!L546=\"\",\"\",'見積書(2号)'!L546)","v":""},{"$f":"IF('見積書(2号)'!M546=\"\",\"\",'見積書(2号)'!M546)","v":""},null,"","",null,"",""]
[{"$f":"IF('見積書(2号)'!A547=\"\",\"\",'見積書(2号)'!A547)","v":""},{"$f":"IF('見積書(2号)'!B547=\"\",\"\",'見積書(2号)'!B547)","v":""},{"$f":"IF('見積書(2号)'!C547=\"\",\"\",'見積書(2号)'!C547)","v":""},{"$f":"IF('見積書(2号)'!H547=\"\",\"\",'見積書(2号)'!H547)","v":""},{"$f":"IF('見積書(2号)'!E547=\"\",\"\",'見積書(2号)'!E547)","v":""},{"$f":"IF('見積書(2号)'!I547=\"\",\"\",'見積書(2号)'!I547)","v":""},{"$f":"IF('見積書(2号)'!J547=\"\",\"\",'見積書(2号)'!J547)","v":""},{"$f":"IF('見積書(2号)'!K547=\"\",\"\",'見積書(2号)'!K547)","v":""},{"$f":"IF('見積書(2号)'!L547=\"\",\"\",'見積書(2号)'!L547)","v":""},{"$f":"IF('見積書(2号)'!M547=\"\",\"\",'見積書(2号)'!M547)","v":""},null,"","",null,"",""]
[{"$f":"IF('見積書(2号)'!A548=\"\",\"\",'見積書(2号)'!A548)","v":""},{"$f":"IF('見積書(2号)'!B548=\"\",\"\",'見積書(2号)'!B548)","v":""},{"$f":"IF('見積書(2号)'!C548=\"\",\"\",'見積書(2号)'!C548)","v":""},{"$f":"IF('見積書(2号)'!H548=\"\",\"\",'見積書(2号)'!H548)","v":""},{"$f":"IF('見積書(2号)'!E548=\"\",\"\",'見積書(2号)'!E548)","v":""},{"$f":"IF('見積書(2号)'!I548=\"\",\"\",'見積書(2号)'!I548)","v":""},{"$f":"IF('見積書(2号)'!J548=\"\",\"\",'見積書(2号)'!J548)","v":""},{"$f":"IF('見積書(2号)'!K548=\"\",\"\",'見積書(2号)'!K548)","v":""},{"$f":"IF('見積書(2号)'!L548=\"\",\"\",'見積書(2号)'!L548)","v":""},{"$f":"IF('見積書(2号)'!M548=\"\",\"\",'見積書(2号)'!M548)","v":""},null,"","",null,"",""]
[{"$f":"IF('見積書(2号)'!A549=\"\",\"\",'見積書(2号)'!A549)","v":""},{"$f":"IF('見積書(2号)'!B549=\"\",\"\",'見積書(2号)'!B549)","v":""},{"$f":"IF('見積書(2号)'!C549=\"\",\"\",'見積書(2号)'!C549)","v":""},{"$f":"IF('見積書(2号)'!H549=\"\",\"\",'見積書(2号)'!H549)","v":""},{"$f":"IF('見積書(2号)'!E549=\"\",\"\",'見積書(2号)'!E549)","v":""},{"$f":"IF('見積書(2号)'!I549=\"\",\"\",'見積書(2号)'!I549)","v":""},{"$f":"IF('見積書(2号)'!J549=\"\",\"\",'見積書(2号)'!J549)","v":""},{"$f":"IF('見積書(2号)'!K549=\"\",\"\",'見積書(2号)'!K549)","v":""},{"$f":"IF('見積書(2号)'!L549=\"\",\"\",'見積書(2号)'!L549)","v":""},{"$f":"IF('見積書(2号)'!M549=\"\",\"\",'見積書(2号)'!M549)","v":""},null,"","",null,"",""]
[{"$f":"IF('見積書(2号)'!A550=\"\",\"\",'見積書(2号)'!A550)","v":""},{"$f":"IF('見積書(2号)'!B550=\"\",\"\",'見積書(2号)'!B550)","v":""},{"$f":"IF('見積書(2号)'!C550=\"\",\"\",'見積書(2号)'!C550)","v":""},{"$f":"IF('見積書(2号)'!H550=\"\",\"\",'見積書(2号)'!H550)","v":""},{"$f":"IF('見積書(2号)'!E550=\"\",\"\",'見積書(2号)'!E550)","v":""},{"$f":"IF('見積書(2号)'!I550=\"\",\"\",'見積書(2号)'!I550)","v":""},{"$f":"IF('見積書(2号)'!J550=\"\",\"\",'見積書(2号)'!J550)","v":""},{"$f":"IF('見積書(2号)'!K550=\"\",\"\",'見積書(2号)'!K550)","v":""},{"$f":"IF('見積書(2号)'!L550=\"\",\"\",'見積書(2号)'!L550)","v":""},{"$f":"IF('見積書(2号)'!M550=\"\",\"\",'見積書(2号)'!M550)","v":""},null,"","",null,"",""]
[{"$f":"IF('見積書(2号)'!A551=\"\",\"\",'見積書(2号)'!A551)","v":""},{"$f":"IF('見積書(2号)'!B551=\"\",\"\",'見積書(2号)'!B551)","v":""},{"$f":"IF('見積書(2号)'!C551=\"\",\"\",'見積書(2号)'!C551)","v":""},{"$f":"IF('見積書(2号)'!H551=\"\",\"\",'見積書(2号)'!H551)","v":""},{"$f":"IF('見積書(2号)'!E551=\"\",\"\",'見積書(2号)'!E551)","v":""},{"$f":"IF('見積書(2号)'!I551=\"\",\"\",'見積書(2号)'!I551)","v":""},{"$f":"IF('見積書(2号)'!J551=\"\",\"\",'見積書(2号)'!J551)","v":""},{"$f":"IF('見積書(2号)'!K551=\"\",\"\",'見積書(2号)'!K551)","v":""},{"$f":"IF('見積書(2号)'!L551=\"\",\"\",'見積書(2号)'!L551)","v":""},{"$f":"IF('見積書(2号)'!M551=\"\",\"\",'見積書(2号)'!M551)","v":""},null,"","",null,"",""]
[{"$f":"IF('見積書(2号)'!A552=\"\",\"\",'見積書(2号)'!A552)","v":""},{"$f":"IF('見積書(2号)'!B552=\"\",\"\",'見積書(2号)'!B552)","v":""},{"$f":"IF('見積書(2号)'!C552=\"\",\"\",'見積書(2号)'!C552)","v":""},{"$f":"IF('見積書(2号)'!H552=\"\",\"\",'見積書(2号)'!H552)","v":""},{"$f":"IF('見積書(2号)'!E552=\"\",\"\",'見積書(2号)'!E552)","v":""},{"$f":"IF('見積書(2号)'!I552=\"\",\"\",'見積書(2号)'!I552)","v":""},{"$f":"IF('見積書(2号)'!J552=\"\",\"\",'見積書(2号)'!J552)","v":""},{"$f":"IF('見積書(2号)'!K552=\"\",\"\",'見積書(2号)'!K552)","v":""},{"$f":"IF('見積書(2号)'!L552=\"\",\"\",'見積書(2号)'!L552)","v":""},{"$f":"IF('見積書(2号)'!M552=\"\",\"\",'見積書(2号)'!M552)","v":""},null,"","",null,"",""]
[{"$f":"IF('見積書(2号)'!A553=\"\",\"\",'見積書(2号)'!A553)","v":""},{"$f":"IF('見積書(2号)'!B553=\"\",\"\",'見積書(2号)'!B553)","v":""},{"$f":"IF('見積書(2号)'!C553=\"\",\"\",'見積書(2号)'!C553)","v":""},{"$f":"IF('見積書(2号)'!H553=\"\",\"\",'見積書(2号)'!H553)","v":""},{"$f":"IF('見積書(2号)'!E553=\"\",\"\",'見積書(2号)'!E553)","v":""},{"$f":"IF('見積書(2号)'!I553=\"\",\"\",'見積書(2号)'!I553)","v":""},{"$f":"IF('見積書(2号)'!J553=\"\",\"\",'見積書(2号)'!J553)","v":""},{"$f":"IF('見積書(2号)'!K553=\"\",\"\",'見積書(2号)'!K553)","v":""},{"$f":"IF('見積書(2号)'!L553=\"\",\"\",'見積書(2号)'!L553)","v":""},{"$f":"IF('見積書(2号)'!M553=\"\",\"\",'見積書(2号)'!M553)","v":""},null,"","",null,"",""]
[{"$f":"IF('見積書(2号)'!A554=\"\",\"\",'見積書(2号)'!A554)","v":""},{"$f":"IF('見積書(2号)'!B554=\"\",\"\",'見積書(2号)'!B554)","v":""},{"$f":"IF('見積書(2号)'!C554=\"\",\"\",'見積書(2号)'!C554)","v":""},{"$f":"IF('見積書(2号)'!H554=\"\",\"\",'見積書(2号)'!H554)","v":""},{"$f":"IF('見積書(2号)'!E554=\"\",\"\",'見積書(2号)'!E554)","v":""},{"$f":"IF('見積書(2号)'!I554=\"\",\"\",'見積書(2号)'!I554)","v":""},{"$f":"IF('見積書(2号)'!J554=\"\",\"\",'見積書(2号)'!J554)","v":""},{"$f":"IF('見積書(2号)'!K554=\"\",\"\",'見積書(2号)'!K554)","v":""},{"$f":"IF('見積書(2号)'!L554=\"\",\"\",'見積書(2号)'!L554)","v":""},{"$f":"IF('見積書(2号)'!M554=\"\",\"\",'見積書(2号)'!M554)","v":""},null,"","",null,"",""]
[{"$f":"IF('見積書(2号)'!A555=\"\",\"\",'見積書(2号)'!A555)","v":""},{"$f":"IF('見積書(2号)'!B555=\"\",\"\",'見積書(2号)'!B555)","v":""},{"$f":"IF('見積書(2号)'!C555=\"\",\"\",'見積書(2号)'!C555)","v":""},{"$f":"IF('見積書(2号)'!H555=\"\",\"\",'見積書(2号)'!H555)","v":""},{"$f":"IF('見積書(2号)'!E555=\"\",\"\",'見積書(2号)'!E555)","v":""},{"$f":"IF('見積書(2号)'!I555=\"\",\"\",'見積書(2号)'!I555)","v":""},{"$f":"IF('見積書(2号)'!J555=\"\",\"\",'見積書(2号)'!J555)","v":""},{"$f":"IF('見積書(2号)'!K555=\"\",\"\",'見積書(2号)'!K555)","v":""},{"$f":"IF('見積書(2号)'!L555=\"\",\"\",'見積書(2号)'!L555)","v":""},{"$f":"IF('見積書(2号)'!M555=\"\",\"\",'見積書(2号)'!M555)","v":""},null,"","",null,"",""]
[{"$f":"IF('見積書(2号)'!A556=\"\",\"\",'見積書(2号)'!A556)","v":""},{"$f":"IF('見積書(2号)'!B556=\"\",\"\",'見積書(2号)'!B556)","v":""},{"$f":"IF('見積書(2号)'!C556=\"\",\"\",'見積書(2号)'!C556)","v":""},{"$f":"IF('見積書(2号)'!H556=\"\",\"\",'見積書(2号)'!H556)","v":""},{"$f":"IF('見積書(2号)'!E556=\"\",\"\",'見積書(2号)'!E556)","v":""},{"$f":"IF('見積書(2号)'!I556=\"\",\"\",'見積書(2号)'!I556)","v":""},{"$f":"IF('見積書(2号)'!J556=\"\",\"\",'見積書(2号)'!J556)","v":""},{"$f":"IF('見積書(2号)'!K556=\"\",\"\",'見積書(2号)'!K556)","v":""},{"$f":"IF('見積書(2号)'!L556=\"\",\"\",'見積書(2号)'!L556)","v":""},{"$f":"IF('見積書(2号)'!M556=\"\",\"\",'見積書(2号)'!M556)","v":""},null,"","",null,"",""]
[{"$f":"IF('見積書(2号)'!A557=\"\",\"\",'見積書(2号)'!A557)","v":""},{"$f":"IF('見積書(2号)'!B557=\"\",\"\",'見積書(2号)'!B557)","v":""},{"$f":"IF('見積書(2号)'!C557=\"\",\"\",'見積書(2号)'!C557)","v":""},{"$f":"IF('見積書(2号)'!H557=\"\",\"\",'見積書(2号)'!H557)","v":""},{"$f":"IF('見積書(2号)'!E557=\"\",\"\",'見積書(2号)'!E557)","v":""},{"$f":"IF('見積書(2号)'!I557=\"\",\"\",'見積書(2号)'!I557)","v":""},{"$f":"IF('見積書(2号)'!J557=\"\",\"\",'見積書(2号)'!J557)","v":""},{"$f":"IF('見積書(2号)'!K557=\"\",\"\",'見積書(2号)'!K557)","v":""},{"$f":"IF('見積書(2号)'!L557=\"\",\"\",'見積書(2号)'!L557)","v":""},{"$f":"IF('見積書(2号)'!M557=\"\",\"\",'見積書(2号)'!M557)","v":""},null,"","",null,"",""]
[{"$f":"IF('見積書(2号)'!A558=\"\",\"\",'見積書(2号)'!A558)","v":""},{"$f":"IF('見積書(2号)'!B558=\"\",\"\",'見積書(2号)'!B558)","v":""},{"$f":"IF('見積書(2号)'!C558=\"\",\"\",'見積書(2号)'!C558)","v":""},{"$f":"IF('見積書(2号)'!H558=\"\",\"\",'見積書(2号)'!H558)","v":""},{"$f":"IF('見積書(2号)'!E558=\"\",\"\",'見積書(2号)'!E558)","v":""},{"$f":"IF('見積書(2号)'!I558=\"\",\"\",'見積書(2号)'!I558)","v":""},{"$f":"IF('見積書(2号)'!J558=\"\",\"\",'見積書(2号)'!J558)","v":""},{"$f":"IF('見積書(2号)'!K558=\"\",\"\",'見積書(2号)'!K558)","v":""},{"$f":"IF('見積書(2号)'!L558=\"\",\"\",'見積書(2号)'!L558)","v":""},{"$f":"IF('見積書(2号)'!M558=\"\",\"\",'見積書(2号)'!M558)","v":""},null,"","",null,"",""]
[{"$f":"IF('見積書(2号)'!A559=\"\",\"\",'見積書(2号)'!A559)","v":""},{"$f":"IF('見積書(2号)'!B559=\"\",\"\",'見積書(2号)'!B559)","v":""},{"$f":"IF('見積書(2号)'!C559=\"\",\"\",'見積書(2号)'!C559)","v":""},{"$f":"IF('見積書(2号)'!H559=\"\",\"\",'見積書(2号)'!H559)","v":""},{"$f":"IF('見積書(2号)'!E559=\"\",\"\",'見積書(2号)'!E559)","v":""},{"$f":"IF('見積書(2号)'!I559=\"\",\"\",'見積書(2号)'!I559)","v":""},{"$f":"IF('見積書(2号)'!J559=\"\",\"\",'見積書(2号)'!J559)","v":""},{"$f":"IF('見積書(2号)'!K559=\"\",\"\",'見積書(2号)'!K559)","v":""},{"$f":"IF('見積書(2号)'!L559=\"\",\"\",'見積書(2号)'!L559)","v":""},{"$f":"IF('見積書(2号)'!M559=\"\",\"\",'見積書(2号)'!M559)","v":""},null,"","",null,"",""]
[{"$f":"IF('見積書(2号)'!A560=\"\",\"\",'見積書(2号)'!A560)","v":""},{"$f":"IF('見積書(2号)'!B560=\"\",\"\",'見積書(2号)'!B560)","v":""},{"$f":"IF('見積書(2号)'!C560=\"\",\"\",'見積書(2号)'!C560)","v":""},{"$f":"IF('見積書(2号)'!H560=\"\",\"\",'見積書(2号)'!H560)","v":""},{"$f":"IF('見積書(2号)'!E560=\"\",\"\",'見積書(2号)'!E560)","v":""},{"$f":"IF('見積書(2号)'!I560=\"\",\"\",'見積書(2号)'!I560)","v":""},{"$f":"IF('見積書(2号)'!J560=\"\",\"\",'見積書(2号)'!J560)","v":""},{"$f":"IF('見積書(2号)'!K560=\"\",\"\",'見積書(2号)'!K560)","v":""},{"$f":"IF('見積書(2号)'!L560=\"\",\"\",'見積書(2号)'!L560)","v":""},{"$f":"IF('見積書(2号)'!M560=\"\",\"\",'見積書(2号)'!M560)","v":""},null,"","",null,"",""]
[{"$f":"IF('見積書(2号)'!A561=\"\",\"\",'見積書(2号)'!A561)","v":""},{"$f":"IF('見積書(2号)'!B561=\"\",\"\",'見積書(2号)'!B561)","v":""},{"$f":"IF('見積書(2号)'!C561=\"\",\"\",'見積書(2号)'!C561)","v":""},{"$f":"IF('見積書(2号)'!H561=\"\",\"\",'見積書(2号)'!H561)","v":""},{"$f":"IF('見積書(2号)'!E561=\"\",\"\",'見積書(2号)'!E561)","v":""},{"$f":"IF('見積書(2号)'!I561=\"\",\"\",'見積書(2号)'!I561)","v":""},{"$f":"IF('見積書(2号)'!J561=\"\",\"\",'見積書(2号)'!J561)","v":""},{"$f":"IF('見積書(2号)'!K561=\"\",\"\",'見積書(2号)'!K561)","v":""},{"$f":"IF('見積書(2号)'!L561=\"\",\"\",'見積書(2号)'!L561)","v":""},{"$f":"IF('見積書(2号)'!M561=\"\",\"\",'見積書(2号)'!M561)","v":""},null,"","",null,"",""]
[{"$f":"IF('見積書(2号)'!A562=\"\",\"\",'見積書(2号)'!A562)","v":""},{"$f":"IF('見積書(2号)'!B562=\"\",\"\",'見積書(2号)'!B562)","v":""},{"$f":"IF('見積書(2号)'!C562=\"\",\"\",'見積書(2号)'!C562)","v":""},{"$f":"IF('見積書(2号)'!H562=\"\",\"\",'見積書(2号)'!H562)","v":""},{"$f":"IF('見積書(2号)'!E562=\"\",\"\",'見積書(2号)'!E562)","v":""},{"$f":"IF('見積書(2号)'!I562=\"\",\"\",'見積書(2号)'!I562)","v":""},{"$f":"IF('見積書(2号)'!J562=\"\",\"\",'見積書(2号)'!J562)","v":""},{"$f":"IF('見積書(2号)'!K562=\"\",\"\",'見積書(2号)'!K562)","v":""},{"$f":"IF('見積書(2号)'!L562=\"\",\"\",'見積書(2号)'!L562)","v":""},{"$f":"IF('見積書(2号)'!M562=\"\",\"\",'見積書(2号)'!M562)","v":""},null,"","",null,"",""]
[{"$f":"IF('見積書(2号)'!A563=\"\",\"\",'見積書(2号)'!A563)","v":""},{"$f":"IF('見積書(2号)'!B563=\"\",\"\",'見積書(2号)'!B563)","v":""},{"$f":"IF('見積書(2号)'!C563=\"\",\"\",'見積書(2号)'!C563)","v":""},{"$f":"IF('見積書(2号)'!H563=\"\",\"\",'見積書(2号)'!H563)","v":""},{"$f":"IF('見積書(2号)'!E563=\"\",\"\",'見積書(2号)'!E563)","v":""},{"$f":"IF('見積書(2号)'!I563=\"\",\"\",'見積書(2号)'!I563)","v":""},{"$f":"IF('見積書(2号)'!J563=\"\",\"\",'見積書(2号)'!J563)","v":""},{"$f":"IF('見積書(2号)'!K563=\"\",\"\",'見積書(2号)'!K563)","v":""},{"$f":"IF('見積書(2号)'!L563=\"\",\"\",'見積書(2号)'!L563)","v":""},{"$f":"IF('見積書(2号)'!M563=\"\",\"\",'見積書(2号)'!M563)","v":""},null,"","",null,"",""]
[{"$f":"IF('見積書(2号)'!A564=\"\",\"\",'見積書(2号)'!A564)","v":""},{"$f":"IF('見積書(2号)'!B564=\"\",\"\",'見積書(2号)'!B564)","v":""},{"$f":"IF('見積書(2号)'!C564=\"\",\"\",'見積書(2号)'!C564)","v":""},{"$f":"IF('見積書(2号)'!H564=\"\",\"\",'見積書(2号)'!H564)","v":""},{"$f":"IF('見積書(2号)'!E564=\"\",\"\",'見積書(2号)'!E564)","v":""},{"$f":"IF('見積書(2号)'!I564=\"\",\"\",'見積書(2号)'!I564)","v":""},{"$f":"IF('見積書(2号)'!J564=\"\",\"\",'見積書(2号)'!J564)","v":""},{"$f":"IF('見積書(2号)'!K564=\"\",\"\",'見積書(2号)'!K564)","v":""},{"$f":"IF('見積書(2号)'!L564=\"\",\"\",'見積書(2号)'!L564)","v":""},{"$f":"IF('見積書(2号)'!M564=\"\",\"\",'見積書(2号)'!M564)","v":""},null,"","",null,"",""]
[{"$f":"IF('見積書(2号)'!A565=\"\",\"\",'見積書(2号)'!A565)","v":""},{"$f":"IF('見積書(2号)'!B565=\"\",\"\",'見積書(2号)'!B565)","v":""},{"$f":"IF('見積書(2号)'!C565=\"\",\"\",'見積書(2号)'!C565)","v":""},{"$f":"IF('見積書(2号)'!H565=\"\",\"\",'見積書(2号)'!H565)","v":""},{"$f":"IF('見積書(2号)'!E565=\"\",\"\",'見積書(2号)'!E565)","v":""},{"$f":"IF('見積書(2号)'!I565=\"\",\"\",'見積書(2号)'!I565)","v":""},{"$f":"IF('見積書(2号)'!J565=\"\",\"\",'見積書(2号)'!J565)","v":""},{"$f":"IF('見積書(2号)'!K565=\"\",\"\",'見積書(2号)'!K565)","v":""},{"$f":"IF('見積書(2号)'!L565=\"\",\"\",'見積書(2号)'!L565)","v":""},{"$f":"IF('見積書(2号)'!M565=\"\",\"\",'見積書(2号)'!M565)","v":""},null,"","",null,"",""]
[{"$f":"IF('見積書(2号)'!A566=\"\",\"\",'見積書(2号)'!A566)","v":""},{"$f":"IF('見積書(2号)'!B566=\"\",\"\",'見積書(2号)'!B566)","v":""},{"$f":"IF('見積書(2号)'!C566=\"\",\"\",'見積書(2号)'!C566)","v":""},{"$f":"IF('見積書(2号)'!H566=\"\",\"\",'見積書(2号)'!H566)","v":""},{"$f":"IF('見積書(2号)'!E566=\"\",\"\",'見積書(2号)'!E566)","v":""},{"$f":"IF('見積書(2号)'!I566=\"\",\"\",'見積書(2号)'!I566)","v":""},{"$f":"IF('見積書(2号)'!J566=\"\",\"\",'見積書(2号)'!J566)","v":""},{"$f":"IF('見積書(2号)'!K566=\"\",\"\",'見積書(2号)'!K566)","v":""},{"$f":"IF('見積書(2号)'!L566=\"\",\"\",'見積書(2号)'!L566)","v":""},{"$f":"IF('見積書(2号)'!M566=\"\",\"\",'見積書(2号)'!M566)","v":""},null,"","",null,"",""]
[{"$f":"IF('見積書(2号)'!A567=\"\",\"\",'見積書(2号)'!A567)","v":""},{"$f":"IF('見積書(2号)'!B567=\"\",\"\",'見積書(2号)'!B567)","v":""},{"$f":"IF('見積書(2号)'!C567=\"\",\"\",'見積書(2号)'!C567)","v":""},{"$f":"IF('見積書(2号)'!H567=\"\",\"\",'見積書(2号)'!H567)","v":""},{"$f":"IF('見積書(2号)'!E567=\"\",\"\",'見積書(2号)'!E567)","v":""},{"$f":"IF('見積書(2号)'!I567=\"\",\"\",'見積書(2号)'!I567)","v":""},{"$f":"IF('見積書(2号)'!J567=\"\",\"\",'見積書(2号)'!J567)","v":""},{"$f":"IF('見積書(2号)'!K567=\"\",\"\",'見積書(2号)'!K567)","v":""},{"$f":"IF('見積書(2号)'!L567=\"\",\"\",'見積書(2号)'!L567)","v":""},{"$f":"IF('見積書(2号)'!M567=\"\",\"\",'見積書(2号)'!M567)","v":""},null,"","",null,"",""]
[{"$f":"IF('見積書(2号)'!A568=\"\",\"\",'見積書(2号)'!A568)","v":""},{"$f":"IF('見積書(2号)'!B568=\"\",\"\",'見積書(2号)'!B568)","v":""},{"$f":"IF('見積書(2号)'!C568=\"\",\"\",'見積書(2号)'!C568)","v":""},{"$f":"IF('見積書(2号)'!H568=\"\",\"\",'見積書(2号)'!H568)","v":""},{"$f":"IF('見積書(2号)'!E568=\"\",\"\",'見積書(2号)'!E568)","v":""},{"$f":"IF('見積書(2号)'!I568=\"\",\"\",'見積書(2号)'!I568)","v":""},{"$f":"IF('見積書(2号)'!J568=\"\",\"\",'見積書(2号)'!J568)","v":""},{"$f":"IF('見積書(2号)'!K568=\"\",\"\",'見積書(2号)'!K568)","v":""},{"$f":"IF('見積書(2号)'!L568=\"\",\"\",'見積書(2号)'!L568)","v":""},{"$f":"IF('見積書(2号)'!M568=\"\",\"\",'見積書(2号)'!M568)","v":""},null,"","",null,"",""]
[{"$f":"IF('見積書(2号)'!A569=\"\",\"\",'見積書(2号)'!A569)","v":""},{"$f":"IF('見積書(2号)'!B569=\"\",\"\",'見積書(2号)'!B569)","v":""},{"$f":"IF('見積書(2号)'!C569=\"\",\"\",'見積書(2号)'!C569)","v":""},{"$f":"IF('見積書(2号)'!H569=\"\",\"\",'見積書(2号)'!H569)","v":""},{"$f":"IF('見積書(2号)'!E569=\"\",\"\",'見積書(2号)'!E569)","v":""},{"$f":"IF('見積書(2号)'!I569=\"\",\"\",'見積書(2号)'!I569)","v":""},{"$f":"IF('見積書(2号)'!J569=\"\",\"\",'見積書(2号)'!J569)","v":""},{"$f":"IF('見積書(2号)'!K569=\"\",\"\",'見積書(2号)'!K569)","v":""},{"$f":"IF('見積書(2号)'!L569=\"\",\"\",'見積書(2号)'!L569)","v":""},{"$f":"IF('見積書(2号)'!M569=\"\",\"\",'見積書(2号)'!M569)","v":""},null,"","",null,"",""]
[{"$f":"IF('見積書(2号)'!A570=\"\",\"\",'見積書(2号)'!A570)","v":""},{"$f":"IF('見積書(2号)'!B570=\"\",\"\",'見積書(2号)'!B570)","v":""},{"$f":"IF('見積書(2号)'!C570=\"\",\"\",'見積書(2号)'!C570)","v":""},{"$f":"IF('見積書(2号)'!H570=\"\",\"\",'見積書(2号)'!H570)","v":""},{"$f":"IF('見積書(2号)'!E570=\"\",\"\",'見積書(2号)'!E570)","v":""},{"$f":"IF('見積書(2号)'!I570=\"\",\"\",'見積書(2号)'!I570)","v":""},{"$f":"IF('見積書(2号)'!J570=\"\",\"\",'見積書(2号)'!J570)","v":""},{"$f":"IF('見積書(2号)'!K570=\"\",\"\",'見積書(2号)'!K570)","v":""},{"$f":"IF('見積書(2号)'!L570=\"\",\"\",'見積書(2号)'!L570)","v":""},{"$f":"IF('見積書(2号)'!M570=\"\",\"\",'見積書(2号)'!M570)","v":""},null,"","",null,"",""]
[{"$f":"IF('見積書(2号)'!A571=\"\",\"\",'見積書(2号)'!A571)","v":""},{"$f":"IF('見積書(2号)'!B571=\"\",\"\",'見積書(2号)'!B571)","v":""},{"$f":"IF('見積書(2号)'!C571=\"\",\"\",'見積書(2号)'!C571)","v":""},{"$f":"IF('見積書(2号)'!H571=\"\",\"\",'見積書(2号)'!H571)","v":""},{"$f":"IF('見積書(2号)'!E571=\"\",\"\",'見積書(2号)'!E571)","v":""},{"$f":"IF('見積書(2号)'!I571=\"\",\"\",'見積書(2号)'!I571)","v":""},{"$f":"IF('見積書(2号)'!J571=\"\",\"\",'見積書(2号)'!J571)","v":""},{"$f":"IF('見積書(2号)'!K571=\"\",\"\",'見積書(2号)'!K571)","v":""},{"$f":"IF('見積書(2号)'!L571=\"\",\"\",'見積書(2号)'!L571)","v":""},{"$f":"IF('見積書(2号)'!M571=\"\",\"\",'見積書(2号)'!M571)","v":""},null,"","",null,"",""]
[{"$f":"IF('見積書(2号)'!A572=\"\",\"\",'見積書(2号)'!A572)","v":""},{"$f":"IF('見積書(2号)'!B572=\"\",\"\",'見積書(2号)'!B572)","v":""},{"$f":"IF('見積書(2号)'!C572=\"\",\"\",'見積書(2号)'!C572)","v":""},{"$f":"IF('見積書(2号)'!H572=\"\",\"\",'見積書(2号)'!H572)","v":""},{"$f":"IF('見積書(2号)'!E572=\"\",\"\",'見積書(2号)'!E572)","v":""},{"$f":"IF('見積書(2号)'!I572=\"\",\"\",'見積書(2号)'!I572)","v":""},{"$f":"IF('見積書(2号)'!J572=\"\",\"\",'見積書(2号)'!J572)","v":""},{"$f":"IF('見積書(2号)'!K572=\"\",\"\",'見積書(2号)'!K572)","v":""},{"$f":"IF('見積書(2号)'!L572=\"\",\"\",'見積書(2号)'!L572)","v":""},{"$f":"IF('見積書(2号)'!M572=\"\",\"\",'見積書(2号)'!M572)","v":""},null,"","",null,"",""]
[{"$f":"IF('見積書(2号)'!A573=\"\",\"\",'見積書(2号)'!A573)","v":""},{"$f":"IF('見積書(2号)'!B573=\"\",\"\",'見積書(2号)'!B573)","v":""},{"$f":"IF('見積書(2号)'!C573=\"\",\"\",'見積書(2号)'!C573)","v":""},{"$f":"IF('見積書(2号)'!H573=\"\",\"\",'見積書(2号)'!H573)","v":""},{"$f":"IF('見積書(2号)'!E573=\"\",\"\",'見積書(2号)'!E573)","v":""},{"$f":"IF('見積書(2号)'!I573=\"\",\"\",'見積書(2号)'!I573)","v":""},{"$f":"IF('見積書(2号)'!J573=\"\",\"\",'見積書(2号)'!J573)","v":""},{"$f":"IF('見積書(2号)'!K573=\"\",\"\",'見積書(2号)'!K573)","v":""},{"$f":"IF('見積書(2号)'!L573=\"\",\"\",'見積書(2号)'!L573)","v":""},{"$f":"IF('見積書(2号)'!M573=\"\",\"\",'見積書(2号)'!M573)","v":""},null,"","",null,"",""]
[{"$f":"IF('見積書(2号)'!A574=\"\",\"\",'見積書(2号)'!A574)","v":""},{"$f":"IF('見積書(2号)'!B574=\"\",\"\",'見積書(2号)'!B574)","v":""},{"$f":"IF('見積書(2号)'!C574=\"\",\"\",'見積書(2号)'!C574)","v":""},{"$f":"IF('見積書(2号)'!H574=\"\",\"\",'見積書(2号)'!H574)","v":""},{"$f":"IF('見積書(2号)'!E574=\"\",\"\",'見積書(2号)'!E574)","v":""},{"$f":"IF('見積書(2号)'!I574=\"\",\"\",'見積書(2号)'!I574)","v":""},{"$f":"IF('見積書(2号)'!J574=\"\",\"\",'見積書(2号)'!J574)","v":""},{"$f":"IF('見積書(2号)'!K574=\"\",\"\",'見積書(2号)'!K574)","v":""},{"$f":"IF('見積書(2号)'!L574=\"\",\"\",'見積書(2号)'!L574)","v":""},{"$f":"IF('見積書(2号)'!M574=\"\",\"\",'見積書(2号)'!M574)","v":""},null,"","",null,"",""]
[{"$f":"IF('見積書(2号)'!A575=\"\",\"\",'見積書(2号)'!A575)","v":""},{"$f":"IF('見積書(2号)'!B575=\"\",\"\",'見積書(2号)'!B575)","v":""},{"$f":"IF('見積書(2号)'!C575=\"\",\"\",'見積書(2号)'!C575)","v":""},{"$f":"IF('見積書(2号)'!H575=\"\",\"\",'見積書(2号)'!H575)","v":""},{"$f":"IF('見積書(2号)'!E575=\"\",\"\",'見積書(2号)'!E575)","v":""},{"$f":"IF('見積書(2号)'!I575=\"\",\"\",'見積書(2号)'!I575)","v":""},{"$f":"IF('見積書(2号)'!J575=\"\",\"\",'見積書(2号)'!J575)","v":""},{"$f":"IF('見積書(2号)'!K575=\"\",\"\",'見積書(2号)'!K575)","v":""},{"$f":"IF('見積書(2号)'!L575=\"\",\"\",'見積書(2号)'!L575)","v":""},{"$f":"IF('見積書(2号)'!M575=\"\",\"\",'見積書(2号)'!M575)","v":""},null,"","",null,"",""]
[{"$f":"IF('見積書(2号)'!A576=\"\",\"\",'見積書(2号)'!A576)","v":""},{"$f":"IF('見積書(2号)'!B576=\"\",\"\",'見積書(2号)'!B576)","v":""},{"$f":"IF('見積書(2号)'!C576=\"\",\"\",'見積書(2号)'!C576)","v":""},{"$f":"IF('見積書(2号)'!H576=\"\",\"\",'見積書(2号)'!H576)","v":""},{"$f":"IF('見積書(2号)'!E576=\"\",\"\",'見積書(2号)'!E576)","v":""},{"$f":"IF('見積書(2号)'!I576=\"\",\"\",'見積書(2号)'!I576)","v":""},{"$f":"IF('見積書(2号)'!J576=\"\",\"\",'見積書(2号)'!J576)","v":""},{"$f":"IF('見積書(2号)'!K576=\"\",\"\",'見積書(2号)'!K576)","v":""},{"$f":"IF('見積書(2号)'!L576=\"\",\"\",'見積書(2号)'!L576)","v":""},{"$f":"IF('見積書(2号)'!M576=\"\",\"\",'見積書(2号)'!M576)","v":""},null,"","",null,"",""]
[{"$f":"IF('見積書(2号)'!A577=\"\",\"\",'見積書(2号)'!A577)","v":""},{"$f":"IF('見積書(2号)'!B577=\"\",\"\",'見積書(2号)'!B577)","v":""},{"$f":"IF('見積書(2号)'!C577=\"\",\"\",'見積書(2号)'!C577)","v":""},{"$f":"IF('見積書(2号)'!H577=\"\",\"\",'見積書(2号)'!H577)","v":""},{"$f":"IF('見積書(2号)'!E577=\"\",\"\",'見積書(2号)'!E577)","v":""},{"$f":"IF('見積書(2号)'!I577=\"\",\"\",'見積書(2号)'!I577)","v":""},{"$f":"IF('見積書(2号)'!J577=\"\",\"\",'見積書(2号)'!J577)","v":""},{"$f":"IF('見積書(2号)'!K577=\"\",\"\",'見積書(2号)'!K577)","v":""},{"$f":"IF('見積書(2号)'!L577=\"\",\"\",'見積書(2号)'!L577)","v":""},{"$f":"IF('見積書(2号)'!M577=\"\",\"\",'見積書(2号)'!M577)","v":""},null,"","",null,"",""]
[{"$f":"IF('見積書(2号)'!A578=\"\",\"\",'見積書(2号)'!A578)","v":""},{"$f":"IF('見積書(2号)'!B578=\"\",\"\",'見積書(2号)'!B578)","v":""},{"$f":"IF('見積書(2号)'!C578=\"\",\"\",'見積書(2号)'!C578)","v":""},{"$f":"IF('見積書(2号)'!H578=\"\",\"\",'見積書(2号)'!H578)","v":""},{"$f":"IF('見積書(2号)'!E578=\"\",\"\",'見積書(2号)'!E578)","v":""},{"$f":"IF('見積書(2号)'!I578=\"\",\"\",'見積書(2号)'!I578)","v":""},{"$f":"IF('見積書(2号)'!J578=\"\",\"\",'見積書(2号)'!J578)","v":""},{"$f":"IF('見積書(2号)'!K578=\"\",\"\",'見積書(2号)'!K578)","v":""},{"$f":"IF('見積書(2号)'!L578=\"\",\"\",'見積書(2号)'!L578)","v":""},{"$f":"IF('見積書(2号)'!M578=\"\",\"\",'見積書(2号)'!M578)","v":""},null,"","",null,"",""]
[{"$f":"IF('見積書(2号)'!A579=\"\",\"\",'見積書(2号)'!A579)","v":""},{"$f":"IF('見積書(2号)'!B579=\"\",\"\",'見積書(2号)'!B579)","v":""},{"$f":"IF('見積書(2号)'!C579=\"\",\"\",'見積書(2号)'!C579)","v":""},{"$f":"IF('見積書(2号)'!H579=\"\",\"\",'見積書(2号)'!H579)","v":""},{"$f":"IF('見積書(2号)'!E579=\"\",\"\",'見積書(2号)'!E579)","v":""},{"$f":"IF('見積書(2号)'!I579=\"\",\"\",'見積書(2号)'!I579)","v":""},{"$f":"IF('見積書(2号)'!J579=\"\",\"\",'見積書(2号)'!J579)","v":""},{"$f":"IF('見積書(2号)'!K579=\"\",\"\",'見積書(2号)'!K579)","v":""},{"$f":"IF('見積書(2号)'!L579=\"\",\"\",'見積書(2号)'!L579)","v":""},{"$f":"IF('見積書(2号)'!M579=\"\",\"\",'見積書(2号)'!M579)","v":""},null,"","",null,"",""]
[{"$f":"IF('見積書(2号)'!A580=\"\",\"\",'見積書(2号)'!A580)","v":""},{"$f":"IF('見積書(2号)'!B580=\"\",\"\",'見積書(2号)'!B580)","v":""},{"$f":"IF('見積書(2号)'!C580=\"\",\"\",'見積書(2号)'!C580)","v":""},{"$f":"IF('見積書(2号)'!H580=\"\",\"\",'見積書(2号)'!H580)","v":""},{"$f":"IF('見積書(2号)'!E580=\"\",\"\",'見積書(2号)'!E580)","v":""},{"$f":"IF('見積書(2号)'!I580=\"\",\"\",'見積書(2号)'!I580)","v":""},{"$f":"IF('見積書(2号)'!J580=\"\",\"\",'見積書(2号)'!J580)","v":""},{"$f":"IF('見積書(2号)'!K580=\"\",\"\",'見積書(2号)'!K580)","v":""},{"$f":"IF('見積書(2号)'!L580=\"\",\"\",'見積書(2号)'!L580)","v":""},{"$f":"IF('見積書(2号)'!M580=\"\",\"\",'見積書(2号)'!M580)","v":""},null,"","",null,"",""]
[{"$f":"IF('見積書(2号)'!A581=\"\",\"\",'見積書(2号)'!A581)","v":""},{"$f":"IF('見積書(2号)'!B581=\"\",\"\",'見積書(2号)'!B581)","v":""},{"$f":"IF('見積書(2号)'!C581=\"\",\"\",'見積書(2号)'!C581)","v":""},{"$f":"IF('見積書(2号)'!H581=\"\",\"\",'見積書(2号)'!H581)","v":""},{"$f":"IF('見積書(2号)'!E581=\"\",\"\",'見積書(2号)'!E581)","v":""},{"$f":"IF('見積書(2号)'!I581=\"\",\"\",'見積書(2号)'!I581)","v":""},{"$f":"IF('見積書(2号)'!J581=\"\",\"\",'見積書(2号)'!J581)","v":""},{"$f":"IF('見積書(2号)'!K581=\"\",\"\",'見積書(2号)'!K581)","v":""},{"$f":"IF('見積書(2号)'!L581=\"\",\"\",'見積書(2号)'!L581)","v":""},{"$f":"IF('見積書(2号)'!M581=\"\",\"\",'見積書(2号)'!M581)","v":""},null,"","",null,"",""]
[{"$f":"IF('見積書(2号)'!A582=\"\",\"\",'見積書(2号)'!A582)","v":""},{"$f":"IF('見積書(2号)'!B582=\"\",\"\",'見積書(2号)'!B582)","v":""},{"$f":"IF('見積書(2号)'!C582=\"\",\"\",'見積書(2号)'!C582)","v":""},{"$f":"IF('見積書(2号)'!H582=\"\",\"\",'見積書(2号)'!H582)","v":""},{"$f":"IF('見積書(2号)'!E582=\"\",\"\",'見積書(2号)'!E582)","v":""},{"$f":"IF('見積書(2号)'!I582=\"\",\"\",'見積書(2号)'!I582)","v":""},{"$f":"IF('見積書(2号)'!J582=\"\",\"\",'見積書(2号)'!J582)","v":""},{"$f":"IF('見積書(2号)'!K582=\"\",\"\",'見積書(2号)'!K582)","v":""},{"$f":"IF('見積書(2号)'!L582=\"\",\"\",'見積書(2号)'!L582)","v":""},{"$f":"IF('見積書(2号)'!M582=\"\",\"\",'見積書(2号)'!M582)","v":""},null,"","",null,"",""]
[{"$f":"IF('見積書(2号)'!A583=\"\",\"\",'見積書(2号)'!A583)","v":""},{"$f":"IF('見積書(2号)'!B583=\"\",\"\",'見積書(2号)'!B583)","v":""},{"$f":"IF('見積書(2号)'!C583=\"\",\"\",'見積書(2号)'!C583)","v":""},{"$f":"IF('見積書(2号)'!H583=\"\",\"\",'見積書(2号)'!H583)","v":""},{"$f":"IF('見積書(2号)'!E583=\"\",\"\",'見積書(2号)'!E583)","v":""},{"$f":"IF('見積書(2号)'!I583=\"\",\"\",'見積書(2号)'!I583)","v":""},{"$f":"IF('見積書(2号)'!J583=\"\",\"\",'見積書(2号)'!J583)","v":""},{"$f":"IF('見積書(2号)'!K583=\"\",\"\",'見積書(2号)'!K583)","v":""},{"$f":"IF('見積書(2号)'!L583=\"\",\"\",'見積書(2号)'!L583)","v":""},{"$f":"IF('見積書(2号)'!M583=\"\",\"\",'見積書(2号)'!M583)","v":""},null,"","",null,"",""]
[{"$f":"IF('見積書(2号)'!A584=\"\",\"\",'見積書(2号)'!A584)","v":""},{"$f":"IF('見積書(2号)'!B584=\"\",\"\",'見積書(2号)'!B584)","v":""},{"$f":"IF('見積書(2号)'!C584=\"\",\"\",'見積書(2号)'!C584)","v":""},{"$f":"IF('見積書(2号)'!H584=\"\",\"\",'見積書(2号)'!H584)","v":""},{"$f":"IF('見積書(2号)'!E584=\"\",\"\",'見積書(2号)'!E584)","v":""},{"$f":"IF('見積書(2号)'!I584=\"\",\"\",'見積書(2号)'!I584)","v":""},{"$f":"IF('見積書(2号)'!J584=\"\",\"\",'見積書(2号)'!J584)","v":""},{"$f":"IF('見積書(2号)'!K584=\"\",\"\",'見積書(2号)'!K584)","v":""},{"$f":"IF('見積書(2号)'!L584=\"\",\"\",'見積書(2号)'!L584)","v":""},{"$f":"IF('見積書(2号)'!M584=\"\",\"\",'見積書(2号)'!M584)","v":""},null,"","",null,"",""]
[{"$f":"IF('見積書(2号)'!A585=\"\",\"\",'見積書(2号)'!A585)","v":""},{"$f":"IF('見積書(2号)'!B585=\"\",\"\",'見積書(2号)'!B585)","v":""},{"$f":"IF('見積書(2号)'!C585=\"\",\"\",'見積書(2号)'!C585)","v":""},{"$f":"IF('見積書(2号)'!H585=\"\",\"\",'見積書(2号)'!H585)","v":""},{"$f":"IF('見積書(2号)'!E585=\"\",\"\",'見積書(2号)'!E585)","v":""},{"$f":"IF('見積書(2号)'!I585=\"\",\"\",'見積書(2号)'!I585)","v":""},{"$f":"IF('見積書(2号)'!J585=\"\",\"\",'見積書(2号)'!J585)","v":""},{"$f":"IF('見積書(2号)'!K585=\"\",\"\",'見積書(2号)'!K585)","v":""},{"$f":"IF('見積書(2号)'!L585=\"\",\"\",'見積書(2号)'!L585)","v":""},{"$f":"IF('見積書(2号)'!M585=\"\",\"\",'見積書(2号)'!M585)","v":""},null,"","",null,"",""]
[{"$f":"IF('見積書(2号)'!A586=\"\",\"\",'見積書(2号)'!A586)","v":""},{"$f":"IF('見積書(2号)'!B586=\"\",\"\",'見積書(2号)'!B586)","v":""},{"$f":"IF('見積書(2号)'!C586=\"\",\"\",'見積書(2号)'!C586)","v":""},{"$f":"IF('見積書(2号)'!H586=\"\",\"\",'見積書(2号)'!H586)","v":""},{"$f":"IF('見積書(2号)'!E586=\"\",\"\",'見積書(2号)'!E586)","v":""},{"$f":"IF('見積書(2号)'!I586=\"\",\"\",'見積書(2号)'!I586)","v":""},{"$f":"IF('見積書(2号)'!J586=\"\",\"\",'見積書(2号)'!J586)","v":""},{"$f":"IF('見積書(2号)'!K586=\"\",\"\",'見積書(2号)'!K586)","v":""},{"$f":"IF('見積書(2号)'!L586=\"\",\"\",'見積書(2号)'!L586)","v":""},{"$f":"IF('見積書(2号)'!M586=\"\",\"\",'見積書(2号)'!M586)","v":""},null,"","",null,"",""]
[{"$f":"IF('見積書(2号)'!A587=\"\",\"\",'見積書(2号)'!A587)","v":""},{"$f":"IF('見積書(2号)'!B587=\"\",\"\",'見積書(2号)'!B587)","v":""},{"$f":"IF('見積書(2号)'!C587=\"\",\"\",'見積書(2号)'!C587)","v":""},{"$f":"IF('見積書(2号)'!H587=\"\",\"\",'見積書(2号)'!H587)","v":""},{"$f":"IF('見積書(2号)'!E587=\"\",\"\",'見積書(2号)'!E587)","v":""},{"$f":"IF('見積書(2号)'!I587=\"\",\"\",'見積書(2号)'!I587)","v":""},{"$f":"IF('見積書(2号)'!J587=\"\",\"\",'見積書(2号)'!J587)","v":""},{"$f":"IF('見積書(2号)'!K587=\"\",\"\",'見積書(2号)'!K587)","v":""},{"$f":"IF('見積書(2号)'!L587=\"\",\"\",'見積書(2号)'!L587)","v":""},{"$f":"IF('見積書(2号)'!M587=\"\",\"\",'見積書(2号)'!M587)","v":""},null,{"$f":"IF(I587=\"\",F587,I587)","v":""},{"$f":"IF(L587=\"\",\"\",L587*K587)","v":""},null,"",""]
[{"$f":"IF('見積書(2号)'!A588=\"\",\"\",'見積書(2号)'!A588)","v":""},{"$f":"IF('見積書(2号)'!B588=\"\",\"\",'見積書(2号)'!B588)","v":""},{"$f":"IF('見積書(2号)'!C588=\"\",\"\",'見積書(2号)'!C588)","v":""},{"$f":"IF('見積書(2号)'!H588=\"\",\"\",'見積書(2号)'!H588)","v":""},{"$f":"IF('見積書(2号)'!E588=\"\",\"\",'見積書(2号)'!E588)","v":""},{"$f":"IF('見積書(2号)'!I588=\"\",\"\",'見積書(2号)'!I588)","v":""},{"$f":"IF('見積書(2号)'!J588=\"\",\"\",'見積書(2号)'!J588)","v":""},{"$f":"IF('見積書(2号)'!K588=\"\",\"\",'見積書(2号)'!K588)","v":""},{"$f":"IF('見積書(2号)'!L588=\"\",\"\",'見積書(2号)'!L588)","v":""},{"$f":"IF('見積書(2号)'!M588=\"\",\"\",'見積書(2号)'!M588)","v":""},null,"","",null,"",""]
[{"$f":"IF('見積書(2号)'!A589=\"\",\"\",'見積書(2号)'!A589)","v":""},{"$f":"IF('見積書(2号)'!B589=\"\",\"\",'見積書(2号)'!B589)","v":""},{"$f":"IF('見積書(2号)'!C589=\"\",\"\",'見積書(2号)'!C589)","v":""},{"$f":"IF('見積書(2号)'!H589=\"\",\"\",'見積書(2号)'!H589)","v":""},{"$f":"IF('見積書(2号)'!E589=\"\",\"\",'見積書(2号)'!E589)","v":""},{"$f":"IF('見積書(2号)'!I589=\"\",\"\",'見積書(2号)'!I589)","v":""},{"$f":"IF('見積書(2号)'!J589=\"\",\"\",'見積書(2号)'!J589)","v":""},{"$f":"IF('見積書(2号)'!K589=\"\",\"\",'見積書(2号)'!K589)","v":""},{"$f":"IF('見積書(2号)'!L589=\"\",\"\",'見積書(2号)'!L589)","v":""},{"$f":"IF('見積書(2号)'!M589=\"\",\"\",'見積書(2号)'!M589)","v":""},null,"","",null,"",""]
[{"$f":"IF('見積書(2号)'!A590=\"\",\"\",'見積書(2号)'!A590)","v":""},{"$f":"IF('見積書(2号)'!B590=\"\",\"\",'見積書(2号)'!B590)","v":""},{"$f":"IF('見積書(2号)'!C590=\"\",\"\",'見積書(2号)'!C590)","v":""},{"$f":"IF('見積書(2号)'!H590=\"\",\"\",'見積書(2号)'!H590)","v":""},{"$f":"IF('見積書(2号)'!E590=\"\",\"\",'見積書(2号)'!E590)","v":""},{"$f":"IF('見積書(2号)'!I590=\"\",\"\",'見積書(2号)'!I590)","v":""},{"$f":"IF('見積書(2号)'!J590=\"\",\"\",'見積書(2号)'!J590)","v":""},{"$f":"IF('見積書(2号)'!K590=\"\",\"\",'見積書(2号)'!K590)","v":""},{"$f":"IF('見積書(2号)'!L590=\"\",\"\",'見積書(2号)'!L590)","v":""},{"$f":"IF('見積書(2号)'!M590=\"\",\"\",'見積書(2号)'!M590)","v":""},null,"","",null,"",""]
[{"$f":"IF('見積書(2号)'!A591=\"\",\"\",'見積書(2号)'!A591)","v":""},{"$f":"IF('見積書(2号)'!B591=\"\",\"\",'見積書(2号)'!B591)","v":""},{"$f":"IF('見積書(2号)'!C591=\"\",\"\",'見積書(2号)'!C591)","v":""},{"$f":"IF('見積書(2号)'!H591=\"\",\"\",'見積書(2号)'!H591)","v":""},{"$f":"IF('見積書(2号)'!E591=\"\",\"\",'見積書(2号)'!E591)","v":""},{"$f":"IF('見積書(2号)'!I591=\"\",\"\",'見積書(2号)'!I591)","v":""},{"$f":"IF('見積書(2号)'!J591=\"\",\"\",'見積書(2号)'!J591)","v":""},{"$f":"IF('見積書(2号)'!K591=\"\",\"\",'見積書(2号)'!K591)","v":""},{"$f":"IF('見積書(2号)'!L591=\"\",\"\",'見積書(2号)'!L591)","v":""},{"$f":"IF('見積書(2号)'!M591=\"\",\"\",'見積書(2号)'!M591)","v":""},null,"","",null,"",""]
[{"$f":"IF('見積書(2号)'!A592=\"\",\"\",'見積書(2号)'!A592)","v":""},{"$f":"IF('見積書(2号)'!B592=\"\",\"\",'見積書(2号)'!B592)","v":""},{"$f":"IF('見積書(2号)'!C592=\"\",\"\",'見積書(2号)'!C592)","v":""},{"$f":"IF('見積書(2号)'!H592=\"\",\"\",'見積書(2号)'!H592)","v":""},{"$f":"IF('見積書(2号)'!E592=\"\",\"\",'見積書(2号)'!E592)","v":""},{"$f":"IF('見積書(2号)'!I592=\"\",\"\",'見積書(2号)'!I592)","v":""},{"$f":"IF('見積書(2号)'!J592=\"\",\"\",'見積書(2号)'!J592)","v":""},{"$f":"IF('見積書(2号)'!K592=\"\",\"\",'見積書(2号)'!K592)","v":""},{"$f":"IF('見積書(2号)'!L592=\"\",\"\",'見積書(2号)'!L592)","v":""},{"$f":"IF('見積書(2号)'!M592=\"\",\"\",'見積書(2号)'!M592)","v":""},null,"","",null,"",""]
[{"$f":"IF('見積書(2号)'!A593=\"\",\"\",'見積書(2号)'!A593)","v":""},{"$f":"IF('見積書(2号)'!B593=\"\",\"\",'見積書(2号)'!B593)","v":""},{"$f":"IF('見積書(2号)'!C593=\"\",\"\",'見積書(2号)'!C593)","v":""},{"$f":"IF('見積書(2号)'!H593=\"\",\"\",'見積書(2号)'!H593)","v":""},{"$f":"IF('見積書(2号)'!E593=\"\",\"\",'見積書(2号)'!E593)","v":""},{"$f":"IF('見積書(2号)'!I593=\"\",\"\",'見積書(2号)'!I593)","v":""},{"$f":"IF('見積書(2号)'!J593=\"\",\"\",'見積書(2号)'!J593)","v":""},{"$f":"IF('見積書(2号)'!K593=\"\",\"\",'見積書(2号)'!K593)","v":""},{"$f":"IF('見積書(2号)'!L593=\"\",\"\",'見積書(2号)'!L593)","v":""},{"$f":"IF('見積書(2号)'!M593=\"\",\"\",'見積書(2号)'!M593)","v":""},null,"","",null,"",""]
[{"$f":"IF('見積書(2号)'!A594=\"\",\"\",'見積書(2号)'!A594)","v":""},{"$f":"IF('見積書(2号)'!B594=\"\",\"\",'見積書(2号)'!B594)","v":""},{"$f":"IF('見積書(2号)'!C594=\"\",\"\",'見積書(2号)'!C594)","v":""},{"$f":"IF('見積書(2号)'!H594=\"\",\"\",'見積書(2号)'!H594)","v":""},{"$f":"IF('見積書(2号)'!E594=\"\",\"\",'見積書(2号)'!E594)","v":""},{"$f":"IF('見積書(2号)'!I594=\"\",\"\",'見積書(2号)'!I594)","v":""},{"$f":"IF('見積書(2号)'!J594=\"\",\"\",'見積書(2号)'!J594)","v":""},{"$f":"IF('見積書(2号)'!K594=\"\",\"\",'見積書(2号)'!K594)","v":""},{"$f":"IF('見積書(2号)'!L594=\"\",\"\",'見積書(2号)'!L594)","v":""},{"$f":"IF('見積書(2号)'!M594=\"\",\"\",'見積書(2号)'!M594)","v":""},null,"","",null,"",""]
[{"$f":"IF('見積書(2号)'!A595=\"\",\"\",'見積書(2号)'!A595)","v":""},{"$f":"IF('見積書(2号)'!B595=\"\",\"\",'見積書(2号)'!B595)","v":""},{"$f":"IF('見積書(2号)'!C595=\"\",\"\",'見積書(2号)'!C595)","v":""},{"$f":"IF('見積書(2号)'!H595=\"\",\"\",'見積書(2号)'!H595)","v":""},{"$f":"IF('見積書(2号)'!E595=\"\",\"\",'見積書(2号)'!E595)","v":""},{"$f":"IF('見積書(2号)'!I595=\"\",\"\",'見積書(2号)'!I595)","v":""},{"$f":"IF('見積書(2号)'!J595=\"\",\"\",'見積書(2号)'!J595)","v":""},{"$f":"IF('見積書(2号)'!K595=\"\",\"\",'見積書(2号)'!K595)","v":""},{"$f":"IF('見積書(2号)'!L595=\"\",\"\",'見積書(2号)'!L595)","v":""},{"$f":"IF('見積書(2号)'!M595=\"\",\"\",'見積書(2号)'!M595)","v":""},null,"","",null,"",""]
[{"$f":"IF('見積書(2号)'!A596=\"\",\"\",'見積書(2号)'!A596)","v":""},{"$f":"IF('見積書(2号)'!B596=\"\",\"\",'見積書(2号)'!B596)","v":""},{"$f":"IF('見積書(2号)'!C596=\"\",\"\",'見積書(2号)'!C596)","v":""},{"$f":"IF('見積書(2号)'!H596=\"\",\"\",'見積書(2号)'!H596)","v":""},{"$f":"IF('見積書(2号)'!E596=\"\",\"\",'見積書(2号)'!E596)","v":""},{"$f":"IF('見積書(2号)'!I596=\"\",\"\",'見積書(2号)'!I596)","v":""},{"$f":"IF('見積書(2号)'!J596=\"\",\"\",'見積書(2号)'!J596)","v":""},{"$f":"IF('見積書(2号)'!K596=\"\",\"\",'見積書(2号)'!K596)","v":""},{"$f":"IF('見積書(2号)'!L596=\"\",\"\",'見積書(2号)'!L596)","v":""},{"$f":"IF('見積書(2号)'!M596=\"\",\"\",'見積書(2号)'!M596)","v":""},null,"","",null,"",""]
[{"$f":"IF('見積書(2号)'!A597=\"\",\"\",'見積書(2号)'!A597)","v":""},{"$f":"IF('見積書(2号)'!B597=\"\",\"\",'見積書(2号)'!B597)","v":""},{"$f":"IF('見積書(2号)'!C597=\"\",\"\",'見積書(2号)'!C597)","v":""},{"$f":"IF('見積書(2号)'!H597=\"\",\"\",'見積書(2号)'!H597)","v":""},{"$f":"IF('見積書(2号)'!E597=\"\",\"\",'見積書(2号)'!E597)","v":""},{"$f":"IF('見積書(2号)'!I597=\"\",\"\",'見積書(2号)'!I597)","v":""},{"$f":"IF('見積書(2号)'!J597=\"\",\"\",'見積書(2号)'!J597)","v":""},{"$f":"IF('見積書(2号)'!K597=\"\",\"\",'見積書(2号)'!K597)","v":""},{"$f":"IF('見積書(2号)'!L597=\"\",\"\",'見積書(2号)'!L597)","v":""},{"$f":"IF('見積書(2号)'!M597=\"\",\"\",'見積書(2号)'!M597)","v":""},null,"","",null,"",""]
[{"$f":"IF('見積書(2号)'!A598=\"\",\"\",'見積書(2号)'!A598)","v":""},{"$f":"IF('見積書(2号)'!B598=\"\",\"\",'見積書(2号)'!B598)","v":""},{"$f":"IF('見積書(2号)'!C598=\"\",\"\",'見積書(2号)'!C598)","v":""},{"$f":"IF('見積書(2号)'!H598=\"\",\"\",'見積書(2号)'!H598)","v":""},{"$f":"IF('見積書(2号)'!E598=\"\",\"\",'見積書(2号)'!E598)","v":""},{"$f":"IF('見積書(2号)'!I598=\"\",\"\",'見積書(2号)'!I598)","v":""},{"$f":"IF('見積書(2号)'!J598=\"\",\"\",'見積書(2号)'!J598)","v":""},{"$f":"IF('見積書(2号)'!K598=\"\",\"\",'見積書(2号)'!K598)","v":""},{"$f":"IF('見積書(2号)'!L598=\"\",\"\",'見積書(2号)'!L598)","v":""},{"$f":"IF('見積書(2号)'!M598=\"\",\"\",'見積書(2号)'!M598)","v":""},null,"","",null,"",""]
[{"$f":"IF('見積書(2号)'!A599=\"\",\"\",'見積書(2号)'!A599)","v":""},{"$f":"IF('見積書(2号)'!B599=\"\",\"\",'見積書(2号)'!B599)","v":""},{"$f":"IF('見積書(2号)'!C599=\"\",\"\",'見積書(2号)'!C599)","v":""},{"$f":"IF('見積書(2号)'!H599=\"\",\"\",'見積書(2号)'!H599)","v":""},{"$f":"IF('見積書(2号)'!E599=\"\",\"\",'見積書(2号)'!E599)","v":""},{"$f":"IF('見積書(2号)'!I599=\"\",\"\",'見積書(2号)'!I599)","v":""},{"$f":"IF('見積書(2号)'!J599=\"\",\"\",'見積書(2号)'!J599)","v":""},{"$f":"IF('見積書(2号)'!K599=\"\",\"\",'見積書(2号)'!K599)","v":""},{"$f":"IF('見積書(2号)'!L599=\"\",\"\",'見積書(2号)'!L599)","v":""},{"$f":"IF('見積書(2号)'!M599=\"\",\"\",'見積書(2号)'!M599)","v":""},null,"","",null,"",""]
[{"$f":"IF('見積書(2号)'!A600=\"\",\"\",'見積書(2号)'!A600)","v":""},{"$f":"IF('見積書(2号)'!B600=\"\",\"\",'見積書(2号)'!B600)","v":""},{"$f":"IF('見積書(2号)'!C600=\"\",\"\",'見積書(2号)'!C600)","v":""},{"$f":"IF('見積書(2号)'!H600=\"\",\"\",'見積書(2号)'!H600)","v":""},{"$f":"IF('見積書(2号)'!E600=\"\",\"\",'見積書(2号)'!E600)","v":""},{"$f":"IF('見積書(2号)'!I600=\"\",\"\",'見積書(2号)'!I600)","v":""},{"$f":"IF('見積書(2号)'!J600=\"\",\"\",'見積書(2号)'!J600)","v":""},{"$f":"IF('見積書(2号)'!K600=\"\",\"\",'見積書(2号)'!K600)","v":""},{"$f":"IF('見積書(2号)'!L600=\"\",\"\",'見積書(2号)'!L600)","v":""},{"$f":"IF('見積書(2号)'!M600=\"\",\"\",'見積書(2号)'!M600)","v":""},null,"","",null,"",""]
[{"$f":"IF('見積書(2号)'!A601=\"\",\"\",'見積書(2号)'!A601)","v":""},{"$f":"IF('見積書(2号)'!B601=\"\",\"\",'見積書(2号)'!B601)","v":""},{"$f":"IF('見積書(2号)'!C601=\"\",\"\",'見積書(2号)'!C601)","v":""},{"$f":"IF('見積書(2号)'!H601=\"\",\"\",'見積書(2号)'!H601)","v":""},{"$f":"IF('見積書(2号)'!E601=\"\",\"\",'見積書(2号)'!E601)","v":""},{"$f":"IF('見積書(2号)'!I601=\"\",\"\",'見積書(2号)'!I601)","v":""},{"$f":"IF('見積書(2号)'!J601=\"\",\"\",'見積書(2号)'!J601)","v":""},{"$f":"IF('見積書(2号)'!K601=\"\",\"\",'見積書(2号)'!K601)","v":""},{"$f":"IF('見積書(2号)'!L601=\"\",\"\",'見積書(2号)'!L601)","v":""},{"$f":"IF('見積書(2号)'!M601=\"\",\"\",'見積書(2号)'!M601)","v":""},null,"","",null,"",""]
[{"$f":"IF('見積書(2号)'!A602=\"\",\"\",'見積書(2号)'!A602)","v":""},{"$f":"IF('見積書(2号)'!B602=\"\",\"\",'見積書(2号)'!B602)","v":""},{"$f":"IF('見積書(2号)'!C602=\"\",\"\",'見積書(2号)'!C602)","v":""},{"$f":"IF('見積書(2号)'!H602=\"\",\"\",'見積書(2号)'!H602)","v":""},{"$f":"IF('見積書(2号)'!E602=\"\",\"\",'見積書(2号)'!E602)","v":""},{"$f":"IF('見積書(2号)'!I602=\"\",\"\",'見積書(2号)'!I602)","v":""},{"$f":"IF('見積書(2号)'!J602=\"\",\"\",'見積書(2号)'!J602)","v":""},{"$f":"IF('見積書(2号)'!K602=\"\",\"\",'見積書(2号)'!K602)","v":""},{"$f":"IF('見積書(2号)'!L602=\"\",\"\",'見積書(2号)'!L602)","v":""},{"$f":"IF('見積書(2号)'!M602=\"\",\"\",'見積書(2号)'!M602)","v":""},null,"","",null,"",""]
[{"$f":"IF('見積書(2号)'!A603=\"\",\"\",'見積書(2号)'!A603)","v":""},{"$f":"IF('見積書(2号)'!B603=\"\",\"\",'見積書(2号)'!B603)","v":""},{"$f":"IF('見積書(2号)'!C603=\"\",\"\",'見積書(2号)'!C603)","v":""},{"$f":"IF('見積書(2号)'!H603=\"\",\"\",'見積書(2号)'!H603)","v":""},{"$f":"IF('見積書(2号)'!E603=\"\",\"\",'見積書(2号)'!E603)","v":""},{"$f":"IF('見積書(2号)'!I603=\"\",\"\",'見積書(2号)'!I603)","v":""},{"$f":"IF('見積書(2号)'!J603=\"\",\"\",'見積書(2号)'!J603)","v":""},{"$f":"IF('見積書(2号)'!K603=\"\",\"\",'見積書(2号)'!K603)","v":""},{"$f":"IF('見積書(2号)'!L603=\"\",\"\",'見積書(2号)'!L603)","v":""},{"$f":"IF('見積書(2号)'!M603=\"\",\"\",'見積書(2号)'!M603)","v":""},null,"","",null,"",""]
[{"$f":"IF('見積書(2号)'!A604=\"\",\"\",'見積書(2号)'!A604)","v":""},{"$f":"IF('見積書(2号)'!B604=\"\",\"\",'見積書(2号)'!B604)","v":""},{"$f":"IF('見積書(2号)'!C604=\"\",\"\",'見積書(2号)'!C604)","v":""},{"$f":"IF('見積書(2号)'!H604=\"\",\"\",'見積書(2号)'!H604)","v":""},{"$f":"IF('見積書(2号)'!E604=\"\",\"\",'見積書(2号)'!E604)","v":""},{"$f":"IF('見積書(2号)'!I604=\"\",\"\",'見積書(2号)'!I604)","v":""},{"$f":"IF('見積書(2号)'!J604=\"\",\"\",'見積書(2号)'!J604)","v":""},{"$f":"IF('見積書(2号)'!K604=\"\",\"\",'見積書(2号)'!K604)","v":""},{"$f":"IF('見積書(2号)'!L604=\"\",\"\",'見積書(2号)'!L604)","v":""},{"$f":"IF('見積書(2号)'!M604=\"\",\"\",'見積書(2号)'!M604)","v":""},null,"","",null,"",""]
[{"$f":"IF('見積書(2号)'!A605=\"\",\"\",'見積書(2号)'!A605)","v":""},{"$f":"IF('見積書(2号)'!B605=\"\",\"\",'見積書(2号)'!B605)","v":""},{"$f":"IF('見積書(2号)'!C605=\"\",\"\",'見積書(2号)'!C605)","v":""},{"$f":"IF('見積書(2号)'!H605=\"\",\"\",'見積書(2号)'!H605)","v":""},{"$f":"IF('見積書(2号)'!E605=\"\",\"\",'見積書(2号)'!E605)","v":""},{"$f":"IF('見積書(2号)'!I605=\"\",\"\",'見積書(2号)'!I605)","v":""},{"$f":"IF('見積書(2号)'!J605=\"\",\"\",'見積書(2号)'!J605)","v":""},{"$f":"IF('見積書(2号)'!K605=\"\",\"\",'見積書(2号)'!K605)","v":""},{"$f":"IF('見積書(2号)'!L605=\"\",\"\",'見積書(2号)'!L605)","v":""},{"$f":"IF('見積書(2号)'!M605=\"\",\"\",'見積書(2号)'!M605)","v":""},null,"","",null,"",""]
[{"$f":"IF('見積書(2号)'!A606=\"\",\"\",'見積書(2号)'!A606)","v":""},{"$f":"IF('見積書(2号)'!B606=\"\",\"\",'見積書(2号)'!B606)","v":""},{"$f":"IF('見積書(2号)'!C606=\"\",\"\",'見積書(2号)'!C606)","v":""},{"$f":"IF('見積書(2号)'!H606=\"\",\"\",'見積書(2号)'!H606)","v":""},{"$f":"IF('見積書(2号)'!E606=\"\",\"\",'見積書(2号)'!E606)","v":""},{"$f":"IF('見積書(2号)'!I606=\"\",\"\",'見積書(2号)'!I606)","v":""},{"$f":"IF('見積書(2号)'!J606=\"\",\"\",'見積書(2号)'!J606)","v":""},{"$f":"IF('見積書(2号)'!K606=\"\",\"\",'見積書(2号)'!K606)","v":""},{"$f":"IF('見積書(2号)'!L606=\"\",\"\",'見積書(2号)'!L606)","v":""},{"$f":"IF('見積書(2号)'!M606=\"\",\"\",'見積書(2号)'!M606)","v":""},null,"","",null,"",""]
[{"$f":"IF('見積書(2号)'!A607=\"\",\"\",'見積書(2号)'!A607)","v":""},{"$f":"IF('見積書(2号)'!B607=\"\",\"\",'見積書(2号)'!B607)","v":""},{"$f":"IF('見積書(2号)'!C607=\"\",\"\",'見積書(2号)'!C607)","v":""},{"$f":"IF('見積書(2号)'!H607=\"\",\"\",'見積書(2号)'!H607)","v":""},{"$f":"IF('見積書(2号)'!E607=\"\",\"\",'見積書(2号)'!E607)","v":""},{"$f":"IF('見積書(2号)'!I607=\"\",\"\",'見積書(2号)'!I607)","v":""},{"$f":"IF('見積書(2号)'!J607=\"\",\"\",'見積書(2号)'!J607)","v":""},{"$f":"IF('見積書(2号)'!K607=\"\",\"\",'見積書(2号)'!K607)","v":""},{"$f":"IF('見積書(2号)'!L607=\"\",\"\",'見積書(2号)'!L607)","v":""},{"$f":"IF('見積書(2号)'!M607=\"\",\"\",'見積書(2号)'!M607)","v":""},null,"","",null,"",""]
[{"$f":"IF('見積書(2号)'!A608=\"\",\"\",'見積書(2号)'!A608)","v":""},{"$f":"IF('見積書(2号)'!B608=\"\",\"\",'見積書(2号)'!B608)","v":""},{"$f":"IF('見積書(2号)'!C608=\"\",\"\",'見積書(2号)'!C608)","v":""},{"$f":"IF('見積書(2号)'!H608=\"\",\"\",'見積書(2号)'!H608)","v":""},{"$f":"IF('見積書(2号)'!E608=\"\",\"\",'見積書(2号)'!E608)","v":""},{"$f":"IF('見積書(2号)'!I608=\"\",\"\",'見積書(2号)'!I608)","v":""},{"$f":"IF('見積書(2号)'!J608=\"\",\"\",'見積書(2号)'!J608)","v":""},{"$f":"IF('見積書(2号)'!K608=\"\",\"\",'見積書(2号)'!K608)","v":""},{"$f":"IF('見積書(2号)'!L608=\"\",\"\",'見積書(2号)'!L608)","v":""},{"$f":"IF('見積書(2号)'!M608=\"\",\"\",'見積書(2号)'!M608)","v":""},null,"","",null,"",""]
[{"$f":"IF('見積書(2号)'!A609=\"\",\"\",'見積書(2号)'!A609)","v":""},{"$f":"IF('見積書(2号)'!B609=\"\",\"\",'見積書(2号)'!B609)","v":""},{"$f":"IF('見積書(2号)'!C609=\"\",\"\",'見積書(2号)'!C609)","v":""},{"$f":"IF('見積書(2号)'!H609=\"\",\"\",'見積書(2号)'!H609)","v":""},{"$f":"IF('見積書(2号)'!E609=\"\",\"\",'見積書(2号)'!E609)","v":""},{"$f":"IF('見積書(2号)'!I609=\"\",\"\",'見積書(2号)'!I609)","v":""},{"$f":"IF('見積書(2号)'!J609=\"\",\"\",'見積書(2号)'!J609)","v":""},{"$f":"IF('見積書(2号)'!K609=\"\",\"\",'見積書(2号)'!K609)","v":""},{"$f":"IF('見積書(2号)'!L609=\"\",\"\",'見積書(2号)'!L609)","v":""},{"$f":"IF('見積書(2号)'!M609=\"\",\"\",'見積書(2号)'!M609)","v":""},null,"","",null,"",""]
[{"$f":"IF('見積書(2号)'!A610=\"\",\"\",'見積書(2号)'!A610)","v":""},{"$f":"IF('見積書(2号)'!B610=\"\",\"\",'見積書(2号)'!B610)","v":""},{"$f":"IF('見積書(2号)'!C610=\"\",\"\",'見積書(2号)'!C610)","v":""},{"$f":"IF('見積書(2号)'!H610=\"\",\"\",'見積書(2号)'!H610)","v":""},{"$f":"IF('見積書(2号)'!E610=\"\",\"\",'見積書(2号)'!E610)","v":""},{"$f":"IF('見積書(2号)'!I610=\"\",\"\",'見積書(2号)'!I610)","v":""},{"$f":"IF('見積書(2号)'!J610=\"\",\"\",'見積書(2号)'!J610)","v":""},{"$f":"IF('見積書(2号)'!K610=\"\",\"\",'見積書(2号)'!K610)","v":""},{"$f":"IF('見積書(2号)'!L610=\"\",\"\",'見積書(2号)'!L610)","v":""},{"$f":"IF('見積書(2号)'!M610=\"\",\"\",'見積書(2号)'!M610)","v":""},null,"","",null,"",""]
[{"$f":"IF('見積書(2号)'!A611=\"\",\"\",'見積書(2号)'!A611)","v":""},{"$f":"IF('見積書(2号)'!B611=\"\",\"\",'見積書(2号)'!B611)","v":""},{"$f":"IF('見積書(2号)'!C611=\"\",\"\",'見積書(2号)'!C611)","v":""},{"$f":"IF('見積書(2号)'!H611=\"\",\"\",'見積書(2号)'!H611)","v":""},{"$f":"IF('見積書(2号)'!E611=\"\",\"\",'見積書(2号)'!E611)","v":""},{"$f":"IF('見積書(2号)'!I611=\"\",\"\",'見積書(2号)'!I611)","v":""},{"$f":"IF('見積書(2号)'!J611=\"\",\"\",'見積書(2号)'!J611)","v":""},{"$f":"IF('見積書(2号)'!K611=\"\",\"\",'見積書(2号)'!K611)","v":""},{"$f":"IF('見積書(2号)'!L611=\"\",\"\",'見積書(2号)'!L611)","v":""},{"$f":"IF('見積書(2号)'!M611=\"\",\"\",'見積書(2号)'!M611)","v":""},null,"","",null,"",""]
[{"$f":"IF('見積書(2号)'!A612=\"\",\"\",'見積書(2号)'!A612)","v":""},{"$f":"IF('見積書(2号)'!B612=\"\",\"\",'見積書(2号)'!B612)","v":""},{"$f":"IF('見積書(2号)'!C612=\"\",\"\",'見積書(2号)'!C612)","v":""},{"$f":"IF('見積書(2号)'!H612=\"\",\"\",'見積書(2号)'!H612)","v":""},{"$f":"IF('見積書(2号)'!E612=\"\",\"\",'見積書(2号)'!E612)","v":""},{"$f":"IF('見積書(2号)'!I612=\"\",\"\",'見積書(2号)'!I612)","v":""},{"$f":"IF('見積書(2号)'!J612=\"\",\"\",'見積書(2号)'!J612)","v":""},{"$f":"IF('見積書(2号)'!K612=\"\",\"\",'見積書(2号)'!K612)","v":""},{"$f":"IF('見積書(2号)'!L612=\"\",\"\",'見積書(2号)'!L612)","v":""},{"$f":"IF('見積書(2号)'!M612=\"\",\"\",'見積書(2号)'!M612)","v":""},null,"","",null,"",""]
[{"$f":"IF('見積書(2号)'!A613=\"\",\"\",'見積書(2号)'!A613)","v":""},{"$f":"IF('見積書(2号)'!B613=\"\",\"\",'見積書(2号)'!B613)","v":""},{"$f":"IF('見積書(2号)'!C613=\"\",\"\",'見積書(2号)'!C613)","v":""},{"$f":"IF('見積書(2号)'!H613=\"\",\"\",'見積書(2号)'!H613)","v":""},{"$f":"IF('見積書(2号)'!E613=\"\",\"\",'見積書(2号)'!E613)","v":""},{"$f":"IF('見積書(2号)'!I613=\"\",\"\",'見積書(2号)'!I613)","v":""},{"$f":"IF('見積書(2号)'!J613=\"\",\"\",'見積書(2号)'!J613)","v":""},{"$f":"IF('見積書(2号)'!K613=\"\",\"\",'見積書(2号)'!K613)","v":""},{"$f":"IF('見積書(2号)'!L613=\"\",\"\",'見積書(2号)'!L613)","v":""},{"$f":"IF('見積書(2号)'!M613=\"\",\"\",'見積書(2号)'!M613)","v":""},null,"","",null,"",""]
[{"$f":"IF('見積書(2号)'!A614=\"\",\"\",'見積書(2号)'!A614)","v":""},{"$f":"IF('見積書(2号)'!B614=\"\",\"\",'見積書(2号)'!B614)","v":""},{"$f":"IF('見積書(2号)'!C614=\"\",\"\",'見積書(2号)'!C614)","v":""},{"$f":"IF('見積書(2号)'!H614=\"\",\"\",'見積書(2号)'!H614)","v":""},{"$f":"IF('見積書(2号)'!E614=\"\",\"\",'見積書(2号)'!E614)","v":""},{"$f":"IF('見積書(2号)'!I614=\"\",\"\",'見積書(2号)'!I614)","v":""},{"$f":"IF('見積書(2号)'!J614=\"\",\"\",'見積書(2号)'!J614)","v":""},{"$f":"IF('見積書(2号)'!K614=\"\",\"\",'見積書(2号)'!K614)","v":""},{"$f":"IF('見積書(2号)'!L614=\"\",\"\",'見積書(2号)'!L614)","v":""},{"$f":"IF('見積書(2号)'!M614=\"\",\"\",'見積書(2号)'!M614)","v":""},null,"","",null,"",""]
[{"$f":"IF('見積書(2号)'!A615=\"\",\"\",'見積書(2号)'!A615)","v":""},{"$f":"IF('見積書(2号)'!B615=\"\",\"\",'見積書(2号)'!B615)","v":""},{"$f":"IF('見積書(2号)'!C615=\"\",\"\",'見積書(2号)'!C615)","v":""},{"$f":"IF('見積書(2号)'!H615=\"\",\"\",'見積書(2号)'!H615)","v":""},{"$f":"IF('見積書(2号)'!E615=\"\",\"\",'見積書(2号)'!E615)","v":""},{"$f":"IF('見積書(2号)'!I615=\"\",\"\",'見積書(2号)'!I615)","v":""},{"$f":"IF('見積書(2号)'!J615=\"\",\"\",'見積書(2号)'!J615)","v":""},{"$f":"IF('見積書(2号)'!K615=\"\",\"\",'見積書(2号)'!K615)","v":""},{"$f":"IF('見積書(2号)'!L615=\"\",\"\",'見積書(2号)'!L615)","v":""},{"$f":"IF('見積書(2号)'!M615=\"\",\"\",'見積書(2号)'!M615)","v":""},null,"","",null,"",""]
[{"$f":"IF('見積書(2号)'!A616=\"\",\"\",'見積書(2号)'!A616)","v":""},{"$f":"IF('見積書(2号)'!B616=\"\",\"\",'見積書(2号)'!B616)","v":""},{"$f":"IF('見積書(2号)'!C616=\"\",\"\",'見積書(2号)'!C616)","v":""},{"$f":"IF('見積書(2号)'!H616=\"\",\"\",'見積書(2号)'!H616)","v":""},{"$f":"IF('見積書(2号)'!E616=\"\",\"\",'見積書(2号)'!E616)","v":""},{"$f":"IF('見積書(2号)'!I616=\"\",\"\",'見積書(2号)'!I616)","v":""},{"$f":"IF('見積書(2号)'!J616=\"\",\"\",'見積書(2号)'!J616)","v":""},{"$f":"IF('見積書(2号)'!K616=\"\",\"\",'見積書(2号)'!K616)","v":""},{"$f":"IF('見積書(2号)'!L616=\"\",\"\",'見積書(2号)'!L616)","v":""},{"$f":"IF('見積書(2号)'!M616=\"\",\"\",'見積書(2号)'!M616)","v":""},null,"","",null,"",""]
[{"$f":"IF('見積書(2号)'!A617=\"\",\"\",'見積書(2号)'!A617)","v":""},{"$f":"IF('見積書(2号)'!B617=\"\",\"\",'見積書(2号)'!B617)","v":""},{"$f":"IF('見積書(2号)'!C617=\"\",\"\",'見積書(2号)'!C617)","v":""},{"$f":"IF('見積書(2号)'!H617=\"\",\"\",'見積書(2号)'!H617)","v":""},{"$f":"IF('見積書(2号)'!E617=\"\",\"\",'見積書(2号)'!E617)","v":""},{"$f":"IF('見積書(2号)'!I617=\"\",\"\",'見積書(2号)'!I617)","v":""},{"$f":"IF('見積書(2号)'!J617=\"\",\"\",'見積書(2号)'!J617)","v":""},{"$f":"IF('見積書(2号)'!K617=\"\",\"\",'見積書(2号)'!K617)","v":""},{"$f":"IF('見積書(2号)'!L617=\"\",\"\",'見積書(2号)'!L617)","v":""},{"$f":"IF('見積書(2号)'!M617=\"\",\"\",'見積書(2号)'!M617)","v":""},null,"","",null,"",""]
[{"$f":"IF('見積書(2号)'!A618=\"\",\"\",'見積書(2号)'!A618)","v":""},{"$f":"IF('見積書(2号)'!B618=\"\",\"\",'見積書(2号)'!B618)","v":""},{"$f":"IF('見積書(2号)'!C618=\"\",\"\",'見積書(2号)'!C618)","v":""},{"$f":"IF('見積書(2号)'!H618=\"\",\"\",'見積書(2号)'!H618)","v":""},{"$f":"IF('見積書(2号)'!E618=\"\",\"\",'見積書(2号)'!E618)","v":""},{"$f":"IF('見積書(2号)'!I618=\"\",\"\",'見積書(2号)'!I618)","v":""},{"$f":"IF('見積書(2号)'!J618=\"\",\"\",'見積書(2号)'!J618)","v":""},{"$f":"IF('見積書(2号)'!K618=\"\",\"\",'見積書(2号)'!K618)","v":""},{"$f":"IF('見積書(2号)'!L618=\"\",\"\",'見積書(2号)'!L618)","v":""},{"$f":"IF('見積書(2号)'!M618=\"\",\"\",'見積書(2号)'!M618)","v":""},null,"","",null,"",""]
[{"$f":"IF('見積書(2号)'!A619=\"\",\"\",'見積書(2号)'!A619)","v":""},{"$f":"IF('見積書(2号)'!B619=\"\",\"\",'見積書(2号)'!B619)","v":""},{"$f":"IF('見積書(2号)'!C619=\"\",\"\",'見積書(2号)'!C619)","v":""},{"$f":"IF('見積書(2号)'!H619=\"\",\"\",'見積書(2号)'!H619)","v":""},{"$f":"IF('見積書(2号)'!E619=\"\",\"\",'見積書(2号)'!E619)","v":""},{"$f":"IF('見積書(2号)'!I619=\"\",\"\",'見積書(2号)'!I619)","v":""},{"$f":"IF('見積書(2号)'!J619=\"\",\"\",'見積書(2号)'!J619)","v":""},{"$f":"IF('見積書(2号)'!K619=\"\",\"\",'見積書(2号)'!K619)","v":""},{"$f":"IF('見積書(2号)'!L619=\"\",\"\",'見積書(2号)'!L619)","v":""},{"$f":"IF('見積書(2号)'!M619=\"\",\"\",'見積書(2号)'!M619)","v":""},null,"","",null,"",""]
[{"$f":"IF('見積書(2号)'!A620=\"\",\"\",'見積書(2号)'!A620)","v":""},{"$f":"IF('見積書(2号)'!B620=\"\",\"\",'見積書(2号)'!B620)","v":""},{"$f":"IF('見積書(2号)'!C620=\"\",\"\",'見積書(2号)'!C620)","v":""},{"$f":"IF('見積書(2号)'!H620=\"\",\"\",'見積書(2号)'!H620)","v":""},{"$f":"IF('見積書(2号)'!E620=\"\",\"\",'見積書(2号)'!E620)","v":""},{"$f":"IF('見積書(2号)'!I620=\"\",\"\",'見積書(2号)'!I620)","v":""},{"$f":"IF('見積書(2号)'!J620=\"\",\"\",'見積書(2号)'!J620)","v":""},{"$f":"IF('見積書(2号)'!K620=\"\",\"\",'見積書(2号)'!K620)","v":""},{"$f":"IF('見積書(2号)'!L620=\"\",\"\",'見積書(2号)'!L620)","v":""},{"$f":"IF('見積書(2号)'!M620=\"\",\"\",'見積書(2号)'!M620)","v":""},null,"","",null,"",""]
[{"$f":"IF('見積書(2号)'!A621=\"\",\"\",'見積書(2号)'!A621)","v":""},{"$f":"IF('見積書(2号)'!B621=\"\",\"\",'見積書(2号)'!B621)","v":""},{"$f":"IF('見積書(2号)'!C621=\"\",\"\",'見積書(2号)'!C621)","v":""},{"$f":"IF('見積書(2号)'!H621=\"\",\"\",'見積書(2号)'!H621)","v":""},{"$f":"IF('見積書(2号)'!E621=\"\",\"\",'見積書(2号)'!E621)","v":""},{"$f":"IF('見積書(2号)'!I621=\"\",\"\",'見積書(2号)'!I621)","v":""},{"$f":"IF('見積書(2号)'!J621=\"\",\"\",'見積書(2号)'!J621)","v":""},{"$f":"IF('見積書(2号)'!K621=\"\",\"\",'見積書(2号)'!K621)","v":""},{"$f":"IF('見積書(2号)'!L621=\"\",\"\",'見積書(2号)'!L621)","v":""},{"$f":"IF('見積書(2号)'!M621=\"\",\"\",'見積書(2号)'!M621)","v":""},null,"","",null,"",""]
[{"$f":"IF('見積書(2号)'!A622=\"\",\"\",'見積書(2号)'!A622)","v":""},{"$f":"IF('見積書(2号)'!B622=\"\",\"\",'見積書(2号)'!B622)","v":""},{"$f":"IF('見積書(2号)'!C622=\"\",\"\",'見積書(2号)'!C622)","v":""},{"$f":"IF('見積書(2号)'!H622=\"\",\"\",'見積書(2号)'!H622)","v":""},{"$f":"IF('見積書(2号)'!E622=\"\",\"\",'見積書(2号)'!E622)","v":""},{"$f":"IF('見積書(2号)'!I622=\"\",\"\",'見積書(2号)'!I622)","v":""},{"$f":"IF('見積書(2号)'!J622=\"\",\"\",'見積書(2号)'!J622)","v":""},{"$f":"IF('見積書(2号)'!K622=\"\",\"\",'見積書(2号)'!K622)","v":""},{"$f":"IF('見積書(2号)'!L622=\"\",\"\",'見積書(2号)'!L622)","v":""},{"$f":"IF('見積書(2号)'!M622=\"\",\"\",'見積書(2号)'!M622)","v":""},null,"","",null,"",""]
[{"$f":"IF('見積書(2号)'!A623=\"\",\"\",'見積書(2号)'!A623)","v":""},{"$f":"IF('見積書(2号)'!B623=\"\",\"\",'見積書(2号)'!B623)","v":""},{"$f":"IF('見積書(2号)'!C623=\"\",\"\",'見積書(2号)'!C623)","v":""},{"$f":"IF('見積書(2号)'!H623=\"\",\"\",'見積書(2号)'!H623)","v":""},{"$f":"IF('見積書(2号)'!E623=\"\",\"\",'見積書(2号)'!E623)","v":""},{"$f":"IF('見積書(2号)'!I623=\"\",\"\",'見積書(2号)'!I623)","v":""},{"$f":"IF('見積書(2号)'!J623=\"\",\"\",'見積書(2号)'!J623)","v":""},{"$f":"IF('見積書(2号)'!K623=\"\",\"\",'見積書(2号)'!K623)","v":""},{"$f":"IF('見積書(2号)'!L623=\"\",\"\",'見積書(2号)'!L623)","v":""},{"$f":"IF('見積書(2号)'!M623=\"\",\"\",'見積書(2号)'!M623)","v":""},null,"","",null,"",""]
[{"$f":"IF('見積書(2号)'!A624=\"\",\"\",'見積書(2号)'!A624)","v":""},{"$f":"IF('見積書(2号)'!B624=\"\",\"\",'見積書(2号)'!B624)","v":""},{"$f":"IF('見積書(2号)'!C624=\"\",\"\",'見積書(2号)'!C624)","v":""},{"$f":"IF('見積書(2号)'!H624=\"\",\"\",'見積書(2号)'!H624)","v":""},{"$f":"IF('見積書(2号)'!E624=\"\",\"\",'見積書(2号)'!E624)","v":""},{"$f":"IF('見積書(2号)'!I624=\"\",\"\",'見積書(2号)'!I624)","v":""},{"$f":"IF('見積書(2号)'!J624=\"\",\"\",'見積書(2号)'!J624)","v":""},{"$f":"IF('見積書(2号)'!K624=\"\",\"\",'見積書(2号)'!K624)","v":""},{"$f":"IF('見積書(2号)'!L624=\"\",\"\",'見積書(2号)'!L624)","v":""},{"$f":"IF('見積書(2号)'!M624=\"\",\"\",'見積書(2号)'!M624)","v":""},null,"","",null,"",""]
[{"$f":"IF('見積書(2号)'!A625=\"\",\"\",'見積書(2号)'!A625)","v":""},{"$f":"IF('見積書(2号)'!B625=\"\",\"\",'見積書(2号)'!B625)","v":""},{"$f":"IF('見積書(2号)'!C625=\"\",\"\",'見積書(2号)'!C625)","v":""},{"$f":"IF('見積書(2号)'!H625=\"\",\"\",'見積書(2号)'!H625)","v":""},{"$f":"IF('見積書(2号)'!E625=\"\",\"\",'見積書(2号)'!E625)","v":""},{"$f":"IF('見積書(2号)'!I625=\"\",\"\",'見積書(2号)'!I625)","v":""},{"$f":"IF('見積書(2号)'!J625=\"\",\"\",'見積書(2号)'!J625)","v":""},{"$f":"IF('見積書(2号)'!K625=\"\",\"\",'見積書(2号)'!K625)","v":""},{"$f":"IF('見積書(2号)'!L625=\"\",\"\",'見積書(2号)'!L625)","v":""},{"$f":"IF('見積書(2号)'!M625=\"\",\"\",'見積書(2号)'!M625)","v":""},null,"","",null,"",""]
[{"$f":"IF('見積書(2号)'!A626=\"\",\"\",'見積書(2号)'!A626)","v":""},{"$f":"IF('見積書(2号)'!B626=\"\",\"\",'見積書(2号)'!B626)","v":""},{"$f":"IF('見積書(2号)'!C626=\"\",\"\",'見積書(2号)'!C626)","v":""},{"$f":"IF('見積書(2号)'!H626=\"\",\"\",'見積書(2号)'!H626)","v":""},{"$f":"IF('見積書(2号)'!E626=\"\",\"\",'見積書(2号)'!E626)","v":""},{"$f":"IF('見積書(2号)'!I626=\"\",\"\",'見積書(2号)'!I626)","v":""},{"$f":"IF('見積書(2号)'!J626=\"\",\"\",'見積書(2号)'!J626)","v":""},{"$f":"IF('見積書(2号)'!K626=\"\",\"\",'見積書(2号)'!K626)","v":""},{"$f":"IF('見積書(2号)'!L626=\"\",\"\",'見積書(2号)'!L626)","v":""},{"$f":"IF('見積書(2号)'!M626=\"\",\"\",'見積書(2号)'!M626)","v":""},null,"","",null,"",""]
[{"$f":"IF('見積書(2号)'!A627=\"\",\"\",'見積書(2号)'!A627)","v":""},{"$f":"IF('見積書(2号)'!B627=\"\",\"\",'見積書(2号)'!B627)","v":""},{"$f":"IF('見積書(2号)'!C627=\"\",\"\",'見積書(2号)'!C627)","v":""},{"$f":"IF('見積書(2号)'!H627=\"\",\"\",'見積書(2号)'!H627)","v":""},{"$f":"IF('見積書(2号)'!E627=\"\",\"\",'見積書(2号)'!E627)","v":""},{"$f":"IF('見積書(2号)'!I627=\"\",\"\",'見積書(2号)'!I627)","v":""},{"$f":"IF('見積書(2号)'!J627=\"\",\"\",'見積書(2号)'!J627)","v":""},{"$f":"IF('見積書(2号)'!K627=\"\",\"\",'見積書(2号)'!K627)","v":""},{"$f":"IF('見積書(2号)'!L627=\"\",\"\",'見積書(2号)'!L627)","v":""},{"$f":"IF('見積書(2号)'!M627=\"\",\"\",'見積書(2号)'!M627)","v":""},null,"","",null,"",""]
[{"$f":"IF('見積書(2号)'!A628=\"\",\"\",'見積書(2号)'!A628)","v":""},{"$f":"IF('見積書(2号)'!B628=\"\",\"\",'見積書(2号)'!B628)","v":""},{"$f":"IF('見積書(2号)'!C628=\"\",\"\",'見積書(2号)'!C628)","v":""},{"$f":"IF('見積書(2号)'!H628=\"\",\"\",'見積書(2号)'!H628)","v":""},{"$f":"IF('見積書(2号)'!E628=\"\",\"\",'見積書(2号)'!E628)","v":""},{"$f":"IF('見積書(2号)'!I628=\"\",\"\",'見積書(2号)'!I628)","v":""},{"$f":"IF('見積書(2号)'!J628=\"\",\"\",'見積書(2号)'!J628)","v":""},{"$f":"IF('見積書(2号)'!K628=\"\",\"\",'見積書(2号)'!K628)","v":""},{"$f":"IF('見積書(2号)'!L628=\"\",\"\",'見積書(2号)'!L628)","v":""},{"$f":"IF('見積書(2号)'!M628=\"\",\"\",'見積書(2号)'!M628)","v":""},null,"","",null,"",""]
[{"$f":"IF('見積書(2号)'!A629=\"\",\"\",'見積書(2号)'!A629)","v":""},{"$f":"IF('見積書(2号)'!B629=\"\",\"\",'見積書(2号)'!B629)","v":""},{"$f":"IF('見積書(2号)'!C629=\"\",\"\",'見積書(2号)'!C629)","v":""},{"$f":"IF('見積書(2号)'!H629=\"\",\"\",'見積書(2号)'!H629)","v":""},{"$f":"IF('見積書(2号)'!E629=\"\",\"\",'見積書(2号)'!E629)","v":""},{"$f":"IF('見積書(2号)'!I629=\"\",\"\",'見積書(2号)'!I629)","v":""},{"$f":"IF('見積書(2号)'!J629=\"\",\"\",'見積書(2号)'!J629)","v":""},{"$f":"IF('見積書(2号)'!K629=\"\",\"\",'見積書(2号)'!K629)","v":""},{"$f":"IF('見積書(2号)'!L629=\"\",\"\",'見積書(2号)'!L629)","v":""},{"$f":"IF('見積書(2号)'!M629=\"\",\"\",'見積書(2号)'!M629)","v":""},null,"","",null,"",""]
[{"$f":"IF('見積書(2号)'!A630=\"\",\"\",'見積書(2号)'!A630)","v":""},{"$f":"IF('見積書(2号)'!B630=\"\",\"\",'見積書(2号)'!B630)","v":""},{"$f":"IF('見積書(2号)'!C630=\"\",\"\",'見積書(2号)'!C630)","v":""},{"$f":"IF('見積書(2号)'!H630=\"\",\"\",'見積書(2号)'!H630)","v":""},{"$f":"IF('見積書(2号)'!E630=\"\",\"\",'見積書(2号)'!E630)","v":""},{"$f":"IF('見積書(2号)'!I630=\"\",\"\",'見積書(2号)'!I630)","v":""},{"$f":"IF('見積書(2号)'!J630=\"\",\"\",'見積書(2号)'!J630)","v":""},{"$f":"IF('見積書(2号)'!K630=\"\",\"\",'見積書(2号)'!K630)","v":""},{"$f":"IF('見積書(2号)'!L630=\"\",\"\",'見積書(2号)'!L630)","v":""},{"$f":"IF('見積書(2号)'!M630=\"\",\"\",'見積書(2号)'!M630)","v":""},null,"","",null,"",""]
[{"$f":"IF('見積書(2号)'!A631=\"\",\"\",'見積書(2号)'!A631)","v":""},{"$f":"IF('見積書(2号)'!B631=\"\",\"\",'見積書(2号)'!B631)","v":""},{"$f":"IF('見積書(2号)'!C631=\"\",\"\",'見積書(2号)'!C631)","v":""},{"$f":"IF('見積書(2号)'!H631=\"\",\"\",'見積書(2号)'!H631)","v":""},{"$f":"IF('見積書(2号)'!E631=\"\",\"\",'見積書(2号)'!E631)","v":""},{"$f":"IF('見積書(2号)'!I631=\"\",\"\",'見積書(2号)'!I631)","v":""},{"$f":"IF('見積書(2号)'!J631=\"\",\"\",'見積書(2号)'!J631)","v":""},{"$f":"IF('見積書(2号)'!K631=\"\",\"\",'見積書(2号)'!K631)","v":""},{"$f":"IF('見積書(2号)'!L631=\"\",\"\",'見積書(2号)'!L631)","v":""},{"$f":"IF('見積書(2号)'!M631=\"\",\"\",'見積書(2号)'!M631)","v":""},null,"","",null,"",""]
[{"$f":"IF('見積書(2号)'!A632=\"\",\"\",'見積書(2号)'!A632)","v":""},{"$f":"IF('見積書(2号)'!B632=\"\",\"\",'見積書(2号)'!B632)","v":""},{"$f":"IF('見積書(2号)'!C632=\"\",\"\",'見積書(2号)'!C632)","v":""},{"$f":"IF('見積書(2号)'!H632=\"\",\"\",'見積書(2号)'!H632)","v":""},{"$f":"IF('見積書(2号)'!E632=\"\",\"\",'見積書(2号)'!E632)","v":""},{"$f":"IF('見積書(2号)'!I632=\"\",\"\",'見積書(2号)'!I632)","v":""},{"$f":"IF('見積書(2号)'!J632=\"\",\"\",'見積書(2号)'!J632)","v":""},{"$f":"IF('見積書(2号)'!K632=\"\",\"\",'見積書(2号)'!K632)","v":""},{"$f":"IF('見積書(2号)'!L632=\"\",\"\",'見積書(2号)'!L632)","v":""},{"$f":"IF('見積書(2号)'!M632=\"\",\"\",'見積書(2号)'!M632)","v":""},null,"","",null,"",""]
[{"$f":"IF('見積書(2号)'!A633=\"\",\"\",'見積書(2号)'!A633)","v":""},{"$f":"IF('見積書(2号)'!B633=\"\",\"\",'見積書(2号)'!B633)","v":""},{"$f":"IF('見積書(2号)'!C633=\"\",\"\",'見積書(2号)'!C633)","v":""},{"$f":"IF('見積書(2号)'!H633=\"\",\"\",'見積書(2号)'!H633)","v":""},{"$f":"IF('見積書(2号)'!E633=\"\",\"\",'見積書(2号)'!E633)","v":""},{"$f":"IF('見積書(2号)'!I633=\"\",\"\",'見積書(2号)'!I633)","v":""},{"$f":"IF('見積書(2号)'!J633=\"\",\"\",'見積書(2号)'!J633)","v":""},{"$f":"IF('見積書(2号)'!K633=\"\",\"\",'見積書(2号)'!K633)","v":""},{"$f":"IF('見積書(2号)'!L633=\"\",\"\",'見積書(2号)'!L633)","v":""},{"$f":"IF('見積書(2号)'!M633=\"\",\"\",'見積書(2号)'!M633)","v":""},null,"","",null,"",""]
[{"$f":"IF('見積書(2号)'!A634=\"\",\"\",'見積書(2号)'!A634)","v":""},{"$f":"IF('見積書(2号)'!B634=\"\",\"\",'見積書(2号)'!B634)","v":""},{"$f":"IF('見積書(2号)'!C634=\"\",\"\",'見積書(2号)'!C634)","v":""},{"$f":"IF('見積書(2号)'!H634=\"\",\"\",'見積書(2号)'!H634)","v":""},{"$f":"IF('見積書(2号)'!E634=\"\",\"\",'見積書(2号)'!E634)","v":""},{"$f":"IF('見積書(2号)'!I634=\"\",\"\",'見積書(2号)'!I634)","v":""},{"$f":"IF('見積書(2号)'!J634=\"\",\"\",'見積書(2号)'!J634)","v":""},{"$f":"IF('見積書(2号)'!K634=\"\",\"\",'見積書(2号)'!K634)","v":""},{"$f":"IF('見積書(2号)'!L634=\"\",\"\",'見積書(2号)'!L634)","v":""},{"$f":"IF('見積書(2号)'!M634=\"\",\"\",'見積書(2号)'!M634)","v":""},null,"","",null,"",""]
[{"$f":"IF('見積書(2号)'!A635=\"\",\"\",'見積書(2号)'!A635)","v":""},{"$f":"IF('見積書(2号)'!B635=\"\",\"\",'見積書(2号)'!B635)","v":""},{"$f":"IF('見積書(2号)'!C635=\"\",\"\",'見積書(2号)'!C635)","v":""},{"$f":"IF('見積書(2号)'!H635=\"\",\"\",'見積書(2号)'!H635)","v":""},{"$f":"IF('見積書(2号)'!E635=\"\",\"\",'見積書(2号)'!E635)","v":""},{"$f":"IF('見積書(2号)'!I635=\"\",\"\",'見積書(2号)'!I635)","v":""},{"$f":"IF('見積書(2号)'!J635=\"\",\"\",'見積書(2号)'!J635)","v":""},{"$f":"IF('見積書(2号)'!K635=\"\",\"\",'見積書(2号)'!K635)","v":""},{"$f":"IF('見積書(2号)'!L635=\"\",\"\",'見積書(2号)'!L635)","v":""},{"$f":"IF('見積書(2号)'!M635=\"\",\"\",'見積書(2号)'!M635)","v":""},null,"","",null,"",""]
[{"$f":"IF('見積書(2号)'!A636=\"\",\"\",'見積書(2号)'!A636)","v":""},{"$f":"IF('見積書(2号)'!B636=\"\",\"\",'見積書(2号)'!B636)","v":""},{"$f":"IF('見積書(2号)'!C636=\"\",\"\",'見積書(2号)'!C636)","v":""},{"$f":"IF('見積書(2号)'!H636=\"\",\"\",'見積書(2号)'!H636)","v":""},{"$f":"IF('見積書(2号)'!E636=\"\",\"\",'見積書(2号)'!E636)","v":""},{"$f":"IF('見積書(2号)'!I636=\"\",\"\",'見積書(2号)'!I636)","v":""},{"$f":"IF('見積書(2号)'!J636=\"\",\"\",'見積書(2号)'!J636)","v":""},{"$f":"IF('見積書(2号)'!K636=\"\",\"\",'見積書(2号)'!K636)","v":""},{"$f":"IF('見積書(2号)'!L636=\"\",\"\",'見積書(2号)'!L636)","v":""},{"$f":"IF('見積書(2号)'!M636=\"\",\"\",'見積書(2号)'!M636)","v":""},null,"","",null,"",""]
[{"$f":"IF('見積書(2号)'!A637=\"\",\"\",'見積書(2号)'!A637)","v":""},{"$f":"IF('見積書(2号)'!B637=\"\",\"\",'見積書(2号)'!B637)","v":""},{"$f":"IF('見積書(2号)'!C637=\"\",\"\",'見積書(2号)'!C637)","v":""},{"$f":"IF('見積書(2号)'!H637=\"\",\"\",'見積書(2号)'!H637)","v":""},{"$f":"IF('見積書(2号)'!E637=\"\",\"\",'見積書(2号)'!E637)","v":""},{"$f":"IF('見積書(2号)'!I637=\"\",\"\",'見積書(2号)'!I637)","v":""},{"$f":"IF('見積書(2号)'!J637=\"\",\"\",'見積書(2号)'!J637)","v":""},{"$f":"IF('見積書(2号)'!K637=\"\",\"\",'見積書(2号)'!K637)","v":""},{"$f":"IF('見積書(2号)'!L637=\"\",\"\",'見積書(2号)'!L637)","v":""},{"$f":"IF('見積書(2号)'!M637=\"\",\"\",'見積書(2号)'!M637)","v":""},null,"","",null,"",""]
[{"$f":"IF('見積書(2号)'!A638=\"\",\"\",'見積書(2号)'!A638)","v":""},{"$f":"IF('見積書(2号)'!B638=\"\",\"\",'見積書(2号)'!B638)","v":""},{"$f":"IF('見積書(2号)'!C638=\"\",\"\",'見積書(2号)'!C638)","v":""},{"$f":"IF('見積書(2号)'!H638=\"\",\"\",'見積書(2号)'!H638)","v":""},{"$f":"IF('見積書(2号)'!E638=\"\",\"\",'見積書(2号)'!E638)","v":""},{"$f":"IF('見積書(2号)'!I638=\"\",\"\",'見積書(2号)'!I638)","v":""},{"$f":"IF('見積書(2号)'!J638=\"\",\"\",'見積書(2号)'!J638)","v":""},{"$f":"IF('見積書(2号)'!K638=\"\",\"\",'見積書(2号)'!K638)","v":""},{"$f":"IF('見積書(2号)'!L638=\"\",\"\",'見積書(2号)'!L638)","v":""},{"$f":"IF('見積書(2号)'!M638=\"\",\"\",'見積書(2号)'!M638)","v":""},null,"","",null,"",""]
[{"$f":"IF('見積書(2号)'!A639=\"\",\"\",'見積書(2号)'!A639)","v":""},{"$f":"IF('見積書(2号)'!B639=\"\",\"\",'見積書(2号)'!B639)","v":""},{"$f":"IF('見積書(2号)'!C639=\"\",\"\",'見積書(2号)'!C639)","v":""},{"$f":"IF('見積書(2号)'!H639=\"\",\"\",'見積書(2号)'!H639)","v":""},{"$f":"IF('見積書(2号)'!E639=\"\",\"\",'見積書(2号)'!E639)","v":""},{"$f":"IF('見積書(2号)'!I639=\"\",\"\",'見積書(2号)'!I639)","v":""},{"$f":"IF('見積書(2号)'!J639=\"\",\"\",'見積書(2号)'!J639)","v":""},{"$f":"IF('見積書(2号)'!K639=\"\",\"\",'見積書(2号)'!K639)","v":""},{"$f":"IF('見積書(2号)'!L639=\"\",\"\",'見積書(2号)'!L639)","v":""},{"$f":"IF('見積書(2号)'!M639=\"\",\"\",'見積書(2号)'!M639)","v":""},null,"","",null,"",""]
[{"$f":"IF('見積書(2号)'!A640=\"\",\"\",'見積書(2号)'!A640)","v":""},{"$f":"IF('見積書(2号)'!B640=\"\",\"\",'見積書(2号)'!B640)","v":""},{"$f":"IF('見積書(2号)'!C640=\"\",\"\",'見積書(2号)'!C640)","v":""},{"$f":"IF('見積書(2号)'!H640=\"\",\"\",'見積書(2号)'!H640)","v":""},{"$f":"IF('見積書(2号)'!E640=\"\",\"\",'見積書(2号)'!E640)","v":""},{"$f":"IF('見積書(2号)'!I640=\"\",\"\",'見積書(2号)'!I640)","v":""},{"$f":"IF('見積書(2号)'!J640=\"\",\"\",'見積書(2号)'!J640)","v":""},{"$f":"IF('見積書(2号)'!K640=\"\",\"\",'見積書(2号)'!K640)","v":""},{"$f":"IF('見積書(2号)'!L640=\"\",\"\",'見積書(2号)'!L640)","v":""},{"$f":"IF('見積書(2号)'!M640=\"\",\"\",'見積書(2号)'!M640)","v":""},null,"","",null,"",""]
[{"$f":"IF('見積書(2号)'!A641=\"\",\"\",'見積書(2号)'!A641)","v":""},{"$f":"IF('見積書(2号)'!B641=\"\",\"\",'見積書(2号)'!B641)","v":""},{"$f":"IF('見積書(2号)'!C641=\"\",\"\",'見積書(2号)'!C641)","v":""},{"$f":"IF('見積書(2号)'!H641=\"\",\"\",'見積書(2号)'!H641)","v":""},{"$f":"IF('見積書(2号)'!E641=\"\",\"\",'見積書(2号)'!E641)","v":""},{"$f":"IF('見積書(2号)'!I641=\"\",\"\",'見積書(2号)'!I641)","v":""},{"$f":"IF('見積書(2号)'!J641=\"\",\"\",'見積書(2号)'!J641)","v":""},{"$f":"IF('見積書(2号)'!K641=\"\",\"\",'見積書(2号)'!K641)","v":""},{"$f":"IF('見積書(2号)'!L641=\"\",\"\",'見積書(2号)'!L641)","v":""},{"$f":"IF('見積書(2号)'!M641=\"\",\"\",'見積書(2号)'!M641)","v":""},null,"","",null,"",""]
[{"$f":"IF('見積書(2号)'!A642=\"\",\"\",'見積書(2号)'!A642)","v":""},{"$f":"IF('見積書(2号)'!B642=\"\",\"\",'見積書(2号)'!B642)","v":""},{"$f":"IF('見積書(2号)'!C642=\"\",\"\",'見積書(2号)'!C642)","v":""},{"$f":"IF('見積書(2号)'!H642=\"\",\"\",'見積書(2号)'!H642)","v":""},{"$f":"IF('見積書(2号)'!E642=\"\",\"\",'見積書(2号)'!E642)","v":""},{"$f":"IF('見積書(2号)'!I642=\"\",\"\",'見積書(2号)'!I642)","v":""},{"$f":"IF('見積書(2号)'!J642=\"\",\"\",'見積書(2号)'!J642)","v":""},{"$f":"IF('見積書(2号)'!K642=\"\",\"\",'見積書(2号)'!K642)","v":""},{"$f":"IF('見積書(2号)'!L642=\"\",\"\",'見積書(2号)'!L642)","v":""},{"$f":"IF('見積書(2号)'!M642=\"\",\"\",'見積書(2号)'!M642)","v":""},null,"","",null,"",""]
[{"$f":"IF('見積書(2号)'!A643=\"\",\"\",'見積書(2号)'!A643)","v":""},{"$f":"IF('見積書(2号)'!B643=\"\",\"\",'見積書(2号)'!B643)","v":""},{"$f":"IF('見積書(2号)'!C643=\"\",\"\",'見積書(2号)'!C643)","v":""},{"$f":"IF('見積書(2号)'!H643=\"\",\"\",'見積書(2号)'!H643)","v":""},{"$f":"IF('見積書(2号)'!E643=\"\",\"\",'見積書(2号)'!E643)","v":""},{"$f":"IF('見積書(2号)'!I643=\"\",\"\",'見積書(2号)'!I643)","v":""},{"$f":"IF('見積書(2号)'!J643=\"\",\"\",'見積書(2号)'!J643)","v":""},{"$f":"IF('見積書(2号)'!K643=\"\",\"\",'見積書(2号)'!K643)","v":""},{"$f":"IF('見積書(2号)'!L643=\"\",\"\",'見積書(2号)'!L643)","v":""},{"$f":"IF('見積書(2号)'!M643=\"\",\"\",'見積書(2号)'!M643)","v":""},null,"","",null,"",""]
[{"$f":"IF('見積書(2号)'!A644=\"\",\"\",'見積書(2号)'!A644)","v":""},{"$f":"IF('見積書(2号)'!B644=\"\",\"\",'見積書(2号)'!B644)","v":""},{"$f":"IF('見積書(2号)'!C644=\"\",\"\",'見積書(2号)'!C644)","v":""},{"$f":"IF('見積書(2号)'!H644=\"\",\"\",'見積書(2号)'!H644)","v":""},{"$f":"IF('見積書(2号)'!E644=\"\",\"\",'見積書(2号)'!E644)","v":""},{"$f":"IF('見積書(2号)'!I644=\"\",\"\",'見積書(2号)'!I644)","v":""},{"$f":"IF('見積書(2号)'!J644=\"\",\"\",'見積書(2号)'!J644)","v":""},{"$f":"IF('見積書(2号)'!K644=\"\",\"\",'見積書(2号)'!K644)","v":""},{"$f":"IF('見積書(2号)'!L644=\"\",\"\",'見積書(2号)'!L644)","v":""},{"$f":"IF('見積書(2号)'!M644=\"\",\"\",'見積書(2号)'!M644)","v":""},null,"","",null,"",""]
[{"$f":"IF('見積書(2号)'!A645=\"\",\"\",'見積書(2号)'!A645)","v":""},{"$f":"IF('見積書(2号)'!B645=\"\",\"\",'見積書(2号)'!B645)","v":""},{"$f":"IF('見積書(2号)'!C645=\"\",\"\",'見積書(2号)'!C645)","v":""},{"$f":"IF('見積書(2号)'!H645=\"\",\"\",'見積書(2号)'!H645)","v":""},{"$f":"IF('見積書(2号)'!E645=\"\",\"\",'見積書(2号)'!E645)","v":""},{"$f":"IF('見積書(2号)'!I645=\"\",\"\",'見積書(2号)'!I645)","v":""},{"$f":"IF('見積書(2号)'!J645=\"\",\"\",'見積書(2号)'!J645)","v":""},{"$f":"IF('見積書(2号)'!K645=\"\",\"\",'見積書(2号)'!K645)","v":""},{"$f":"IF('見積書(2号)'!L645=\"\",\"\",'見積書(2号)'!L645)","v":""},{"$f":"IF('見積書(2号)'!M645=\"\",\"\",'見積書(2号)'!M645)","v":""},null,"","",null,"",""]
[{"$f":"IF('見積書(2号)'!A646=\"\",\"\",'見積書(2号)'!A646)","v":""},{"$f":"IF('見積書(2号)'!B646=\"\",\"\",'見積書(2号)'!B646)","v":""},{"$f":"IF('見積書(2号)'!C646=\"\",\"\",'見積書(2号)'!C646)","v":""},{"$f":"IF('見積書(2号)'!H646=\"\",\"\",'見積書(2号)'!H646)","v":""},{"$f":"IF('見積書(2号)'!E646=\"\",\"\",'見積書(2号)'!E646)","v":""},{"$f":"IF('見積書(2号)'!I646=\"\",\"\",'見積書(2号)'!I646)","v":""},{"$f":"IF('見積書(2号)'!J646=\"\",\"\",'見積書(2号)'!J646)","v":""},{"$f":"IF('見積書(2号)'!K646=\"\",\"\",'見積書(2号)'!K646)","v":""},{"$f":"IF('見積書(2号)'!L646=\"\",\"\",'見積書(2号)'!L646)","v":""},{"$f":"IF('見積書(2号)'!M646=\"\",\"\",'見積書(2号)'!M646)","v":""},null,"","",null,"",""]
[{"$f":"IF('見積書(2号)'!A647=\"\",\"\",'見積書(2号)'!A647)","v":""},{"$f":"IF('見積書(2号)'!B647=\"\",\"\",'見積書(2号)'!B647)","v":""},{"$f":"IF('見積書(2号)'!C647=\"\",\"\",'見積書(2号)'!C647)","v":""},{"$f":"IF('見積書(2号)'!H647=\"\",\"\",'見積書(2号)'!H647)","v":""},{"$f":"IF('見積書(2号)'!E647=\"\",\"\",'見積書(2号)'!E647)","v":""},{"$f":"IF('見積書(2号)'!I647=\"\",\"\",'見積書(2号)'!I647)","v":""},{"$f":"IF('見積書(2号)'!J647=\"\",\"\",'見積書(2号)'!J647)","v":""},{"$f":"IF('見積書(2号)'!K647=\"\",\"\",'見積書(2号)'!K647)","v":""},{"$f":"IF('見積書(2号)'!L647=\"\",\"\",'見積書(2号)'!L647)","v":""},{"$f":"IF('見積書(2号)'!M647=\"\",\"\",'見積書(2号)'!M647)","v":""},null,"","",null,"",""]
[{"$f":"IF('見積書(2号)'!A648=\"\",\"\",'見積書(2号)'!A648)","v":""},{"$f":"IF('見積書(2号)'!B648=\"\",\"\",'見積書(2号)'!B648)","v":""},{"$f":"IF('見積書(2号)'!C648=\"\",\"\",'見積書(2号)'!C648)","v":""},{"$f":"IF('見積書(2号)'!H648=\"\",\"\",'見積書(2号)'!H648)","v":""},{"$f":"IF('見積書(2号)'!E648=\"\",\"\",'見積書(2号)'!E648)","v":""},{"$f":"IF('見積書(2号)'!I648=\"\",\"\",'見積書(2号)'!I648)","v":""},{"$f":"IF('見積書(2号)'!J648=\"\",\"\",'見積書(2号)'!J648)","v":""},{"$f":"IF('見積書(2号)'!K648=\"\",\"\",'見積書(2号)'!K648)","v":""},{"$f":"IF('見積書(2号)'!L648=\"\",\"\",'見積書(2号)'!L648)","v":""},{"$f":"IF('見積書(2号)'!M648=\"\",\"\",'見積書(2号)'!M648)","v":""},null,"","",null,"",""]
[{"$f":"IF('見積書(2号)'!A649=\"\",\"\",'見積書(2号)'!A649)","v":""},{"$f":"IF('見積書(2号)'!B649=\"\",\"\",'見積書(2号)'!B649)","v":""},{"$f":"IF('見積書(2号)'!C649=\"\",\"\",'見積書(2号)'!C649)","v":""},{"$f":"IF('見積書(2号)'!H649=\"\",\"\",'見積書(2号)'!H649)","v":""},{"$f":"IF('見積書(2号)'!E649=\"\",\"\",'見積書(2号)'!E649)","v":""},{"$f":"IF('見積書(2号)'!I649=\"\",\"\",'見積書(2号)'!I649)","v":""},{"$f":"IF('見積書(2号)'!J649=\"\",\"\",'見積書(2号)'!J649)","v":""},{"$f":"IF('見積書(2号)'!K649=\"\",\"\",'見積書(2号)'!K649)","v":""},{"$f":"IF('見積書(2号)'!L649=\"\",\"\",'見積書(2号)'!L649)","v":""},{"$f":"IF('見積書(2号)'!M649=\"\",\"\",'見積書(2号)'!M649)","v":""},null,"","",null,"",""]
[{"$f":"IF('見積書(2号)'!A650=\"\",\"\",'見積書(2号)'!A650)","v":""},{"$f":"IF('見積書(2号)'!B650=\"\",\"\",'見積書(2号)'!B650)","v":""},{"$f":"IF('見積書(2号)'!C650=\"\",\"\",'見積書(2号)'!C650)","v":""},{"$f":"IF('見積書(2号)'!H650=\"\",\"\",'見積書(2号)'!H650)","v":""},{"$f":"IF('見積書(2号)'!E650=\"\",\"\",'見積書(2号)'!E650)","v":""},{"$f":"IF('見積書(2号)'!I650=\"\",\"\",'見積書(2号)'!I650)","v":""},{"$f":"IF('見積書(2号)'!J650=\"\",\"\",'見積書(2号)'!J650)","v":""},{"$f":"IF('見積書(2号)'!K650=\"\",\"\",'見積書(2号)'!K650)","v":""},{"$f":"IF('見積書(2号)'!L650=\"\",\"\",'見積書(2号)'!L650)","v":""},{"$f":"IF('見積書(2号)'!M650=\"\",\"\",'見積書(2号)'!M650)","v":""},null,"","",null,"",""]
[{"$f":"IF('見積書(2号)'!A651=\"\",\"\",'見積書(2号)'!A651)","v":""},{"$f":"IF('見積書(2号)'!B651=\"\",\"\",'見積書(2号)'!B651)","v":""},{"$f":"IF('見積書(2号)'!C651=\"\",\"\",'見積書(2号)'!C651)","v":""},{"$f":"IF('見積書(2号)'!H651=\"\",\"\",'見積書(2号)'!H651)","v":""},{"$f":"IF('見積書(2号)'!E651=\"\",\"\",'見積書(2号)'!E651)","v":""},{"$f":"IF('見積書(2号)'!I651=\"\",\"\",'見積書(2号)'!I651)","v":""},{"$f":"IF('見積書(2号)'!J651=\"\",\"\",'見積書(2号)'!J651)","v":""},{"$f":"IF('見積書(2号)'!K651=\"\",\"\",'見積書(2号)'!K651)","v":""},{"$f":"IF('見積書(2号)'!L651=\"\",\"\",'見積書(2号)'!L651)","v":""},{"$f":"IF('見積書(2号)'!M651=\"\",\"\",'見積書(2号)'!M651)","v":""},null,{"$f":"IF(I651=\"\",F651,I651)","v":""},{"$f":"IF(L651=\"\",\"\",L651*K651)","v":""},null,"",""]
[{"$f":"IF('見積書(2号)'!A652=\"\",\"\",'見積書(2号)'!A652)","v":""},{"$f":"IF('見積書(2号)'!B652=\"\",\"\",'見積書(2号)'!B652)","v":""},{"$f":"IF('見積書(2号)'!C652=\"\",\"\",'見積書(2号)'!C652)","v":""},{"$f":"IF('見積書(2号)'!H652=\"\",\"\",'見積書(2号)'!H652)","v":""},{"$f":"IF('見積書(2号)'!E652=\"\",\"\",'見積書(2号)'!E652)","v":""},{"$f":"IF('見積書(2号)'!I652=\"\",\"\",'見積書(2号)'!I652)","v":""},{"$f":"IF('見積書(2号)'!J652=\"\",\"\",'見積書(2号)'!J652)","v":""},{"$f":"IF('見積書(2号)'!K652=\"\",\"\",'見積書(2号)'!K652)","v":""},{"$f":"IF('見積書(2号)'!L652=\"\",\"\",'見積書(2号)'!L652)","v":""},{"$f":"IF('見積書(2号)'!M652=\"\",\"\",'見積書(2号)'!M652)","v":""},null,"","",null,"",""]
[{"$f":"IF('見積書(2号)'!A653=\"\",\"\",'見積書(2号)'!A653)","v":""},{"$f":"IF('見積書(2号)'!B653=\"\",\"\",'見積書(2号)'!B653)","v":""},{"$f":"IF('見積書(2号)'!C653=\"\",\"\",'見積書(2号)'!C653)","v":""},{"$f":"IF('見積書(2号)'!H653=\"\",\"\",'見積書(2号)'!H653)","v":""},{"$f":"IF('見積書(2号)'!E653=\"\",\"\",'見積書(2号)'!E653)","v":""},{"$f":"IF('見積書(2号)'!I653=\"\",\"\",'見積書(2号)'!I653)","v":""},{"$f":"IF('見積書(2号)'!J653=\"\",\"\",'見積書(2号)'!J653)","v":""},{"$f":"IF('見積書(2号)'!K653=\"\",\"\",'見積書(2号)'!K653)","v":""},{"$f":"IF('見積書(2号)'!L653=\"\",\"\",'見積書(2号)'!L653)","v":""},{"$f":"IF('見積書(2号)'!M653=\"\",\"\",'見積書(2号)'!M653)","v":""},null,"","",null,"",""]
[{"$f":"IF('見積書(2号)'!A654=\"\",\"\",'見積書(2号)'!A654)","v":""},{"$f":"IF('見積書(2号)'!B654=\"\",\"\",'見積書(2号)'!B654)","v":""},{"$f":"IF('見積書(2号)'!C654=\"\",\"\",'見積書(2号)'!C654)","v":""},{"$f":"IF('見積書(2号)'!H654=\"\",\"\",'見積書(2号)'!H654)","v":""},{"$f":"IF('見積書(2号)'!E654=\"\",\"\",'見積書(2号)'!E654)","v":""},{"$f":"IF('見積書(2号)'!I654=\"\",\"\",'見積書(2号)'!I654)","v":""},{"$f":"IF('見積書(2号)'!J654=\"\",\"\",'見積書(2号)'!J654)","v":""},{"$f":"IF('見積書(2号)'!K654=\"\",\"\",'見積書(2号)'!K654)","v":""},{"$f":"IF('見積書(2号)'!L654=\"\",\"\",'見積書(2号)'!L654)","v":""},{"$f":"IF('見積書(2号)'!M654=\"\",\"\",'見積書(2号)'!M654)","v":""},null,"","",null,"",""]
[{"$f":"IF('見積書(2号)'!A655=\"\",\"\",'見積書(2号)'!A655)","v":""},{"$f":"IF('見積書(2号)'!B655=\"\",\"\",'見積書(2号)'!B655)","v":""},{"$f":"IF('見積書(2号)'!C655=\"\",\"\",'見積書(2号)'!C655)","v":""},{"$f":"IF('見積書(2号)'!H655=\"\",\"\",'見積書(2号)'!H655)","v":""},{"$f":"IF('見積書(2号)'!E655=\"\",\"\",'見積書(2号)'!E655)","v":""},{"$f":"IF('見積書(2号)'!I655=\"\",\"\",'見積書(2号)'!I655)","v":""},{"$f":"IF('見積書(2号)'!J655=\"\",\"\",'見積書(2号)'!J655)","v":""},{"$f":"IF('見積書(2号)'!K655=\"\",\"\",'見積書(2号)'!K655)","v":""},{"$f":"IF('見積書(2号)'!L655=\"\",\"\",'見積書(2号)'!L655)","v":""},{"$f":"IF('見積書(2号)'!M655=\"\",\"\",'見積書(2号)'!M655)","v":""},null,"","",null,"",""]
[{"$f":"IF('見積書(2号)'!A656=\"\",\"\",'見積書(2号)'!A656)","v":""},{"$f":"IF('見積書(2号)'!B656=\"\",\"\",'見積書(2号)'!B656)","v":""},{"$f":"IF('見積書(2号)'!C656=\"\",\"\",'見積書(2号)'!C656)","v":""},{"$f":"IF('見積書(2号)'!H656=\"\",\"\",'見積書(2号)'!H656)","v":""},{"$f":"IF('見積書(2号)'!E656=\"\",\"\",'見積書(2号)'!E656)","v":""},{"$f":"IF('見積書(2号)'!I656=\"\",\"\",'見積書(2号)'!I656)","v":""},{"$f":"IF('見積書(2号)'!J656=\"\",\"\",'見積書(2号)'!J656)","v":""},{"$f":"IF('見積書(2号)'!K656=\"\",\"\",'見積書(2号)'!K656)","v":""},{"$f":"IF('見積書(2号)'!L656=\"\",\"\",'見積書(2号)'!L656)","v":""},{"$f":"IF('見積書(2号)'!M656=\"\",\"\",'見積書(2号)'!M656)","v":""},null,"","",null,"",""]
[{"$f":"IF('見積書(2号)'!A657=\"\",\"\",'見積書(2号)'!A657)","v":""},{"$f":"IF('見積書(2号)'!B657=\"\",\"\",'見積書(2号)'!B657)","v":""},{"$f":"IF('見積書(2号)'!C657=\"\",\"\",'見積書(2号)'!C657)","v":""},{"$f":"IF('見積書(2号)'!H657=\"\",\"\",'見積書(2号)'!H657)","v":""},{"$f":"IF('見積書(2号)'!E657=\"\",\"\",'見積書(2号)'!E657)","v":""},{"$f":"IF('見積書(2号)'!I657=\"\",\"\",'見積書(2号)'!I657)","v":""},{"$f":"IF('見積書(2号)'!J657=\"\",\"\",'見積書(2号)'!J657)","v":""},{"$f":"IF('見積書(2号)'!K657=\"\",\"\",'見積書(2号)'!K657)","v":""},{"$f":"IF('見積書(2号)'!L657=\"\",\"\",'見積書(2号)'!L657)","v":""},{"$f":"IF('見積書(2号)'!M657=\"\",\"\",'見積書(2号)'!M657)","v":""},null,"","",null,"",""]
[{"$f":"IF('見積書(2号)'!A658=\"\",\"\",'見積書(2号)'!A658)","v":""},{"$f":"IF('見積書(2号)'!B658=\"\",\"\",'見積書(2号)'!B658)","v":""},{"$f":"IF('見積書(2号)'!C658=\"\",\"\",'見積書(2号)'!C658)","v":""},{"$f":"IF('見積書(2号)'!H658=\"\",\"\",'見積書(2号)'!H658)","v":""},{"$f":"IF('見積書(2号)'!E658=\"\",\"\",'見積書(2号)'!E658)","v":""},{"$f":"IF('見積書(2号)'!I658=\"\",\"\",'見積書(2号)'!I658)","v":""},{"$f":"IF('見積書(2号)'!J658=\"\",\"\",'見積書(2号)'!J658)","v":""},{"$f":"IF('見積書(2号)'!K658=\"\",\"\",'見積書(2号)'!K658)","v":""},{"$f":"IF('見積書(2号)'!L658=\"\",\"\",'見積書(2号)'!L658)","v":""},{"$f":"IF('見積書(2号)'!M658=\"\",\"\",'見積書(2号)'!M658)","v":""},null,"","",null,"",""]
[{"$f":"IF('見積書(2号)'!A659=\"\",\"\",'見積書(2号)'!A659)","v":""},{"$f":"IF('見積書(2号)'!B659=\"\",\"\",'見積書(2号)'!B659)","v":""},{"$f":"IF('見積書(2号)'!C659=\"\",\"\",'見積書(2号)'!C659)","v":""},{"$f":"IF('見積書(2号)'!H659=\"\",\"\",'見積書(2号)'!H659)","v":""},{"$f":"IF('見積書(2号)'!E659=\"\",\"\",'見積書(2号)'!E659)","v":""},{"$f":"IF('見積書(2号)'!I659=\"\",\"\",'見積書(2号)'!I659)","v":""},{"$f":"IF('見積書(2号)'!J659=\"\",\"\",'見積書(2号)'!J659)","v":""},{"$f":"IF('見積書(2号)'!K659=\"\",\"\",'見積書(2号)'!K659)","v":""},{"$f":"IF('見積書(2号)'!L659=\"\",\"\",'見積書(2号)'!L659)","v":""},{"$f":"IF('見積書(2号)'!M659=\"\",\"\",'見積書(2号)'!M659)","v":""},null,"","",null,"",""]
[{"$f":"IF('見積書(2号)'!A660=\"\",\"\",'見積書(2号)'!A660)","v":""},{"$f":"IF('見積書(2号)'!B660=\"\",\"\",'見積書(2号)'!B660)","v":""},{"$f":"IF('見積書(2号)'!C660=\"\",\"\",'見積書(2号)'!C660)","v":""},{"$f":"IF('見積書(2号)'!H660=\"\",\"\",'見積書(2号)'!H660)","v":""},{"$f":"IF('見積書(2号)'!E660=\"\",\"\",'見積書(2号)'!E660)","v":""},{"$f":"IF('見積書(2号)'!I660=\"\",\"\",'見積書(2号)'!I660)","v":""},{"$f":"IF('見積書(2号)'!J660=\"\",\"\",'見積書(2号)'!J660)","v":""},{"$f":"IF('見積書(2号)'!K660=\"\",\"\",'見積書(2号)'!K660)","v":""},{"$f":"IF('見積書(2号)'!L660=\"\",\"\",'見積書(2号)'!L660)","v":""},{"$f":"IF('見積書(2号)'!M660=\"\",\"\",'見積書(2号)'!M660)","v":""},null,"","",null,"",""]
[{"$f":"IF('見積書(2号)'!A661=\"\",\"\",'見積書(2号)'!A661)","v":""},{"$f":"IF('見積書(2号)'!B661=\"\",\"\",'見積書(2号)'!B661)","v":""},{"$f":"IF('見積書(2号)'!C661=\"\",\"\",'見積書(2号)'!C661)","v":""},{"$f":"IF('見積書(2号)'!H661=\"\",\"\",'見積書(2号)'!H661)","v":""},{"$f":"IF('見積書(2号)'!E661=\"\",\"\",'見積書(2号)'!E661)","v":""},{"$f":"IF('見積書(2号)'!I661=\"\",\"\",'見積書(2号)'!I661)","v":""},{"$f":"IF('見積書(2号)'!J661=\"\",\"\",'見積書(2号)'!J661)","v":""},{"$f":"IF('見積書(2号)'!K661=\"\",\"\",'見積書(2号)'!K661)","v":""},{"$f":"IF('見積書(2号)'!L661=\"\",\"\",'見積書(2号)'!L661)","v":""},{"$f":"IF('見積書(2号)'!M661=\"\",\"\",'見積書(2号)'!M661)","v":""},null,"","",null,"",""]
[{"$f":"IF('見積書(2号)'!A662=\"\",\"\",'見積書(2号)'!A662)","v":""},{"$f":"IF('見積書(2号)'!B662=\"\",\"\",'見積書(2号)'!B662)","v":""},{"$f":"IF('見積書(2号)'!C662=\"\",\"\",'見積書(2号)'!C662)","v":""},{"$f":"IF('見積書(2号)'!H662=\"\",\"\",'見積書(2号)'!H662)","v":""},{"$f":"IF('見積書(2号)'!E662=\"\",\"\",'見積書(2号)'!E662)","v":""},{"$f":"IF('見積書(2号)'!I662=\"\",\"\",'見積書(2号)'!I662)","v":""},{"$f":"IF('見積書(2号)'!J662=\"\",\"\",'見積書(2号)'!J662)","v":""},{"$f":"IF('見積書(2号)'!K662=\"\",\"\",'見積書(2号)'!K662)","v":""},{"$f":"IF('見積書(2号)'!L662=\"\",\"\",'見積書(2号)'!L662)","v":""},{"$f":"IF('見積書(2号)'!M662=\"\",\"\",'見積書(2号)'!M662)","v":""},null,"","",null,"",""]
[{"$f":"IF('見積書(2号)'!A663=\"\",\"\",'見積書(2号)'!A663)","v":""},{"$f":"IF('見積書(2号)'!B663=\"\",\"\",'見積書(2号)'!B663)","v":""},{"$f":"IF('見積書(2号)'!C663=\"\",\"\",'見積書(2号)'!C663)","v":""},{"$f":"IF('見積書(2号)'!H663=\"\",\"\",'見積書(2号)'!H663)","v":""},{"$f":"IF('見積書(2号)'!E663=\"\",\"\",'見積書(2号)'!E663)","v":""},{"$f":"IF('見積書(2号)'!I663=\"\",\"\",'見積書(2号)'!I663)","v":""},{"$f":"IF('見積書(2号)'!J663=\"\",\"\",'見積書(2号)'!J663)","v":""},{"$f":"IF('見積書(2号)'!K663=\"\",\"\",'見積書(2号)'!K663)","v":""},{"$f":"IF('見積書(2号)'!L663=\"\",\"\",'見積書(2号)'!L663)","v":""},{"$f":"IF('見積書(2号)'!M663=\"\",\"\",'見積書(2号)'!M663)","v":""},null,"","",null,"",""]
[{"$f":"IF('見積書(2号)'!A664=\"\",\"\",'見積書(2号)'!A664)","v":""},{"$f":"IF('見積書(2号)'!B664=\"\",\"\",'見積書(2号)'!B664)","v":""},{"$f":"IF('見積書(2号)'!C664=\"\",\"\",'見積書(2号)'!C664)","v":""},{"$f":"IF('見積書(2号)'!H664=\"\",\"\",'見積書(2号)'!H664)","v":""},{"$f":"IF('見積書(2号)'!E664=\"\",\"\",'見積書(2号)'!E664)","v":""},{"$f":"IF('見積書(2号)'!I664=\"\",\"\",'見積書(2号)'!I664)","v":""},{"$f":"IF('見積書(2号)'!J664=\"\",\"\",'見積書(2号)'!J664)","v":""},{"$f":"IF('見積書(2号)'!K664=\"\",\"\",'見積書(2号)'!K664)","v":""},{"$f":"IF('見積書(2号)'!L664=\"\",\"\",'見積書(2号)'!L664)","v":""},{"$f":"IF('見積書(2号)'!M664=\"\",\"\",'見積書(2号)'!M664)","v":""},null,"","",null,"",""]
[{"$f":"IF('見積書(2号)'!A665=\"\",\"\",'見積書(2号)'!A665)","v":""},{"$f":"IF('見積書(2号)'!B665=\"\",\"\",'見積書(2号)'!B665)","v":""},{"$f":"IF('見積書(2号)'!C665=\"\",\"\",'見積書(2号)'!C665)","v":""},{"$f":"IF('見積書(2号)'!H665=\"\",\"\",'見積書(2号)'!H665)","v":""},{"$f":"IF('見積書(2号)'!E665=\"\",\"\",'見積書(2号)'!E665)","v":""},{"$f":"IF('見積書(2号)'!I665=\"\",\"\",'見積書(2号)'!I665)","v":""},{"$f":"IF('見積書(2号)'!J665=\"\",\"\",'見積書(2号)'!J665)","v":""},{"$f":"IF('見積書(2号)'!K665=\"\",\"\",'見積書(2号)'!K665)","v":""},{"$f":"IF('見積書(2号)'!L665=\"\",\"\",'見積書(2号)'!L665)","v":""},{"$f":"IF('見積書(2号)'!M665=\"\",\"\",'見積書(2号)'!M665)","v":""},null,"","",null,"",""]
[{"$f":"IF('見積書(2号)'!A666=\"\",\"\",'見積書(2号)'!A666)","v":""},{"$f":"IF('見積書(2号)'!B666=\"\",\"\",'見積書(2号)'!B666)","v":""},{"$f":"IF('見積書(2号)'!C666=\"\",\"\",'見積書(2号)'!C666)","v":""},{"$f":"IF('見積書(2号)'!H666=\"\",\"\",'見積書(2号)'!H666)","v":""},{"$f":"IF('見積書(2号)'!E666=\"\",\"\",'見積書(2号)'!E666)","v":""},{"$f":"IF('見積書(2号)'!I666=\"\",\"\",'見積書(2号)'!I666)","v":""},{"$f":"IF('見積書(2号)'!J666=\"\",\"\",'見積書(2号)'!J666)","v":""},{"$f":"IF('見積書(2号)'!K666=\"\",\"\",'見積書(2号)'!K666)","v":""},{"$f":"IF('見積書(2号)'!L666=\"\",\"\",'見積書(2号)'!L666)","v":""},{"$f":"IF('見積書(2号)'!M666=\"\",\"\",'見積書(2号)'!M666)","v":""},null,"","",null,"",""]
[{"$f":"IF('見積書(2号)'!A667=\"\",\"\",'見積書(2号)'!A667)","v":""},{"$f":"IF('見積書(2号)'!B667=\"\",\"\",'見積書(2号)'!B667)","v":""},{"$f":"IF('見積書(2号)'!C667=\"\",\"\",'見積書(2号)'!C667)","v":""},{"$f":"IF('見積書(2号)'!H667=\"\",\"\",'見積書(2号)'!H667)","v":""},{"$f":"IF('見積書(2号)'!E667=\"\",\"\",'見積書(2号)'!E667)","v":""},{"$f":"IF('見積書(2号)'!I667=\"\",\"\",'見積書(2号)'!I667)","v":""},{"$f":"IF('見積書(2号)'!J667=\"\",\"\",'見積書(2号)'!J667)","v":""},{"$f":"IF('見積書(2号)'!K667=\"\",\"\",'見積書(2号)'!K667)","v":""},{"$f":"IF('見積書(2号)'!L667=\"\",\"\",'見積書(2号)'!L667)","v":""},{"$f":"IF('見積書(2号)'!M667=\"\",\"\",'見積書(2号)'!M667)","v":""},null,"","",null,"",""]
[{"$f":"IF('見積書(2号)'!A668=\"\",\"\",'見積書(2号)'!A668)","v":""},{"$f":"IF('見積書(2号)'!B668=\"\",\"\",'見積書(2号)'!B668)","v":""},{"$f":"IF('見積書(2号)'!C668=\"\",\"\",'見積書(2号)'!C668)","v":""},{"$f":"IF('見積書(2号)'!H668=\"\",\"\",'見積書(2号)'!H668)","v":""},{"$f":"IF('見積書(2号)'!E668=\"\",\"\",'見積書(2号)'!E668)","v":""},{"$f":"IF('見積書(2号)'!I668=\"\",\"\",'見積書(2号)'!I668)","v":""},{"$f":"IF('見積書(2号)'!J668=\"\",\"\",'見積書(2号)'!J668)","v":""},{"$f":"IF('見積書(2号)'!K668=\"\",\"\",'見積書(2号)'!K668)","v":""},{"$f":"IF('見積書(2号)'!L668=\"\",\"\",'見積書(2号)'!L668)","v":""},{"$f":"IF('見積書(2号)'!M668=\"\",\"\",'見積書(2号)'!M668)","v":""},null,"","",null,"",""]
[{"$f":"IF('見積書(2号)'!A669=\"\",\"\",'見積書(2号)'!A669)","v":""},{"$f":"IF('見積書(2号)'!B669=\"\",\"\",'見積書(2号)'!B669)","v":""},{"$f":"IF('見積書(2号)'!C669=\"\",\"\",'見積書(2号)'!C669)","v":""},{"$f":"IF('見積書(2号)'!H669=\"\",\"\",'見積書(2号)'!H669)","v":""},{"$f":"IF('見積書(2号)'!E669=\"\",\"\",'見積書(2号)'!E669)","v":""},{"$f":"IF('見積書(2号)'!I669=\"\",\"\",'見積書(2号)'!I669)","v":""},{"$f":"IF('見積書(2号)'!J669=\"\",\"\",'見積書(2号)'!J669)","v":""},{"$f":"IF('見積書(2号)'!K669=\"\",\"\",'見積書(2号)'!K669)","v":""},{"$f":"IF('見積書(2号)'!L669=\"\",\"\",'見積書(2号)'!L669)","v":""},{"$f":"IF('見積書(2号)'!M669=\"\",\"\",'見積書(2号)'!M669)","v":""},null,"","",null,"",""]
[{"$f":"IF('見積書(2号)'!A670=\"\",\"\",'見積書(2号)'!A670)","v":""},{"$f":"IF('見積書(2号)'!B670=\"\",\"\",'見積書(2号)'!B670)","v":""},{"$f":"IF('見積書(2号)'!C670=\"\",\"\",'見積書(2号)'!C670)","v":""},{"$f":"IF('見積書(2号)'!H670=\"\",\"\",'見積書(2号)'!H670)","v":""},{"$f":"IF('見積書(2号)'!E670=\"\",\"\",'見積書(2号)'!E670)","v":""},{"$f":"IF('見積書(2号)'!I670=\"\",\"\",'見積書(2号)'!I670)","v":""},{"$f":"IF('見積書(2号)'!J670=\"\",\"\",'見積書(2号)'!J670)","v":""},{"$f":"IF('見積書(2号)'!K670=\"\",\"\",'見積書(2号)'!K670)","v":""},{"$f":"IF('見積書(2号)'!L670=\"\",\"\",'見積書(2号)'!L670)","v":""},{"$f":"IF('見積書(2号)'!M670=\"\",\"\",'見積書(2号)'!M670)","v":""},null,"","",null,"",""]
[{"$f":"IF('見積書(2号)'!A671=\"\",\"\",'見積書(2号)'!A671)","v":""},{"$f":"IF('見積書(2号)'!B671=\"\",\"\",'見積書(2号)'!B671)","v":""},{"$f":"IF('見積書(2号)'!C671=\"\",\"\",'見積書(2号)'!C671)","v":""},{"$f":"IF('見積書(2号)'!H671=\"\",\"\",'見積書(2号)'!H671)","v":""},{"$f":"IF('見積書(2号)'!E671=\"\",\"\",'見積書(2号)'!E671)","v":""},{"$f":"IF('見積書(2号)'!I671=\"\",\"\",'見積書(2号)'!I671)","v":""},{"$f":"IF('見積書(2号)'!J671=\"\",\"\",'見積書(2号)'!J671)","v":""},{"$f":"IF('見積書(2号)'!K671=\"\",\"\",'見積書(2号)'!K671)","v":""},{"$f":"IF('見積書(2号)'!L671=\"\",\"\",'見積書(2号)'!L671)","v":""},{"$f":"IF('見積書(2号)'!M671=\"\",\"\",'見積書(2号)'!M671)","v":""},null,"","",null,"",""]
[{"$f":"IF('見積書(2号)'!A672=\"\",\"\",'見積書(2号)'!A672)","v":""},{"$f":"IF('見積書(2号)'!B672=\"\",\"\",'見積書(2号)'!B672)","v":""},{"$f":"IF('見積書(2号)'!C672=\"\",\"\",'見積書(2号)'!C672)","v":""},{"$f":"IF('見積書(2号)'!H672=\"\",\"\",'見積書(2号)'!H672)","v":""},{"$f":"IF('見積書(2号)'!E672=\"\",\"\",'見積書(2号)'!E672)","v":""},{"$f":"IF('見積書(2号)'!I672=\"\",\"\",'見積書(2号)'!I672)","v":""},{"$f":"IF('見積書(2号)'!J672=\"\",\"\",'見積書(2号)'!J672)","v":""},{"$f":"IF('見積書(2号)'!K672=\"\",\"\",'見積書(2号)'!K672)","v":""},{"$f":"IF('見積書(2号)'!L672=\"\",\"\",'見積書(2号)'!L672)","v":""},{"$f":"IF('見積書(2号)'!M672=\"\",\"\",'見積書(2号)'!M672)","v":""},null,"","",null,"",""]
[{"$f":"IF('見積書(2号)'!A673=\"\",\"\",'見積書(2号)'!A673)","v":""},{"$f":"IF('見積書(2号)'!B673=\"\",\"\",'見積書(2号)'!B673)","v":""},{"$f":"IF('見積書(2号)'!C673=\"\",\"\",'見積書(2号)'!C673)","v":""},{"$f":"IF('見積書(2号)'!H673=\"\",\"\",'見積書(2号)'!H673)","v":""},{"$f":"IF('見積書(2号)'!E673=\"\",\"\",'見積書(2号)'!E673)","v":""},{"$f":"IF('見積書(2号)'!I673=\"\",\"\",'見積書(2号)'!I673)","v":""},{"$f":"IF('見積書(2号)'!J673=\"\",\"\",'見積書(2号)'!J673)","v":""},{"$f":"IF('見積書(2号)'!K673=\"\",\"\",'見積書(2号)'!K673)","v":""},{"$f":"IF('見積書(2号)'!L673=\"\",\"\",'見積書(2号)'!L673)","v":""},{"$f":"IF('見積書(2号)'!M673=\"\",\"\",'見積書(2号)'!M673)","v":""},null,"","",null,"",""]
[{"$f":"IF('見積書(2号)'!A674=\"\",\"\",'見積書(2号)'!A674)","v":""},{"$f":"IF('見積書(2号)'!B674=\"\",\"\",'見積書(2号)'!B674)","v":""},{"$f":"IF('見積書(2号)'!C674=\"\",\"\",'見積書(2号)'!C674)","v":""},{"$f":"IF('見積書(2号)'!H674=\"\",\"\",'見積書(2号)'!H674)","v":""},{"$f":"IF('見積書(2号)'!E674=\"\",\"\",'見積書(2号)'!E674)","v":""},{"$f":"IF('見積書(2号)'!I674=\"\",\"\",'見積書(2号)'!I674)","v":""},{"$f":"IF('見積書(2号)'!J674=\"\",\"\",'見積書(2号)'!J674)","v":""},{"$f":"IF('見積書(2号)'!K674=\"\",\"\",'見積書(2号)'!K674)","v":""},{"$f":"IF('見積書(2号)'!L674=\"\",\"\",'見積書(2号)'!L674)","v":""},{"$f":"IF('見積書(2号)'!M674=\"\",\"\",'見積書(2号)'!M674)","v":""},null,"","",null,"",""]
[{"$f":"IF('見積書(2号)'!A675=\"\",\"\",'見積書(2号)'!A675)","v":""},{"$f":"IF('見積書(2号)'!B675=\"\",\"\",'見積書(2号)'!B675)","v":""},{"$f":"IF('見積書(2号)'!C675=\"\",\"\",'見積書(2号)'!C675)","v":""},{"$f":"IF('見積書(2号)'!H675=\"\",\"\",'見積書(2号)'!H675)","v":""},{"$f":"IF('見積書(2号)'!E675=\"\",\"\",'見積書(2号)'!E675)","v":""},{"$f":"IF('見積書(2号)'!I675=\"\",\"\",'見積書(2号)'!I675)","v":""},{"$f":"IF('見積書(2号)'!J675=\"\",\"\",'見積書(2号)'!J675)","v":""},{"$f":"IF('見積書(2号)'!K675=\"\",\"\",'見積書(2号)'!K675)","v":""},{"$f":"IF('見積書(2号)'!L675=\"\",\"\",'見積書(2号)'!L675)","v":""},{"$f":"IF('見積書(2号)'!M675=\"\",\"\",'見積書(2号)'!M675)","v":""},null,"","",null,"",""]
[{"$f":"IF('見積書(2号)'!A676=\"\",\"\",'見積書(2号)'!A676)","v":""},{"$f":"IF('見積書(2号)'!B676=\"\",\"\",'見積書(2号)'!B676)","v":""},{"$f":"IF('見積書(2号)'!C676=\"\",\"\",'見積書(2号)'!C676)","v":""},{"$f":"IF('見積書(2号)'!H676=\"\",\"\",'見積書(2号)'!H676)","v":""},{"$f":"IF('見積書(2号)'!E676=\"\",\"\",'見積書(2号)'!E676)","v":""},{"$f":"IF('見積書(2号)'!I676=\"\",\"\",'見積書(2号)'!I676)","v":""},{"$f":"IF('見積書(2号)'!J676=\"\",\"\",'見積書(2号)'!J676)","v":""},{"$f":"IF('見積書(2号)'!K676=\"\",\"\",'見積書(2号)'!K676)","v":""},{"$f":"IF('見積書(2号)'!L676=\"\",\"\",'見積書(2号)'!L676)","v":""},{"$f":"IF('見積書(2号)'!M676=\"\",\"\",'見積書(2号)'!M676)","v":""},null,"","",null,"",""]
[{"$f":"IF('見積書(2号)'!A677=\"\",\"\",'見積書(2号)'!A677)","v":""},{"$f":"IF('見積書(2号)'!B677=\"\",\"\",'見積書(2号)'!B677)","v":""},{"$f":"IF('見積書(2号)'!C677=\"\",\"\",'見積書(2号)'!C677)","v":""},{"$f":"IF('見積書(2号)'!H677=\"\",\"\",'見積書(2号)'!H677)","v":""},{"$f":"IF('見積書(2号)'!E677=\"\",\"\",'見積書(2号)'!E677)","v":""},{"$f":"IF('見積書(2号)'!I677=\"\",\"\",'見積書(2号)'!I677)","v":""},{"$f":"IF('見積書(2号)'!J677=\"\",\"\",'見積書(2号)'!J677)","v":""},{"$f":"IF('見積書(2号)'!K677=\"\",\"\",'見積書(2号)'!K677)","v":""},{"$f":"IF('見積書(2号)'!L677=\"\",\"\",'見積書(2号)'!L677)","v":""},{"$f":"IF('見積書(2号)'!M677=\"\",\"\",'見積書(2号)'!M677)","v":""},null,"","",null,"",""]
[{"$f":"IF('見積書(2号)'!A678=\"\",\"\",'見積書(2号)'!A678)","v":""},{"$f":"IF('見積書(2号)'!B678=\"\",\"\",'見積書(2号)'!B678)","v":""},{"$f":"IF('見積書(2号)'!C678=\"\",\"\",'見積書(2号)'!C678)","v":""},{"$f":"IF('見積書(2号)'!H678=\"\",\"\",'見積書(2号)'!H678)","v":""},{"$f":"IF('見積書(2号)'!E678=\"\",\"\",'見積書(2号)'!E678)","v":""},{"$f":"IF('見積書(2号)'!I678=\"\",\"\",'見積書(2号)'!I678)","v":""},{"$f":"IF('見積書(2号)'!J678=\"\",\"\",'見積書(2号)'!J678)","v":""},{"$f":"IF('見積書(2号)'!K678=\"\",\"\",'見積書(2号)'!K678)","v":""},{"$f":"IF('見積書(2号)'!L678=\"\",\"\",'見積書(2号)'!L678)","v":""},{"$f":"IF('見積書(2号)'!M678=\"\",\"\",'見積書(2号)'!M678)","v":""},null,"","",null,"",""]
[{"$f":"IF('見積書(2号)'!A679=\"\",\"\",'見積書(2号)'!A679)","v":""},{"$f":"IF('見積書(2号)'!B679=\"\",\"\",'見積書(2号)'!B679)","v":""},{"$f":"IF('見積書(2号)'!C679=\"\",\"\",'見積書(2号)'!C679)","v":""},{"$f":"IF('見積書(2号)'!H679=\"\",\"\",'見積書(2号)'!H679)","v":""},{"$f":"IF('見積書(2号)'!E679=\"\",\"\",'見積書(2号)'!E679)","v":""},{"$f":"IF('見積書(2号)'!I679=\"\",\"\",'見積書(2号)'!I679)","v":""},{"$f":"IF('見積書(2号)'!J679=\"\",\"\",'見積書(2号)'!J679)","v":""},{"$f":"IF('見積書(2号)'!K679=\"\",\"\",'見積書(2号)'!K679)","v":""},{"$f":"IF('見積書(2号)'!L679=\"\",\"\",'見積書(2号)'!L679)","v":""},{"$f":"IF('見積書(2号)'!M679=\"\",\"\",'見積書(2号)'!M679)","v":""},null,"","",null,"",""]
[{"$f":"IF('見積書(2号)'!A680=\"\",\"\",'見積書(2号)'!A680)","v":""},{"$f":"IF('見積書(2号)'!B680=\"\",\"\",'見積書(2号)'!B680)","v":""},{"$f":"IF('見積書(2号)'!C680=\"\",\"\",'見積書(2号)'!C680)","v":""},{"$f":"IF('見積書(2号)'!H680=\"\",\"\",'見積書(2号)'!H680)","v":""},{"$f":"IF('見積書(2号)'!E680=\"\",\"\",'見積書(2号)'!E680)","v":""},{"$f":"IF('見積書(2号)'!I680=\"\",\"\",'見積書(2号)'!I680)","v":""},{"$f":"IF('見積書(2号)'!J680=\"\",\"\",'見積書(2号)'!J680)","v":""},{"$f":"IF('見積書(2号)'!K680=\"\",\"\",'見積書(2号)'!K680)","v":""},{"$f":"IF('見積書(2号)'!L680=\"\",\"\",'見積書(2号)'!L680)","v":""},{"$f":"IF('見積書(2号)'!M680=\"\",\"\",'見積書(2号)'!M680)","v":""},null,"","",null,"",""]
[{"$f":"IF('見積書(2号)'!A681=\"\",\"\",'見積書(2号)'!A681)","v":""},{"$f":"IF('見積書(2号)'!B681=\"\",\"\",'見積書(2号)'!B681)","v":""},{"$f":"IF('見積書(2号)'!C681=\"\",\"\",'見積書(2号)'!C681)","v":""},{"$f":"IF('見積書(2号)'!H681=\"\",\"\",'見積書(2号)'!H681)","v":""},{"$f":"IF('見積書(2号)'!E681=\"\",\"\",'見積書(2号)'!E681)","v":""},{"$f":"IF('見積書(2号)'!I681=\"\",\"\",'見積書(2号)'!I681)","v":""},{"$f":"IF('見積書(2号)'!J681=\"\",\"\",'見積書(2号)'!J681)","v":""},{"$f":"IF('見積書(2号)'!K681=\"\",\"\",'見積書(2号)'!K681)","v":""},{"$f":"IF('見積書(2号)'!L681=\"\",\"\",'見積書(2号)'!L681)","v":""},{"$f":"IF('見積書(2号)'!M681=\"\",\"\",'見積書(2号)'!M681)","v":""},null,"","",null,"",""]
[{"$f":"IF('見積書(2号)'!A682=\"\",\"\",'見積書(2号)'!A682)","v":""},{"$f":"IF('見積書(2号)'!B682=\"\",\"\",'見積書(2号)'!B682)","v":""},{"$f":"IF('見積書(2号)'!C682=\"\",\"\",'見積書(2号)'!C682)","v":""},{"$f":"IF('見積書(2号)'!H682=\"\",\"\",'見積書(2号)'!H682)","v":""},{"$f":"IF('見積書(2号)'!E682=\"\",\"\",'見積書(2号)'!E682)","v":""},{"$f":"IF('見積書(2号)'!I682=\"\",\"\",'見積書(2号)'!I682)","v":""},{"$f":"IF('見積書(2号)'!J682=\"\",\"\",'見積書(2号)'!J682)","v":""},{"$f":"IF('見積書(2号)'!K682=\"\",\"\",'見積書(2号)'!K682)","v":""},{"$f":"IF('見積書(2号)'!L682=\"\",\"\",'見積書(2号)'!L682)","v":""},{"$f":"IF('見積書(2号)'!M682=\"\",\"\",'見積書(2号)'!M682)","v":""},null,"","",null,"",""]
[{"$f":"IF('見積書(2号)'!A683=\"\",\"\",'見積書(2号)'!A683)","v":""},{"$f":"IF('見積書(2号)'!B683=\"\",\"\",'見積書(2号)'!B683)","v":""},{"$f":"IF('見積書(2号)'!C683=\"\",\"\",'見積書(2号)'!C683)","v":""},{"$f":"IF('見積書(2号)'!H683=\"\",\"\",'見積書(2号)'!H683)","v":""},{"$f":"IF('見積書(2号)'!E683=\"\",\"\",'見積書(2号)'!E683)","v":""},{"$f":"IF('見積書(2号)'!I683=\"\",\"\",'見積書(2号)'!I683)","v":""},{"$f":"IF('見積書(2号)'!J683=\"\",\"\",'見積書(2号)'!J683)","v":""},{"$f":"IF('見積書(2号)'!K683=\"\",\"\",'見積書(2号)'!K683)","v":""},{"$f":"IF('見積書(2号)'!L683=\"\",\"\",'見積書(2号)'!L683)","v":""},{"$f":"IF('見積書(2号)'!M683=\"\",\"\",'見積書(2号)'!M683)","v":""},null,"","",null,"",""]
[{"$f":"IF('見積書(2号)'!A684=\"\",\"\",'見積書(2号)'!A684)","v":""},{"$f":"IF('見積書(2号)'!B684=\"\",\"\",'見積書(2号)'!B684)","v":""},{"$f":"IF('見積書(2号)'!C684=\"\",\"\",'見積書(2号)'!C684)","v":""},{"$f":"IF('見積書(2号)'!H684=\"\",\"\",'見積書(2号)'!H684)","v":""},{"$f":"IF('見積書(2号)'!E684=\"\",\"\",'見積書(2号)'!E684)","v":""},{"$f":"IF('見積書(2号)'!I684=\"\",\"\",'見積書(2号)'!I684)","v":""},{"$f":"IF('見積書(2号)'!J684=\"\",\"\",'見積書(2号)'!J684)","v":""},{"$f":"IF('見積書(2号)'!K684=\"\",\"\",'見積書(2号)'!K684)","v":""},{"$f":"IF('見積書(2号)'!L684=\"\",\"\",'見積書(2号)'!L684)","v":""},{"$f":"IF('見積書(2号)'!M684=\"\",\"\",'見積書(2号)'!M684)","v":""},null,"","",null,"",""]
[{"$f":"IF('見積書(2号)'!A685=\"\",\"\",'見積書(2号)'!A685)","v":""},{"$f":"IF('見積書(2号)'!B685=\"\",\"\",'見積書(2号)'!B685)","v":""},{"$f":"IF('見積書(2号)'!C685=\"\",\"\",'見積書(2号)'!C685)","v":""},{"$f":"IF('見積書(2号)'!H685=\"\",\"\",'見積書(2号)'!H685)","v":""},{"$f":"IF('見積書(2号)'!E685=\"\",\"\",'見積書(2号)'!E685)","v":""},{"$f":"IF('見積書(2号)'!I685=\"\",\"\",'見積書(2号)'!I685)","v":""},{"$f":"IF('見積書(2号)'!J685=\"\",\"\",'見積書(2号)'!J685)","v":""},{"$f":"IF('見積書(2号)'!K685=\"\",\"\",'見積書(2号)'!K685)","v":""},{"$f":"IF('見積書(2号)'!L685=\"\",\"\",'見積書(2号)'!L685)","v":""},{"$f":"IF('見積書(2号)'!M685=\"\",\"\",'見積書(2号)'!M685)","v":""},null,"","",null,"",""]
[{"$f":"IF('見積書(2号)'!A686=\"\",\"\",'見積書(2号)'!A686)","v":""},{"$f":"IF('見積書(2号)'!B686=\"\",\"\",'見積書(2号)'!B686)","v":""},{"$f":"IF('見積書(2号)'!C686=\"\",\"\",'見積書(2号)'!C686)","v":""},{"$f":"IF('見積書(2号)'!H686=\"\",\"\",'見積書(2号)'!H686)","v":""},{"$f":"IF('見積書(2号)'!E686=\"\",\"\",'見積書(2号)'!E686)","v":""},{"$f":"IF('見積書(2号)'!I686=\"\",\"\",'見積書(2号)'!I686)","v":""},{"$f":"IF('見積書(2号)'!J686=\"\",\"\",'見積書(2号)'!J686)","v":""},{"$f":"IF('見積書(2号)'!K686=\"\",\"\",'見積書(2号)'!K686)","v":""},{"$f":"IF('見積書(2号)'!L686=\"\",\"\",'見積書(2号)'!L686)","v":""},{"$f":"IF('見積書(2号)'!M686=\"\",\"\",'見積書(2号)'!M686)","v":""},null,"","",null,"",""]
[{"$f":"IF('見積書(2号)'!A687=\"\",\"\",'見積書(2号)'!A687)","v":""},{"$f":"IF('見積書(2号)'!B687=\"\",\"\",'見積書(2号)'!B687)","v":""},{"$f":"IF('見積書(2号)'!C687=\"\",\"\",'見積書(2号)'!C687)","v":""},{"$f":"IF('見積書(2号)'!H687=\"\",\"\",'見積書(2号)'!H687)","v":""},{"$f":"IF('見積書(2号)'!E687=\"\",\"\",'見積書(2号)'!E687)","v":""},{"$f":"IF('見積書(2号)'!I687=\"\",\"\",'見積書(2号)'!I687)","v":""},{"$f":"IF('見積書(2号)'!J687=\"\",\"\",'見積書(2号)'!J687)","v":""},{"$f":"IF('見積書(2号)'!K687=\"\",\"\",'見積書(2号)'!K687)","v":""},{"$f":"IF('見積書(2号)'!L687=\"\",\"\",'見積書(2号)'!L687)","v":""},{"$f":"IF('見積書(2号)'!M687=\"\",\"\",'見積書(2号)'!M687)","v":""},null,"","",null,"",""]
[{"$f":"IF('見積書(2号)'!A688=\"\",\"\",'見積書(2号)'!A688)","v":""},{"$f":"IF('見積書(2号)'!B688=\"\",\"\",'見積書(2号)'!B688)","v":""},{"$f":"IF('見積書(2号)'!C688=\"\",\"\",'見積書(2号)'!C688)","v":""},{"$f":"IF('見積書(2号)'!H688=\"\",\"\",'見積書(2号)'!H688)","v":""},{"$f":"IF('見積書(2号)'!E688=\"\",\"\",'見積書(2号)'!E688)","v":""},{"$f":"IF('見積書(2号)'!I688=\"\",\"\",'見積書(2号)'!I688)","v":""},{"$f":"IF('見積書(2号)'!J688=\"\",\"\",'見積書(2号)'!J688)","v":""},{"$f":"IF('見積書(2号)'!K688=\"\",\"\",'見積書(2号)'!K688)","v":""},{"$f":"IF('見積書(2号)'!L688=\"\",\"\",'見積書(2号)'!L688)","v":""},{"$f":"IF('見積書(2号)'!M688=\"\",\"\",'見積書(2号)'!M688)","v":""},null,"","",null,"",""]
[{"$f":"IF('見積書(2号)'!A689=\"\",\"\",'見積書(2号)'!A689)","v":""},{"$f":"IF('見積書(2号)'!B689=\"\",\"\",'見積書(2号)'!B689)","v":""},{"$f":"IF('見積書(2号)'!C689=\"\",\"\",'見積書(2号)'!C689)","v":""},{"$f":"IF('見積書(2号)'!H689=\"\",\"\",'見積書(2号)'!H689)","v":""},{"$f":"IF('見積書(2号)'!E689=\"\",\"\",'見積書(2号)'!E689)","v":""},{"$f":"IF('見積書(2号)'!I689=\"\",\"\",'見積書(2号)'!I689)","v":""},{"$f":"IF('見積書(2号)'!J689=\"\",\"\",'見積書(2号)'!J689)","v":""},{"$f":"IF('見積書(2号)'!K689=\"\",\"\",'見積書(2号)'!K689)","v":""},{"$f":"IF('見積書(2号)'!L689=\"\",\"\",'見積書(2号)'!L689)","v":""},{"$f":"IF('見積書(2号)'!M689=\"\",\"\",'見積書(2号)'!M689)","v":""},null,"","",null,"",""]
[{"$f":"IF('見積書(2号)'!A690=\"\",\"\",'見積書(2号)'!A690)","v":""},{"$f":"IF('見積書(2号)'!B690=\"\",\"\",'見積書(2号)'!B690)","v":""},{"$f":"IF('見積書(2号)'!C690=\"\",\"\",'見積書(2号)'!C690)","v":""},{"$f":"IF('見積書(2号)'!H690=\"\",\"\",'見積書(2号)'!H690)","v":""},{"$f":"IF('見積書(2号)'!E690=\"\",\"\",'見積書(2号)'!E690)","v":""},{"$f":"IF('見積書(2号)'!I690=\"\",\"\",'見積書(2号)'!I690)","v":""},{"$f":"IF('見積書(2号)'!J690=\"\",\"\",'見積書(2号)'!J690)","v":""},{"$f":"IF('見積書(2号)'!K690=\"\",\"\",'見積書(2号)'!K690)","v":""},{"$f":"IF('見積書(2号)'!L690=\"\",\"\",'見積書(2号)'!L690)","v":""},{"$f":"IF('見積書(2号)'!M690=\"\",\"\",'見積書(2号)'!M690)","v":""},null,"","",null,"",""]
[{"$f":"IF('見積書(2号)'!A691=\"\",\"\",'見積書(2号)'!A691)","v":""},{"$f":"IF('見積書(2号)'!B691=\"\",\"\",'見積書(2号)'!B691)","v":""},{"$f":"IF('見積書(2号)'!C691=\"\",\"\",'見積書(2号)'!C691)","v":""},{"$f":"IF('見積書(2号)'!H691=\"\",\"\",'見積書(2号)'!H691)","v":""},{"$f":"IF('見積書(2号)'!E691=\"\",\"\",'見積書(2号)'!E691)","v":""},{"$f":"IF('見積書(2号)'!I691=\"\",\"\",'見積書(2号)'!I691)","v":""},{"$f":"IF('見積書(2号)'!J691=\"\",\"\",'見積書(2号)'!J691)","v":""},{"$f":"IF('見積書(2号)'!K691=\"\",\"\",'見積書(2号)'!K691)","v":""},{"$f":"IF('見積書(2号)'!L691=\"\",\"\",'見積書(2号)'!L691)","v":""},{"$f":"IF('見積書(2号)'!M691=\"\",\"\",'見積書(2号)'!M691)","v":""},null,"","",null,"",""]
[{"$f":"IF('見積書(2号)'!A692=\"\",\"\",'見積書(2号)'!A692)","v":""},{"$f":"IF('見積書(2号)'!B692=\"\",\"\",'見積書(2号)'!B692)","v":""},{"$f":"IF('見積書(2号)'!C692=\"\",\"\",'見積書(2号)'!C692)","v":""},{"$f":"IF('見積書(2号)'!H692=\"\",\"\",'見積書(2号)'!H692)","v":""},{"$f":"IF('見積書(2号)'!E692=\"\",\"\",'見積書(2号)'!E692)","v":""},{"$f":"IF('見積書(2号)'!I692=\"\",\"\",'見積書(2号)'!I692)","v":""},{"$f":"IF('見積書(2号)'!J692=\"\",\"\",'見積書(2号)'!J692)","v":""},{"$f":"IF('見積書(2号)'!K692=\"\",\"\",'見積書(2号)'!K692)","v":""},{"$f":"IF('見積書(2号)'!L692=\"\",\"\",'見積書(2号)'!L692)","v":""},{"$f":"IF('見積書(2号)'!M692=\"\",\"\",'見積書(2号)'!M692)","v":""},null,"","",null,"",""]
[{"$f":"IF('見積書(2号)'!A693=\"\",\"\",'見積書(2号)'!A693)","v":""},{"$f":"IF('見積書(2号)'!B693=\"\",\"\",'見積書(2号)'!B693)","v":""},{"$f":"IF('見積書(2号)'!C693=\"\",\"\",'見積書(2号)'!C693)","v":""},{"$f":"IF('見積書(2号)'!H693=\"\",\"\",'見積書(2号)'!H693)","v":""},{"$f":"IF('見積書(2号)'!E693=\"\",\"\",'見積書(2号)'!E693)","v":""},{"$f":"IF('見積書(2号)'!I693=\"\",\"\",'見積書(2号)'!I693)","v":""},{"$f":"IF('見積書(2号)'!J693=\"\",\"\",'見積書(2号)'!J693)","v":""},{"$f":"IF('見積書(2号)'!K693=\"\",\"\",'見積書(2号)'!K693)","v":""},{"$f":"IF('見積書(2号)'!L693=\"\",\"\",'見積書(2号)'!L693)","v":""},{"$f":"IF('見積書(2号)'!M693=\"\",\"\",'見積書(2号)'!M693)","v":""},null,"","",null,"",""]
[{"$f":"IF('見積書(2号)'!A694=\"\",\"\",'見積書(2号)'!A694)","v":""},{"$f":"IF('見積書(2号)'!B694=\"\",\"\",'見積書(2号)'!B694)","v":""},{"$f":"IF('見積書(2号)'!C694=\"\",\"\",'見積書(2号)'!C694)","v":""},{"$f":"IF('見積書(2号)'!H694=\"\",\"\",'見積書(2号)'!H694)","v":""},{"$f":"IF('見積書(2号)'!E694=\"\",\"\",'見積書(2号)'!E694)","v":""},{"$f":"IF('見積書(2号)'!I694=\"\",\"\",'見積書(2号)'!I694)","v":""},{"$f":"IF('見積書(2号)'!J694=\"\",\"\",'見積書(2号)'!J694)","v":""},{"$f":"IF('見積書(2号)'!K694=\"\",\"\",'見積書(2号)'!K694)","v":""},{"$f":"IF('見積書(2号)'!L694=\"\",\"\",'見積書(2号)'!L694)","v":""},{"$f":"IF('見積書(2号)'!M694=\"\",\"\",'見積書(2号)'!M694)","v":""},null,"","",null,"",""]
[{"$f":"IF('見積書(2号)'!A695=\"\",\"\",'見積書(2号)'!A695)","v":""},{"$f":"IF('見積書(2号)'!B695=\"\",\"\",'見積書(2号)'!B695)","v":""},{"$f":"IF('見積書(2号)'!C695=\"\",\"\",'見積書(2号)'!C695)","v":""},{"$f":"IF('見積書(2号)'!H695=\"\",\"\",'見積書(2号)'!H695)","v":""},{"$f":"IF('見積書(2号)'!E695=\"\",\"\",'見積書(2号)'!E695)","v":""},{"$f":"IF('見積書(2号)'!I695=\"\",\"\",'見積書(2号)'!I695)","v":""},{"$f":"IF('見積書(2号)'!J695=\"\",\"\",'見積書(2号)'!J695)","v":""},{"$f":"IF('見積書(2号)'!K695=\"\",\"\",'見積書(2号)'!K695)","v":""},{"$f":"IF('見積書(2号)'!L695=\"\",\"\",'見積書(2号)'!L695)","v":""},{"$f":"IF('見積書(2号)'!M695=\"\",\"\",'見積書(2号)'!M695)","v":""},null,"","",null,"",""]
[{"$f":"IF('見積書(2号)'!A696=\"\",\"\",'見積書(2号)'!A696)","v":""},{"$f":"IF('見積書(2号)'!B696=\"\",\"\",'見積書(2号)'!B696)","v":""},{"$f":"IF('見積書(2号)'!C696=\"\",\"\",'見積書(2号)'!C696)","v":""},{"$f":"IF('見積書(2号)'!H696=\"\",\"\",'見積書(2号)'!H696)","v":""},{"$f":"IF('見積書(2号)'!E696=\"\",\"\",'見積書(2号)'!E696)","v":""},{"$f":"IF('見積書(2号)'!I696=\"\",\"\",'見積書(2号)'!I696)","v":""},{"$f":"IF('見積書(2号)'!J696=\"\",\"\",'見積書(2号)'!J696)","v":""},{"$f":"IF('見積書(2号)'!K696=\"\",\"\",'見積書(2号)'!K696)","v":""},{"$f":"IF('見積書(2号)'!L696=\"\",\"\",'見積書(2号)'!L696)","v":""},{"$f":"IF('見積書(2号)'!M696=\"\",\"\",'見積書(2号)'!M696)","v":""},null,"","",null,"",""]
[{"$f":"IF('見積書(2号)'!A697=\"\",\"\",'見積書(2号)'!A697)","v":""},{"$f":"IF('見積書(2号)'!B697=\"\",\"\",'見積書(2号)'!B697)","v":""},{"$f":"IF('見積書(2号)'!C697=\"\",\"\",'見積書(2号)'!C697)","v":""},{"$f":"IF('見積書(2号)'!H697=\"\",\"\",'見積書(2号)'!H697)","v":""},{"$f":"IF('見積書(2号)'!E697=\"\",\"\",'見積書(2号)'!E697)","v":""},{"$f":"IF('見積書(2号)'!I697=\"\",\"\",'見積書(2号)'!I697)","v":""},{"$f":"IF('見積書(2号)'!J697=\"\",\"\",'見積書(2号)'!J697)","v":""},{"$f":"IF('見積書(2号)'!K697=\"\",\"\",'見積書(2号)'!K697)","v":""},{"$f":"IF('見積書(2号)'!L697=\"\",\"\",'見積書(2号)'!L697)","v":""},{"$f":"IF('見積書(2号)'!M697=\"\",\"\",'見積書(2号)'!M697)","v":""},null,"","",null,"",""]
[{"$f":"IF('見積書(2号)'!A698=\"\",\"\",'見積書(2号)'!A698)","v":""},{"$f":"IF('見積書(2号)'!B698=\"\",\"\",'見積書(2号)'!B698)","v":""},{"$f":"IF('見積書(2号)'!C698=\"\",\"\",'見積書(2号)'!C698)","v":""},{"$f":"IF('見積書(2号)'!H698=\"\",\"\",'見積書(2号)'!H698)","v":""},{"$f":"IF('見積書(2号)'!E698=\"\",\"\",'見積書(2号)'!E698)","v":""},{"$f":"IF('見積書(2号)'!I698=\"\",\"\",'見積書(2号)'!I698)","v":""},{"$f":"IF('見積書(2号)'!J698=\"\",\"\",'見積書(2号)'!J698)","v":""},{"$f":"IF('見積書(2号)'!K698=\"\",\"\",'見積書(2号)'!K698)","v":""},{"$f":"IF('見積書(2号)'!L698=\"\",\"\",'見積書(2号)'!L698)","v":""},{"$f":"IF('見積書(2号)'!M698=\"\",\"\",'見積書(2号)'!M698)","v":""},null,"","",null,"",""]
[{"$f":"IF('見積書(2号)'!A699=\"\",\"\",'見積書(2号)'!A699)","v":""},{"$f":"IF('見積書(2号)'!B699=\"\",\"\",'見積書(2号)'!B699)","v":""},{"$f":"IF('見積書(2号)'!C699=\"\",\"\",'見積書(2号)'!C699)","v":""},{"$f":"IF('見積書(2号)'!H699=\"\",\"\",'見積書(2号)'!H699)","v":""},{"$f":"IF('見積書(2号)'!E699=\"\",\"\",'見積書(2号)'!E699)","v":""},{"$f":"IF('見積書(2号)'!I699=\"\",\"\",'見積書(2号)'!I699)","v":""},{"$f":"IF('見積書(2号)'!J699=\"\",\"\",'見積書(2号)'!J699)","v":""},{"$f":"IF('見積書(2号)'!K699=\"\",\"\",'見積書(2号)'!K699)","v":""},{"$f":"IF('見積書(2号)'!L699=\"\",\"\",'見積書(2号)'!L699)","v":""},{"$f":"IF('見積書(2号)'!M699=\"\",\"\",'見積書(2号)'!M699)","v":""},null,"","",null,"",""]
[{"$f":"IF('見積書(2号)'!A700=\"\",\"\",'見積書(2号)'!A700)","v":""},{"$f":"IF('見積書(2号)'!B700=\"\",\"\",'見積書(2号)'!B700)","v":""},{"$f":"IF('見積書(2号)'!C700=\"\",\"\",'見積書(2号)'!C700)","v":""},{"$f":"IF('見積書(2号)'!H700=\"\",\"\",'見積書(2号)'!H700)","v":""},{"$f":"IF('見積書(2号)'!E700=\"\",\"\",'見積書(2号)'!E700)","v":""},{"$f":"IF('見積書(2号)'!I700=\"\",\"\",'見積書(2号)'!I700)","v":""},{"$f":"IF('見積書(2号)'!J700=\"\",\"\",'見積書(2号)'!J700)","v":""},{"$f":"IF('見積書(2号)'!K700=\"\",\"\",'見積書(2号)'!K700)","v":""},{"$f":"IF('見積書(2号)'!L700=\"\",\"\",'見積書(2号)'!L700)","v":""},{"$f":"IF('見積書(2号)'!M700=\"\",\"\",'見積書(2号)'!M700)","v":""},null,"","",null,"",""]
[{"$f":"IF('見積書(2号)'!A701=\"\",\"\",'見積書(2号)'!A701)","v":""},{"$f":"IF('見積書(2号)'!B701=\"\",\"\",'見積書(2号)'!B701)","v":""},{"$f":"IF('見積書(2号)'!C701=\"\",\"\",'見積書(2号)'!C701)","v":""},{"$f":"IF('見積書(2号)'!H701=\"\",\"\",'見積書(2号)'!H701)","v":""},{"$f":"IF('見積書(2号)'!E701=\"\",\"\",'見積書(2号)'!E701)","v":""},{"$f":"IF('見積書(2号)'!I701=\"\",\"\",'見積書(2号)'!I701)","v":""},{"$f":"IF('見積書(2号)'!J701=\"\",\"\",'見積書(2号)'!J701)","v":""},{"$f":"IF('見積書(2号)'!K701=\"\",\"\",'見積書(2号)'!K701)","v":""},{"$f":"IF('見積書(2号)'!L701=\"\",\"\",'見積書(2号)'!L701)","v":""},{"$f":"IF('見積書(2号)'!M701=\"\",\"\",'見積書(2号)'!M701)","v":""},null,"","",null,"",""]
[{"$f":"IF('見積書(2号)'!A702=\"\",\"\",'見積書(2号)'!A702)","v":""},{"$f":"IF('見積書(2号)'!B702=\"\",\"\",'見積書(2号)'!B702)","v":""},{"$f":"IF('見積書(2号)'!C702=\"\",\"\",'見積書(2号)'!C702)","v":""},{"$f":"IF('見積書(2号)'!H702=\"\",\"\",'見積書(2号)'!H702)","v":""},{"$f":"IF('見積書(2号)'!E702=\"\",\"\",'見積書(2号)'!E702)","v":""},{"$f":"IF('見積書(2号)'!I702=\"\",\"\",'見積書(2号)'!I702)","v":""},{"$f":"IF('見積書(2号)'!J702=\"\",\"\",'見積書(2号)'!J702)","v":""},{"$f":"IF('見積書(2号)'!K702=\"\",\"\",'見積書(2号)'!K702)","v":""},{"$f":"IF('見積書(2号)'!L702=\"\",\"\",'見積書(2号)'!L702)","v":""},{"$f":"IF('見積書(2号)'!M702=\"\",\"\",'見積書(2号)'!M702)","v":""},null,"","",null,"",""]
[{"$f":"IF('見積書(2号)'!A703=\"\",\"\",'見積書(2号)'!A703)","v":""},{"$f":"IF('見積書(2号)'!B703=\"\",\"\",'見積書(2号)'!B703)","v":""},{"$f":"IF('見積書(2号)'!C703=\"\",\"\",'見積書(2号)'!C703)","v":""},{"$f":"IF('見積書(2号)'!H703=\"\",\"\",'見積書(2号)'!H703)","v":""},{"$f":"IF('見積書(2号)'!E703=\"\",\"\",'見積書(2号)'!E703)","v":""},{"$f":"IF('見積書(2号)'!I703=\"\",\"\",'見積書(2号)'!I703)","v":""},{"$f":"IF('見積書(2号)'!J703=\"\",\"\",'見積書(2号)'!J703)","v":""},{"$f":"IF('見積書(2号)'!K703=\"\",\"\",'見積書(2号)'!K703)","v":""},{"$f":"IF('見積書(2号)'!L703=\"\",\"\",'見積書(2号)'!L703)","v":""},{"$f":"IF('見積書(2号)'!M703=\"\",\"\",'見積書(2号)'!M703)","v":""},null,"","",null,"",""]
[{"$f":"IF('見積書(2号)'!A704=\"\",\"\",'見積書(2号)'!A704)","v":""},{"$f":"IF('見積書(2号)'!B704=\"\",\"\",'見積書(2号)'!B704)","v":""},{"$f":"IF('見積書(2号)'!C704=\"\",\"\",'見積書(2号)'!C704)","v":""},{"$f":"IF('見積書(2号)'!H704=\"\",\"\",'見積書(2号)'!H704)","v":""},{"$f":"IF('見積書(2号)'!E704=\"\",\"\",'見積書(2号)'!E704)","v":""},{"$f":"IF('見積書(2号)'!I704=\"\",\"\",'見積書(2号)'!I704)","v":""},{"$f":"IF('見積書(2号)'!J704=\"\",\"\",'見積書(2号)'!J704)","v":""},{"$f":"IF('見積書(2号)'!K704=\"\",\"\",'見積書(2号)'!K704)","v":""},{"$f":"IF('見積書(2号)'!L704=\"\",\"\",'見積書(2号)'!L704)","v":""},{"$f":"IF('見積書(2号)'!M704=\"\",\"\",'見積書(2号)'!M704)","v":""},null,"","",null,"",""]
[{"$f":"IF('見積書(2号)'!A705=\"\",\"\",'見積書(2号)'!A705)","v":""},{"$f":"IF('見積書(2号)'!B705=\"\",\"\",'見積書(2号)'!B705)","v":""},{"$f":"IF('見積書(2号)'!C705=\"\",\"\",'見積書(2号)'!C705)","v":""},{"$f":"IF('見積書(2号)'!H705=\"\",\"\",'見積書(2号)'!H705)","v":""},{"$f":"IF('見積書(2号)'!E705=\"\",\"\",'見積書(2号)'!E705)","v":""},{"$f":"IF('見積書(2号)'!I705=\"\",\"\",'見積書(2号)'!I705)","v":""},{"$f":"IF('見積書(2号)'!J705=\"\",\"\",'見積書(2号)'!J705)","v":""},{"$f":"IF('見積書(2号)'!K705=\"\",\"\",'見積書(2号)'!K705)","v":""},{"$f":"IF('見積書(2号)'!L705=\"\",\"\",'見積書(2号)'!L705)","v":""},{"$f":"IF('見積書(2号)'!M705=\"\",\"\",'見積書(2号)'!M705)","v":""},null,"","",null,"",""]
[{"$f":"IF('見積書(2号)'!A706=\"\",\"\",'見積書(2号)'!A706)","v":""},{"$f":"IF('見積書(2号)'!B706=\"\",\"\",'見積書(2号)'!B706)","v":""},{"$f":"IF('見積書(2号)'!C706=\"\",\"\",'見積書(2号)'!C706)","v":""},{"$f":"IF('見積書(2号)'!H706=\"\",\"\",'見積書(2号)'!H706)","v":""},{"$f":"IF('見積書(2号)'!E706=\"\",\"\",'見積書(2号)'!E706)","v":""},{"$f":"IF('見積書(2号)'!I706=\"\",\"\",'見積書(2号)'!I706)","v":""},{"$f":"IF('見積書(2号)'!J706=\"\",\"\",'見積書(2号)'!J706)","v":""},{"$f":"IF('見積書(2号)'!K706=\"\",\"\",'見積書(2号)'!K706)","v":""},{"$f":"IF('見積書(2号)'!L706=\"\",\"\",'見積書(2号)'!L706)","v":""},{"$f":"IF('見積書(2号)'!M706=\"\",\"\",'見積書(2号)'!M706)","v":""},null,"","",null,"",""]
[{"$f":"IF('見積書(2号)'!A707=\"\",\"\",'見積書(2号)'!A707)","v":""},{"$f":"IF('見積書(2号)'!B707=\"\",\"\",'見積書(2号)'!B707)","v":""},{"$f":"IF('見積書(2号)'!C707=\"\",\"\",'見積書(2号)'!C707)","v":""},{"$f":"IF('見積書(2号)'!H707=\"\",\"\",'見積書(2号)'!H707)","v":""},{"$f":"IF('見積書(2号)'!E707=\"\",\"\",'見積書(2号)'!E707)","v":""},{"$f":"IF('見積書(2号)'!I707=\"\",\"\",'見積書(2号)'!I707)","v":""},{"$f":"IF('見積書(2号)'!J707=\"\",\"\",'見積書(2号)'!J707)","v":""},{"$f":"IF('見積書(2号)'!K707=\"\",\"\",'見積書(2号)'!K707)","v":""},{"$f":"IF('見積書(2号)'!L707=\"\",\"\",'見積書(2号)'!L707)","v":""},{"$f":"IF('見積書(2号)'!M707=\"\",\"\",'見積書(2号)'!M707)","v":""},null,"","",null,"",""]
[{"$f":"IF('見積書(2号)'!A708=\"\",\"\",'見積書(2号)'!A708)","v":""},{"$f":"IF('見積書(2号)'!B708=\"\",\"\",'見積書(2号)'!B708)","v":""},{"$f":"IF('見積書(2号)'!C708=\"\",\"\",'見積書(2号)'!C708)","v":""},{"$f":"IF('見積書(2号)'!H708=\"\",\"\",'見積書(2号)'!H708)","v":""},{"$f":"IF('見積書(2号)'!E708=\"\",\"\",'見積書(2号)'!E708)","v":""},{"$f":"IF('見積書(2号)'!I708=\"\",\"\",'見積書(2号)'!I708)","v":""},{"$f":"IF('見積書(2号)'!J708=\"\",\"\",'見積書(2号)'!J708)","v":""},{"$f":"IF('見積書(2号)'!K708=\"\",\"\",'見積書(2号)'!K708)","v":""},{"$f":"IF('見積書(2号)'!L708=\"\",\"\",'見積書(2号)'!L708)","v":""},{"$f":"IF('見積書(2号)'!M708=\"\",\"\",'見積書(2号)'!M708)","v":""},null,"","",null,"",""]
[{"$f":"IF('見積書(2号)'!A709=\"\",\"\",'見積書(2号)'!A709)","v":""},{"$f":"IF('見積書(2号)'!B709=\"\",\"\",'見積書(2号)'!B709)","v":""},{"$f":"IF('見積書(2号)'!C709=\"\",\"\",'見積書(2号)'!C709)","v":""},{"$f":"IF('見積書(2号)'!H709=\"\",\"\",'見積書(2号)'!H709)","v":""},{"$f":"IF('見積書(2号)'!E709=\"\",\"\",'見積書(2号)'!E709)","v":""},{"$f":"IF('見積書(2号)'!I709=\"\",\"\",'見積書(2号)'!I709)","v":""},{"$f":"IF('見積書(2号)'!J709=\"\",\"\",'見積書(2号)'!J709)","v":""},{"$f":"IF('見積書(2号)'!K709=\"\",\"\",'見積書(2号)'!K709)","v":""},{"$f":"IF('見積書(2号)'!L709=\"\",\"\",'見積書(2号)'!L709)","v":""},{"$f":"IF('見積書(2号)'!M709=\"\",\"\",'見積書(2号)'!M709)","v":""},null,"","",null,"",""]
[{"$f":"IF('見積書(2号)'!A710=\"\",\"\",'見積書(2号)'!A710)","v":""},{"$f":"IF('見積書(2号)'!B710=\"\",\"\",'見積書(2号)'!B710)","v":""},{"$f":"IF('見積書(2号)'!C710=\"\",\"\",'見積書(2号)'!C710)","v":""},{"$f":"IF('見積書(2号)'!H710=\"\",\"\",'見積書(2号)'!H710)","v":""},{"$f":"IF('見積書(2号)'!E710=\"\",\"\",'見積書(2号)'!E710)","v":""},{"$f":"IF('見積書(2号)'!I710=\"\",\"\",'見積書(2号)'!I710)","v":""},{"$f":"IF('見積書(2号)'!J710=\"\",\"\",'見積書(2号)'!J710)","v":""},{"$f":"IF('見積書(2号)'!K710=\"\",\"\",'見積書(2号)'!K710)","v":""},{"$f":"IF('見積書(2号)'!L710=\"\",\"\",'見積書(2号)'!L710)","v":""},{"$f":"IF('見積書(2号)'!M710=\"\",\"\",'見積書(2号)'!M710)","v":""},null,"","",null,"",""]
[{"$f":"IF('見積書(2号)'!A711=\"\",\"\",'見積書(2号)'!A711)","v":""},{"$f":"IF('見積書(2号)'!B711=\"\",\"\",'見積書(2号)'!B711)","v":""},{"$f":"IF('見積書(2号)'!C711=\"\",\"\",'見積書(2号)'!C711)","v":""},{"$f":"IF('見積書(2号)'!H711=\"\",\"\",'見積書(2号)'!H711)","v":""},{"$f":"IF('見積書(2号)'!E711=\"\",\"\",'見積書(2号)'!E711)","v":""},{"$f":"IF('見積書(2号)'!I711=\"\",\"\",'見積書(2号)'!I711)","v":""},{"$f":"IF('見積書(2号)'!J711=\"\",\"\",'見積書(2号)'!J711)","v":""},{"$f":"IF('見積書(2号)'!K711=\"\",\"\",'見積書(2号)'!K711)","v":""},{"$f":"IF('見積書(2号)'!L711=\"\",\"\",'見積書(2号)'!L711)","v":""},{"$f":"IF('見積書(2号)'!M711=\"\",\"\",'見積書(2号)'!M711)","v":""},null,"","",null,"",""]
[{"$f":"IF('見積書(2号)'!A712=\"\",\"\",'見積書(2号)'!A712)","v":""},{"$f":"IF('見積書(2号)'!B712=\"\",\"\",'見積書(2号)'!B712)","v":""},{"$f":"IF('見積書(2号)'!C712=\"\",\"\",'見積書(2号)'!C712)","v":""},{"$f":"IF('見積書(2号)'!H712=\"\",\"\",'見積書(2号)'!H712)","v":""},{"$f":"IF('見積書(2号)'!E712=\"\",\"\",'見積書(2号)'!E712)","v":""},{"$f":"IF('見積書(2号)'!I712=\"\",\"\",'見積書(2号)'!I712)","v":""},{"$f":"IF('見積書(2号)'!J712=\"\",\"\",'見積書(2号)'!J712)","v":""},{"$f":"IF('見積書(2号)'!K712=\"\",\"\",'見積書(2号)'!K712)","v":""},{"$f":"IF('見積書(2号)'!L712=\"\",\"\",'見積書(2号)'!L712)","v":""},{"$f":"IF('見積書(2号)'!M712=\"\",\"\",'見積書(2号)'!M712)","v":""},null,"","",null,"",""]
[{"$f":"IF('見積書(2号)'!A713=\"\",\"\",'見積書(2号)'!A713)","v":""},{"$f":"IF('見積書(2号)'!B713=\"\",\"\",'見積書(2号)'!B713)","v":""},{"$f":"IF('見積書(2号)'!C713=\"\",\"\",'見積書(2号)'!C713)","v":""},{"$f":"IF('見積書(2号)'!H713=\"\",\"\",'見積書(2号)'!H713)","v":""},{"$f":"IF('見積書(2号)'!E713=\"\",\"\",'見積書(2号)'!E713)","v":""},{"$f":"IF('見積書(2号)'!I713=\"\",\"\",'見積書(2号)'!I713)","v":""},{"$f":"IF('見積書(2号)'!J713=\"\",\"\",'見積書(2号)'!J713)","v":""},{"$f":"IF('見積書(2号)'!K713=\"\",\"\",'見積書(2号)'!K713)","v":""},{"$f":"IF('見積書(2号)'!L713=\"\",\"\",'見積書(2号)'!L713)","v":""},{"$f":"IF('見積書(2号)'!M713=\"\",\"\",'見積書(2号)'!M713)","v":""},null,"","",null,"",""]
[{"$f":"IF('見積書(2号)'!A714=\"\",\"\",'見積書(2号)'!A714)","v":""},{"$f":"IF('見積書(2号)'!B714=\"\",\"\",'見積書(2号)'!B714)","v":""},{"$f":"IF('見積書(2号)'!C714=\"\",\"\",'見積書(2号)'!C714)","v":""},{"$f":"IF('見積書(2号)'!H714=\"\",\"\",'見積書(2号)'!H714)","v":""},{"$f":"IF('見積書(2号)'!E714=\"\",\"\",'見積書(2号)'!E714)","v":""},{"$f":"IF('見積書(2号)'!I714=\"\",\"\",'見積書(2号)'!I714)","v":""},{"$f":"IF('見積書(2号)'!J714=\"\",\"\",'見積書(2号)'!J714)","v":""},{"$f":"IF('見積書(2号)'!K714=\"\",\"\",'見積書(2号)'!K714)","v":""},{"$f":"IF('見積書(2号)'!L714=\"\",\"\",'見積書(2号)'!L714)","v":""},{"$f":"IF('見積書(2号)'!M714=\"\",\"\",'見積書(2号)'!M714)","v":""},null,"","",null,"",""]
[{"$f":"IF('見積書(2号)'!A715=\"\",\"\",'見積書(2号)'!A715)","v":""},{"$f":"IF('見積書(2号)'!B715=\"\",\"\",'見積書(2号)'!B715)","v":""},{"$f":"IF('見積書(2号)'!C715=\"\",\"\",'見積書(2号)'!C715)","v":""},{"$f":"IF('見積書(2号)'!H715=\"\",\"\",'見積書(2号)'!H715)","v":""},{"$f":"IF('見積書(2号)'!E715=\"\",\"\",'見積書(2号)'!E715)","v":""},{"$f":"IF('見積書(2号)'!I715=\"\",\"\",'見積書(2号)'!I715)","v":""},{"$f":"IF('見積書(2号)'!J715=\"\",\"\",'見積書(2号)'!J715)","v":""},{"$f":"IF('見積書(2号)'!K715=\"\",\"\",'見積書(2号)'!K715)","v":""},{"$f":"IF('見積書(2号)'!L715=\"\",\"\",'見積書(2号)'!L715)","v":""},{"$f":"IF('見積書(2号)'!M715=\"\",\"\",'見積書(2号)'!M715)","v":""},null,{"$f":"IF(I715=\"\",F715,I715)","v":""},{"$f":"IF(L715=\"\",\"\",L715*K715)","v":""},null,"",""]
[{"$f":"IF('見積書(2号)'!A716=\"\",\"\",'見積書(2号)'!A716)","v":""},{"$f":"IF('見積書(2号)'!B716=\"\",\"\",'見積書(2号)'!B716)","v":""},{"$f":"IF('見積書(2号)'!C716=\"\",\"\",'見積書(2号)'!C716)","v":""},{"$f":"IF('見積書(2号)'!H716=\"\",\"\",'見積書(2号)'!H716)","v":""},{"$f":"IF('見積書(2号)'!E716=\"\",\"\",'見積書(2号)'!E716)","v":""},{"$f":"IF('見積書(2号)'!I716=\"\",\"\",'見積書(2号)'!I716)","v":""},{"$f":"IF('見積書(2号)'!J716=\"\",\"\",'見積書(2号)'!J716)","v":""},{"$f":"IF('見積書(2号)'!K716=\"\",\"\",'見積書(2号)'!K716)","v":""},{"$f":"IF('見積書(2号)'!L716=\"\",\"\",'見積書(2号)'!L716)","v":""},{"$f":"IF('見積書(2号)'!M716=\"\",\"\",'見積書(2号)'!M716)","v":""},null,"","",null,"",""]
[{"$f":"IF('見積書(2号)'!A717=\"\",\"\",'見積書(2号)'!A717)","v":""},{"$f":"IF('見積書(2号)'!B717=\"\",\"\",'見積書(2号)'!B717)","v":""},{"$f":"IF('見積書(2号)'!C717=\"\",\"\",'見積書(2号)'!C717)","v":""},{"$f":"IF('見積書(2号)'!H717=\"\",\"\",'見積書(2号)'!H717)","v":""},{"$f":"IF('見積書(2号)'!E717=\"\",\"\",'見積書(2号)'!E717)","v":""},{"$f":"IF('見積書(2号)'!I717=\"\",\"\",'見積書(2号)'!I717)","v":""},{"$f":"IF('見積書(2号)'!J717=\"\",\"\",'見積書(2号)'!J717)","v":""},{"$f":"IF('見積書(2号)'!K717=\"\",\"\",'見積書(2号)'!K717)","v":""},{"$f":"IF('見積書(2号)'!L717=\"\",\"\",'見積書(2号)'!L717)","v":""},{"$f":"IF('見積書(2号)'!M717=\"\",\"\",'見積書(2号)'!M717)","v":""},null,"","",null,"",""]
[{"$f":"IF('見積書(2号)'!A718=\"\",\"\",'見積書(2号)'!A718)","v":""},{"$f":"IF('見積書(2号)'!B718=\"\",\"\",'見積書(2号)'!B718)","v":""},{"$f":"IF('見積書(2号)'!C718=\"\",\"\",'見積書(2号)'!C718)","v":""},{"$f":"IF('見積書(2号)'!H718=\"\",\"\",'見積書(2号)'!H718)","v":""},{"$f":"IF('見積書(2号)'!E718=\"\",\"\",'見積書(2号)'!E718)","v":""},{"$f":"IF('見積書(2号)'!I718=\"\",\"\",'見積書(2号)'!I718)","v":""},{"$f":"IF('見積書(2号)'!J718=\"\",\"\",'見積書(2号)'!J718)","v":""},{"$f":"IF('見積書(2号)'!K718=\"\",\"\",'見積書(2号)'!K718)","v":""},{"$f":"IF('見積書(2号)'!L718=\"\",\"\",'見積書(2号)'!L718)","v":""},{"$f":"IF('見積書(2号)'!M718=\"\",\"\",'見積書(2号)'!M718)","v":""},null,"","",null,"",""]
[{"$f":"IF('見積書(2号)'!A719=\"\",\"\",'見積書(2号)'!A719)","v":""},{"$f":"IF('見積書(2号)'!B719=\"\",\"\",'見積書(2号)'!B719)","v":""},{"$f":"IF('見積書(2号)'!C719=\"\",\"\",'見積書(2号)'!C719)","v":""},{"$f":"IF('見積書(2号)'!H719=\"\",\"\",'見積書(2号)'!H719)","v":""},{"$f":"IF('見積書(2号)'!E719=\"\",\"\",'見積書(2号)'!E719)","v":""},{"$f":"IF('見積書(2号)'!I719=\"\",\"\",'見積書(2号)'!I719)","v":""},{"$f":"IF('見積書(2号)'!J719=\"\",\"\",'見積書(2号)'!J719)","v":""},{"$f":"IF('見積書(2号)'!K719=\"\",\"\",'見積書(2号)'!K719)","v":""},{"$f":"IF('見積書(2号)'!L719=\"\",\"\",'見積書(2号)'!L719)","v":""},{"$f":"IF('見積書(2号)'!M719=\"\",\"\",'見積書(2号)'!M719)","v":""},null,"","",null,"",""]
[{"$f":"IF('見積書(2号)'!A720=\"\",\"\",'見積書(2号)'!A720)","v":""},{"$f":"IF('見積書(2号)'!B720=\"\",\"\",'見積書(2号)'!B720)","v":""},{"$f":"IF('見積書(2号)'!C720=\"\",\"\",'見積書(2号)'!C720)","v":""},{"$f":"IF('見積書(2号)'!H720=\"\",\"\",'見積書(2号)'!H720)","v":""},{"$f":"IF('見積書(2号)'!E720=\"\",\"\",'見積書(2号)'!E720)","v":""},{"$f":"IF('見積書(2号)'!I720=\"\",\"\",'見積書(2号)'!I720)","v":""},{"$f":"IF('見積書(2号)'!J720=\"\",\"\",'見積書(2号)'!J720)","v":""},{"$f":"IF('見積書(2号)'!K720=\"\",\"\",'見積書(2号)'!K720)","v":""},{"$f":"IF('見積書(2号)'!L720=\"\",\"\",'見積書(2号)'!L720)","v":""},{"$f":"IF('見積書(2号)'!M720=\"\",\"\",'見積書(2号)'!M720)","v":""},null,"","",null,"",""]
[{"$f":"IF('見積書(2号)'!A721=\"\",\"\",'見積書(2号)'!A721)","v":""},{"$f":"IF('見積書(2号)'!B721=\"\",\"\",'見積書(2号)'!B721)","v":""},{"$f":"IF('見積書(2号)'!C721=\"\",\"\",'見積書(2号)'!C721)","v":""},{"$f":"IF('見積書(2号)'!H721=\"\",\"\",'見積書(2号)'!H721)","v":""},{"$f":"IF('見積書(2号)'!E721=\"\",\"\",'見積書(2号)'!E721)","v":""},{"$f":"IF('見積書(2号)'!I721=\"\",\"\",'見積書(2号)'!I721)","v":""},{"$f":"IF('見積書(2号)'!J721=\"\",\"\",'見積書(2号)'!J721)","v":""},{"$f":"IF('見積書(2号)'!K721=\"\",\"\",'見積書(2号)'!K721)","v":""},{"$f":"IF('見積書(2号)'!L721=\"\",\"\",'見積書(2号)'!L721)","v":""},{"$f":"IF('見積書(2号)'!M721=\"\",\"\",'見積書(2号)'!M721)","v":""},null,"","",null,"",""]
[{"$f":"IF('見積書(2号)'!A722=\"\",\"\",'見積書(2号)'!A722)","v":""},{"$f":"IF('見積書(2号)'!B722=\"\",\"\",'見積書(2号)'!B722)","v":""},{"$f":"IF('見積書(2号)'!C722=\"\",\"\",'見積書(2号)'!C722)","v":""},{"$f":"IF('見積書(2号)'!H722=\"\",\"\",'見積書(2号)'!H722)","v":""},{"$f":"IF('見積書(2号)'!E722=\"\",\"\",'見積書(2号)'!E722)","v":""},{"$f":"IF('見積書(2号)'!I722=\"\",\"\",'見積書(2号)'!I722)","v":""},{"$f":"IF('見積書(2号)'!J722=\"\",\"\",'見積書(2号)'!J722)","v":""},{"$f":"IF('見積書(2号)'!K722=\"\",\"\",'見積書(2号)'!K722)","v":""},{"$f":"IF('見積書(2号)'!L722=\"\",\"\",'見積書(2号)'!L722)","v":""},{"$f":"IF('見積書(2号)'!M722=\"\",\"\",'見積書(2号)'!M722)","v":""},null,"","",null,"",""]
[{"$f":"IF('見積書(2号)'!A723=\"\",\"\",'見積書(2号)'!A723)","v":""},{"$f":"IF('見積書(2号)'!B723=\"\",\"\",'見積書(2号)'!B723)","v":""},{"$f":"IF('見積書(2号)'!C723=\"\",\"\",'見積書(2号)'!C723)","v":""},{"$f":"IF('見積書(2号)'!H723=\"\",\"\",'見積書(2号)'!H723)","v":""},{"$f":"IF('見積書(2号)'!E723=\"\",\"\",'見積書(2号)'!E723)","v":""},{"$f":"IF('見積書(2号)'!I723=\"\",\"\",'見積書(2号)'!I723)","v":""},{"$f":"IF('見積書(2号)'!J723=\"\",\"\",'見積書(2号)'!J723)","v":""},{"$f":"IF('見積書(2号)'!K723=\"\",\"\",'見積書(2号)'!K723)","v":""},{"$f":"IF('見積書(2号)'!L723=\"\",\"\",'見積書(2号)'!L723)","v":""},{"$f":"IF('見積書(2号)'!M723=\"\",\"\",'見積書(2号)'!M723)","v":""},null,"","",null,"",""]
[{"$f":"IF('見積書(2号)'!A724=\"\",\"\",'見積書(2号)'!A724)","v":""},{"$f":"IF('見積書(2号)'!B724=\"\",\"\",'見積書(2号)'!B724)","v":""},{"$f":"IF('見積書(2号)'!C724=\"\",\"\",'見積書(2号)'!C724)","v":""},{"$f":"IF('見積書(2号)'!H724=\"\",\"\",'見積書(2号)'!H724)","v":""},{"$f":"IF('見積書(2号)'!E724=\"\",\"\",'見積書(2号)'!E724)","v":""},{"$f":"IF('見積書(2号)'!I724=\"\",\"\",'見積書(2号)'!I724)","v":""},{"$f":"IF('見積書(2号)'!J724=\"\",\"\",'見積書(2号)'!J724)","v":""},{"$f":"IF('見積書(2号)'!K724=\"\",\"\",'見積書(2号)'!K724)","v":""},{"$f":"IF('見積書(2号)'!L724=\"\",\"\",'見積書(2号)'!L724)","v":""},{"$f":"IF('見積書(2号)'!M724=\"\",\"\",'見積書(2号)'!M724)","v":""},null,"","",null,"",""]
[{"$f":"IF('見積書(2号)'!A725=\"\",\"\",'見積書(2号)'!A725)","v":""},{"$f":"IF('見積書(2号)'!B725=\"\",\"\",'見積書(2号)'!B725)","v":""},{"$f":"IF('見積書(2号)'!C725=\"\",\"\",'見積書(2号)'!C725)","v":""},{"$f":"IF('見積書(2号)'!H725=\"\",\"\",'見積書(2号)'!H725)","v":""},{"$f":"IF('見積書(2号)'!E725=\"\",\"\",'見積書(2号)'!E725)","v":""},{"$f":"IF('見積書(2号)'!I725=\"\",\"\",'見積書(2号)'!I725)","v":""},{"$f":"IF('見積書(2号)'!J725=\"\",\"\",'見積書(2号)'!J725)","v":""},{"$f":"IF('見積書(2号)'!K725=\"\",\"\",'見積書(2号)'!K725)","v":""},{"$f":"IF('見積書(2号)'!L725=\"\",\"\",'見積書(2号)'!L725)","v":""},{"$f":"IF('見積書(2号)'!M725=\"\",\"\",'見積書(2号)'!M725)","v":""},null,"","",null,"",""]
[{"$f":"IF('見積書(2号)'!A726=\"\",\"\",'見積書(2号)'!A726)","v":""},{"$f":"IF('見積書(2号)'!B726=\"\",\"\",'見積書(2号)'!B726)","v":""},{"$f":"IF('見積書(2号)'!C726=\"\",\"\",'見積書(2号)'!C726)","v":""},{"$f":"IF('見積書(2号)'!H726=\"\",\"\",'見積書(2号)'!H726)","v":""},{"$f":"IF('見積書(2号)'!E726=\"\",\"\",'見積書(2号)'!E726)","v":""},{"$f":"IF('見積書(2号)'!I726=\"\",\"\",'見積書(2号)'!I726)","v":""},{"$f":"IF('見積書(2号)'!J726=\"\",\"\",'見積書(2号)'!J726)","v":""},{"$f":"IF('見積書(2号)'!K726=\"\",\"\",'見積書(2号)'!K726)","v":""},{"$f":"IF('見積書(2号)'!L726=\"\",\"\",'見積書(2号)'!L726)","v":""},{"$f":"IF('見積書(2号)'!M726=\"\",\"\",'見積書(2号)'!M726)","v":""},null,"","",null,"",""]
[{"$f":"IF('見積書(2号)'!A727=\"\",\"\",'見積書(2号)'!A727)","v":""},{"$f":"IF('見積書(2号)'!B727=\"\",\"\",'見積書(2号)'!B727)","v":""},{"$f":"IF('見積書(2号)'!C727=\"\",\"\",'見積書(2号)'!C727)","v":""},{"$f":"IF('見積書(2号)'!H727=\"\",\"\",'見積書(2号)'!H727)","v":""},{"$f":"IF('見積書(2号)'!E727=\"\",\"\",'見積書(2号)'!E727)","v":""},{"$f":"IF('見積書(2号)'!I727=\"\",\"\",'見積書(2号)'!I727)","v":""},{"$f":"IF('見積書(2号)'!J727=\"\",\"\",'見積書(2号)'!J727)","v":""},{"$f":"IF('見積書(2号)'!K727=\"\",\"\",'見積書(2号)'!K727)","v":""},{"$f":"IF('見積書(2号)'!L727=\"\",\"\",'見積書(2号)'!L727)","v":""},{"$f":"IF('見積書(2号)'!M727=\"\",\"\",'見積書(2号)'!M727)","v":""},null,"","",null,"",""]
[{"$f":"IF('見積書(2号)'!A728=\"\",\"\",'見積書(2号)'!A728)","v":""},{"$f":"IF('見積書(2号)'!B728=\"\",\"\",'見積書(2号)'!B728)","v":""},{"$f":"IF('見積書(2号)'!C728=\"\",\"\",'見積書(2号)'!C728)","v":""},{"$f":"IF('見積書(2号)'!H728=\"\",\"\",'見積書(2号)'!H728)","v":""},{"$f":"IF('見積書(2号)'!E728=\"\",\"\",'見積書(2号)'!E728)","v":""},{"$f":"IF('見積書(2号)'!I728=\"\",\"\",'見積書(2号)'!I728)","v":""},{"$f":"IF('見積書(2号)'!J728=\"\",\"\",'見積書(2号)'!J728)","v":""},{"$f":"IF('見積書(2号)'!K728=\"\",\"\",'見積書(2号)'!K728)","v":""},{"$f":"IF('見積書(2号)'!L728=\"\",\"\",'見積書(2号)'!L728)","v":""},{"$f":"IF('見積書(2号)'!M728=\"\",\"\",'見積書(2号)'!M728)","v":""},null,"","",null,"",""]
[{"$f":"IF('見積書(2号)'!A729=\"\",\"\",'見積書(2号)'!A729)","v":""},{"$f":"IF('見積書(2号)'!B729=\"\",\"\",'見積書(2号)'!B729)","v":""},{"$f":"IF('見積書(2号)'!C729=\"\",\"\",'見積書(2号)'!C729)","v":""},{"$f":"IF('見積書(2号)'!H729=\"\",\"\",'見積書(2号)'!H729)","v":""},{"$f":"IF('見積書(2号)'!E729=\"\",\"\",'見積書(2号)'!E729)","v":""},{"$f":"IF('見積書(2号)'!I729=\"\",\"\",'見積書(2号)'!I729)","v":""},{"$f":"IF('見積書(2号)'!J729=\"\",\"\",'見積書(2号)'!J729)","v":""},{"$f":"IF('見積書(2号)'!K729=\"\",\"\",'見積書(2号)'!K729)","v":""},{"$f":"IF('見積書(2号)'!L729=\"\",\"\",'見積書(2号)'!L729)","v":""},{"$f":"IF('見積書(2号)'!M729=\"\",\"\",'見積書(2号)'!M729)","v":""},null,"","",null,"",""]
[{"$f":"IF('見積書(2号)'!A730=\"\",\"\",'見積書(2号)'!A730)","v":""},{"$f":"IF('見積書(2号)'!B730=\"\",\"\",'見積書(2号)'!B730)","v":""},{"$f":"IF('見積書(2号)'!C730=\"\",\"\",'見積書(2号)'!C730)","v":""},{"$f":"IF('見積書(2号)'!H730=\"\",\"\",'見積書(2号)'!H730)","v":""},{"$f":"IF('見積書(2号)'!E730=\"\",\"\",'見積書(2号)'!E730)","v":""},{"$f":"IF('見積書(2号)'!I730=\"\",\"\",'見積書(2号)'!I730)","v":""},{"$f":"IF('見積書(2号)'!J730=\"\",\"\",'見積書(2号)'!J730)","v":""},{"$f":"IF('見積書(2号)'!K730=\"\",\"\",'見積書(2号)'!K730)","v":""},{"$f":"IF('見積書(2号)'!L730=\"\",\"\",'見積書(2号)'!L730)","v":""},{"$f":"IF('見積書(2号)'!M730=\"\",\"\",'見積書(2号)'!M730)","v":""},null,"","",null,"",""]
[{"$f":"IF('見積書(2号)'!A731=\"\",\"\",'見積書(2号)'!A731)","v":""},{"$f":"IF('見積書(2号)'!B731=\"\",\"\",'見積書(2号)'!B731)","v":""},{"$f":"IF('見積書(2号)'!C731=\"\",\"\",'見積書(2号)'!C731)","v":""},{"$f":"IF('見積書(2号)'!H731=\"\",\"\",'見積書(2号)'!H731)","v":""},{"$f":"IF('見積書(2号)'!E731=\"\",\"\",'見積書(2号)'!E731)","v":""},{"$f":"IF('見積書(2号)'!I731=\"\",\"\",'見積書(2号)'!I731)","v":""},{"$f":"IF('見積書(2号)'!J731=\"\",\"\",'見積書(2号)'!J731)","v":""},{"$f":"IF('見積書(2号)'!K731=\"\",\"\",'見積書(2号)'!K731)","v":""},{"$f":"IF('見積書(2号)'!L731=\"\",\"\",'見積書(2号)'!L731)","v":""},{"$f":"IF('見積書(2号)'!M731=\"\",\"\",'見積書(2号)'!M731)","v":""},null,"","",null,"",""]
[{"$f":"IF('見積書(2号)'!A732=\"\",\"\",'見積書(2号)'!A732)","v":""},{"$f":"IF('見積書(2号)'!B732=\"\",\"\",'見積書(2号)'!B732)","v":""},{"$f":"IF('見積書(2号)'!C732=\"\",\"\",'見積書(2号)'!C732)","v":""},{"$f":"IF('見積書(2号)'!H732=\"\",\"\",'見積書(2号)'!H732)","v":""},{"$f":"IF('見積書(2号)'!E732=\"\",\"\",'見積書(2号)'!E732)","v":""},{"$f":"IF('見積書(2号)'!I732=\"\",\"\",'見積書(2号)'!I732)","v":""},{"$f":"IF('見積書(2号)'!J732=\"\",\"\",'見積書(2号)'!J732)","v":""},{"$f":"IF('見積書(2号)'!K732=\"\",\"\",'見積書(2号)'!K732)","v":""},{"$f":"IF('見積書(2号)'!L732=\"\",\"\",'見積書(2号)'!L732)","v":""},{"$f":"IF('見積書(2号)'!M732=\"\",\"\",'見積書(2号)'!M732)","v":""},null,"","",null,"",""]
[{"$f":"IF('見積書(2号)'!A733=\"\",\"\",'見積書(2号)'!A733)","v":""},{"$f":"IF('見積書(2号)'!B733=\"\",\"\",'見積書(2号)'!B733)","v":""},{"$f":"IF('見積書(2号)'!C733=\"\",\"\",'見積書(2号)'!C733)","v":""},{"$f":"IF('見積書(2号)'!H733=\"\",\"\",'見積書(2号)'!H733)","v":""},{"$f":"IF('見積書(2号)'!E733=\"\",\"\",'見積書(2号)'!E733)","v":""},{"$f":"IF('見積書(2号)'!I733=\"\",\"\",'見積書(2号)'!I733)","v":""},{"$f":"IF('見積書(2号)'!J733=\"\",\"\",'見積書(2号)'!J733)","v":""},{"$f":"IF('見積書(2号)'!K733=\"\",\"\",'見積書(2号)'!K733)","v":""},{"$f":"IF('見積書(2号)'!L733=\"\",\"\",'見積書(2号)'!L733)","v":""},{"$f":"IF('見積書(2号)'!M733=\"\",\"\",'見積書(2号)'!M733)","v":""},null,"","",null,"",""]
[{"$f":"IF('見積書(2号)'!A734=\"\",\"\",'見積書(2号)'!A734)","v":""},{"$f":"IF('見積書(2号)'!B734=\"\",\"\",'見積書(2号)'!B734)","v":""},{"$f":"IF('見積書(2号)'!C734=\"\",\"\",'見積書(2号)'!C734)","v":""},{"$f":"IF('見積書(2号)'!H734=\"\",\"\",'見積書(2号)'!H734)","v":""},{"$f":"IF('見積書(2号)'!E734=\"\",\"\",'見積書(2号)'!E734)","v":""},{"$f":"IF('見積書(2号)'!I734=\"\",\"\",'見積書(2号)'!I734)","v":""},{"$f":"IF('見積書(2号)'!J734=\"\",\"\",'見積書(2号)'!J734)","v":""},{"$f":"IF('見積書(2号)'!K734=\"\",\"\",'見積書(2号)'!K734)","v":""},{"$f":"IF('見積書(2号)'!L734=\"\",\"\",'見積書(2号)'!L734)","v":""},{"$f":"IF('見積書(2号)'!M734=\"\",\"\",'見積書(2号)'!M734)","v":""},null,"","",null,"",""]
[{"$f":"IF('見積書(2号)'!A735=\"\",\"\",'見積書(2号)'!A735)","v":""},{"$f":"IF('見積書(2号)'!B735=\"\",\"\",'見積書(2号)'!B735)","v":""},{"$f":"IF('見積書(2号)'!C735=\"\",\"\",'見積書(2号)'!C735)","v":""},{"$f":"IF('見積書(2号)'!H735=\"\",\"\",'見積書(2号)'!H735)","v":""},{"$f":"IF('見積書(2号)'!E735=\"\",\"\",'見積書(2号)'!E735)","v":""},{"$f":"IF('見積書(2号)'!I735=\"\",\"\",'見積書(2号)'!I735)","v":""},{"$f":"IF('見積書(2号)'!J735=\"\",\"\",'見積書(2号)'!J735)","v":""},{"$f":"IF('見積書(2号)'!K735=\"\",\"\",'見積書(2号)'!K735)","v":""},{"$f":"IF('見積書(2号)'!L735=\"\",\"\",'見積書(2号)'!L735)","v":""},{"$f":"IF('見積書(2号)'!M735=\"\",\"\",'見積書(2号)'!M735)","v":""},null,"","",null,"",""]
[{"$f":"IF('見積書(2号)'!A736=\"\",\"\",'見積書(2号)'!A736)","v":""},{"$f":"IF('見積書(2号)'!B736=\"\",\"\",'見積書(2号)'!B736)","v":""},{"$f":"IF('見積書(2号)'!C736=\"\",\"\",'見積書(2号)'!C736)","v":""},{"$f":"IF('見積書(2号)'!H736=\"\",\"\",'見積書(2号)'!H736)","v":""},{"$f":"IF('見積書(2号)'!E736=\"\",\"\",'見積書(2号)'!E736)","v":""},{"$f":"IF('見積書(2号)'!I736=\"\",\"\",'見積書(2号)'!I736)","v":""},{"$f":"IF('見積書(2号)'!J736=\"\",\"\",'見積書(2号)'!J736)","v":""},{"$f":"IF('見積書(2号)'!K736=\"\",\"\",'見積書(2号)'!K736)","v":""},{"$f":"IF('見積書(2号)'!L736=\"\",\"\",'見積書(2号)'!L736)","v":""},{"$f":"IF('見積書(2号)'!M736=\"\",\"\",'見積書(2号)'!M736)","v":""},null,"","",null,"",""]
[{"$f":"IF('見積書(2号)'!A737=\"\",\"\",'見積書(2号)'!A737)","v":""},{"$f":"IF('見積書(2号)'!B737=\"\",\"\",'見積書(2号)'!B737)","v":""},{"$f":"IF('見積書(2号)'!C737=\"\",\"\",'見積書(2号)'!C737)","v":""},{"$f":"IF('見積書(2号)'!H737=\"\",\"\",'見積書(2号)'!H737)","v":""},{"$f":"IF('見積書(2号)'!E737=\"\",\"\",'見積書(2号)'!E737)","v":""},{"$f":"IF('見積書(2号)'!I737=\"\",\"\",'見積書(2号)'!I737)","v":""},{"$f":"IF('見積書(2号)'!J737=\"\",\"\",'見積書(2号)'!J737)","v":""},{"$f":"IF('見積書(2号)'!K737=\"\",\"\",'見積書(2号)'!K737)","v":""},{"$f":"IF('見積書(2号)'!L737=\"\",\"\",'見積書(2号)'!L737)","v":""},{"$f":"IF('見積書(2号)'!M737=\"\",\"\",'見積書(2号)'!M737)","v":""},null,"","",null,"",""]
[{"$f":"IF('見積書(2号)'!A738=\"\",\"\",'見積書(2号)'!A738)","v":""},{"$f":"IF('見積書(2号)'!B738=\"\",\"\",'見積書(2号)'!B738)","v":""},{"$f":"IF('見積書(2号)'!C738=\"\",\"\",'見積書(2号)'!C738)","v":""},{"$f":"IF('見積書(2号)'!H738=\"\",\"\",'見積書(2号)'!H738)","v":""},{"$f":"IF('見積書(2号)'!E738=\"\",\"\",'見積書(2号)'!E738)","v":""},{"$f":"IF('見積書(2号)'!I738=\"\",\"\",'見積書(2号)'!I738)","v":""},{"$f":"IF('見積書(2号)'!J738=\"\",\"\",'見積書(2号)'!J738)","v":""},{"$f":"IF('見積書(2号)'!K738=\"\",\"\",'見積書(2号)'!K738)","v":""},{"$f":"IF('見積書(2号)'!L738=\"\",\"\",'見積書(2号)'!L738)","v":""},{"$f":"IF('見積書(2号)'!M738=\"\",\"\",'見積書(2号)'!M738)","v":""},null,"","",null,"",""]
[{"$f":"IF('見積書(2号)'!A739=\"\",\"\",'見積書(2号)'!A739)","v":""},{"$f":"IF('見積書(2号)'!B739=\"\",\"\",'見積書(2号)'!B739)","v":""},{"$f":"IF('見積書(2号)'!C739=\"\",\"\",'見積書(2号)'!C739)","v":""},{"$f":"IF('見積書(2号)'!H739=\"\",\"\",'見積書(2号)'!H739)","v":""},{"$f":"IF('見積書(2号)'!E739=\"\",\"\",'見積書(2号)'!E739)","v":""},{"$f":"IF('見積書(2号)'!I739=\"\",\"\",'見積書(2号)'!I739)","v":""},{"$f":"IF('見積書(2号)'!J739=\"\",\"\",'見積書(2号)'!J739)","v":""},{"$f":"IF('見積書(2号)'!K739=\"\",\"\",'見積書(2号)'!K739)","v":""},{"$f":"IF('見積書(2号)'!L739=\"\",\"\",'見積書(2号)'!L739)","v":""},{"$f":"IF('見積書(2号)'!M739=\"\",\"\",'見積書(2号)'!M739)","v":""},null,"","",null,"",""]
[{"$f":"IF('見積書(2号)'!A740=\"\",\"\",'見積書(2号)'!A740)","v":""},{"$f":"IF('見積書(2号)'!B740=\"\",\"\",'見積書(2号)'!B740)","v":""},{"$f":"IF('見積書(2号)'!C740=\"\",\"\",'見積書(2号)'!C740)","v":""},{"$f":"IF('見積書(2号)'!H740=\"\",\"\",'見積書(2号)'!H740)","v":""},{"$f":"IF('見積書(2号)'!E740=\"\",\"\",'見積書(2号)'!E740)","v":""},{"$f":"IF('見積書(2号)'!I740=\"\",\"\",'見積書(2号)'!I740)","v":""},{"$f":"IF('見積書(2号)'!J740=\"\",\"\",'見積書(2号)'!J740)","v":""},{"$f":"IF('見積書(2号)'!K740=\"\",\"\",'見積書(2号)'!K740)","v":""},{"$f":"IF('見積書(2号)'!L740=\"\",\"\",'見積書(2号)'!L740)","v":""},{"$f":"IF('見積書(2号)'!M740=\"\",\"\",'見積書(2号)'!M740)","v":""},null,"","",null,"",""]
[{"$f":"IF('見積書(2号)'!A741=\"\",\"\",'見積書(2号)'!A741)","v":""},{"$f":"IF('見積書(2号)'!B741=\"\",\"\",'見積書(2号)'!B741)","v":""},{"$f":"IF('見積書(2号)'!C741=\"\",\"\",'見積書(2号)'!C741)","v":""},{"$f":"IF('見積書(2号)'!H741=\"\",\"\",'見積書(2号)'!H741)","v":""},{"$f":"IF('見積書(2号)'!E741=\"\",\"\",'見積書(2号)'!E741)","v":""},{"$f":"IF('見積書(2号)'!I741=\"\",\"\",'見積書(2号)'!I741)","v":""},{"$f":"IF('見積書(2号)'!J741=\"\",\"\",'見積書(2号)'!J741)","v":""},{"$f":"IF('見積書(2号)'!K741=\"\",\"\",'見積書(2号)'!K741)","v":""},{"$f":"IF('見積書(2号)'!L741=\"\",\"\",'見積書(2号)'!L741)","v":""},{"$f":"IF('見積書(2号)'!M741=\"\",\"\",'見積書(2号)'!M741)","v":""},null,"","",null,"",""]
[{"$f":"IF('見積書(2号)'!A742=\"\",\"\",'見積書(2号)'!A742)","v":""},{"$f":"IF('見積書(2号)'!B742=\"\",\"\",'見積書(2号)'!B742)","v":""},{"$f":"IF('見積書(2号)'!C742=\"\",\"\",'見積書(2号)'!C742)","v":""},{"$f":"IF('見積書(2号)'!H742=\"\",\"\",'見積書(2号)'!H742)","v":""},{"$f":"IF('見積書(2号)'!E742=\"\",\"\",'見積書(2号)'!E742)","v":""},{"$f":"IF('見積書(2号)'!I742=\"\",\"\",'見積書(2号)'!I742)","v":""},{"$f":"IF('見積書(2号)'!J742=\"\",\"\",'見積書(2号)'!J742)","v":""},{"$f":"IF('見積書(2号)'!K742=\"\",\"\",'見積書(2号)'!K742)","v":""},{"$f":"IF('見積書(2号)'!L742=\"\",\"\",'見積書(2号)'!L742)","v":""},{"$f":"IF('見積書(2号)'!M742=\"\",\"\",'見積書(2号)'!M742)","v":""},null,"","",null,"",""]
[{"$f":"IF('見積書(2号)'!A743=\"\",\"\",'見積書(2号)'!A743)","v":""},{"$f":"IF('見積書(2号)'!B743=\"\",\"\",'見積書(2号)'!B743)","v":""},{"$f":"IF('見積書(2号)'!C743=\"\",\"\",'見積書(2号)'!C743)","v":""},{"$f":"IF('見積書(2号)'!H743=\"\",\"\",'見積書(2号)'!H743)","v":""},{"$f":"IF('見積書(2号)'!E743=\"\",\"\",'見積書(2号)'!E743)","v":""},{"$f":"IF('見積書(2号)'!I743=\"\",\"\",'見積書(2号)'!I743)","v":""},{"$f":"IF('見積書(2号)'!J743=\"\",\"\",'見積書(2号)'!J743)","v":""},{"$f":"IF('見積書(2号)'!K743=\"\",\"\",'見積書(2号)'!K743)","v":""},{"$f":"IF('見積書(2号)'!L743=\"\",\"\",'見積書(2号)'!L743)","v":""},{"$f":"IF('見積書(2号)'!M743=\"\",\"\",'見積書(2号)'!M743)","v":""},null,"","",null,"",""]
[{"$f":"IF('見積書(2号)'!A744=\"\",\"\",'見積書(2号)'!A744)","v":""},{"$f":"IF('見積書(2号)'!B744=\"\",\"\",'見積書(2号)'!B744)","v":""},{"$f":"IF('見積書(2号)'!C744=\"\",\"\",'見積書(2号)'!C744)","v":""},{"$f":"IF('見積書(2号)'!H744=\"\",\"\",'見積書(2号)'!H744)","v":""},{"$f":"IF('見積書(2号)'!E744=\"\",\"\",'見積書(2号)'!E744)","v":""},{"$f":"IF('見積書(2号)'!I744=\"\",\"\",'見積書(2号)'!I744)","v":""},{"$f":"IF('見積書(2号)'!J744=\"\",\"\",'見積書(2号)'!J744)","v":""},{"$f":"IF('見積書(2号)'!K744=\"\",\"\",'見積書(2号)'!K744)","v":""},{"$f":"IF('見積書(2号)'!L744=\"\",\"\",'見積書(2号)'!L744)","v":""},{"$f":"IF('見積書(2号)'!M744=\"\",\"\",'見積書(2号)'!M744)","v":""},null,"","",null,"",""]
[{"$f":"IF('見積書(2号)'!A745=\"\",\"\",'見積書(2号)'!A745)","v":""},{"$f":"IF('見積書(2号)'!B745=\"\",\"\",'見積書(2号)'!B745)","v":""},{"$f":"IF('見積書(2号)'!C745=\"\",\"\",'見積書(2号)'!C745)","v":""},{"$f":"IF('見積書(2号)'!H745=\"\",\"\",'見積書(2号)'!H745)","v":""},{"$f":"IF('見積書(2号)'!E745=\"\",\"\",'見積書(2号)'!E745)","v":""},{"$f":"IF('見積書(2号)'!I745=\"\",\"\",'見積書(2号)'!I745)","v":""},{"$f":"IF('見積書(2号)'!J745=\"\",\"\",'見積書(2号)'!J745)","v":""},{"$f":"IF('見積書(2号)'!K745=\"\",\"\",'見積書(2号)'!K745)","v":""},{"$f":"IF('見積書(2号)'!L745=\"\",\"\",'見積書(2号)'!L745)","v":""},{"$f":"IF('見積書(2号)'!M745=\"\",\"\",'見積書(2号)'!M745)","v":""},null,"","",null,"",""]
[{"$f":"IF('見積書(2号)'!A746=\"\",\"\",'見積書(2号)'!A746)","v":""},{"$f":"IF('見積書(2号)'!B746=\"\",\"\",'見積書(2号)'!B746)","v":""},{"$f":"IF('見積書(2号)'!C746=\"\",\"\",'見積書(2号)'!C746)","v":""},{"$f":"IF('見積書(2号)'!H746=\"\",\"\",'見積書(2号)'!H746)","v":""},{"$f":"IF('見積書(2号)'!E746=\"\",\"\",'見積書(2号)'!E746)","v":""},{"$f":"IF('見積書(2号)'!I746=\"\",\"\",'見積書(2号)'!I746)","v":""},{"$f":"IF('見積書(2号)'!J746=\"\",\"\",'見積書(2号)'!J746)","v":""},{"$f":"IF('見積書(2号)'!K746=\"\",\"\",'見積書(2号)'!K746)","v":""},{"$f":"IF('見積書(2号)'!L746=\"\",\"\",'見積書(2号)'!L746)","v":""},{"$f":"IF('見積書(2号)'!M746=\"\",\"\",'見積書(2号)'!M746)","v":""},null,"","",null,"",""]
[{"$f":"IF('見積書(2号)'!A747=\"\",\"\",'見積書(2号)'!A747)","v":""},{"$f":"IF('見積書(2号)'!B747=\"\",\"\",'見積書(2号)'!B747)","v":""},{"$f":"IF('見積書(2号)'!C747=\"\",\"\",'見積書(2号)'!C747)","v":""},{"$f":"IF('見積書(2号)'!H747=\"\",\"\",'見積書(2号)'!H747)","v":""},{"$f":"IF('見積書(2号)'!E747=\"\",\"\",'見積書(2号)'!E747)","v":""},{"$f":"IF('見積書(2号)'!I747=\"\",\"\",'見積書(2号)'!I747)","v":""},{"$f":"IF('見積書(2号)'!J747=\"\",\"\",'見積書(2号)'!J747)","v":""},{"$f":"IF('見積書(2号)'!K747=\"\",\"\",'見積書(2号)'!K747)","v":""},{"$f":"IF('見積書(2号)'!L747=\"\",\"\",'見積書(2号)'!L747)","v":""},{"$f":"IF('見積書(2号)'!M747=\"\",\"\",'見積書(2号)'!M747)","v":""},null,"","",null,"",""]
[{"$f":"IF('見積書(2号)'!A748=\"\",\"\",'見積書(2号)'!A748)","v":""},{"$f":"IF('見積書(2号)'!B748=\"\",\"\",'見積書(2号)'!B748)","v":""},{"$f":"IF('見積書(2号)'!C748=\"\",\"\",'見積書(2号)'!C748)","v":""},{"$f":"IF('見積書(2号)'!H748=\"\",\"\",'見積書(2号)'!H748)","v":""},{"$f":"IF('見積書(2号)'!E748=\"\",\"\",'見積書(2号)'!E748)","v":""},{"$f":"IF('見積書(2号)'!I748=\"\",\"\",'見積書(2号)'!I748)","v":""},{"$f":"IF('見積書(2号)'!J748=\"\",\"\",'見積書(2号)'!J748)","v":""},{"$f":"IF('見積書(2号)'!K748=\"\",\"\",'見積書(2号)'!K748)","v":""},{"$f":"IF('見積書(2号)'!L748=\"\",\"\",'見積書(2号)'!L748)","v":""},{"$f":"IF('見積書(2号)'!M748=\"\",\"\",'見積書(2号)'!M748)","v":""},null,"","",null,"",""]
[{"$f":"IF('見積書(2号)'!A749=\"\",\"\",'見積書(2号)'!A749)","v":""},{"$f":"IF('見積書(2号)'!B749=\"\",\"\",'見積書(2号)'!B749)","v":""},{"$f":"IF('見積書(2号)'!C749=\"\",\"\",'見積書(2号)'!C749)","v":""},{"$f":"IF('見積書(2号)'!H749=\"\",\"\",'見積書(2号)'!H749)","v":""},{"$f":"IF('見積書(2号)'!E749=\"\",\"\",'見積書(2号)'!E749)","v":""},{"$f":"IF('見積書(2号)'!I749=\"\",\"\",'見積書(2号)'!I749)","v":""},{"$f":"IF('見積書(2号)'!J749=\"\",\"\",'見積書(2号)'!J749)","v":""},{"$f":"IF('見積書(2号)'!K749=\"\",\"\",'見積書(2号)'!K749)","v":""},{"$f":"IF('見積書(2号)'!L749=\"\",\"\",'見積書(2号)'!L749)","v":""},{"$f":"IF('見積書(2号)'!M749=\"\",\"\",'見積書(2号)'!M749)","v":""},null,"","",null,"",""]
[{"$f":"IF('見積書(2号)'!A750=\"\",\"\",'見積書(2号)'!A750)","v":""},{"$f":"IF('見積書(2号)'!B750=\"\",\"\",'見積書(2号)'!B750)","v":""},{"$f":"IF('見積書(2号)'!C750=\"\",\"\",'見積書(2号)'!C750)","v":""},{"$f":"IF('見積書(2号)'!H750=\"\",\"\",'見積書(2号)'!H750)","v":""},{"$f":"IF('見積書(2号)'!E750=\"\",\"\",'見積書(2号)'!E750)","v":""},{"$f":"IF('見積書(2号)'!I750=\"\",\"\",'見積書(2号)'!I750)","v":""},{"$f":"IF('見積書(2号)'!J750=\"\",\"\",'見積書(2号)'!J750)","v":""},{"$f":"IF('見積書(2号)'!K750=\"\",\"\",'見積書(2号)'!K750)","v":""},{"$f":"IF('見積書(2号)'!L750=\"\",\"\",'見積書(2号)'!L750)","v":""},{"$f":"IF('見積書(2号)'!M750=\"\",\"\",'見積書(2号)'!M750)","v":""},null,"","",null,"",""]
[{"$f":"IF('見積書(2号)'!A751=\"\",\"\",'見積書(2号)'!A751)","v":""},{"$f":"IF('見積書(2号)'!B751=\"\",\"\",'見積書(2号)'!B751)","v":""},{"$f":"IF('見積書(2号)'!C751=\"\",\"\",'見積書(2号)'!C751)","v":""},{"$f":"IF('見積書(2号)'!H751=\"\",\"\",'見積書(2号)'!H751)","v":""},{"$f":"IF('見積書(2号)'!E751=\"\",\"\",'見積書(2号)'!E751)","v":""},{"$f":"IF('見積書(2号)'!I751=\"\",\"\",'見積書(2号)'!I751)","v":""},{"$f":"IF('見積書(2号)'!J751=\"\",\"\",'見積書(2号)'!J751)","v":""},{"$f":"IF('見積書(2号)'!K751=\"\",\"\",'見積書(2号)'!K751)","v":""},{"$f":"IF('見積書(2号)'!L751=\"\",\"\",'見積書(2号)'!L751)","v":""},{"$f":"IF('見積書(2号)'!M751=\"\",\"\",'見積書(2号)'!M751)","v":""},null,"","",null,"",""]
[{"$f":"IF('見積書(2号)'!A752=\"\",\"\",'見積書(2号)'!A752)","v":""},{"$f":"IF('見積書(2号)'!B752=\"\",\"\",'見積書(2号)'!B752)","v":""},{"$f":"IF('見積書(2号)'!C752=\"\",\"\",'見積書(2号)'!C752)","v":""},{"$f":"IF('見積書(2号)'!H752=\"\",\"\",'見積書(2号)'!H752)","v":""},{"$f":"IF('見積書(2号)'!E752=\"\",\"\",'見積書(2号)'!E752)","v":""},{"$f":"IF('見積書(2号)'!I752=\"\",\"\",'見積書(2号)'!I752)","v":""},{"$f":"IF('見積書(2号)'!J752=\"\",\"\",'見積書(2号)'!J752)","v":""},{"$f":"IF('見積書(2号)'!K752=\"\",\"\",'見積書(2号)'!K752)","v":""},{"$f":"IF('見積書(2号)'!L752=\"\",\"\",'見積書(2号)'!L752)","v":""},{"$f":"IF('見積書(2号)'!M752=\"\",\"\",'見積書(2号)'!M752)","v":""},null,"","",null,"",""]
[{"$f":"IF('見積書(2号)'!A753=\"\",\"\",'見積書(2号)'!A753)","v":""},{"$f":"IF('見積書(2号)'!B753=\"\",\"\",'見積書(2号)'!B753)","v":""},{"$f":"IF('見積書(2号)'!C753=\"\",\"\",'見積書(2号)'!C753)","v":""},{"$f":"IF('見積書(2号)'!H753=\"\",\"\",'見積書(2号)'!H753)","v":""},{"$f":"IF('見積書(2号)'!E753=\"\",\"\",'見積書(2号)'!E753)","v":""},{"$f":"IF('見積書(2号)'!I753=\"\",\"\",'見積書(2号)'!I753)","v":""},{"$f":"IF('見積書(2号)'!J753=\"\",\"\",'見積書(2号)'!J753)","v":""},{"$f":"IF('見積書(2号)'!K753=\"\",\"\",'見積書(2号)'!K753)","v":""},{"$f":"IF('見積書(2号)'!L753=\"\",\"\",'見積書(2号)'!L753)","v":""},{"$f":"IF('見積書(2号)'!M753=\"\",\"\",'見積書(2号)'!M753)","v":""},null,"","",null,"",""]
[{"$f":"IF('見積書(2号)'!A754=\"\",\"\",'見積書(2号)'!A754)","v":""},{"$f":"IF('見積書(2号)'!B754=\"\",\"\",'見積書(2号)'!B754)","v":""},{"$f":"IF('見積書(2号)'!C754=\"\",\"\",'見積書(2号)'!C754)","v":""},{"$f":"IF('見積書(2号)'!H754=\"\",\"\",'見積書(2号)'!H754)","v":""},{"$f":"IF('見積書(2号)'!E754=\"\",\"\",'見積書(2号)'!E754)","v":""},{"$f":"IF('見積書(2号)'!I754=\"\",\"\",'見積書(2号)'!I754)","v":""},{"$f":"IF('見積書(2号)'!J754=\"\",\"\",'見積書(2号)'!J754)","v":""},{"$f":"IF('見積書(2号)'!K754=\"\",\"\",'見積書(2号)'!K754)","v":""},{"$f":"IF('見積書(2号)'!L754=\"\",\"\",'見積書(2号)'!L754)","v":""},{"$f":"IF('見積書(2号)'!M754=\"\",\"\",'見積書(2号)'!M754)","v":""},null,"","",null,"",""]
[{"$f":"IF('見積書(2号)'!A755=\"\",\"\",'見積書(2号)'!A755)","v":""},{"$f":"IF('見積書(2号)'!B755=\"\",\"\",'見積書(2号)'!B755)","v":""},{"$f":"IF('見積書(2号)'!C755=\"\",\"\",'見積書(2号)'!C755)","v":""},{"$f":"IF('見積書(2号)'!H755=\"\",\"\",'見積書(2号)'!H755)","v":""},{"$f":"IF('見積書(2号)'!E755=\"\",\"\",'見積書(2号)'!E755)","v":""},{"$f":"IF('見積書(2号)'!I755=\"\",\"\",'見積書(2号)'!I755)","v":""},{"$f":"IF('見積書(2号)'!J755=\"\",\"\",'見積書(2号)'!J755)","v":""},{"$f":"IF('見積書(2号)'!K755=\"\",\"\",'見積書(2号)'!K755)","v":""},{"$f":"IF('見積書(2号)'!L755=\"\",\"\",'見積書(2号)'!L755)","v":""},{"$f":"IF('見積書(2号)'!M755=\"\",\"\",'見積書(2号)'!M755)","v":""},null,"","",null,"",""]
[{"$f":"IF('見積書(2号)'!A756=\"\",\"\",'見積書(2号)'!A756)","v":""},{"$f":"IF('見積書(2号)'!B756=\"\",\"\",'見積書(2号)'!B756)","v":""},{"$f":"IF('見積書(2号)'!C756=\"\",\"\",'見積書(2号)'!C756)","v":""},{"$f":"IF('見積書(2号)'!H756=\"\",\"\",'見積書(2号)'!H756)","v":""},{"$f":"IF('見積書(2号)'!E756=\"\",\"\",'見積書(2号)'!E756)","v":""},{"$f":"IF('見積書(2号)'!I756=\"\",\"\",'見積書(2号)'!I756)","v":""},{"$f":"IF('見積書(2号)'!J756=\"\",\"\",'見積書(2号)'!J756)","v":""},{"$f":"IF('見積書(2号)'!K756=\"\",\"\",'見積書(2号)'!K756)","v":""},{"$f":"IF('見積書(2号)'!L756=\"\",\"\",'見積書(2号)'!L756)","v":""},{"$f":"IF('見積書(2号)'!M756=\"\",\"\",'見積書(2号)'!M756)","v":""},null,"","",null,"",""]
[{"$f":"IF('見積書(2号)'!A757=\"\",\"\",'見積書(2号)'!A757)","v":""},{"$f":"IF('見積書(2号)'!B757=\"\",\"\",'見積書(2号)'!B757)","v":""},{"$f":"IF('見積書(2号)'!C757=\"\",\"\",'見積書(2号)'!C757)","v":""},{"$f":"IF('見積書(2号)'!H757=\"\",\"\",'見積書(2号)'!H757)","v":""},{"$f":"IF('見積書(2号)'!E757=\"\",\"\",'見積書(2号)'!E757)","v":""},{"$f":"IF('見積書(2号)'!I757=\"\",\"\",'見積書(2号)'!I757)","v":""},{"$f":"IF('見積書(2号)'!J757=\"\",\"\",'見積書(2号)'!J757)","v":""},{"$f":"IF('見積書(2号)'!K757=\"\",\"\",'見積書(2号)'!K757)","v":""},{"$f":"IF('見積書(2号)'!L757=\"\",\"\",'見積書(2号)'!L757)","v":""},{"$f":"IF('見積書(2号)'!M757=\"\",\"\",'見積書(2号)'!M757)","v":""},null,"","",null,"",""]
[{"$f":"IF('見積書(2号)'!A758=\"\",\"\",'見積書(2号)'!A758)","v":""},{"$f":"IF('見積書(2号)'!B758=\"\",\"\",'見積書(2号)'!B758)","v":""},{"$f":"IF('見積書(2号)'!C758=\"\",\"\",'見積書(2号)'!C758)","v":""},{"$f":"IF('見積書(2号)'!H758=\"\",\"\",'見積書(2号)'!H758)","v":""},{"$f":"IF('見積書(2号)'!E758=\"\",\"\",'見積書(2号)'!E758)","v":""},{"$f":"IF('見積書(2号)'!I758=\"\",\"\",'見積書(2号)'!I758)","v":""},{"$f":"IF('見積書(2号)'!J758=\"\",\"\",'見積書(2号)'!J758)","v":""},{"$f":"IF('見積書(2号)'!K758=\"\",\"\",'見積書(2号)'!K758)","v":""},{"$f":"IF('見積書(2号)'!L758=\"\",\"\",'見積書(2号)'!L758)","v":""},{"$f":"IF('見積書(2号)'!M758=\"\",\"\",'見積書(2号)'!M758)","v":""},null,"","",null,"",""]
[{"$f":"IF('見積書(2号)'!A759=\"\",\"\",'見積書(2号)'!A759)","v":""},{"$f":"IF('見積書(2号)'!B759=\"\",\"\",'見積書(2号)'!B759)","v":""},{"$f":"IF('見積書(2号)'!C759=\"\",\"\",'見積書(2号)'!C759)","v":""},{"$f":"IF('見積書(2号)'!H759=\"\",\"\",'見積書(2号)'!H759)","v":""},{"$f":"IF('見積書(2号)'!E759=\"\",\"\",'見積書(2号)'!E759)","v":""},{"$f":"IF('見積書(2号)'!I759=\"\",\"\",'見積書(2号)'!I759)","v":""},{"$f":"IF('見積書(2号)'!J759=\"\",\"\",'見積書(2号)'!J759)","v":""},{"$f":"IF('見積書(2号)'!K759=\"\",\"\",'見積書(2号)'!K759)","v":""},{"$f":"IF('見積書(2号)'!L759=\"\",\"\",'見積書(2号)'!L759)","v":""},{"$f":"IF('見積書(2号)'!M759=\"\",\"\",'見積書(2号)'!M759)","v":""},null,"","",null,"",""]
[{"$f":"IF('見積書(2号)'!A760=\"\",\"\",'見積書(2号)'!A760)","v":""},{"$f":"IF('見積書(2号)'!B760=\"\",\"\",'見積書(2号)'!B760)","v":""},{"$f":"IF('見積書(2号)'!C760=\"\",\"\",'見積書(2号)'!C760)","v":""},{"$f":"IF('見積書(2号)'!H760=\"\",\"\",'見積書(2号)'!H760)","v":""},{"$f":"IF('見積書(2号)'!E760=\"\",\"\",'見積書(2号)'!E760)","v":""},{"$f":"IF('見積書(2号)'!I760=\"\",\"\",'見積書(2号)'!I760)","v":""},{"$f":"IF('見積書(2号)'!J760=\"\",\"\",'見積書(2号)'!J760)","v":""},{"$f":"IF('見積書(2号)'!K760=\"\",\"\",'見積書(2号)'!K760)","v":""},{"$f":"IF('見積書(2号)'!L760=\"\",\"\",'見積書(2号)'!L760)","v":""},{"$f":"IF('見積書(2号)'!M760=\"\",\"\",'見積書(2号)'!M760)","v":""},null,"","",null,"",""]
[{"$f":"IF('見積書(2号)'!A761=\"\",\"\",'見積書(2号)'!A761)","v":""},{"$f":"IF('見積書(2号)'!B761=\"\",\"\",'見積書(2号)'!B761)","v":""},{"$f":"IF('見積書(2号)'!C761=\"\",\"\",'見積書(2号)'!C761)","v":""},{"$f":"IF('見積書(2号)'!H761=\"\",\"\",'見積書(2号)'!H761)","v":""},{"$f":"IF('見積書(2号)'!E761=\"\",\"\",'見積書(2号)'!E761)","v":""},{"$f":"IF('見積書(2号)'!I761=\"\",\"\",'見積書(2号)'!I761)","v":""},{"$f":"IF('見積書(2号)'!J761=\"\",\"\",'見積書(2号)'!J761)","v":""},{"$f":"IF('見積書(2号)'!K761=\"\",\"\",'見積書(2号)'!K761)","v":""},{"$f":"IF('見積書(2号)'!L761=\"\",\"\",'見積書(2号)'!L761)","v":""},{"$f":"IF('見積書(2号)'!M761=\"\",\"\",'見積書(2号)'!M761)","v":""},null,"","",null,"",""]
[{"$f":"IF('見積書(2号)'!A762=\"\",\"\",'見積書(2号)'!A762)","v":""},{"$f":"IF('見積書(2号)'!B762=\"\",\"\",'見積書(2号)'!B762)","v":""},{"$f":"IF('見積書(2号)'!C762=\"\",\"\",'見積書(2号)'!C762)","v":""},{"$f":"IF('見積書(2号)'!H762=\"\",\"\",'見積書(2号)'!H762)","v":""},{"$f":"IF('見積書(2号)'!E762=\"\",\"\",'見積書(2号)'!E762)","v":""},{"$f":"IF('見積書(2号)'!I762=\"\",\"\",'見積書(2号)'!I762)","v":""},{"$f":"IF('見積書(2号)'!J762=\"\",\"\",'見積書(2号)'!J762)","v":""},{"$f":"IF('見積書(2号)'!K762=\"\",\"\",'見積書(2号)'!K762)","v":""},{"$f":"IF('見積書(2号)'!L762=\"\",\"\",'見積書(2号)'!L762)","v":""},{"$f":"IF('見積書(2号)'!M762=\"\",\"\",'見積書(2号)'!M762)","v":""},null,"","",null,"",""]
[{"$f":"IF('見積書(2号)'!A763=\"\",\"\",'見積書(2号)'!A763)","v":""},{"$f":"IF('見積書(2号)'!B763=\"\",\"\",'見積書(2号)'!B763)","v":""},{"$f":"IF('見積書(2号)'!C763=\"\",\"\",'見積書(2号)'!C763)","v":""},{"$f":"IF('見積書(2号)'!H763=\"\",\"\",'見積書(2号)'!H763)","v":""},{"$f":"IF('見積書(2号)'!E763=\"\",\"\",'見積書(2号)'!E763)","v":""},{"$f":"IF('見積書(2号)'!I763=\"\",\"\",'見積書(2号)'!I763)","v":""},{"$f":"IF('見積書(2号)'!J763=\"\",\"\",'見積書(2号)'!J763)","v":""},{"$f":"IF('見積書(2号)'!K763=\"\",\"\",'見積書(2号)'!K763)","v":""},{"$f":"IF('見積書(2号)'!L763=\"\",\"\",'見積書(2号)'!L763)","v":""},{"$f":"IF('見積書(2号)'!M763=\"\",\"\",'見積書(2号)'!M763)","v":""},null,"","",null,"",""]
[{"$f":"IF('見積書(2号)'!A764=\"\",\"\",'見積書(2号)'!A764)","v":""},{"$f":"IF('見積書(2号)'!B764=\"\",\"\",'見積書(2号)'!B764)","v":""},{"$f":"IF('見積書(2号)'!C764=\"\",\"\",'見積書(2号)'!C764)","v":""},{"$f":"IF('見積書(2号)'!H764=\"\",\"\",'見積書(2号)'!H764)","v":""},{"$f":"IF('見積書(2号)'!E764=\"\",\"\",'見積書(2号)'!E764)","v":""},{"$f":"IF('見積書(2号)'!I764=\"\",\"\",'見積書(2号)'!I764)","v":""},{"$f":"IF('見積書(2号)'!J764=\"\",\"\",'見積書(2号)'!J764)","v":""},{"$f":"IF('見積書(2号)'!K764=\"\",\"\",'見積書(2号)'!K764)","v":""},{"$f":"IF('見積書(2号)'!L764=\"\",\"\",'見積書(2号)'!L764)","v":""},{"$f":"IF('見積書(2号)'!M764=\"\",\"\",'見積書(2号)'!M764)","v":""},null,"","",null,"",""]
[{"$f":"IF('見積書(2号)'!A765=\"\",\"\",'見積書(2号)'!A765)","v":""},{"$f":"IF('見積書(2号)'!B765=\"\",\"\",'見積書(2号)'!B765)","v":""},{"$f":"IF('見積書(2号)'!C765=\"\",\"\",'見積書(2号)'!C765)","v":""},{"$f":"IF('見積書(2号)'!H765=\"\",\"\",'見積書(2号)'!H765)","v":""},{"$f":"IF('見積書(2号)'!E765=\"\",\"\",'見積書(2号)'!E765)","v":""},{"$f":"IF('見積書(2号)'!I765=\"\",\"\",'見積書(2号)'!I765)","v":""},{"$f":"IF('見積書(2号)'!J765=\"\",\"\",'見積書(2号)'!J765)","v":""},{"$f":"IF('見積書(2号)'!K765=\"\",\"\",'見積書(2号)'!K765)","v":""},{"$f":"IF('見積書(2号)'!L765=\"\",\"\",'見積書(2号)'!L765)","v":""},{"$f":"IF('見積書(2号)'!M765=\"\",\"\",'見積書(2号)'!M765)","v":""},null,"","",null,"",""]
[{"$f":"IF('見積書(2号)'!A766=\"\",\"\",'見積書(2号)'!A766)","v":""},{"$f":"IF('見積書(2号)'!B766=\"\",\"\",'見積書(2号)'!B766)","v":""},{"$f":"IF('見積書(2号)'!C766=\"\",\"\",'見積書(2号)'!C766)","v":""},{"$f":"IF('見積書(2号)'!H766=\"\",\"\",'見積書(2号)'!H766)","v":""},{"$f":"IF('見積書(2号)'!E766=\"\",\"\",'見積書(2号)'!E766)","v":""},{"$f":"IF('見積書(2号)'!I766=\"\",\"\",'見積書(2号)'!I766)","v":""},{"$f":"IF('見積書(2号)'!J766=\"\",\"\",'見積書(2号)'!J766)","v":""},{"$f":"IF('見積書(2号)'!K766=\"\",\"\",'見積書(2号)'!K766)","v":""},{"$f":"IF('見積書(2号)'!L766=\"\",\"\",'見積書(2号)'!L766)","v":""},{"$f":"IF('見積書(2号)'!M766=\"\",\"\",'見積書(2号)'!M766)","v":""},null,"","",null,"",""]
[{"$f":"IF('見積書(2号)'!A767=\"\",\"\",'見積書(2号)'!A767)","v":""},{"$f":"IF('見積書(2号)'!B767=\"\",\"\",'見積書(2号)'!B767)","v":""},{"$f":"IF('見積書(2号)'!C767=\"\",\"\",'見積書(2号)'!C767)","v":""},{"$f":"IF('見積書(2号)'!H767=\"\",\"\",'見積書(2号)'!H767)","v":""},{"$f":"IF('見積書(2号)'!E767=\"\",\"\",'見積書(2号)'!E767)","v":""},{"$f":"IF('見積書(2号)'!I767=\"\",\"\",'見積書(2号)'!I767)","v":""},{"$f":"IF('見積書(2号)'!J767=\"\",\"\",'見積書(2号)'!J767)","v":""},{"$f":"IF('見積書(2号)'!K767=\"\",\"\",'見積書(2号)'!K767)","v":""},{"$f":"IF('見積書(2号)'!L767=\"\",\"\",'見積書(2号)'!L767)","v":""},{"$f":"IF('見積書(2号)'!M767=\"\",\"\",'見積書(2号)'!M767)","v":""},null,"","",null,"",""]
[{"$f":"IF('見積書(2号)'!A768=\"\",\"\",'見積書(2号)'!A768)","v":""},{"$f":"IF('見積書(2号)'!B768=\"\",\"\",'見積書(2号)'!B768)","v":""},{"$f":"IF('見積書(2号)'!C768=\"\",\"\",'見積書(2号)'!C768)","v":""},{"$f":"IF('見積書(2号)'!H768=\"\",\"\",'見積書(2号)'!H768)","v":""},{"$f":"IF('見積書(2号)'!E768=\"\",\"\",'見積書(2号)'!E768)","v":""},{"$f":"IF('見積書(2号)'!I768=\"\",\"\",'見積書(2号)'!I768)","v":""},{"$f":"IF('見積書(2号)'!J768=\"\",\"\",'見積書(2号)'!J768)","v":""},{"$f":"IF('見積書(2号)'!K768=\"\",\"\",'見積書(2号)'!K768)","v":""},{"$f":"IF('見積書(2号)'!L768=\"\",\"\",'見積書(2号)'!L768)","v":""},{"$f":"IF('見積書(2号)'!M768=\"\",\"\",'見積書(2号)'!M768)","v":""},null,"","",null,"",""]
[{"$f":"IF('見積書(2号)'!A769=\"\",\"\",'見積書(2号)'!A769)","v":""},{"$f":"IF('見積書(2号)'!B769=\"\",\"\",'見積書(2号)'!B769)","v":""},{"$f":"IF('見積書(2号)'!C769=\"\",\"\",'見積書(2号)'!C769)","v":""},{"$f":"IF('見積書(2号)'!H769=\"\",\"\",'見積書(2号)'!H769)","v":""},{"$f":"IF('見積書(2号)'!E769=\"\",\"\",'見積書(2号)'!E769)","v":""},{"$f":"IF('見積書(2号)'!I769=\"\",\"\",'見積書(2号)'!I769)","v":""},{"$f":"IF('見積書(2号)'!J769=\"\",\"\",'見積書(2号)'!J769)","v":""},{"$f":"IF('見積書(2号)'!K769=\"\",\"\",'見積書(2号)'!K769)","v":""},{"$f":"IF('見積書(2号)'!L769=\"\",\"\",'見積書(2号)'!L769)","v":""},{"$f":"IF('見積書(2号)'!M769=\"\",\"\",'見積書(2号)'!M769)","v":""},null,"","",null,"",""]
[{"$f":"IF('見積書(2号)'!A770=\"\",\"\",'見積書(2号)'!A770)","v":""},{"$f":"IF('見積書(2号)'!B770=\"\",\"\",'見積書(2号)'!B770)","v":""},{"$f":"IF('見積書(2号)'!C770=\"\",\"\",'見積書(2号)'!C770)","v":""},{"$f":"IF('見積書(2号)'!H770=\"\",\"\",'見積書(2号)'!H770)","v":""},{"$f":"IF('見積書(2号)'!E770=\"\",\"\",'見積書(2号)'!E770)","v":""},{"$f":"IF('見積書(2号)'!I770=\"\",\"\",'見積書(2号)'!I770)","v":""},{"$f":"IF('見積書(2号)'!J770=\"\",\"\",'見積書(2号)'!J770)","v":""},{"$f":"IF('見積書(2号)'!K770=\"\",\"\",'見積書(2号)'!K770)","v":""},{"$f":"IF('見積書(2号)'!L770=\"\",\"\",'見積書(2号)'!L770)","v":""},{"$f":"IF('見積書(2号)'!M770=\"\",\"\",'見積書(2号)'!M770)","v":""},null,"","",null,"",""]
[{"$f":"IF('見積書(2号)'!A771=\"\",\"\",'見積書(2号)'!A771)","v":""},{"$f":"IF('見積書(2号)'!B771=\"\",\"\",'見積書(2号)'!B771)","v":""},{"$f":"IF('見積書(2号)'!C771=\"\",\"\",'見積書(2号)'!C771)","v":""},{"$f":"IF('見積書(2号)'!H771=\"\",\"\",'見積書(2号)'!H771)","v":""},{"$f":"IF('見積書(2号)'!E771=\"\",\"\",'見積書(2号)'!E771)","v":""},{"$f":"IF('見積書(2号)'!I771=\"\",\"\",'見積書(2号)'!I771)","v":""},{"$f":"IF('見積書(2号)'!J771=\"\",\"\",'見積書(2号)'!J771)","v":""},{"$f":"IF('見積書(2号)'!K771=\"\",\"\",'見積書(2号)'!K771)","v":""},{"$f":"IF('見積書(2号)'!L771=\"\",\"\",'見積書(2号)'!L771)","v":""},{"$f":"IF('見積書(2号)'!M771=\"\",\"\",'見積書(2号)'!M771)","v":""},null,"","",null,"",""]
[{"$f":"IF('見積書(2号)'!A772=\"\",\"\",'見積書(2号)'!A772)","v":""},{"$f":"IF('見積書(2号)'!B772=\"\",\"\",'見積書(2号)'!B772)","v":""},{"$f":"IF('見積書(2号)'!C772=\"\",\"\",'見積書(2号)'!C772)","v":""},{"$f":"IF('見積書(2号)'!H772=\"\",\"\",'見積書(2号)'!H772)","v":""},{"$f":"IF('見積書(2号)'!E772=\"\",\"\",'見積書(2号)'!E772)","v":""},{"$f":"IF('見積書(2号)'!I772=\"\",\"\",'見積書(2号)'!I772)","v":""},{"$f":"IF('見積書(2号)'!J772=\"\",\"\",'見積書(2号)'!J772)","v":""},{"$f":"IF('見積書(2号)'!K772=\"\",\"\",'見積書(2号)'!K772)","v":""},{"$f":"IF('見積書(2号)'!L772=\"\",\"\",'見積書(2号)'!L772)","v":""},{"$f":"IF('見積書(2号)'!M772=\"\",\"\",'見積書(2号)'!M772)","v":""},null,"","",null,"",""]
[{"$f":"IF('見積書(2号)'!A773=\"\",\"\",'見積書(2号)'!A773)","v":""},{"$f":"IF('見積書(2号)'!B773=\"\",\"\",'見積書(2号)'!B773)","v":""},{"$f":"IF('見積書(2号)'!C773=\"\",\"\",'見積書(2号)'!C773)","v":""},{"$f":"IF('見積書(2号)'!H773=\"\",\"\",'見積書(2号)'!H773)","v":""},{"$f":"IF('見積書(2号)'!E773=\"\",\"\",'見積書(2号)'!E773)","v":""},{"$f":"IF('見積書(2号)'!I773=\"\",\"\",'見積書(2号)'!I773)","v":""},{"$f":"IF('見積書(2号)'!J773=\"\",\"\",'見積書(2号)'!J773)","v":""},{"$f":"IF('見積書(2号)'!K773=\"\",\"\",'見積書(2号)'!K773)","v":""},{"$f":"IF('見積書(2号)'!L773=\"\",\"\",'見積書(2号)'!L773)","v":""},{"$f":"IF('見積書(2号)'!M773=\"\",\"\",'見積書(2号)'!M773)","v":""},null,"","",null,"",""]
[{"$f":"IF('見積書(2号)'!A774=\"\",\"\",'見積書(2号)'!A774)","v":""},{"$f":"IF('見積書(2号)'!B774=\"\",\"\",'見積書(2号)'!B774)","v":""},{"$f":"IF('見積書(2号)'!C774=\"\",\"\",'見積書(2号)'!C774)","v":""},{"$f":"IF('見積書(2号)'!H774=\"\",\"\",'見積書(2号)'!H774)","v":""},{"$f":"IF('見積書(2号)'!E774=\"\",\"\",'見積書(2号)'!E774)","v":""},{"$f":"IF('見積書(2号)'!I774=\"\",\"\",'見積書(2号)'!I774)","v":""},{"$f":"IF('見積書(2号)'!J774=\"\",\"\",'見積書(2号)'!J774)","v":""},{"$f":"IF('見積書(2号)'!K774=\"\",\"\",'見積書(2号)'!K774)","v":""},{"$f":"IF('見積書(2号)'!L774=\"\",\"\",'見積書(2号)'!L774)","v":""},{"$f":"IF('見積書(2号)'!M774=\"\",\"\",'見積書(2号)'!M774)","v":""},null,"","",null,"",""]
[{"$f":"IF('見積書(2号)'!A775=\"\",\"\",'見積書(2号)'!A775)","v":""},{"$f":"IF('見積書(2号)'!B775=\"\",\"\",'見積書(2号)'!B775)","v":""},{"$f":"IF('見積書(2号)'!C775=\"\",\"\",'見積書(2号)'!C775)","v":""},{"$f":"IF('見積書(2号)'!H775=\"\",\"\",'見積書(2号)'!H775)","v":""},{"$f":"IF('見積書(2号)'!E775=\"\",\"\",'見積書(2号)'!E775)","v":""},{"$f":"IF('見積書(2号)'!I775=\"\",\"\",'見積書(2号)'!I775)","v":""},{"$f":"IF('見積書(2号)'!J775=\"\",\"\",'見積書(2号)'!J775)","v":""},{"$f":"IF('見積書(2号)'!K775=\"\",\"\",'見積書(2号)'!K775)","v":""},{"$f":"IF('見積書(2号)'!L775=\"\",\"\",'見積書(2号)'!L775)","v":""},{"$f":"IF('見積書(2号)'!M775=\"\",\"\",'見積書(2号)'!M775)","v":""},null,"","",null,"",""]
[{"$f":"IF('見積書(2号)'!A776=\"\",\"\",'見積書(2号)'!A776)","v":""},{"$f":"IF('見積書(2号)'!B776=\"\",\"\",'見積書(2号)'!B776)","v":""},{"$f":"IF('見積書(2号)'!C776=\"\",\"\",'見積書(2号)'!C776)","v":""},{"$f":"IF('見積書(2号)'!H776=\"\",\"\",'見積書(2号)'!H776)","v":""},{"$f":"IF('見積書(2号)'!E776=\"\",\"\",'見積書(2号)'!E776)","v":""},{"$f":"IF('見積書(2号)'!I776=\"\",\"\",'見積書(2号)'!I776)","v":""},{"$f":"IF('見積書(2号)'!J776=\"\",\"\",'見積書(2号)'!J776)","v":""},{"$f":"IF('見積書(2号)'!K776=\"\",\"\",'見積書(2号)'!K776)","v":""},{"$f":"IF('見積書(2号)'!L776=\"\",\"\",'見積書(2号)'!L776)","v":""},{"$f":"IF('見積書(2号)'!M776=\"\",\"\",'見積書(2号)'!M776)","v":""},null,"","",null,"",""]
[{"$f":"IF('見積書(2号)'!A777=\"\",\"\",'見積書(2号)'!A777)","v":""},{"$f":"IF('見積書(2号)'!B777=\"\",\"\",'見積書(2号)'!B777)","v":""},{"$f":"IF('見積書(2号)'!C777=\"\",\"\",'見積書(2号)'!C777)","v":""},{"$f":"IF('見積書(2号)'!H777=\"\",\"\",'見積書(2号)'!H777)","v":""},{"$f":"IF('見積書(2号)'!E777=\"\",\"\",'見積書(2号)'!E777)","v":""},{"$f":"IF('見積書(2号)'!I777=\"\",\"\",'見積書(2号)'!I777)","v":""},{"$f":"IF('見積書(2号)'!J777=\"\",\"\",'見積書(2号)'!J777)","v":""},{"$f":"IF('見積書(2号)'!K777=\"\",\"\",'見積書(2号)'!K777)","v":""},{"$f":"IF('見積書(2号)'!L777=\"\",\"\",'見積書(2号)'!L777)","v":""},{"$f":"IF('見積書(2号)'!M777=\"\",\"\",'見積書(2号)'!M777)","v":""},null,"","",null,"",""]
[{"$f":"IF('見積書(2号)'!A778=\"\",\"\",'見積書(2号)'!A778)","v":""},{"$f":"IF('見積書(2号)'!B778=\"\",\"\",'見積書(2号)'!B778)","v":""},{"$f":"IF('見積書(2号)'!C778=\"\",\"\",'見積書(2号)'!C778)","v":""},{"$f":"IF('見積書(2号)'!H778=\"\",\"\",'見積書(2号)'!H778)","v":""},{"$f":"IF('見積書(2号)'!E778=\"\",\"\",'見積書(2号)'!E778)","v":""},{"$f":"IF('見積書(2号)'!I778=\"\",\"\",'見積書(2号)'!I778)","v":""},{"$f":"IF('見積書(2号)'!J778=\"\",\"\",'見積書(2号)'!J778)","v":""},{"$f":"IF('見積書(2号)'!K778=\"\",\"\",'見積書(2号)'!K778)","v":""},{"$f":"IF('見積書(2号)'!L778=\"\",\"\",'見積書(2号)'!L778)","v":""},{"$f":"IF('見積書(2号)'!M778=\"\",\"\",'見積書(2号)'!M778)","v":""},null,"","",null,"",""]
[{"$f":"IF('見積書(2号)'!A779=\"\",\"\",'見積書(2号)'!A779)","v":""},{"$f":"IF('見積書(2号)'!B779=\"\",\"\",'見積書(2号)'!B779)","v":""},{"$f":"IF('見積書(2号)'!C779=\"\",\"\",'見積書(2号)'!C779)","v":""},{"$f":"IF('見積書(2号)'!H779=\"\",\"\",'見積書(2号)'!H779)","v":""},{"$f":"IF('見積書(2号)'!E779=\"\",\"\",'見積書(2号)'!E779)","v":""},{"$f":"IF('見積書(2号)'!I779=\"\",\"\",'見積書(2号)'!I779)","v":""},{"$f":"IF('見積書(2号)'!J779=\"\",\"\",'見積書(2号)'!J779)","v":""},{"$f":"IF('見積書(2号)'!K779=\"\",\"\",'見積書(2号)'!K779)","v":""},{"$f":"IF('見積書(2号)'!L779=\"\",\"\",'見積書(2号)'!L779)","v":""},{"$f":"IF('見積書(2号)'!M779=\"\",\"\",'見積書(2号)'!M779)","v":""},null,{"$f":"IF(I779=\"\",F779,I779)","v":""},{"$f":"IF(L779=\"\",\"\",L779*K779)","v":""},null,"",""]
[{"$f":"IF('見積書(2号)'!A780=\"\",\"\",'見積書(2号)'!A780)","v":""},{"$f":"IF('見積書(2号)'!B780=\"\",\"\",'見積書(2号)'!B780)","v":""},{"$f":"IF('見積書(2号)'!C780=\"\",\"\",'見積書(2号)'!C780)","v":""},{"$f":"IF('見積書(2号)'!H780=\"\",\"\",'見積書(2号)'!H780)","v":""},{"$f":"IF('見積書(2号)'!E780=\"\",\"\",'見積書(2号)'!E780)","v":""},{"$f":"IF('見積書(2号)'!I780=\"\",\"\",'見積書(2号)'!I780)","v":""},{"$f":"IF('見積書(2号)'!J780=\"\",\"\",'見積書(2号)'!J780)","v":""},{"$f":"IF('見積書(2号)'!K780=\"\",\"\",'見積書(2号)'!K780)","v":""},{"$f":"IF('見積書(2号)'!L780=\"\",\"\",'見積書(2号)'!L780)","v":""},{"$f":"IF('見積書(2号)'!M780=\"\",\"\",'見積書(2号)'!M780)","v":""},null,"","",null,"",""]
[{"$f":"IF('見積書(2号)'!A781=\"\",\"\",'見積書(2号)'!A781)","v":""},{"$f":"IF('見積書(2号)'!B781=\"\",\"\",'見積書(2号)'!B781)","v":""},{"$f":"IF('見積書(2号)'!C781=\"\",\"\",'見積書(2号)'!C781)","v":""},{"$f":"IF('見積書(2号)'!H781=\"\",\"\",'見積書(2号)'!H781)","v":""},{"$f":"IF('見積書(2号)'!E781=\"\",\"\",'見積書(2号)'!E781)","v":""},{"$f":"IF('見積書(2号)'!I781=\"\",\"\",'見積書(2号)'!I781)","v":""},{"$f":"IF('見積書(2号)'!J781=\"\",\"\",'見積書(2号)'!J781)","v":""},{"$f":"IF('見積書(2号)'!K781=\"\",\"\",'見積書(2号)'!K781)","v":""},{"$f":"IF('見積書(2号)'!L781=\"\",\"\",'見積書(2号)'!L781)","v":""},{"$f":"IF('見積書(2号)'!M781=\"\",\"\",'見積書(2号)'!M781)","v":""},null,"","",null,"",""]
[{"$f":"IF('見積書(2号)'!A782=\"\",\"\",'見積書(2号)'!A782)","v":""},{"$f":"IF('見積書(2号)'!B782=\"\",\"\",'見積書(2号)'!B782)","v":""},{"$f":"IF('見積書(2号)'!C782=\"\",\"\",'見積書(2号)'!C782)","v":""},{"$f":"IF('見積書(2号)'!H782=\"\",\"\",'見積書(2号)'!H782)","v":""},{"$f":"IF('見積書(2号)'!E782=\"\",\"\",'見積書(2号)'!E782)","v":""},{"$f":"IF('見積書(2号)'!I782=\"\",\"\",'見積書(2号)'!I782)","v":""},{"$f":"IF('見積書(2号)'!J782=\"\",\"\",'見積書(2号)'!J782)","v":""},{"$f":"IF('見積書(2号)'!K782=\"\",\"\",'見積書(2号)'!K782)","v":""},{"$f":"IF('見積書(2号)'!L782=\"\",\"\",'見積書(2号)'!L782)","v":""},{"$f":"IF('見積書(2号)'!M782=\"\",\"\",'見積書(2号)'!M782)","v":""},null,"","",null,"",""]
[{"$f":"IF('見積書(2号)'!A783=\"\",\"\",'見積書(2号)'!A783)","v":""},{"$f":"IF('見積書(2号)'!B783=\"\",\"\",'見積書(2号)'!B783)","v":""},{"$f":"IF('見積書(2号)'!C783=\"\",\"\",'見積書(2号)'!C783)","v":""},{"$f":"IF('見積書(2号)'!H783=\"\",\"\",'見積書(2号)'!H783)","v":""},{"$f":"IF('見積書(2号)'!E783=\"\",\"\",'見積書(2号)'!E783)","v":""},{"$f":"IF('見積書(2号)'!I783=\"\",\"\",'見積書(2号)'!I783)","v":""},{"$f":"IF('見積書(2号)'!J783=\"\",\"\",'見積書(2号)'!J783)","v":""},{"$f":"IF('見積書(2号)'!K783=\"\",\"\",'見積書(2号)'!K783)","v":""},{"$f":"IF('見積書(2号)'!L783=\"\",\"\",'見積書(2号)'!L783)","v":""},{"$f":"IF('見積書(2号)'!M783=\"\",\"\",'見積書(2号)'!M783)","v":""},null,"","",null,"",""]
[{"$f":"IF('見積書(2号)'!A784=\"\",\"\",'見積書(2号)'!A784)","v":""},{"$f":"IF('見積書(2号)'!B784=\"\",\"\",'見積書(2号)'!B784)","v":""},{"$f":"IF('見積書(2号)'!C784=\"\",\"\",'見積書(2号)'!C784)","v":""},{"$f":"IF('見積書(2号)'!H784=\"\",\"\",'見積書(2号)'!H784)","v":""},{"$f":"IF('見積書(2号)'!E784=\"\",\"\",'見積書(2号)'!E784)","v":""},{"$f":"IF('見積書(2号)'!I784=\"\",\"\",'見積書(2号)'!I784)","v":""},{"$f":"IF('見積書(2号)'!J784=\"\",\"\",'見積書(2号)'!J784)","v":""},{"$f":"IF('見積書(2号)'!K784=\"\",\"\",'見積書(2号)'!K784)","v":""},{"$f":"IF('見積書(2号)'!L784=\"\",\"\",'見積書(2号)'!L784)","v":""},{"$f":"IF('見積書(2号)'!M784=\"\",\"\",'見積書(2号)'!M784)","v":""},null,"","",null,"",""]
[{"$f":"IF('見積書(2号)'!A785=\"\",\"\",'見積書(2号)'!A785)","v":""},{"$f":"IF('見積書(2号)'!B785=\"\",\"\",'見積書(2号)'!B785)","v":""},{"$f":"IF('見積書(2号)'!C785=\"\",\"\",'見積書(2号)'!C785)","v":""},{"$f":"IF('見積書(2号)'!H785=\"\",\"\",'見積書(2号)'!H785)","v":""},{"$f":"IF('見積書(2号)'!E785=\"\",\"\",'見積書(2号)'!E785)","v":""},{"$f":"IF('見積書(2号)'!I785=\"\",\"\",'見積書(2号)'!I785)","v":""},{"$f":"IF('見積書(2号)'!J785=\"\",\"\",'見積書(2号)'!J785)","v":""},{"$f":"IF('見積書(2号)'!K785=\"\",\"\",'見積書(2号)'!K785)","v":""},{"$f":"IF('見積書(2号)'!L785=\"\",\"\",'見積書(2号)'!L785)","v":""},{"$f":"IF('見積書(2号)'!M785=\"\",\"\",'見積書(2号)'!M785)","v":""},null,"","",null,"",""]
[{"$f":"IF('見積書(2号)'!A786=\"\",\"\",'見積書(2号)'!A786)","v":""},{"$f":"IF('見積書(2号)'!B786=\"\",\"\",'見積書(2号)'!B786)","v":""},{"$f":"IF('見積書(2号)'!C786=\"\",\"\",'見積書(2号)'!C786)","v":""},{"$f":"IF('見積書(2号)'!H786=\"\",\"\",'見積書(2号)'!H786)","v":""},{"$f":"IF('見積書(2号)'!E786=\"\",\"\",'見積書(2号)'!E786)","v":""},{"$f":"IF('見積書(2号)'!I786=\"\",\"\",'見積書(2号)'!I786)","v":""},{"$f":"IF('見積書(2号)'!J786=\"\",\"\",'見積書(2号)'!J786)","v":""},{"$f":"IF('見積書(2号)'!K786=\"\",\"\",'見積書(2号)'!K786)","v":""},{"$f":"IF('見積書(2号)'!L786=\"\",\"\",'見積書(2号)'!L786)","v":""},{"$f":"IF('見積書(2号)'!M786=\"\",\"\",'見積書(2号)'!M786)","v":""},null,"","",null,"",""]
[{"$f":"IF('見積書(2号)'!A787=\"\",\"\",'見積書(2号)'!A787)","v":""},{"$f":"IF('見積書(2号)'!B787=\"\",\"\",'見積書(2号)'!B787)","v":""},{"$f":"IF('見積書(2号)'!C787=\"\",\"\",'見積書(2号)'!C787)","v":""},{"$f":"IF('見積書(2号)'!H787=\"\",\"\",'見積書(2号)'!H787)","v":""},{"$f":"IF('見積書(2号)'!E787=\"\",\"\",'見積書(2号)'!E787)","v":""},{"$f":"IF('見積書(2号)'!I787=\"\",\"\",'見積書(2号)'!I787)","v":""},{"$f":"IF('見積書(2号)'!J787=\"\",\"\",'見積書(2号)'!J787)","v":""},{"$f":"IF('見積書(2号)'!K787=\"\",\"\",'見積書(2号)'!K787)","v":""},{"$f":"IF('見積書(2号)'!L787=\"\",\"\",'見積書(2号)'!L787)","v":""},{"$f":"IF('見積書(2号)'!M787=\"\",\"\",'見積書(2号)'!M787)","v":""},null,"","",null,"",""]
[{"$f":"IF('見積書(2号)'!A788=\"\",\"\",'見積書(2号)'!A788)","v":""},{"$f":"IF('見積書(2号)'!B788=\"\",\"\",'見積書(2号)'!B788)","v":""},{"$f":"IF('見積書(2号)'!C788=\"\",\"\",'見積書(2号)'!C788)","v":""},{"$f":"IF('見積書(2号)'!H788=\"\",\"\",'見積書(2号)'!H788)","v":""},{"$f":"IF('見積書(2号)'!E788=\"\",\"\",'見積書(2号)'!E788)","v":""},{"$f":"IF('見積書(2号)'!I788=\"\",\"\",'見積書(2号)'!I788)","v":""},{"$f":"IF('見積書(2号)'!J788=\"\",\"\",'見積書(2号)'!J788)","v":""},{"$f":"IF('見積書(2号)'!K788=\"\",\"\",'見積書(2号)'!K788)","v":""},{"$f":"IF('見積書(2号)'!L788=\"\",\"\",'見積書(2号)'!L788)","v":""},{"$f":"IF('見積書(2号)'!M788=\"\",\"\",'見積書(2号)'!M788)","v":""},null,"","",null,"",""]
[{"$f":"IF('見積書(2号)'!A789=\"\",\"\",'見積書(2号)'!A789)","v":""},{"$f":"IF('見積書(2号)'!B789=\"\",\"\",'見積書(2号)'!B789)","v":""},{"$f":"IF('見積書(2号)'!C789=\"\",\"\",'見積書(2号)'!C789)","v":""},{"$f":"IF('見積書(2号)'!H789=\"\",\"\",'見積書(2号)'!H789)","v":""},{"$f":"IF('見積書(2号)'!E789=\"\",\"\",'見積書(2号)'!E789)","v":""},{"$f":"IF('見積書(2号)'!I789=\"\",\"\",'見積書(2号)'!I789)","v":""},{"$f":"IF('見積書(2号)'!J789=\"\",\"\",'見積書(2号)'!J789)","v":""},{"$f":"IF('見積書(2号)'!K789=\"\",\"\",'見積書(2号)'!K789)","v":""},{"$f":"IF('見積書(2号)'!L789=\"\",\"\",'見積書(2号)'!L789)","v":""},{"$f":"IF('見積書(2号)'!M789=\"\",\"\",'見積書(2号)'!M789)","v":""},null,"","",null,"",""]
[{"$f":"IF('見積書(2号)'!A790=\"\",\"\",'見積書(2号)'!A790)","v":""},{"$f":"IF('見積書(2号)'!B790=\"\",\"\",'見積書(2号)'!B790)","v":""},{"$f":"IF('見積書(2号)'!C790=\"\",\"\",'見積書(2号)'!C790)","v":""},{"$f":"IF('見積書(2号)'!H790=\"\",\"\",'見積書(2号)'!H790)","v":""},{"$f":"IF('見積書(2号)'!E790=\"\",\"\",'見積書(2号)'!E790)","v":""},{"$f":"IF('見積書(2号)'!I790=\"\",\"\",'見積書(2号)'!I790)","v":""},{"$f":"IF('見積書(2号)'!J790=\"\",\"\",'見積書(2号)'!J790)","v":""},{"$f":"IF('見積書(2号)'!K790=\"\",\"\",'見積書(2号)'!K790)","v":""},{"$f":"IF('見積書(2号)'!L790=\"\",\"\",'見積書(2号)'!L790)","v":""},{"$f":"IF('見積書(2号)'!M790=\"\",\"\",'見積書(2号)'!M790)","v":""},null,"","",null,"",""]
[{"$f":"IF('見積書(2号)'!A791=\"\",\"\",'見積書(2号)'!A791)","v":""},{"$f":"IF('見積書(2号)'!B791=\"\",\"\",'見積書(2号)'!B791)","v":""},{"$f":"IF('見積書(2号)'!C791=\"\",\"\",'見積書(2号)'!C791)","v":""},{"$f":"IF('見積書(2号)'!H791=\"\",\"\",'見積書(2号)'!H791)","v":""},{"$f":"IF('見積書(2号)'!E791=\"\",\"\",'見積書(2号)'!E791)","v":""},{"$f":"IF('見積書(2号)'!I791=\"\",\"\",'見積書(2号)'!I791)","v":""},{"$f":"IF('見積書(2号)'!J791=\"\",\"\",'見積書(2号)'!J791)","v":""},{"$f":"IF('見積書(2号)'!K791=\"\",\"\",'見積書(2号)'!K791)","v":""},{"$f":"IF('見積書(2号)'!L791=\"\",\"\",'見積書(2号)'!L791)","v":""},{"$f":"IF('見積書(2号)'!M791=\"\",\"\",'見積書(2号)'!M791)","v":""},null,"","",null,"",""]
[{"$f":"IF('見積書(2号)'!A792=\"\",\"\",'見積書(2号)'!A792)","v":""},{"$f":"IF('見積書(2号)'!B792=\"\",\"\",'見積書(2号)'!B792)","v":""},{"$f":"IF('見積書(2号)'!C792=\"\",\"\",'見積書(2号)'!C792)","v":""},{"$f":"IF('見積書(2号)'!H792=\"\",\"\",'見積書(2号)'!H792)","v":""},{"$f":"IF('見積書(2号)'!E792=\"\",\"\",'見積書(2号)'!E792)","v":""},{"$f":"IF('見積書(2号)'!I792=\"\",\"\",'見積書(2号)'!I792)","v":""},{"$f":"IF('見積書(2号)'!J792=\"\",\"\",'見積書(2号)'!J792)","v":""},{"$f":"IF('見積書(2号)'!K792=\"\",\"\",'見積書(2号)'!K792)","v":""},{"$f":"IF('見積書(2号)'!L792=\"\",\"\",'見積書(2号)'!L792)","v":""},{"$f":"IF('見積書(2号)'!M792=\"\",\"\",'見積書(2号)'!M792)","v":""},null,"","",null,"",""]
[{"$f":"IF('見積書(2号)'!A793=\"\",\"\",'見積書(2号)'!A793)","v":""},{"$f":"IF('見積書(2号)'!B793=\"\",\"\",'見積書(2号)'!B793)","v":""},{"$f":"IF('見積書(2号)'!C793=\"\",\"\",'見積書(2号)'!C793)","v":""},{"$f":"IF('見積書(2号)'!H793=\"\",\"\",'見積書(2号)'!H793)","v":""},{"$f":"IF('見積書(2号)'!E793=\"\",\"\",'見積書(2号)'!E793)","v":""},{"$f":"IF('見積書(2号)'!I793=\"\",\"\",'見積書(2号)'!I793)","v":""},{"$f":"IF('見積書(2号)'!J793=\"\",\"\",'見積書(2号)'!J793)","v":""},{"$f":"IF('見積書(2号)'!K793=\"\",\"\",'見積書(2号)'!K793)","v":""},{"$f":"IF('見積書(2号)'!L793=\"\",\"\",'見積書(2号)'!L793)","v":""},{"$f":"IF('見積書(2号)'!M793=\"\",\"\",'見積書(2号)'!M793)","v":""},null,"","",null,"",""]
[{"$f":"IF('見積書(2号)'!A794=\"\",\"\",'見積書(2号)'!A794)","v":""},{"$f":"IF('見積書(2号)'!B794=\"\",\"\",'見積書(2号)'!B794)","v":""},{"$f":"IF('見積書(2号)'!C794=\"\",\"\",'見積書(2号)'!C794)","v":""},{"$f":"IF('見積書(2号)'!H794=\"\",\"\",'見積書(2号)'!H794)","v":""},{"$f":"IF('見積書(2号)'!E794=\"\",\"\",'見積書(2号)'!E794)","v":""},{"$f":"IF('見積書(2号)'!I794=\"\",\"\",'見積書(2号)'!I794)","v":""},{"$f":"IF('見積書(2号)'!J794=\"\",\"\",'見積書(2号)'!J794)","v":""},{"$f":"IF('見積書(2号)'!K794=\"\",\"\",'見積書(2号)'!K794)","v":""},{"$f":"IF('見積書(2号)'!L794=\"\",\"\",'見積書(2号)'!L794)","v":""},{"$f":"IF('見積書(2号)'!M794=\"\",\"\",'見積書(2号)'!M794)","v":""},null,"","",null,"",""]
[{"$f":"IF('見積書(2号)'!A795=\"\",\"\",'見積書(2号)'!A795)","v":""},{"$f":"IF('見積書(2号)'!B795=\"\",\"\",'見積書(2号)'!B795)","v":""},{"$f":"IF('見積書(2号)'!C795=\"\",\"\",'見積書(2号)'!C795)","v":""},{"$f":"IF('見積書(2号)'!H795=\"\",\"\",'見積書(2号)'!H795)","v":""},{"$f":"IF('見積書(2号)'!E795=\"\",\"\",'見積書(2号)'!E795)","v":""},{"$f":"IF('見積書(2号)'!I795=\"\",\"\",'見積書(2号)'!I795)","v":""},{"$f":"IF('見積書(2号)'!J795=\"\",\"\",'見積書(2号)'!J795)","v":""},{"$f":"IF('見積書(2号)'!K795=\"\",\"\",'見積書(2号)'!K795)","v":""},{"$f":"IF('見積書(2号)'!L795=\"\",\"\",'見積書(2号)'!L795)","v":""},{"$f":"IF('見積書(2号)'!M795=\"\",\"\",'見積書(2号)'!M795)","v":""},null,"","",null,"",""]
[{"$f":"IF('見積書(2号)'!A796=\"\",\"\",'見積書(2号)'!A796)","v":""},{"$f":"IF('見積書(2号)'!B796=\"\",\"\",'見積書(2号)'!B796)","v":""},{"$f":"IF('見積書(2号)'!C796=\"\",\"\",'見積書(2号)'!C796)","v":""},{"$f":"IF('見積書(2号)'!H796=\"\",\"\",'見積書(2号)'!H796)","v":""},{"$f":"IF('見積書(2号)'!E796=\"\",\"\",'見積書(2号)'!E796)","v":""},{"$f":"IF('見積書(2号)'!I796=\"\",\"\",'見積書(2号)'!I796)","v":""},{"$f":"IF('見積書(2号)'!J796=\"\",\"\",'見積書(2号)'!J796)","v":""},{"$f":"IF('見積書(2号)'!K796=\"\",\"\",'見積書(2号)'!K796)","v":""},{"$f":"IF('見積書(2号)'!L796=\"\",\"\",'見積書(2号)'!L796)","v":""},{"$f":"IF('見積書(2号)'!M796=\"\",\"\",'見積書(2号)'!M796)","v":""},null,"","",null,"",""]
[{"$f":"IF('見積書(2号)'!A797=\"\",\"\",'見積書(2号)'!A797)","v":""},{"$f":"IF('見積書(2号)'!B797=\"\",\"\",'見積書(2号)'!B797)","v":""},{"$f":"IF('見積書(2号)'!C797=\"\",\"\",'見積書(2号)'!C797)","v":""},{"$f":"IF('見積書(2号)'!H797=\"\",\"\",'見積書(2号)'!H797)","v":""},{"$f":"IF('見積書(2号)'!E797=\"\",\"\",'見積書(2号)'!E797)","v":""},{"$f":"IF('見積書(2号)'!I797=\"\",\"\",'見積書(2号)'!I797)","v":""},{"$f":"IF('見積書(2号)'!J797=\"\",\"\",'見積書(2号)'!J797)","v":""},{"$f":"IF('見積書(2号)'!K797=\"\",\"\",'見積書(2号)'!K797)","v":""},{"$f":"IF('見積書(2号)'!L797=\"\",\"\",'見積書(2号)'!L797)","v":""},{"$f":"IF('見積書(2号)'!M797=\"\",\"\",'見積書(2号)'!M797)","v":""},null,"","",null,"",""]
[{"$f":"IF('見積書(2号)'!A798=\"\",\"\",'見積書(2号)'!A798)","v":""},{"$f":"IF('見積書(2号)'!B798=\"\",\"\",'見積書(2号)'!B798)","v":""},{"$f":"IF('見積書(2号)'!C798=\"\",\"\",'見積書(2号)'!C798)","v":""},{"$f":"IF('見積書(2号)'!H798=\"\",\"\",'見積書(2号)'!H798)","v":""},{"$f":"IF('見積書(2号)'!E798=\"\",\"\",'見積書(2号)'!E798)","v":""},{"$f":"IF('見積書(2号)'!I798=\"\",\"\",'見積書(2号)'!I798)","v":""},{"$f":"IF('見積書(2号)'!J798=\"\",\"\",'見積書(2号)'!J798)","v":""},{"$f":"IF('見積書(2号)'!K798=\"\",\"\",'見積書(2号)'!K798)","v":""},{"$f":"IF('見積書(2号)'!L798=\"\",\"\",'見積書(2号)'!L798)","v":""},{"$f":"IF('見積書(2号)'!M798=\"\",\"\",'見積書(2号)'!M798)","v":""},null,"","",null,"",""]
[{"$f":"IF('見積書(2号)'!A799=\"\",\"\",'見積書(2号)'!A799)","v":""},{"$f":"IF('見積書(2号)'!B799=\"\",\"\",'見積書(2号)'!B799)","v":""},{"$f":"IF('見積書(2号)'!C799=\"\",\"\",'見積書(2号)'!C799)","v":""},{"$f":"IF('見積書(2号)'!H799=\"\",\"\",'見積書(2号)'!H799)","v":""},{"$f":"IF('見積書(2号)'!E799=\"\",\"\",'見積書(2号)'!E799)","v":""},{"$f":"IF('見積書(2号)'!I799=\"\",\"\",'見積書(2号)'!I799)","v":""},{"$f":"IF('見積書(2号)'!J799=\"\",\"\",'見積書(2号)'!J799)","v":""},{"$f":"IF('見積書(2号)'!K799=\"\",\"\",'見積書(2号)'!K799)","v":""},{"$f":"IF('見積書(2号)'!L799=\"\",\"\",'見積書(2号)'!L799)","v":""},{"$f":"IF('見積書(2号)'!M799=\"\",\"\",'見積書(2号)'!M799)","v":""},null,"","",null,"",""]
[{"$f":"IF('見積書(2号)'!A800=\"\",\"\",'見積書(2号)'!A800)","v":""},{"$f":"IF('見積書(2号)'!B800=\"\",\"\",'見積書(2号)'!B800)","v":""},{"$f":"IF('見積書(2号)'!C800=\"\",\"\",'見積書(2号)'!C800)","v":""},{"$f":"IF('見積書(2号)'!H800=\"\",\"\",'見積書(2号)'!H800)","v":""},{"$f":"IF('見積書(2号)'!E800=\"\",\"\",'見積書(2号)'!E800)","v":""},{"$f":"IF('見積書(2号)'!I800=\"\",\"\",'見積書(2号)'!I800)","v":""},{"$f":"IF('見積書(2号)'!J800=\"\",\"\",'見積書(2号)'!J800)","v":""},{"$f":"IF('見積書(2号)'!K800=\"\",\"\",'見積書(2号)'!K800)","v":""},{"$f":"IF('見積書(2号)'!L800=\"\",\"\",'見積書(2号)'!L800)","v":""},{"$f":"IF('見積書(2号)'!M800=\"\",\"\",'見積書(2号)'!M800)","v":""},null,"","",null,"",""]
[{"$f":"IF('見積書(2号)'!A801=\"\",\"\",'見積書(2号)'!A801)","v":""},{"$f":"IF('見積書(2号)'!B801=\"\",\"\",'見積書(2号)'!B801)","v":""},{"$f":"IF('見積書(2号)'!C801=\"\",\"\",'見積書(2号)'!C801)","v":""},{"$f":"IF('見積書(2号)'!H801=\"\",\"\",'見積書(2号)'!H801)","v":""},{"$f":"IF('見積書(2号)'!E801=\"\",\"\",'見積書(2号)'!E801)","v":""},{"$f":"IF('見積書(2号)'!I801=\"\",\"\",'見積書(2号)'!I801)","v":""},{"$f":"IF('見積書(2号)'!J801=\"\",\"\",'見積書(2号)'!J801)","v":""},{"$f":"IF('見積書(2号)'!K801=\"\",\"\",'見積書(2号)'!K801)","v":""},{"$f":"IF('見積書(2号)'!L801=\"\",\"\",'見積書(2号)'!L801)","v":""},{"$f":"IF('見積書(2号)'!M801=\"\",\"\",'見積書(2号)'!M801)","v":""},null,"","",null,"",""]
[{"$f":"IF('見積書(2号)'!A802=\"\",\"\",'見積書(2号)'!A802)","v":""},{"$f":"IF('見積書(2号)'!B802=\"\",\"\",'見積書(2号)'!B802)","v":""},{"$f":"IF('見積書(2号)'!C802=\"\",\"\",'見積書(2号)'!C802)","v":""},{"$f":"IF('見積書(2号)'!H802=\"\",\"\",'見積書(2号)'!H802)","v":""},{"$f":"IF('見積書(2号)'!E802=\"\",\"\",'見積書(2号)'!E802)","v":""},{"$f":"IF('見積書(2号)'!I802=\"\",\"\",'見積書(2号)'!I802)","v":""},{"$f":"IF('見積書(2号)'!J802=\"\",\"\",'見積書(2号)'!J802)","v":""},{"$f":"IF('見積書(2号)'!K802=\"\",\"\",'見積書(2号)'!K802)","v":""},{"$f":"IF('見積書(2号)'!L802=\"\",\"\",'見積書(2号)'!L802)","v":""},{"$f":"IF('見積書(2号)'!M802=\"\",\"\",'見積書(2号)'!M802)","v":""},null,"","",null,"",""]
[{"$f":"IF('見積書(2号)'!A803=\"\",\"\",'見積書(2号)'!A803)","v":""},{"$f":"IF('見積書(2号)'!B803=\"\",\"\",'見積書(2号)'!B803)","v":""},{"$f":"IF('見積書(2号)'!C803=\"\",\"\",'見積書(2号)'!C803)","v":""},{"$f":"IF('見積書(2号)'!H803=\"\",\"\",'見積書(2号)'!H803)","v":""},{"$f":"IF('見積書(2号)'!E803=\"\",\"\",'見積書(2号)'!E803)","v":""},{"$f":"IF('見積書(2号)'!I803=\"\",\"\",'見積書(2号)'!I803)","v":""},{"$f":"IF('見積書(2号)'!J803=\"\",\"\",'見積書(2号)'!J803)","v":""},{"$f":"IF('見積書(2号)'!K803=\"\",\"\",'見積書(2号)'!K803)","v":""},{"$f":"IF('見積書(2号)'!L803=\"\",\"\",'見積書(2号)'!L803)","v":""},{"$f":"IF('見積書(2号)'!M803=\"\",\"\",'見積書(2号)'!M803)","v":""},null,"","",null,"",""]
[{"$f":"IF('見積書(2号)'!A804=\"\",\"\",'見積書(2号)'!A804)","v":""},{"$f":"IF('見積書(2号)'!B804=\"\",\"\",'見積書(2号)'!B804)","v":""},{"$f":"IF('見積書(2号)'!C804=\"\",\"\",'見積書(2号)'!C804)","v":""},{"$f":"IF('見積書(2号)'!H804=\"\",\"\",'見積書(2号)'!H804)","v":""},{"$f":"IF('見積書(2号)'!E804=\"\",\"\",'見積書(2号)'!E804)","v":""},{"$f":"IF('見積書(2号)'!I804=\"\",\"\",'見積書(2号)'!I804)","v":""},{"$f":"IF('見積書(2号)'!J804=\"\",\"\",'見積書(2号)'!J804)","v":""},{"$f":"IF('見積書(2号)'!K804=\"\",\"\",'見積書(2号)'!K804)","v":""},{"$f":"IF('見積書(2号)'!L804=\"\",\"\",'見積書(2号)'!L804)","v":""},{"$f":"IF('見積書(2号)'!M804=\"\",\"\",'見積書(2号)'!M804)","v":""},null,"","",null,"",""]
[{"$f":"IF('見積書(2号)'!A805=\"\",\"\",'見積書(2号)'!A805)","v":""},{"$f":"IF('見積書(2号)'!B805=\"\",\"\",'見積書(2号)'!B805)","v":""},{"$f":"IF('見積書(2号)'!C805=\"\",\"\",'見積書(2号)'!C805)","v":""},{"$f":"IF('見積書(2号)'!H805=\"\",\"\",'見積書(2号)'!H805)","v":""},{"$f":"IF('見積書(2号)'!E805=\"\",\"\",'見積書(2号)'!E805)","v":""},{"$f":"IF('見積書(2号)'!I805=\"\",\"\",'見積書(2号)'!I805)","v":""},{"$f":"IF('見積書(2号)'!J805=\"\",\"\",'見積書(2号)'!J805)","v":""},{"$f":"IF('見積書(2号)'!K805=\"\",\"\",'見積書(2号)'!K805)","v":""},{"$f":"IF('見積書(2号)'!L805=\"\",\"\",'見積書(2号)'!L805)","v":""},{"$f":"IF('見積書(2号)'!M805=\"\",\"\",'見積書(2号)'!M805)","v":""},null,"","",null,"",""]
[{"$f":"IF('見積書(2号)'!A806=\"\",\"\",'見積書(2号)'!A806)","v":""},{"$f":"IF('見積書(2号)'!B806=\"\",\"\",'見積書(2号)'!B806)","v":""},{"$f":"IF('見積書(2号)'!C806=\"\",\"\",'見積書(2号)'!C806)","v":""},{"$f":"IF('見積書(2号)'!H806=\"\",\"\",'見積書(2号)'!H806)","v":""},{"$f":"IF('見積書(2号)'!E806=\"\",\"\",'見積書(2号)'!E806)","v":""},{"$f":"IF('見積書(2号)'!I806=\"\",\"\",'見積書(2号)'!I806)","v":""},{"$f":"IF('見積書(2号)'!J806=\"\",\"\",'見積書(2号)'!J806)","v":""},{"$f":"IF('見積書(2号)'!K806=\"\",\"\",'見積書(2号)'!K806)","v":""},{"$f":"IF('見積書(2号)'!L806=\"\",\"\",'見積書(2号)'!L806)","v":""},{"$f":"IF('見積書(2号)'!M806=\"\",\"\",'見積書(2号)'!M806)","v":""},null,"","",null,"",""]
[{"$f":"IF('見積書(2号)'!A807=\"\",\"\",'見積書(2号)'!A807)","v":""},{"$f":"IF('見積書(2号)'!B807=\"\",\"\",'見積書(2号)'!B807)","v":""},{"$f":"IF('見積書(2号)'!C807=\"\",\"\",'見積書(2号)'!C807)","v":""},{"$f":"IF('見積書(2号)'!H807=\"\",\"\",'見積書(2号)'!H807)","v":""},{"$f":"IF('見積書(2号)'!E807=\"\",\"\",'見積書(2号)'!E807)","v":""},{"$f":"IF('見積書(2号)'!I807=\"\",\"\",'見積書(2号)'!I807)","v":""},{"$f":"IF('見積書(2号)'!J807=\"\",\"\",'見積書(2号)'!J807)","v":""},{"$f":"IF('見積書(2号)'!K807=\"\",\"\",'見積書(2号)'!K807)","v":""},{"$f":"IF('見積書(2号)'!L807=\"\",\"\",'見積書(2号)'!L807)","v":""},{"$f":"IF('見積書(2号)'!M807=\"\",\"\",'見積書(2号)'!M807)","v":""},null,"","",null,"",""]
[{"$f":"IF('見積書(2号)'!A808=\"\",\"\",'見積書(2号)'!A808)","v":""},{"$f":"IF('見積書(2号)'!B808=\"\",\"\",'見積書(2号)'!B808)","v":""},{"$f":"IF('見積書(2号)'!C808=\"\",\"\",'見積書(2号)'!C808)","v":""},{"$f":"IF('見積書(2号)'!H808=\"\",\"\",'見積書(2号)'!H808)","v":""},{"$f":"IF('見積書(2号)'!E808=\"\",\"\",'見積書(2号)'!E808)","v":""},{"$f":"IF('見積書(2号)'!I808=\"\",\"\",'見積書(2号)'!I808)","v":""},{"$f":"IF('見積書(2号)'!J808=\"\",\"\",'見積書(2号)'!J808)","v":""},{"$f":"IF('見積書(2号)'!K808=\"\",\"\",'見積書(2号)'!K808)","v":""},{"$f":"IF('見積書(2号)'!L808=\"\",\"\",'見積書(2号)'!L808)","v":""},{"$f":"IF('見積書(2号)'!M808=\"\",\"\",'見積書(2号)'!M808)","v":""},null,"","",null,"",""]
[{"$f":"IF('見積書(2号)'!A809=\"\",\"\",'見積書(2号)'!A809)","v":""},{"$f":"IF('見積書(2号)'!B809=\"\",\"\",'見積書(2号)'!B809)","v":""},{"$f":"IF('見積書(2号)'!C809=\"\",\"\",'見積書(2号)'!C809)","v":""},{"$f":"IF('見積書(2号)'!H809=\"\",\"\",'見積書(2号)'!H809)","v":""},{"$f":"IF('見積書(2号)'!E809=\"\",\"\",'見積書(2号)'!E809)","v":""},{"$f":"IF('見積書(2号)'!I809=\"\",\"\",'見積書(2号)'!I809)","v":""},{"$f":"IF('見積書(2号)'!J809=\"\",\"\",'見積書(2号)'!J809)","v":""},{"$f":"IF('見積書(2号)'!K809=\"\",\"\",'見積書(2号)'!K809)","v":""},{"$f":"IF('見積書(2号)'!L809=\"\",\"\",'見積書(2号)'!L809)","v":""},{"$f":"IF('見積書(2号)'!M809=\"\",\"\",'見積書(2号)'!M809)","v":""},null,"","",null,"",""]
[{"$f":"IF('見積書(2号)'!A810=\"\",\"\",'見積書(2号)'!A810)","v":""},{"$f":"IF('見積書(2号)'!B810=\"\",\"\",'見積書(2号)'!B810)","v":""},{"$f":"IF('見積書(2号)'!C810=\"\",\"\",'見積書(2号)'!C810)","v":""},{"$f":"IF('見積書(2号)'!H810=\"\",\"\",'見積書(2号)'!H810)","v":""},{"$f":"IF('見積書(2号)'!E810=\"\",\"\",'見積書(2号)'!E810)","v":""},{"$f":"IF('見積書(2号)'!I810=\"\",\"\",'見積書(2号)'!I810)","v":""},{"$f":"IF('見積書(2号)'!J810=\"\",\"\",'見積書(2号)'!J810)","v":""},{"$f":"IF('見積書(2号)'!K810=\"\",\"\",'見積書(2号)'!K810)","v":""},{"$f":"IF('見積書(2号)'!L810=\"\",\"\",'見積書(2号)'!L810)","v":""},{"$f":"IF('見積書(2号)'!M810=\"\",\"\",'見積書(2号)'!M810)","v":""},null,"","",null,"",""]
[{"$f":"IF('見積書(2号)'!A811=\"\",\"\",'見積書(2号)'!A811)","v":""},{"$f":"IF('見積書(2号)'!B811=\"\",\"\",'見積書(2号)'!B811)","v":""},{"$f":"IF('見積書(2号)'!C811=\"\",\"\",'見積書(2号)'!C811)","v":""},{"$f":"IF('見積書(2号)'!H811=\"\",\"\",'見積書(2号)'!H811)","v":""},{"$f":"IF('見積書(2号)'!E811=\"\",\"\",'見積書(2号)'!E811)","v":""},{"$f":"IF('見積書(2号)'!I811=\"\",\"\",'見積書(2号)'!I811)","v":""},{"$f":"IF('見積書(2号)'!J811=\"\",\"\",'見積書(2号)'!J811)","v":""},{"$f":"IF('見積書(2号)'!K811=\"\",\"\",'見積書(2号)'!K811)","v":""},{"$f":"IF('見積書(2号)'!L811=\"\",\"\",'見積書(2号)'!L811)","v":""},{"$f":"IF('見積書(2号)'!M811=\"\",\"\",'見積書(2号)'!M811)","v":""},null,"","",null,"",""]
[{"$f":"IF('見積書(2号)'!A812=\"\",\"\",'見積書(2号)'!A812)","v":""},{"$f":"IF('見積書(2号)'!B812=\"\",\"\",'見積書(2号)'!B812)","v":""},{"$f":"IF('見積書(2号)'!C812=\"\",\"\",'見積書(2号)'!C812)","v":""},{"$f":"IF('見積書(2号)'!H812=\"\",\"\",'見積書(2号)'!H812)","v":""},{"$f":"IF('見積書(2号)'!E812=\"\",\"\",'見積書(2号)'!E812)","v":""},{"$f":"IF('見積書(2号)'!I812=\"\",\"\",'見積書(2号)'!I812)","v":""},{"$f":"IF('見積書(2号)'!J812=\"\",\"\",'見積書(2号)'!J812)","v":""},{"$f":"IF('見積書(2号)'!K812=\"\",\"\",'見積書(2号)'!K812)","v":""},{"$f":"IF('見積書(2号)'!L812=\"\",\"\",'見積書(2号)'!L812)","v":""},{"$f":"IF('見積書(2号)'!M812=\"\",\"\",'見積書(2号)'!M812)","v":""},null,"","",null,"",""]
[{"$f":"IF('見積書(2号)'!A813=\"\",\"\",'見積書(2号)'!A813)","v":""},{"$f":"IF('見積書(2号)'!B813=\"\",\"\",'見積書(2号)'!B813)","v":""},{"$f":"IF('見積書(2号)'!C813=\"\",\"\",'見積書(2号)'!C813)","v":""},{"$f":"IF('見積書(2号)'!H813=\"\",\"\",'見積書(2号)'!H813)","v":""},{"$f":"IF('見積書(2号)'!E813=\"\",\"\",'見積書(2号)'!E813)","v":""},{"$f":"IF('見積書(2号)'!I813=\"\",\"\",'見積書(2号)'!I813)","v":""},{"$f":"IF('見積書(2号)'!J813=\"\",\"\",'見積書(2号)'!J813)","v":""},{"$f":"IF('見積書(2号)'!K813=\"\",\"\",'見積書(2号)'!K813)","v":""},{"$f":"IF('見積書(2号)'!L813=\"\",\"\",'見積書(2号)'!L813)","v":""},{"$f":"IF('見積書(2号)'!M813=\"\",\"\",'見積書(2号)'!M813)","v":""},null,"","",null,"",""]
[{"$f":"IF('見積書(2号)'!A814=\"\",\"\",'見積書(2号)'!A814)","v":""},{"$f":"IF('見積書(2号)'!B814=\"\",\"\",'見積書(2号)'!B814)","v":""},{"$f":"IF('見積書(2号)'!C814=\"\",\"\",'見積書(2号)'!C814)","v":""},{"$f":"IF('見積書(2号)'!H814=\"\",\"\",'見積書(2号)'!H814)","v":""},{"$f":"IF('見積書(2号)'!E814=\"\",\"\",'見積書(2号)'!E814)","v":""},{"$f":"IF('見積書(2号)'!I814=\"\",\"\",'見積書(2号)'!I814)","v":""},{"$f":"IF('見積書(2号)'!J814=\"\",\"\",'見積書(2号)'!J814)","v":""},{"$f":"IF('見積書(2号)'!K814=\"\",\"\",'見積書(2号)'!K814)","v":""},{"$f":"IF('見積書(2号)'!L814=\"\",\"\",'見積書(2号)'!L814)","v":""},{"$f":"IF('見積書(2号)'!M814=\"\",\"\",'見積書(2号)'!M814)","v":""},null,"","",null,"",""]
[{"$f":"IF('見積書(2号)'!A815=\"\",\"\",'見積書(2号)'!A815)","v":""},{"$f":"IF('見積書(2号)'!B815=\"\",\"\",'見積書(2号)'!B815)","v":""},{"$f":"IF('見積書(2号)'!C815=\"\",\"\",'見積書(2号)'!C815)","v":""},{"$f":"IF('見積書(2号)'!H815=\"\",\"\",'見積書(2号)'!H815)","v":""},{"$f":"IF('見積書(2号)'!E815=\"\",\"\",'見積書(2号)'!E815)","v":""},{"$f":"IF('見積書(2号)'!I815=\"\",\"\",'見積書(2号)'!I815)","v":""},{"$f":"IF('見積書(2号)'!J815=\"\",\"\",'見積書(2号)'!J815)","v":""},{"$f":"IF('見積書(2号)'!K815=\"\",\"\",'見積書(2号)'!K815)","v":""},{"$f":"IF('見積書(2号)'!L815=\"\",\"\",'見積書(2号)'!L815)","v":""},{"$f":"IF('見積書(2号)'!M815=\"\",\"\",'見積書(2号)'!M815)","v":""},null,"","",null,"",""]
[{"$f":"IF('見積書(2号)'!A816=\"\",\"\",'見積書(2号)'!A816)","v":""},{"$f":"IF('見積書(2号)'!B816=\"\",\"\",'見積書(2号)'!B816)","v":""},{"$f":"IF('見積書(2号)'!C816=\"\",\"\",'見積書(2号)'!C816)","v":""},{"$f":"IF('見積書(2号)'!H816=\"\",\"\",'見積書(2号)'!H816)","v":""},{"$f":"IF('見積書(2号)'!E816=\"\",\"\",'見積書(2号)'!E816)","v":""},{"$f":"IF('見積書(2号)'!I816=\"\",\"\",'見積書(2号)'!I816)","v":""},{"$f":"IF('見積書(2号)'!J816=\"\",\"\",'見積書(2号)'!J816)","v":""},{"$f":"IF('見積書(2号)'!K816=\"\",\"\",'見積書(2号)'!K816)","v":""},{"$f":"IF('見積書(2号)'!L816=\"\",\"\",'見積書(2号)'!L816)","v":""},{"$f":"IF('見積書(2号)'!M816=\"\",\"\",'見積書(2号)'!M816)","v":""},null,"","",null,"",""]
[{"$f":"IF('見積書(2号)'!A817=\"\",\"\",'見積書(2号)'!A817)","v":""},{"$f":"IF('見積書(2号)'!B817=\"\",\"\",'見積書(2号)'!B817)","v":""},{"$f":"IF('見積書(2号)'!C817=\"\",\"\",'見積書(2号)'!C817)","v":""},{"$f":"IF('見積書(2号)'!H817=\"\",\"\",'見積書(2号)'!H817)","v":""},{"$f":"IF('見積書(2号)'!E817=\"\",\"\",'見積書(2号)'!E817)","v":""},{"$f":"IF('見積書(2号)'!I817=\"\",\"\",'見積書(2号)'!I817)","v":""},{"$f":"IF('見積書(2号)'!J817=\"\",\"\",'見積書(2号)'!J817)","v":""},{"$f":"IF('見積書(2号)'!K817=\"\",\"\",'見積書(2号)'!K817)","v":""},{"$f":"IF('見積書(2号)'!L817=\"\",\"\",'見積書(2号)'!L817)","v":""},{"$f":"IF('見積書(2号)'!M817=\"\",\"\",'見積書(2号)'!M817)","v":""},null,"","",null,"",""]
[{"$f":"IF('見積書(2号)'!A818=\"\",\"\",'見積書(2号)'!A818)","v":""},{"$f":"IF('見積書(2号)'!B818=\"\",\"\",'見積書(2号)'!B818)","v":""},{"$f":"IF('見積書(2号)'!C818=\"\",\"\",'見積書(2号)'!C818)","v":""},{"$f":"IF('見積書(2号)'!H818=\"\",\"\",'見積書(2号)'!H818)","v":""},{"$f":"IF('見積書(2号)'!E818=\"\",\"\",'見積書(2号)'!E818)","v":""},{"$f":"IF('見積書(2号)'!I818=\"\",\"\",'見積書(2号)'!I818)","v":""},{"$f":"IF('見積書(2号)'!J818=\"\",\"\",'見積書(2号)'!J818)","v":""},{"$f":"IF('見積書(2号)'!K818=\"\",\"\",'見積書(2号)'!K818)","v":""},{"$f":"IF('見積書(2号)'!L818=\"\",\"\",'見積書(2号)'!L818)","v":""},{"$f":"IF('見積書(2号)'!M818=\"\",\"\",'見積書(2号)'!M818)","v":""},null,"","",null,"",""]
[{"$f":"IF('見積書(2号)'!A819=\"\",\"\",'見積書(2号)'!A819)","v":""},{"$f":"IF('見積書(2号)'!B819=\"\",\"\",'見積書(2号)'!B819)","v":""},{"$f":"IF('見積書(2号)'!C819=\"\",\"\",'見積書(2号)'!C819)","v":""},{"$f":"IF('見積書(2号)'!H819=\"\",\"\",'見積書(2号)'!H819)","v":""},{"$f":"IF('見積書(2号)'!E819=\"\",\"\",'見積書(2号)'!E819)","v":""},{"$f":"IF('見積書(2号)'!I819=\"\",\"\",'見積書(2号)'!I819)","v":""},{"$f":"IF('見積書(2号)'!J819=\"\",\"\",'見積書(2号)'!J819)","v":""},{"$f":"IF('見積書(2号)'!K819=\"\",\"\",'見積書(2号)'!K819)","v":""},{"$f":"IF('見積書(2号)'!L819=\"\",\"\",'見積書(2号)'!L819)","v":""},{"$f":"IF('見積書(2号)'!M819=\"\",\"\",'見積書(2号)'!M819)","v":""},null,"","",null,"",""]
[{"$f":"IF('見積書(2号)'!A820=\"\",\"\",'見積書(2号)'!A820)","v":""},{"$f":"IF('見積書(2号)'!B820=\"\",\"\",'見積書(2号)'!B820)","v":""},{"$f":"IF('見積書(2号)'!C820=\"\",\"\",'見積書(2号)'!C820)","v":""},{"$f":"IF('見積書(2号)'!H820=\"\",\"\",'見積書(2号)'!H820)","v":""},{"$f":"IF('見積書(2号)'!E820=\"\",\"\",'見積書(2号)'!E820)","v":""},{"$f":"IF('見積書(2号)'!I820=\"\",\"\",'見積書(2号)'!I820)","v":""},{"$f":"IF('見積書(2号)'!J820=\"\",\"\",'見積書(2号)'!J820)","v":""},{"$f":"IF('見積書(2号)'!K820=\"\",\"\",'見積書(2号)'!K820)","v":""},{"$f":"IF('見積書(2号)'!L820=\"\",\"\",'見積書(2号)'!L820)","v":""},{"$f":"IF('見積書(2号)'!M820=\"\",\"\",'見積書(2号)'!M820)","v":""},null,"","",null,"",""]
[{"$f":"IF('見積書(2号)'!A821=\"\",\"\",'見積書(2号)'!A821)","v":""},{"$f":"IF('見積書(2号)'!B821=\"\",\"\",'見積書(2号)'!B821)","v":""},{"$f":"IF('見積書(2号)'!C821=\"\",\"\",'見積書(2号)'!C821)","v":""},{"$f":"IF('見積書(2号)'!H821=\"\",\"\",'見積書(2号)'!H821)","v":""},{"$f":"IF('見積書(2号)'!E821=\"\",\"\",'見積書(2号)'!E821)","v":""},{"$f":"IF('見積書(2号)'!I821=\"\",\"\",'見積書(2号)'!I821)","v":""},{"$f":"IF('見積書(2号)'!J821=\"\",\"\",'見積書(2号)'!J821)","v":""},{"$f":"IF('見積書(2号)'!K821=\"\",\"\",'見積書(2号)'!K821)","v":""},{"$f":"IF('見積書(2号)'!L821=\"\",\"\",'見積書(2号)'!L821)","v":""},{"$f":"IF('見積書(2号)'!M821=\"\",\"\",'見積書(2号)'!M821)","v":""},null,"","",null,"",""]
[{"$f":"IF('見積書(2号)'!A822=\"\",\"\",'見積書(2号)'!A822)","v":""},{"$f":"IF('見積書(2号)'!B822=\"\",\"\",'見積書(2号)'!B822)","v":""},{"$f":"IF('見積書(2号)'!C822=\"\",\"\",'見積書(2号)'!C822)","v":""},{"$f":"IF('見積書(2号)'!H822=\"\",\"\",'見積書(2号)'!H822)","v":""},{"$f":"IF('見積書(2号)'!E822=\"\",\"\",'見積書(2号)'!E822)","v":""},{"$f":"IF('見積書(2号)'!I822=\"\",\"\",'見積書(2号)'!I822)","v":""},{"$f":"IF('見積書(2号)'!J822=\"\",\"\",'見積書(2号)'!J822)","v":""},{"$f":"IF('見積書(2号)'!K822=\"\",\"\",'見積書(2号)'!K822)","v":""},{"$f":"IF('見積書(2号)'!L822=\"\",\"\",'見積書(2号)'!L822)","v":""},{"$f":"IF('見積書(2号)'!M822=\"\",\"\",'見積書(2号)'!M822)","v":""},null,"","",null,"",""]
[{"$f":"IF('見積書(2号)'!A823=\"\",\"\",'見積書(2号)'!A823)","v":""},{"$f":"IF('見積書(2号)'!B823=\"\",\"\",'見積書(2号)'!B823)","v":""},{"$f":"IF('見積書(2号)'!C823=\"\",\"\",'見積書(2号)'!C823)","v":""},{"$f":"IF('見積書(2号)'!H823=\"\",\"\",'見積書(2号)'!H823)","v":""},{"$f":"IF('見積書(2号)'!E823=\"\",\"\",'見積書(2号)'!E823)","v":""},{"$f":"IF('見積書(2号)'!I823=\"\",\"\",'見積書(2号)'!I823)","v":""},{"$f":"IF('見積書(2号)'!J823=\"\",\"\",'見積書(2号)'!J823)","v":""},{"$f":"IF('見積書(2号)'!K823=\"\",\"\",'見積書(2号)'!K823)","v":""},{"$f":"IF('見積書(2号)'!L823=\"\",\"\",'見積書(2号)'!L823)","v":""},{"$f":"IF('見積書(2号)'!M823=\"\",\"\",'見積書(2号)'!M823)","v":""},null,"","",null,"",""]
[{"$f":"IF('見積書(2号)'!A824=\"\",\"\",'見積書(2号)'!A824)","v":""},{"$f":"IF('見積書(2号)'!B824=\"\",\"\",'見積書(2号)'!B824)","v":""},{"$f":"IF('見積書(2号)'!C824=\"\",\"\",'見積書(2号)'!C824)","v":""},{"$f":"IF('見積書(2号)'!H824=\"\",\"\",'見積書(2号)'!H824)","v":""},{"$f":"IF('見積書(2号)'!E824=\"\",\"\",'見積書(2号)'!E824)","v":""},{"$f":"IF('見積書(2号)'!I824=\"\",\"\",'見積書(2号)'!I824)","v":""},{"$f":"IF('見積書(2号)'!J824=\"\",\"\",'見積書(2号)'!J824)","v":""},{"$f":"IF('見積書(2号)'!K824=\"\",\"\",'見積書(2号)'!K824)","v":""},{"$f":"IF('見積書(2号)'!L824=\"\",\"\",'見積書(2号)'!L824)","v":""},{"$f":"IF('見積書(2号)'!M824=\"\",\"\",'見積書(2号)'!M824)","v":""},null,"","",null,"",""]
[{"$f":"IF('見積書(2号)'!A825=\"\",\"\",'見積書(2号)'!A825)","v":""},{"$f":"IF('見積書(2号)'!B825=\"\",\"\",'見積書(2号)'!B825)","v":""},{"$f":"IF('見積書(2号)'!C825=\"\",\"\",'見積書(2号)'!C825)","v":""},{"$f":"IF('見積書(2号)'!H825=\"\",\"\",'見積書(2号)'!H825)","v":""},{"$f":"IF('見積書(2号)'!E825=\"\",\"\",'見積書(2号)'!E825)","v":""},{"$f":"IF('見積書(2号)'!I825=\"\",\"\",'見積書(2号)'!I825)","v":""},{"$f":"IF('見積書(2号)'!J825=\"\",\"\",'見積書(2号)'!J825)","v":""},{"$f":"IF('見積書(2号)'!K825=\"\",\"\",'見積書(2号)'!K825)","v":""},{"$f":"IF('見積書(2号)'!L825=\"\",\"\",'見積書(2号)'!L825)","v":""},{"$f":"IF('見積書(2号)'!M825=\"\",\"\",'見積書(2号)'!M825)","v":""},null,"","",null,"",""]
[{"$f":"IF('見積書(2号)'!A826=\"\",\"\",'見積書(2号)'!A826)","v":""},{"$f":"IF('見積書(2号)'!B826=\"\",\"\",'見積書(2号)'!B826)","v":""},{"$f":"IF('見積書(2号)'!C826=\"\",\"\",'見積書(2号)'!C826)","v":""},{"$f":"IF('見積書(2号)'!H826=\"\",\"\",'見積書(2号)'!H826)","v":""},{"$f":"IF('見積書(2号)'!E826=\"\",\"\",'見積書(2号)'!E826)","v":""},{"$f":"IF('見積書(2号)'!I826=\"\",\"\",'見積書(2号)'!I826)","v":""},{"$f":"IF('見積書(2号)'!J826=\"\",\"\",'見積書(2号)'!J826)","v":""},{"$f":"IF('見積書(2号)'!K826=\"\",\"\",'見積書(2号)'!K826)","v":""},{"$f":"IF('見積書(2号)'!L826=\"\",\"\",'見積書(2号)'!L826)","v":""},{"$f":"IF('見積書(2号)'!M826=\"\",\"\",'見積書(2号)'!M826)","v":""},null,"","",null,"",""]
[{"$f":"IF('見積書(2号)'!A827=\"\",\"\",'見積書(2号)'!A827)","v":""},{"$f":"IF('見積書(2号)'!B827=\"\",\"\",'見積書(2号)'!B827)","v":""},{"$f":"IF('見積書(2号)'!C827=\"\",\"\",'見積書(2号)'!C827)","v":""},{"$f":"IF('見積書(2号)'!H827=\"\",\"\",'見積書(2号)'!H827)","v":""},{"$f":"IF('見積書(2号)'!E827=\"\",\"\",'見積書(2号)'!E827)","v":""},{"$f":"IF('見積書(2号)'!I827=\"\",\"\",'見積書(2号)'!I827)","v":""},{"$f":"IF('見積書(2号)'!J827=\"\",\"\",'見積書(2号)'!J827)","v":""},{"$f":"IF('見積書(2号)'!K827=\"\",\"\",'見積書(2号)'!K827)","v":""},{"$f":"IF('見積書(2号)'!L827=\"\",\"\",'見積書(2号)'!L827)","v":""},{"$f":"IF('見積書(2号)'!M827=\"\",\"\",'見積書(2号)'!M827)","v":""},null,"","",null,"",""]
[{"$f":"IF('見積書(2号)'!A828=\"\",\"\",'見積書(2号)'!A828)","v":""},{"$f":"IF('見積書(2号)'!B828=\"\",\"\",'見積書(2号)'!B828)","v":""},{"$f":"IF('見積書(2号)'!C828=\"\",\"\",'見積書(2号)'!C828)","v":""},{"$f":"IF('見積書(2号)'!H828=\"\",\"\",'見積書(2号)'!H828)","v":""},{"$f":"IF('見積書(2号)'!E828=\"\",\"\",'見積書(2号)'!E828)","v":""},{"$f":"IF('見積書(2号)'!I828=\"\",\"\",'見積書(2号)'!I828)","v":""},{"$f":"IF('見積書(2号)'!J828=\"\",\"\",'見積書(2号)'!J828)","v":""},{"$f":"IF('見積書(2号)'!K828=\"\",\"\",'見積書(2号)'!K828)","v":""},{"$f":"IF('見積書(2号)'!L828=\"\",\"\",'見積書(2号)'!L828)","v":""},{"$f":"IF('見積書(2号)'!M828=\"\",\"\",'見積書(2号)'!M828)","v":""},null,"","",null,"",""]
[{"$f":"IF('見積書(2号)'!A829=\"\",\"\",'見積書(2号)'!A829)","v":""},{"$f":"IF('見積書(2号)'!B829=\"\",\"\",'見積書(2号)'!B829)","v":""},{"$f":"IF('見積書(2号)'!C829=\"\",\"\",'見積書(2号)'!C829)","v":""},{"$f":"IF('見積書(2号)'!H829=\"\",\"\",'見積書(2号)'!H829)","v":""},{"$f":"IF('見積書(2号)'!E829=\"\",\"\",'見積書(2号)'!E829)","v":""},{"$f":"IF('見積書(2号)'!I829=\"\",\"\",'見積書(2号)'!I829)","v":""},{"$f":"IF('見積書(2号)'!J829=\"\",\"\",'見積書(2号)'!J829)","v":""},{"$f":"IF('見積書(2号)'!K829=\"\",\"\",'見積書(2号)'!K829)","v":""},{"$f":"IF('見積書(2号)'!L829=\"\",\"\",'見積書(2号)'!L829)","v":""},{"$f":"IF('見積書(2号)'!M829=\"\",\"\",'見積書(2号)'!M829)","v":""},null,"","",null,"",""]
[{"$f":"IF('見積書(2号)'!A830=\"\",\"\",'見積書(2号)'!A830)","v":""},{"$f":"IF('見積書(2号)'!B830=\"\",\"\",'見積書(2号)'!B830)","v":""},{"$f":"IF('見積書(2号)'!C830=\"\",\"\",'見積書(2号)'!C830)","v":""},{"$f":"IF('見積書(2号)'!H830=\"\",\"\",'見積書(2号)'!H830)","v":""},{"$f":"IF('見積書(2号)'!E830=\"\",\"\",'見積書(2号)'!E830)","v":""},{"$f":"IF('見積書(2号)'!I830=\"\",\"\",'見積書(2号)'!I830)","v":""},{"$f":"IF('見積書(2号)'!J830=\"\",\"\",'見積書(2号)'!J830)","v":""},{"$f":"IF('見積書(2号)'!K830=\"\",\"\",'見積書(2号)'!K830)","v":""},{"$f":"IF('見積書(2号)'!L830=\"\",\"\",'見積書(2号)'!L830)","v":""},{"$f":"IF('見積書(2号)'!M830=\"\",\"\",'見積書(2号)'!M830)","v":""},null,"","",null,"",""]
[{"$f":"IF('見積書(2号)'!A831=\"\",\"\",'見積書(2号)'!A831)","v":""},{"$f":"IF('見積書(2号)'!B831=\"\",\"\",'見積書(2号)'!B831)","v":""},{"$f":"IF('見積書(2号)'!C831=\"\",\"\",'見積書(2号)'!C831)","v":""},{"$f":"IF('見積書(2号)'!H831=\"\",\"\",'見積書(2号)'!H831)","v":""},{"$f":"IF('見積書(2号)'!E831=\"\",\"\",'見積書(2号)'!E831)","v":""},{"$f":"IF('見積書(2号)'!I831=\"\",\"\",'見積書(2号)'!I831)","v":""},{"$f":"IF('見積書(2号)'!J831=\"\",\"\",'見積書(2号)'!J831)","v":""},{"$f":"IF('見積書(2号)'!K831=\"\",\"\",'見積書(2号)'!K831)","v":""},{"$f":"IF('見積書(2号)'!L831=\"\",\"\",'見積書(2号)'!L831)","v":""},{"$f":"IF('見積書(2号)'!M831=\"\",\"\",'見積書(2号)'!M831)","v":""},null,"","",null,"",""]
[{"$f":"IF('見積書(2号)'!A832=\"\",\"\",'見積書(2号)'!A832)","v":""},{"$f":"IF('見積書(2号)'!B832=\"\",\"\",'見積書(2号)'!B832)","v":""},{"$f":"IF('見積書(2号)'!C832=\"\",\"\",'見積書(2号)'!C832)","v":""},{"$f":"IF('見積書(2号)'!H832=\"\",\"\",'見積書(2号)'!H832)","v":""},{"$f":"IF('見積書(2号)'!E832=\"\",\"\",'見積書(2号)'!E832)","v":""},{"$f":"IF('見積書(2号)'!I832=\"\",\"\",'見積書(2号)'!I832)","v":""},{"$f":"IF('見積書(2号)'!J832=\"\",\"\",'見積書(2号)'!J832)","v":""},{"$f":"IF('見積書(2号)'!K832=\"\",\"\",'見積書(2号)'!K832)","v":""},{"$f":"IF('見積書(2号)'!L832=\"\",\"\",'見積書(2号)'!L832)","v":""},{"$f":"IF('見積書(2号)'!M832=\"\",\"\",'見積書(2号)'!M832)","v":""},null,"","",null,"",""]
[{"$f":"IF('見積書(2号)'!A833=\"\",\"\",'見積書(2号)'!A833)","v":""},{"$f":"IF('見積書(2号)'!B833=\"\",\"\",'見積書(2号)'!B833)","v":""},{"$f":"IF('見積書(2号)'!C833=\"\",\"\",'見積書(2号)'!C833)","v":""},{"$f":"IF('見積書(2号)'!H833=\"\",\"\",'見積書(2号)'!H833)","v":""},{"$f":"IF('見積書(2号)'!E833=\"\",\"\",'見積書(2号)'!E833)","v":""},{"$f":"IF('見積書(2号)'!I833=\"\",\"\",'見積書(2号)'!I833)","v":""},{"$f":"IF('見積書(2号)'!J833=\"\",\"\",'見積書(2号)'!J833)","v":""},{"$f":"IF('見積書(2号)'!K833=\"\",\"\",'見積書(2号)'!K833)","v":""},{"$f":"IF('見積書(2号)'!L833=\"\",\"\",'見積書(2号)'!L833)","v":""},{"$f":"IF('見積書(2号)'!M833=\"\",\"\",'見積書(2号)'!M833)","v":""},null,"","",null,"",""]
[{"$f":"IF('見積書(2号)'!A834=\"\",\"\",'見積書(2号)'!A834)","v":""},{"$f":"IF('見積書(2号)'!B834=\"\",\"\",'見積書(2号)'!B834)","v":""},{"$f":"IF('見積書(2号)'!C834=\"\",\"\",'見積書(2号)'!C834)","v":""},{"$f":"IF('見積書(2号)'!H834=\"\",\"\",'見積書(2号)'!H834)","v":""},{"$f":"IF('見積書(2号)'!E834=\"\",\"\",'見積書(2号)'!E834)","v":""},{"$f":"IF('見積書(2号)'!I834=\"\",\"\",'見積書(2号)'!I834)","v":""},{"$f":"IF('見積書(2号)'!J834=\"\",\"\",'見積書(2号)'!J834)","v":""},{"$f":"IF('見積書(2号)'!K834=\"\",\"\",'見積書(2号)'!K834)","v":""},{"$f":"IF('見積書(2号)'!L834=\"\",\"\",'見積書(2号)'!L834)","v":""},{"$f":"IF('見積書(2号)'!M834=\"\",\"\",'見積書(2号)'!M834)","v":""},null,"","",null,"",""]
[{"$f":"IF('見積書(2号)'!A835=\"\",\"\",'見積書(2号)'!A835)","v":""},{"$f":"IF('見積書(2号)'!B835=\"\",\"\",'見積書(2号)'!B835)","v":""},{"$f":"IF('見積書(2号)'!C835=\"\",\"\",'見積書(2号)'!C835)","v":""},{"$f":"IF('見積書(2号)'!H835=\"\",\"\",'見積書(2号)'!H835)","v":""},{"$f":"IF('見積書(2号)'!E835=\"\",\"\",'見積書(2号)'!E835)","v":""},{"$f":"IF('見積書(2号)'!I835=\"\",\"\",'見積書(2号)'!I835)","v":""},{"$f":"IF('見積書(2号)'!J835=\"\",\"\",'見積書(2号)'!J835)","v":""},{"$f":"IF('見積書(2号)'!K835=\"\",\"\",'見積書(2号)'!K835)","v":""},{"$f":"IF('見積書(2号)'!L835=\"\",\"\",'見積書(2号)'!L835)","v":""},{"$f":"IF('見積書(2号)'!M835=\"\",\"\",'見積書(2号)'!M835)","v":""},null,"","",null,"",""]
[{"$f":"IF('見積書(2号)'!A836=\"\",\"\",'見積書(2号)'!A836)","v":""},{"$f":"IF('見積書(2号)'!B836=\"\",\"\",'見積書(2号)'!B836)","v":""},{"$f":"IF('見積書(2号)'!C836=\"\",\"\",'見積書(2号)'!C836)","v":""},{"$f":"IF('見積書(2号)'!H836=\"\",\"\",'見積書(2号)'!H836)","v":""},{"$f":"IF('見積書(2号)'!E836=\"\",\"\",'見積書(2号)'!E836)","v":""},{"$f":"IF('見積書(2号)'!I836=\"\",\"\",'見積書(2号)'!I836)","v":""},{"$f":"IF('見積書(2号)'!J836=\"\",\"\",'見積書(2号)'!J836)","v":""},{"$f":"IF('見積書(2号)'!K836=\"\",\"\",'見積書(2号)'!K836)","v":""},{"$f":"IF('見積書(2号)'!L836=\"\",\"\",'見積書(2号)'!L836)","v":""},{"$f":"IF('見積書(2号)'!M836=\"\",\"\",'見積書(2号)'!M836)","v":""},null,"","",null,"",""]
[{"$f":"IF('見積書(2号)'!A837=\"\",\"\",'見積書(2号)'!A837)","v":""},{"$f":"IF('見積書(2号)'!B837=\"\",\"\",'見積書(2号)'!B837)","v":""},{"$f":"IF('見積書(2号)'!C837=\"\",\"\",'見積書(2号)'!C837)","v":""},{"$f":"IF('見積書(2号)'!H837=\"\",\"\",'見積書(2号)'!H837)","v":""},{"$f":"IF('見積書(2号)'!E837=\"\",\"\",'見積書(2号)'!E837)","v":""},{"$f":"IF('見積書(2号)'!I837=\"\",\"\",'見積書(2号)'!I837)","v":""},{"$f":"IF('見積書(2号)'!J837=\"\",\"\",'見積書(2号)'!J837)","v":""},{"$f":"IF('見積書(2号)'!K837=\"\",\"\",'見積書(2号)'!K837)","v":""},{"$f":"IF('見積書(2号)'!L837=\"\",\"\",'見積書(2号)'!L837)","v":""},{"$f":"IF('見積書(2号)'!M837=\"\",\"\",'見積書(2号)'!M837)","v":""},null,"","",null,"",""]
[{"$f":"IF('見積書(2号)'!A838=\"\",\"\",'見積書(2号)'!A838)","v":""},{"$f":"IF('見積書(2号)'!B838=\"\",\"\",'見積書(2号)'!B838)","v":""},{"$f":"IF('見積書(2号)'!C838=\"\",\"\",'見積書(2号)'!C838)","v":""},{"$f":"IF('見積書(2号)'!H838=\"\",\"\",'見積書(2号)'!H838)","v":""},{"$f":"IF('見積書(2号)'!E838=\"\",\"\",'見積書(2号)'!E838)","v":""},{"$f":"IF('見積書(2号)'!I838=\"\",\"\",'見積書(2号)'!I838)","v":""},{"$f":"IF('見積書(2号)'!J838=\"\",\"\",'見積書(2号)'!J838)","v":""},{"$f":"IF('見積書(2号)'!K838=\"\",\"\",'見積書(2号)'!K838)","v":""},{"$f":"IF('見積書(2号)'!L838=\"\",\"\",'見積書(2号)'!L838)","v":""},{"$f":"IF('見積書(2号)'!M838=\"\",\"\",'見積書(2号)'!M838)","v":""},null,"","",null,"",""]
[{"$f":"IF('見積書(2号)'!A839=\"\",\"\",'見積書(2号)'!A839)","v":""},{"$f":"IF('見積書(2号)'!B839=\"\",\"\",'見積書(2号)'!B839)","v":""},{"$f":"IF('見積書(2号)'!C839=\"\",\"\",'見積書(2号)'!C839)","v":""},{"$f":"IF('見積書(2号)'!H839=\"\",\"\",'見積書(2号)'!H839)","v":""},{"$f":"IF('見積書(2号)'!E839=\"\",\"\",'見積書(2号)'!E839)","v":""},{"$f":"IF('見積書(2号)'!I839=\"\",\"\",'見積書(2号)'!I839)","v":""},{"$f":"IF('見積書(2号)'!J839=\"\",\"\",'見積書(2号)'!J839)","v":""},{"$f":"IF('見積書(2号)'!K839=\"\",\"\",'見積書(2号)'!K839)","v":""},{"$f":"IF('見積書(2号)'!L839=\"\",\"\",'見積書(2号)'!L839)","v":""},{"$f":"IF('見積書(2号)'!M839=\"\",\"\",'見積書(2号)'!M839)","v":""},null,"","",null,"",""]
[{"$f":"IF('見積書(2号)'!A840=\"\",\"\",'見積書(2号)'!A840)","v":""},{"$f":"IF('見積書(2号)'!B840=\"\",\"\",'見積書(2号)'!B840)","v":""},{"$f":"IF('見積書(2号)'!C840=\"\",\"\",'見積書(2号)'!C840)","v":""},{"$f":"IF('見積書(2号)'!H840=\"\",\"\",'見積書(2号)'!H840)","v":""},{"$f":"IF('見積書(2号)'!E840=\"\",\"\",'見積書(2号)'!E840)","v":""},{"$f":"IF('見積書(2号)'!I840=\"\",\"\",'見積書(2号)'!I840)","v":""},{"$f":"IF('見積書(2号)'!J840=\"\",\"\",'見積書(2号)'!J840)","v":""},{"$f":"IF('見積書(2号)'!K840=\"\",\"\",'見積書(2号)'!K840)","v":""},{"$f":"IF('見積書(2号)'!L840=\"\",\"\",'見積書(2号)'!L840)","v":""},{"$f":"IF('見積書(2号)'!M840=\"\",\"\",'見積書(2号)'!M840)","v":""},null,"","",null,"",""]
[{"$f":"IF('見積書(2号)'!A841=\"\",\"\",'見積書(2号)'!A841)","v":""},{"$f":"IF('見積書(2号)'!B841=\"\",\"\",'見積書(2号)'!B841)","v":""},{"$f":"IF('見積書(2号)'!C841=\"\",\"\",'見積書(2号)'!C841)","v":""},{"$f":"IF('見積書(2号)'!H841=\"\",\"\",'見積書(2号)'!H841)","v":""},{"$f":"IF('見積書(2号)'!E841=\"\",\"\",'見積書(2号)'!E841)","v":""},{"$f":"IF('見積書(2号)'!I841=\"\",\"\",'見積書(2号)'!I841)","v":""},{"$f":"IF('見積書(2号)'!J841=\"\",\"\",'見積書(2号)'!J841)","v":""},{"$f":"IF('見積書(2号)'!K841=\"\",\"\",'見積書(2号)'!K841)","v":""},{"$f":"IF('見積書(2号)'!L841=\"\",\"\",'見積書(2号)'!L841)","v":""},{"$f":"IF('見積書(2号)'!M841=\"\",\"\",'見積書(2号)'!M841)","v":""},null,"","",null,"",""]
[{"$f":"IF('見積書(2号)'!A842=\"\",\"\",'見積書(2号)'!A842)","v":""},{"$f":"IF('見積書(2号)'!B842=\"\",\"\",'見積書(2号)'!B842)","v":""},{"$f":"IF('見積書(2号)'!C842=\"\",\"\",'見積書(2号)'!C842)","v":""},{"$f":"IF('見積書(2号)'!H842=\"\",\"\",'見積書(2号)'!H842)","v":""},{"$f":"IF('見積書(2号)'!E842=\"\",\"\",'見積書(2号)'!E842)","v":""},{"$f":"IF('見積書(2号)'!I842=\"\",\"\",'見積書(2号)'!I842)","v":""},{"$f":"IF('見積書(2号)'!J842=\"\",\"\",'見積書(2号)'!J842)","v":""},{"$f":"IF('見積書(2号)'!K842=\"\",\"\",'見積書(2号)'!K842)","v":""},{"$f":"IF('見積書(2号)'!L842=\"\",\"\",'見積書(2号)'!L842)","v":""},{"$f":"IF('見積書(2号)'!M842=\"\",\"\",'見積書(2号)'!M842)","v":""},null,"","",null,"",""]
[{"$f":"IF('見積書(2号)'!A843=\"\",\"\",'見積書(2号)'!A843)","v":""},{"$f":"IF('見積書(2号)'!B843=\"\",\"\",'見積書(2号)'!B843)","v":""},{"$f":"IF('見積書(2号)'!C843=\"\",\"\",'見積書(2号)'!C843)","v":""},{"$f":"IF('見積書(2号)'!H843=\"\",\"\",'見積書(2号)'!H843)","v":""},{"$f":"IF('見積書(2号)'!E843=\"\",\"\",'見積書(2号)'!E843)","v":""},{"$f":"IF('見積書(2号)'!I843=\"\",\"\",'見積書(2号)'!I843)","v":""},{"$f":"IF('見積書(2号)'!J843=\"\",\"\",'見積書(2号)'!J843)","v":""},{"$f":"IF('見積書(2号)'!K843=\"\",\"\",'見積書(2号)'!K843)","v":""},{"$f":"IF('見積書(2号)'!L843=\"\",\"\",'見積書(2号)'!L843)","v":""},{"$f":"IF('見積書(2号)'!M843=\"\",\"\",'見積書(2号)'!M843)","v":""},null,{"$f":"IF(I843=\"\",F843,I843)","v":""},{"$f":"IF(L843=\"\",\"\",L843*K843)","v":""},null,"",""]
[{"$f":"IF('見積書(2号)'!A844=\"\",\"\",'見積書(2号)'!A844)","v":""},{"$f":"IF('見積書(2号)'!B844=\"\",\"\",'見積書(2号)'!B844)","v":""},{"$f":"IF('見積書(2号)'!C844=\"\",\"\",'見積書(2号)'!C844)","v":""},{"$f":"IF('見積書(2号)'!H844=\"\",\"\",'見積書(2号)'!H844)","v":""},{"$f":"IF('見積書(2号)'!E844=\"\",\"\",'見積書(2号)'!E844)","v":""},{"$f":"IF('見積書(2号)'!I844=\"\",\"\",'見積書(2号)'!I844)","v":""},{"$f":"IF('見積書(2号)'!J844=\"\",\"\",'見積書(2号)'!J844)","v":""},{"$f":"IF('見積書(2号)'!K844=\"\",\"\",'見積書(2号)'!K844)","v":""},{"$f":"IF('見積書(2号)'!L844=\"\",\"\",'見積書(2号)'!L844)","v":""},{"$f":"IF('見積書(2号)'!M844=\"\",\"\",'見積書(2号)'!M844)","v":""},null,"","",null,"",""]
[{"$f":"IF('見積書(2号)'!A845=\"\",\"\",'見積書(2号)'!A845)","v":""},{"$f":"IF('見積書(2号)'!B845=\"\",\"\",'見積書(2号)'!B845)","v":""},{"$f":"IF('見積書(2号)'!C845=\"\",\"\",'見積書(2号)'!C845)","v":""},{"$f":"IF('見積書(2号)'!H845=\"\",\"\",'見積書(2号)'!H845)","v":""},{"$f":"IF('見積書(2号)'!E845=\"\",\"\",'見積書(2号)'!E845)","v":""},{"$f":"IF('見積書(2号)'!I845=\"\",\"\",'見積書(2号)'!I845)","v":""},{"$f":"IF('見積書(2号)'!J845=\"\",\"\",'見積書(2号)'!J845)","v":""},{"$f":"IF('見積書(2号)'!K845=\"\",\"\",'見積書(2号)'!K845)","v":""},{"$f":"IF('見積書(2号)'!L845=\"\",\"\",'見積書(2号)'!L845)","v":""},{"$f":"IF('見積書(2号)'!M845=\"\",\"\",'見積書(2号)'!M845)","v":""},null,"","",null,"",""]
[{"$f":"IF('見積書(2号)'!A846=\"\",\"\",'見積書(2号)'!A846)","v":""},{"$f":"IF('見積書(2号)'!B846=\"\",\"\",'見積書(2号)'!B846)","v":""},{"$f":"IF('見積書(2号)'!C846=\"\",\"\",'見積書(2号)'!C846)","v":""},{"$f":"IF('見積書(2号)'!H846=\"\",\"\",'見積書(2号)'!H846)","v":""},{"$f":"IF('見積書(2号)'!E846=\"\",\"\",'見積書(2号)'!E846)","v":""},{"$f":"IF('見積書(2号)'!I846=\"\",\"\",'見積書(2号)'!I846)","v":""},{"$f":"IF('見積書(2号)'!J846=\"\",\"\",'見積書(2号)'!J846)","v":""},{"$f":"IF('見積書(2号)'!K846=\"\",\"\",'見積書(2号)'!K846)","v":""},{"$f":"IF('見積書(2号)'!L846=\"\",\"\",'見積書(2号)'!L846)","v":""},{"$f":"IF('見積書(2号)'!M846=\"\",\"\",'見積書(2号)'!M846)","v":""},null,"","",null,"",""]
[{"$f":"IF('見積書(2号)'!A847=\"\",\"\",'見積書(2号)'!A847)","v":""},{"$f":"IF('見積書(2号)'!B847=\"\",\"\",'見積書(2号)'!B847)","v":""},{"$f":"IF('見積書(2号)'!C847=\"\",\"\",'見積書(2号)'!C847)","v":""},{"$f":"IF('見積書(2号)'!H847=\"\",\"\",'見積書(2号)'!H847)","v":""},{"$f":"IF('見積書(2号)'!E847=\"\",\"\",'見積書(2号)'!E847)","v":""},{"$f":"IF('見積書(2号)'!I847=\"\",\"\",'見積書(2号)'!I847)","v":""},{"$f":"IF('見積書(2号)'!J847=\"\",\"\",'見積書(2号)'!J847)","v":""},{"$f":"IF('見積書(2号)'!K847=\"\",\"\",'見積書(2号)'!K847)","v":""},{"$f":"IF('見積書(2号)'!L847=\"\",\"\",'見積書(2号)'!L847)","v":""},{"$f":"IF('見積書(2号)'!M847=\"\",\"\",'見積書(2号)'!M847)","v":""},null,"","",null,"",""]
[{"$f":"IF('見積書(2号)'!A848=\"\",\"\",'見積書(2号)'!A848)","v":""},{"$f":"IF('見積書(2号)'!B848=\"\",\"\",'見積書(2号)'!B848)","v":""},{"$f":"IF('見積書(2号)'!C848=\"\",\"\",'見積書(2号)'!C848)","v":""},{"$f":"IF('見積書(2号)'!H848=\"\",\"\",'見積書(2号)'!H848)","v":""},{"$f":"IF('見積書(2号)'!E848=\"\",\"\",'見積書(2号)'!E848)","v":""},{"$f":"IF('見積書(2号)'!I848=\"\",\"\",'見積書(2号)'!I848)","v":""},{"$f":"IF('見積書(2号)'!J848=\"\",\"\",'見積書(2号)'!J848)","v":""},{"$f":"IF('見積書(2号)'!K848=\"\",\"\",'見積書(2号)'!K848)","v":""},{"$f":"IF('見積書(2号)'!L848=\"\",\"\",'見積書(2号)'!L848)","v":""},{"$f":"IF('見積書(2号)'!M848=\"\",\"\",'見積書(2号)'!M848)","v":""},null,"","",null,"",""]
[{"$f":"IF('見積書(2号)'!A849=\"\",\"\",'見積書(2号)'!A849)","v":""},{"$f":"IF('見積書(2号)'!B849=\"\",\"\",'見積書(2号)'!B849)","v":""},{"$f":"IF('見積書(2号)'!C849=\"\",\"\",'見積書(2号)'!C849)","v":""},{"$f":"IF('見積書(2号)'!H849=\"\",\"\",'見積書(2号)'!H849)","v":""},{"$f":"IF('見積書(2号)'!E849=\"\",\"\",'見積書(2号)'!E849)","v":""},{"$f":"IF('見積書(2号)'!I849=\"\",\"\",'見積書(2号)'!I849)","v":""},{"$f":"IF('見積書(2号)'!J849=\"\",\"\",'見積書(2号)'!J849)","v":""},{"$f":"IF('見積書(2号)'!K849=\"\",\"\",'見積書(2号)'!K849)","v":""},{"$f":"IF('見積書(2号)'!L849=\"\",\"\",'見積書(2号)'!L849)","v":""},{"$f":"IF('見積書(2号)'!M849=\"\",\"\",'見積書(2号)'!M849)","v":""},null,"","",null,"",""]
[{"$f":"IF('見積書(2号)'!A850=\"\",\"\",'見積書(2号)'!A850)","v":""},{"$f":"IF('見積書(2号)'!B850=\"\",\"\",'見積書(2号)'!B850)","v":""},{"$f":"IF('見積書(2号)'!C850=\"\",\"\",'見積書(2号)'!C850)","v":""},{"$f":"IF('見積書(2号)'!H850=\"\",\"\",'見積書(2号)'!H850)","v":""},{"$f":"IF('見積書(2号)'!E850=\"\",\"\",'見積書(2号)'!E850)","v":""},{"$f":"IF('見積書(2号)'!I850=\"\",\"\",'見積書(2号)'!I850)","v":""},{"$f":"IF('見積書(2号)'!J850=\"\",\"\",'見積書(2号)'!J850)","v":""},{"$f":"IF('見積書(2号)'!K850=\"\",\"\",'見積書(2号)'!K850)","v":""},{"$f":"IF('見積書(2号)'!L850=\"\",\"\",'見積書(2号)'!L850)","v":""},{"$f":"IF('見積書(2号)'!M850=\"\",\"\",'見積書(2号)'!M850)","v":""},null,"","",null,"",""]
[{"$f":"IF('見積書(2号)'!A851=\"\",\"\",'見積書(2号)'!A851)","v":""},{"$f":"IF('見積書(2号)'!B851=\"\",\"\",'見積書(2号)'!B851)","v":""},{"$f":"IF('見積書(2号)'!C851=\"\",\"\",'見積書(2号)'!C851)","v":""},{"$f":"IF('見積書(2号)'!H851=\"\",\"\",'見積書(2号)'!H851)","v":""},{"$f":"IF('見積書(2号)'!E851=\"\",\"\",'見積書(2号)'!E851)","v":""},{"$f":"IF('見積書(2号)'!I851=\"\",\"\",'見積書(2号)'!I851)","v":""},{"$f":"IF('見積書(2号)'!J851=\"\",\"\",'見積書(2号)'!J851)","v":""},{"$f":"IF('見積書(2号)'!K851=\"\",\"\",'見積書(2号)'!K851)","v":""},{"$f":"IF('見積書(2号)'!L851=\"\",\"\",'見積書(2号)'!L851)","v":""},{"$f":"IF('見積書(2号)'!M851=\"\",\"\",'見積書(2号)'!M851)","v":""},null,"","",null,"",""]
[{"$f":"IF('見積書(2号)'!A852=\"\",\"\",'見積書(2号)'!A852)","v":""},{"$f":"IF('見積書(2号)'!B852=\"\",\"\",'見積書(2号)'!B852)","v":""},{"$f":"IF('見積書(2号)'!C852=\"\",\"\",'見積書(2号)'!C852)","v":""},{"$f":"IF('見積書(2号)'!H852=\"\",\"\",'見積書(2号)'!H852)","v":""},{"$f":"IF('見積書(2号)'!E852=\"\",\"\",'見積書(2号)'!E852)","v":""},{"$f":"IF('見積書(2号)'!I852=\"\",\"\",'見積書(2号)'!I852)","v":""},{"$f":"IF('見積書(2号)'!J852=\"\",\"\",'見積書(2号)'!J852)","v":""},{"$f":"IF('見積書(2号)'!K852=\"\",\"\",'見積書(2号)'!K852)","v":""},{"$f":"IF('見積書(2号)'!L852=\"\",\"\",'見積書(2号)'!L852)","v":""},{"$f":"IF('見積書(2号)'!M852=\"\",\"\",'見積書(2号)'!M852)","v":""},null,"","",null,"",""]
[{"$f":"IF('見積書(2号)'!A853=\"\",\"\",'見積書(2号)'!A853)","v":""},{"$f":"IF('見積書(2号)'!B853=\"\",\"\",'見積書(2号)'!B853)","v":""},{"$f":"IF('見積書(2号)'!C853=\"\",\"\",'見積書(2号)'!C853)","v":""},{"$f":"IF('見積書(2号)'!H853=\"\",\"\",'見積書(2号)'!H853)","v":""},{"$f":"IF('見積書(2号)'!E853=\"\",\"\",'見積書(2号)'!E853)","v":""},{"$f":"IF('見積書(2号)'!I853=\"\",\"\",'見積書(2号)'!I853)","v":""},{"$f":"IF('見積書(2号)'!J853=\"\",\"\",'見積書(2号)'!J853)","v":""},{"$f":"IF('見積書(2号)'!K853=\"\",\"\",'見積書(2号)'!K853)","v":""},{"$f":"IF('見積書(2号)'!L853=\"\",\"\",'見積書(2号)'!L853)","v":""},{"$f":"IF('見積書(2号)'!M853=\"\",\"\",'見積書(2号)'!M853)","v":""},null,"","",null,"",""]
[{"$f":"IF('見積書(2号)'!A854=\"\",\"\",'見積書(2号)'!A854)","v":""},{"$f":"IF('見積書(2号)'!B854=\"\",\"\",'見積書(2号)'!B854)","v":""},{"$f":"IF('見積書(2号)'!C854=\"\",\"\",'見積書(2号)'!C854)","v":""},{"$f":"IF('見積書(2号)'!H854=\"\",\"\",'見積書(2号)'!H854)","v":""},{"$f":"IF('見積書(2号)'!E854=\"\",\"\",'見積書(2号)'!E854)","v":""},{"$f":"IF('見積書(2号)'!I854=\"\",\"\",'見積書(2号)'!I854)","v":""},{"$f":"IF('見積書(2号)'!J854=\"\",\"\",'見積書(2号)'!J854)","v":""},{"$f":"IF('見積書(2号)'!K854=\"\",\"\",'見積書(2号)'!K854)","v":""},{"$f":"IF('見積書(2号)'!L854=\"\",\"\",'見積書(2号)'!L854)","v":""},{"$f":"IF('見積書(2号)'!M854=\"\",\"\",'見積書(2号)'!M854)","v":""},null,"","",null,"",""]
[{"$f":"IF('見積書(2号)'!A855=\"\",\"\",'見積書(2号)'!A855)","v":""},{"$f":"IF('見積書(2号)'!B855=\"\",\"\",'見積書(2号)'!B855)","v":""},{"$f":"IF('見積書(2号)'!C855=\"\",\"\",'見積書(2号)'!C855)","v":""},{"$f":"IF('見積書(2号)'!H855=\"\",\"\",'見積書(2号)'!H855)","v":""},{"$f":"IF('見積書(2号)'!E855=\"\",\"\",'見積書(2号)'!E855)","v":""},{"$f":"IF('見積書(2号)'!I855=\"\",\"\",'見積書(2号)'!I855)","v":""},{"$f":"IF('見積書(2号)'!J855=\"\",\"\",'見積書(2号)'!J855)","v":""},{"$f":"IF('見積書(2号)'!K855=\"\",\"\",'見積書(2号)'!K855)","v":""},{"$f":"IF('見積書(2号)'!L855=\"\",\"\",'見積書(2号)'!L855)","v":""},{"$f":"IF('見積書(2号)'!M855=\"\",\"\",'見積書(2号)'!M855)","v":""},null,"","",null,"",""]
[{"$f":"IF('見積書(2号)'!A856=\"\",\"\",'見積書(2号)'!A856)","v":""},{"$f":"IF('見積書(2号)'!B856=\"\",\"\",'見積書(2号)'!B856)","v":""},{"$f":"IF('見積書(2号)'!C856=\"\",\"\",'見積書(2号)'!C856)","v":""},{"$f":"IF('見積書(2号)'!H856=\"\",\"\",'見積書(2号)'!H856)","v":""},{"$f":"IF('見積書(2号)'!E856=\"\",\"\",'見積書(2号)'!E856)","v":""},{"$f":"IF('見積書(2号)'!I856=\"\",\"\",'見積書(2号)'!I856)","v":""},{"$f":"IF('見積書(2号)'!J856=\"\",\"\",'見積書(2号)'!J856)","v":""},{"$f":"IF('見積書(2号)'!K856=\"\",\"\",'見積書(2号)'!K856)","v":""},{"$f":"IF('見積書(2号)'!L856=\"\",\"\",'見積書(2号)'!L856)","v":""},{"$f":"IF('見積書(2号)'!M856=\"\",\"\",'見積書(2号)'!M856)","v":""},null,"","",null,"",""]
[{"$f":"IF('見積書(2号)'!A857=\"\",\"\",'見積書(2号)'!A857)","v":""},{"$f":"IF('見積書(2号)'!B857=\"\",\"\",'見積書(2号)'!B857)","v":""},{"$f":"IF('見積書(2号)'!C857=\"\",\"\",'見積書(2号)'!C857)","v":""},{"$f":"IF('見積書(2号)'!H857=\"\",\"\",'見積書(2号)'!H857)","v":""},{"$f":"IF('見積書(2号)'!E857=\"\",\"\",'見積書(2号)'!E857)","v":""},{"$f":"IF('見積書(2号)'!I857=\"\",\"\",'見積書(2号)'!I857)","v":""},{"$f":"IF('見積書(2号)'!J857=\"\",\"\",'見積書(2号)'!J857)","v":""},{"$f":"IF('見積書(2号)'!K857=\"\",\"\",'見積書(2号)'!K857)","v":""},{"$f":"IF('見積書(2号)'!L857=\"\",\"\",'見積書(2号)'!L857)","v":""},{"$f":"IF('見積書(2号)'!M857=\"\",\"\",'見積書(2号)'!M857)","v":""},null,"","",null,"",""]
[{"$f":"IF('見積書(2号)'!A858=\"\",\"\",'見積書(2号)'!A858)","v":""},{"$f":"IF('見積書(2号)'!B858=\"\",\"\",'見積書(2号)'!B858)","v":""},{"$f":"IF('見積書(2号)'!C858=\"\",\"\",'見積書(2号)'!C858)","v":""},{"$f":"IF('見積書(2号)'!H858=\"\",\"\",'見積書(2号)'!H858)","v":""},{"$f":"IF('見積書(2号)'!E858=\"\",\"\",'見積書(2号)'!E858)","v":""},{"$f":"IF('見積書(2号)'!I858=\"\",\"\",'見積書(2号)'!I858)","v":""},{"$f":"IF('見積書(2号)'!J858=\"\",\"\",'見積書(2号)'!J858)","v":""},{"$f":"IF('見積書(2号)'!K858=\"\",\"\",'見積書(2号)'!K858)","v":""},{"$f":"IF('見積書(2号)'!L858=\"\",\"\",'見積書(2号)'!L858)","v":""},{"$f":"IF('見積書(2号)'!M858=\"\",\"\",'見積書(2号)'!M858)","v":""},null,"","",null,"",""]
[{"$f":"IF('見積書(2号)'!A859=\"\",\"\",'見積書(2号)'!A859)","v":""},{"$f":"IF('見積書(2号)'!B859=\"\",\"\",'見積書(2号)'!B859)","v":""},{"$f":"IF('見積書(2号)'!C859=\"\",\"\",'見積書(2号)'!C859)","v":""},{"$f":"IF('見積書(2号)'!H859=\"\",\"\",'見積書(2号)'!H859)","v":""},{"$f":"IF('見積書(2号)'!E859=\"\",\"\",'見積書(2号)'!E859)","v":""},{"$f":"IF('見積書(2号)'!I859=\"\",\"\",'見積書(2号)'!I859)","v":""},{"$f":"IF('見積書(2号)'!J859=\"\",\"\",'見積書(2号)'!J859)","v":""},{"$f":"IF('見積書(2号)'!K859=\"\",\"\",'見積書(2号)'!K859)","v":""},{"$f":"IF('見積書(2号)'!L859=\"\",\"\",'見積書(2号)'!L859)","v":""},{"$f":"IF('見積書(2号)'!M859=\"\",\"\",'見積書(2号)'!M859)","v":""},null,"","",null,"",""]
[{"$f":"IF('見積書(2号)'!A860=\"\",\"\",'見積書(2号)'!A860)","v":""},{"$f":"IF('見積書(2号)'!B860=\"\",\"\",'見積書(2号)'!B860)","v":""},{"$f":"IF('見積書(2号)'!C860=\"\",\"\",'見積書(2号)'!C860)","v":""},{"$f":"IF('見積書(2号)'!H860=\"\",\"\",'見積書(2号)'!H860)","v":""},{"$f":"IF('見積書(2号)'!E860=\"\",\"\",'見積書(2号)'!E860)","v":""},{"$f":"IF('見積書(2号)'!I860=\"\",\"\",'見積書(2号)'!I860)","v":""},{"$f":"IF('見積書(2号)'!J860=\"\",\"\",'見積書(2号)'!J860)","v":""},{"$f":"IF('見積書(2号)'!K860=\"\",\"\",'見積書(2号)'!K860)","v":""},{"$f":"IF('見積書(2号)'!L860=\"\",\"\",'見積書(2号)'!L860)","v":""},{"$f":"IF('見積書(2号)'!M860=\"\",\"\",'見積書(2号)'!M860)","v":""},null,"","",null,"",""]
[{"$f":"IF('見積書(2号)'!A861=\"\",\"\",'見積書(2号)'!A861)","v":""},{"$f":"IF('見積書(2号)'!B861=\"\",\"\",'見積書(2号)'!B861)","v":""},{"$f":"IF('見積書(2号)'!C861=\"\",\"\",'見積書(2号)'!C861)","v":""},{"$f":"IF('見積書(2号)'!H861=\"\",\"\",'見積書(2号)'!H861)","v":""},{"$f":"IF('見積書(2号)'!E861=\"\",\"\",'見積書(2号)'!E861)","v":""},{"$f":"IF('見積書(2号)'!I861=\"\",\"\",'見積書(2号)'!I861)","v":""},{"$f":"IF('見積書(2号)'!J861=\"\",\"\",'見積書(2号)'!J861)","v":""},{"$f":"IF('見積書(2号)'!K861=\"\",\"\",'見積書(2号)'!K861)","v":""},{"$f":"IF('見積書(2号)'!L861=\"\",\"\",'見積書(2号)'!L861)","v":""},{"$f":"IF('見積書(2号)'!M861=\"\",\"\",'見積書(2号)'!M861)","v":""},null,"","",null,"",""]
[{"$f":"IF('見積書(2号)'!A862=\"\",\"\",'見積書(2号)'!A862)","v":""},{"$f":"IF('見積書(2号)'!B862=\"\",\"\",'見積書(2号)'!B862)","v":""},{"$f":"IF('見積書(2号)'!C862=\"\",\"\",'見積書(2号)'!C862)","v":""},{"$f":"IF('見積書(2号)'!H862=\"\",\"\",'見積書(2号)'!H862)","v":""},{"$f":"IF('見積書(2号)'!E862=\"\",\"\",'見積書(2号)'!E862)","v":""},{"$f":"IF('見積書(2号)'!I862=\"\",\"\",'見積書(2号)'!I862)","v":""},{"$f":"IF('見積書(2号)'!J862=\"\",\"\",'見積書(2号)'!J862)","v":""},{"$f":"IF('見積書(2号)'!K862=\"\",\"\",'見積書(2号)'!K862)","v":""},{"$f":"IF('見積書(2号)'!L862=\"\",\"\",'見積書(2号)'!L862)","v":""},{"$f":"IF('見積書(2号)'!M862=\"\",\"\",'見積書(2号)'!M862)","v":""},null,"","",null,"",""]
[{"$f":"IF('見積書(2号)'!A863=\"\",\"\",'見積書(2号)'!A863)","v":""},{"$f":"IF('見積書(2号)'!B863=\"\",\"\",'見積書(2号)'!B863)","v":""},{"$f":"IF('見積書(2号)'!C863=\"\",\"\",'見積書(2号)'!C863)","v":""},{"$f":"IF('見積書(2号)'!H863=\"\",\"\",'見積書(2号)'!H863)","v":""},{"$f":"IF('見積書(2号)'!E863=\"\",\"\",'見積書(2号)'!E863)","v":""},{"$f":"IF('見積書(2号)'!I863=\"\",\"\",'見積書(2号)'!I863)","v":""},{"$f":"IF('見積書(2号)'!J863=\"\",\"\",'見積書(2号)'!J863)","v":""},{"$f":"IF('見積書(2号)'!K863=\"\",\"\",'見積書(2号)'!K863)","v":""},{"$f":"IF('見積書(2号)'!L863=\"\",\"\",'見積書(2号)'!L863)","v":""},{"$f":"IF('見積書(2号)'!M863=\"\",\"\",'見積書(2号)'!M863)","v":""},null,"","",null,"",""]
[{"$f":"IF('見積書(2号)'!A864=\"\",\"\",'見積書(2号)'!A864)","v":""},{"$f":"IF('見積書(2号)'!B864=\"\",\"\",'見積書(2号)'!B864)","v":""},{"$f":"IF('見積書(2号)'!C864=\"\",\"\",'見積書(2号)'!C864)","v":""},{"$f":"IF('見積書(2号)'!H864=\"\",\"\",'見積書(2号)'!H864)","v":""},{"$f":"IF('見積書(2号)'!E864=\"\",\"\",'見積書(2号)'!E864)","v":""},{"$f":"IF('見積書(2号)'!I864=\"\",\"\",'見積書(2号)'!I864)","v":""},{"$f":"IF('見積書(2号)'!J864=\"\",\"\",'見積書(2号)'!J864)","v":""},{"$f":"IF('見積書(2号)'!K864=\"\",\"\",'見積書(2号)'!K864)","v":""},{"$f":"IF('見積書(2号)'!L864=\"\",\"\",'見積書(2号)'!L864)","v":""},{"$f":"IF('見積書(2号)'!M864=\"\",\"\",'見積書(2号)'!M864)","v":""},null,"","",null,"",""]
[{"$f":"IF('見積書(2号)'!A865=\"\",\"\",'見積書(2号)'!A865)","v":""},{"$f":"IF('見積書(2号)'!B865=\"\",\"\",'見積書(2号)'!B865)","v":""},{"$f":"IF('見積書(2号)'!C865=\"\",\"\",'見積書(2号)'!C865)","v":""},{"$f":"IF('見積書(2号)'!H865=\"\",\"\",'見積書(2号)'!H865)","v":""},{"$f":"IF('見積書(2号)'!E865=\"\",\"\",'見積書(2号)'!E865)","v":""},{"$f":"IF('見積書(2号)'!I865=\"\",\"\",'見積書(2号)'!I865)","v":""},{"$f":"IF('見積書(2号)'!J865=\"\",\"\",'見積書(2号)'!J865)","v":""},{"$f":"IF('見積書(2号)'!K865=\"\",\"\",'見積書(2号)'!K865)","v":""},{"$f":"IF('見積書(2号)'!L865=\"\",\"\",'見積書(2号)'!L865)","v":""},{"$f":"IF('見積書(2号)'!M865=\"\",\"\",'見積書(2号)'!M865)","v":""},null,"","",null,"",""]
[{"$f":"IF('見積書(2号)'!A866=\"\",\"\",'見積書(2号)'!A866)","v":""},{"$f":"IF('見積書(2号)'!B866=\"\",\"\",'見積書(2号)'!B866)","v":""},{"$f":"IF('見積書(2号)'!C866=\"\",\"\",'見積書(2号)'!C866)","v":""},{"$f":"IF('見積書(2号)'!H866=\"\",\"\",'見積書(2号)'!H866)","v":""},{"$f":"IF('見積書(2号)'!E866=\"\",\"\",'見積書(2号)'!E866)","v":""},{"$f":"IF('見積書(2号)'!I866=\"\",\"\",'見積書(2号)'!I866)","v":""},{"$f":"IF('見積書(2号)'!J866=\"\",\"\",'見積書(2号)'!J866)","v":""},{"$f":"IF('見積書(2号)'!K866=\"\",\"\",'見積書(2号)'!K866)","v":""},{"$f":"IF('見積書(2号)'!L866=\"\",\"\",'見積書(2号)'!L866)","v":""},{"$f":"IF('見積書(2号)'!M866=\"\",\"\",'見積書(2号)'!M866)","v":""},null,"","",null,"",""]
[{"$f":"IF('見積書(2号)'!A867=\"\",\"\",'見積書(2号)'!A867)","v":""},{"$f":"IF('見積書(2号)'!B867=\"\",\"\",'見積書(2号)'!B867)","v":""},{"$f":"IF('見積書(2号)'!C867=\"\",\"\",'見積書(2号)'!C867)","v":""},{"$f":"IF('見積書(2号)'!H867=\"\",\"\",'見積書(2号)'!H867)","v":""},{"$f":"IF('見積書(2号)'!E867=\"\",\"\",'見積書(2号)'!E867)","v":""},{"$f":"IF('見積書(2号)'!I867=\"\",\"\",'見積書(2号)'!I867)","v":""},{"$f":"IF('見積書(2号)'!J867=\"\",\"\",'見積書(2号)'!J867)","v":""},{"$f":"IF('見積書(2号)'!K867=\"\",\"\",'見積書(2号)'!K867)","v":""},{"$f":"IF('見積書(2号)'!L867=\"\",\"\",'見積書(2号)'!L867)","v":""},{"$f":"IF('見積書(2号)'!M867=\"\",\"\",'見積書(2号)'!M867)","v":""},null,"","",null,"",""]
[{"$f":"IF('見積書(2号)'!A868=\"\",\"\",'見積書(2号)'!A868)","v":""},{"$f":"IF('見積書(2号)'!B868=\"\",\"\",'見積書(2号)'!B868)","v":""},{"$f":"IF('見積書(2号)'!C868=\"\",\"\",'見積書(2号)'!C868)","v":""},{"$f":"IF('見積書(2号)'!H868=\"\",\"\",'見積書(2号)'!H868)","v":""},{"$f":"IF('見積書(2号)'!E868=\"\",\"\",'見積書(2号)'!E868)","v":""},{"$f":"IF('見積書(2号)'!I868=\"\",\"\",'見積書(2号)'!I868)","v":""},{"$f":"IF('見積書(2号)'!J868=\"\",\"\",'見積書(2号)'!J868)","v":""},{"$f":"IF('見積書(2号)'!K868=\"\",\"\",'見積書(2号)'!K868)","v":""},{"$f":"IF('見積書(2号)'!L868=\"\",\"\",'見積書(2号)'!L868)","v":""},{"$f":"IF('見積書(2号)'!M868=\"\",\"\",'見積書(2号)'!M868)","v":""},null,"","",null,"",""]
[{"$f":"IF('見積書(2号)'!A869=\"\",\"\",'見積書(2号)'!A869)","v":""},{"$f":"IF('見積書(2号)'!B869=\"\",\"\",'見積書(2号)'!B869)","v":""},{"$f":"IF('見積書(2号)'!C869=\"\",\"\",'見積書(2号)'!C869)","v":""},{"$f":"IF('見積書(2号)'!H869=\"\",\"\",'見積書(2号)'!H869)","v":""},{"$f":"IF('見積書(2号)'!E869=\"\",\"\",'見積書(2号)'!E869)","v":""},{"$f":"IF('見積書(2号)'!I869=\"\",\"\",'見積書(2号)'!I869)","v":""},{"$f":"IF('見積書(2号)'!J869=\"\",\"\",'見積書(2号)'!J869)","v":""},{"$f":"IF('見積書(2号)'!K869=\"\",\"\",'見積書(2号)'!K869)","v":""},{"$f":"IF('見積書(2号)'!L869=\"\",\"\",'見積書(2号)'!L869)","v":""},{"$f":"IF('見積書(2号)'!M869=\"\",\"\",'見積書(2号)'!M869)","v":""},null,"","",null,"",""]
[{"$f":"IF('見積書(2号)'!A870=\"\",\"\",'見積書(2号)'!A870)","v":""},{"$f":"IF('見積書(2号)'!B870=\"\",\"\",'見積書(2号)'!B870)","v":""},{"$f":"IF('見積書(2号)'!C870=\"\",\"\",'見積書(2号)'!C870)","v":""},{"$f":"IF('見積書(2号)'!H870=\"\",\"\",'見積書(2号)'!H870)","v":""},{"$f":"IF('見積書(2号)'!E870=\"\",\"\",'見積書(2号)'!E870)","v":""},{"$f":"IF('見積書(2号)'!I870=\"\",\"\",'見積書(2号)'!I870)","v":""},{"$f":"IF('見積書(2号)'!J870=\"\",\"\",'見積書(2号)'!J870)","v":""},{"$f":"IF('見積書(2号)'!K870=\"\",\"\",'見積書(2号)'!K870)","v":""},{"$f":"IF('見積書(2号)'!L870=\"\",\"\",'見積書(2号)'!L870)","v":""},{"$f":"IF('見積書(2号)'!M870=\"\",\"\",'見積書(2号)'!M870)","v":""},null,"","",null,"",""]
[{"$f":"IF('見積書(2号)'!A871=\"\",\"\",'見積書(2号)'!A871)","v":""},{"$f":"IF('見積書(2号)'!B871=\"\",\"\",'見積書(2号)'!B871)","v":""},{"$f":"IF('見積書(2号)'!C871=\"\",\"\",'見積書(2号)'!C871)","v":""},{"$f":"IF('見積書(2号)'!H871=\"\",\"\",'見積書(2号)'!H871)","v":""},{"$f":"IF('見積書(2号)'!E871=\"\",\"\",'見積書(2号)'!E871)","v":""},{"$f":"IF('見積書(2号)'!I871=\"\",\"\",'見積書(2号)'!I871)","v":""},{"$f":"IF('見積書(2号)'!J871=\"\",\"\",'見積書(2号)'!J871)","v":""},{"$f":"IF('見積書(2号)'!K871=\"\",\"\",'見積書(2号)'!K871)","v":""},{"$f":"IF('見積書(2号)'!L871=\"\",\"\",'見積書(2号)'!L871)","v":""},{"$f":"IF('見積書(2号)'!M871=\"\",\"\",'見積書(2号)'!M871)","v":""},null,"","",null,"",""]
[{"$f":"IF('見積書(2号)'!A872=\"\",\"\",'見積書(2号)'!A872)","v":""},{"$f":"IF('見積書(2号)'!B872=\"\",\"\",'見積書(2号)'!B872)","v":""},{"$f":"IF('見積書(2号)'!C872=\"\",\"\",'見積書(2号)'!C872)","v":""},{"$f":"IF('見積書(2号)'!H872=\"\",\"\",'見積書(2号)'!H872)","v":""},{"$f":"IF('見積書(2号)'!E872=\"\",\"\",'見積書(2号)'!E872)","v":""},{"$f":"IF('見積書(2号)'!I872=\"\",\"\",'見積書(2号)'!I872)","v":""},{"$f":"IF('見積書(2号)'!J872=\"\",\"\",'見積書(2号)'!J872)","v":""},{"$f":"IF('見積書(2号)'!K872=\"\",\"\",'見積書(2号)'!K872)","v":""},{"$f":"IF('見積書(2号)'!L872=\"\",\"\",'見積書(2号)'!L872)","v":""},{"$f":"IF('見積書(2号)'!M872=\"\",\"\",'見積書(2号)'!M872)","v":""},null,"","",null,"",""]
[{"$f":"IF('見積書(2号)'!A873=\"\",\"\",'見積書(2号)'!A873)","v":""},{"$f":"IF('見積書(2号)'!B873=\"\",\"\",'見積書(2号)'!B873)","v":""},{"$f":"IF('見積書(2号)'!C873=\"\",\"\",'見積書(2号)'!C873)","v":""},{"$f":"IF('見積書(2号)'!H873=\"\",\"\",'見積書(2号)'!H873)","v":""},{"$f":"IF('見積書(2号)'!E873=\"\",\"\",'見積書(2号)'!E873)","v":""},{"$f":"IF('見積書(2号)'!I873=\"\",\"\",'見積書(2号)'!I873)","v":""},{"$f":"IF('見積書(2号)'!J873=\"\",\"\",'見積書(2号)'!J873)","v":""},{"$f":"IF('見積書(2号)'!K873=\"\",\"\",'見積書(2号)'!K873)","v":""},{"$f":"IF('見積書(2号)'!L873=\"\",\"\",'見積書(2号)'!L873)","v":""},{"$f":"IF('見積書(2号)'!M873=\"\",\"\",'見積書(2号)'!M873)","v":""},null,"","",null,"",""]
[{"$f":"IF('見積書(2号)'!A874=\"\",\"\",'見積書(2号)'!A874)","v":""},{"$f":"IF('見積書(2号)'!B874=\"\",\"\",'見積書(2号)'!B874)","v":""},{"$f":"IF('見積書(2号)'!C874=\"\",\"\",'見積書(2号)'!C874)","v":""},{"$f":"IF('見積書(2号)'!H874=\"\",\"\",'見積書(2号)'!H874)","v":""},{"$f":"IF('見積書(2号)'!E874=\"\",\"\",'見積書(2号)'!E874)","v":""},{"$f":"IF('見積書(2号)'!I874=\"\",\"\",'見積書(2号)'!I874)","v":""},{"$f":"IF('見積書(2号)'!J874=\"\",\"\",'見積書(2号)'!J874)","v":""},{"$f":"IF('見積書(2号)'!K874=\"\",\"\",'見積書(2号)'!K874)","v":""},{"$f":"IF('見積書(2号)'!L874=\"\",\"\",'見積書(2号)'!L874)","v":""},{"$f":"IF('見積書(2号)'!M874=\"\",\"\",'見積書(2号)'!M874)","v":""},null,"","",null,"",""]
[{"$f":"IF('見積書(2号)'!A875=\"\",\"\",'見積書(2号)'!A875)","v":""},{"$f":"IF('見積書(2号)'!B875=\"\",\"\",'見積書(2号)'!B875)","v":""},{"$f":"IF('見積書(2号)'!C875=\"\",\"\",'見積書(2号)'!C875)","v":""},{"$f":"IF('見積書(2号)'!H875=\"\",\"\",'見積書(2号)'!H875)","v":""},{"$f":"IF('見積書(2号)'!E875=\"\",\"\",'見積書(2号)'!E875)","v":""},{"$f":"IF('見積書(2号)'!I875=\"\",\"\",'見積書(2号)'!I875)","v":""},{"$f":"IF('見積書(2号)'!J875=\"\",\"\",'見積書(2号)'!J875)","v":""},{"$f":"IF('見積書(2号)'!K875=\"\",\"\",'見積書(2号)'!K875)","v":""},{"$f":"IF('見積書(2号)'!L875=\"\",\"\",'見積書(2号)'!L875)","v":""},{"$f":"IF('見積書(2号)'!M875=\"\",\"\",'見積書(2号)'!M875)","v":""},null,"","",null,"",""]
[{"$f":"IF('見積書(2号)'!A876=\"\",\"\",'見積書(2号)'!A876)","v":""},{"$f":"IF('見積書(2号)'!B876=\"\",\"\",'見積書(2号)'!B876)","v":""},{"$f":"IF('見積書(2号)'!C876=\"\",\"\",'見積書(2号)'!C876)","v":""},{"$f":"IF('見積書(2号)'!H876=\"\",\"\",'見積書(2号)'!H876)","v":""},{"$f":"IF('見積書(2号)'!E876=\"\",\"\",'見積書(2号)'!E876)","v":""},{"$f":"IF('見積書(2号)'!I876=\"\",\"\",'見積書(2号)'!I876)","v":""},{"$f":"IF('見積書(2号)'!J876=\"\",\"\",'見積書(2号)'!J876)","v":""},{"$f":"IF('見積書(2号)'!K876=\"\",\"\",'見積書(2号)'!K876)","v":""},{"$f":"IF('見積書(2号)'!L876=\"\",\"\",'見積書(2号)'!L876)","v":""},{"$f":"IF('見積書(2号)'!M876=\"\",\"\",'見積書(2号)'!M876)","v":""},null,"","",null,"",""]
[{"$f":"IF('見積書(2号)'!A877=\"\",\"\",'見積書(2号)'!A877)","v":""},{"$f":"IF('見積書(2号)'!B877=\"\",\"\",'見積書(2号)'!B877)","v":""},{"$f":"IF('見積書(2号)'!C877=\"\",\"\",'見積書(2号)'!C877)","v":""},{"$f":"IF('見積書(2号)'!H877=\"\",\"\",'見積書(2号)'!H877)","v":""},{"$f":"IF('見積書(2号)'!E877=\"\",\"\",'見積書(2号)'!E877)","v":""},{"$f":"IF('見積書(2号)'!I877=\"\",\"\",'見積書(2号)'!I877)","v":""},{"$f":"IF('見積書(2号)'!J877=\"\",\"\",'見積書(2号)'!J877)","v":""},{"$f":"IF('見積書(2号)'!K877=\"\",\"\",'見積書(2号)'!K877)","v":""},{"$f":"IF('見積書(2号)'!L877=\"\",\"\",'見積書(2号)'!L877)","v":""},{"$f":"IF('見積書(2号)'!M877=\"\",\"\",'見積書(2号)'!M877)","v":""},null,"","",null,"",""]
[{"$f":"IF('見積書(2号)'!A878=\"\",\"\",'見積書(2号)'!A878)","v":""},{"$f":"IF('見積書(2号)'!B878=\"\",\"\",'見積書(2号)'!B878)","v":""},{"$f":"IF('見積書(2号)'!C878=\"\",\"\",'見積書(2号)'!C878)","v":""},{"$f":"IF('見積書(2号)'!H878=\"\",\"\",'見積書(2号)'!H878)","v":""},{"$f":"IF('見積書(2号)'!E878=\"\",\"\",'見積書(2号)'!E878)","v":""},{"$f":"IF('見積書(2号)'!I878=\"\",\"\",'見積書(2号)'!I878)","v":""},{"$f":"IF('見積書(2号)'!J878=\"\",\"\",'見積書(2号)'!J878)","v":""},{"$f":"IF('見積書(2号)'!K878=\"\",\"\",'見積書(2号)'!K878)","v":""},{"$f":"IF('見積書(2号)'!L878=\"\",\"\",'見積書(2号)'!L878)","v":""},{"$f":"IF('見積書(2号)'!M878=\"\",\"\",'見積書(2号)'!M878)","v":""},null,"","",null,"",""]
[{"$f":"IF('見積書(2号)'!A879=\"\",\"\",'見積書(2号)'!A879)","v":""},{"$f":"IF('見積書(2号)'!B879=\"\",\"\",'見積書(2号)'!B879)","v":""},{"$f":"IF('見積書(2号)'!C879=\"\",\"\",'見積書(2号)'!C879)","v":""},{"$f":"IF('見積書(2号)'!H879=\"\",\"\",'見積書(2号)'!H879)","v":""},{"$f":"IF('見積書(2号)'!E879=\"\",\"\",'見積書(2号)'!E879)","v":""},{"$f":"IF('見積書(2号)'!I879=\"\",\"\",'見積書(2号)'!I879)","v":""},{"$f":"IF('見積書(2号)'!J879=\"\",\"\",'見積書(2号)'!J879)","v":""},{"$f":"IF('見積書(2号)'!K879=\"\",\"\",'見積書(2号)'!K879)","v":""},{"$f":"IF('見積書(2号)'!L879=\"\",\"\",'見積書(2号)'!L879)","v":""},{"$f":"IF('見積書(2号)'!M879=\"\",\"\",'見積書(2号)'!M879)","v":""},null,"","",null,"",""]
[{"$f":"IF('見積書(2号)'!A880=\"\",\"\",'見積書(2号)'!A880)","v":""},{"$f":"IF('見積書(2号)'!B880=\"\",\"\",'見積書(2号)'!B880)","v":""},{"$f":"IF('見積書(2号)'!C880=\"\",\"\",'見積書(2号)'!C880)","v":""},{"$f":"IF('見積書(2号)'!H880=\"\",\"\",'見積書(2号)'!H880)","v":""},{"$f":"IF('見積書(2号)'!E880=\"\",\"\",'見積書(2号)'!E880)","v":""},{"$f":"IF('見積書(2号)'!I880=\"\",\"\",'見積書(2号)'!I880)","v":""},{"$f":"IF('見積書(2号)'!J880=\"\",\"\",'見積書(2号)'!J880)","v":""},{"$f":"IF('見積書(2号)'!K880=\"\",\"\",'見積書(2号)'!K880)","v":""},{"$f":"IF('見積書(2号)'!L880=\"\",\"\",'見積書(2号)'!L880)","v":""},{"$f":"IF('見積書(2号)'!M880=\"\",\"\",'見積書(2号)'!M880)","v":""},null,"","",null,"",""]
[{"$f":"IF('見積書(2号)'!A881=\"\",\"\",'見積書(2号)'!A881)","v":""},{"$f":"IF('見積書(2号)'!B881=\"\",\"\",'見積書(2号)'!B881)","v":""},{"$f":"IF('見積書(2号)'!C881=\"\",\"\",'見積書(2号)'!C881)","v":""},{"$f":"IF('見積書(2号)'!H881=\"\",\"\",'見積書(2号)'!H881)","v":""},{"$f":"IF('見積書(2号)'!E881=\"\",\"\",'見積書(2号)'!E881)","v":""},{"$f":"IF('見積書(2号)'!I881=\"\",\"\",'見積書(2号)'!I881)","v":""},{"$f":"IF('見積書(2号)'!J881=\"\",\"\",'見積書(2号)'!J881)","v":""},{"$f":"IF('見積書(2号)'!K881=\"\",\"\",'見積書(2号)'!K881)","v":""},{"$f":"IF('見積書(2号)'!L881=\"\",\"\",'見積書(2号)'!L881)","v":""},{"$f":"IF('見積書(2号)'!M881=\"\",\"\",'見積書(2号)'!M881)","v":""},null,"","",null,"",""]
[{"$f":"IF('見積書(2号)'!A882=\"\",\"\",'見積書(2号)'!A882)","v":""},{"$f":"IF('見積書(2号)'!B882=\"\",\"\",'見積書(2号)'!B882)","v":""},{"$f":"IF('見積書(2号)'!C882=\"\",\"\",'見積書(2号)'!C882)","v":""},{"$f":"IF('見積書(2号)'!H882=\"\",\"\",'見積書(2号)'!H882)","v":""},{"$f":"IF('見積書(2号)'!E882=\"\",\"\",'見積書(2号)'!E882)","v":""},{"$f":"IF('見積書(2号)'!I882=\"\",\"\",'見積書(2号)'!I882)","v":""},{"$f":"IF('見積書(2号)'!J882=\"\",\"\",'見積書(2号)'!J882)","v":""},{"$f":"IF('見積書(2号)'!K882=\"\",\"\",'見積書(2号)'!K882)","v":""},{"$f":"IF('見積書(2号)'!L882=\"\",\"\",'見積書(2号)'!L882)","v":""},{"$f":"IF('見積書(2号)'!M882=\"\",\"\",'見積書(2号)'!M882)","v":""},null,"","",null,"",""]
[{"$f":"IF('見積書(2号)'!A883=\"\",\"\",'見積書(2号)'!A883)","v":""},{"$f":"IF('見積書(2号)'!B883=\"\",\"\",'見積書(2号)'!B883)","v":""},{"$f":"IF('見積書(2号)'!C883=\"\",\"\",'見積書(2号)'!C883)","v":""},{"$f":"IF('見積書(2号)'!H883=\"\",\"\",'見積書(2号)'!H883)","v":""},{"$f":"IF('見積書(2号)'!E883=\"\",\"\",'見積書(2号)'!E883)","v":""},{"$f":"IF('見積書(2号)'!I883=\"\",\"\",'見積書(2号)'!I883)","v":""},{"$f":"IF('見積書(2号)'!J883=\"\",\"\",'見積書(2号)'!J883)","v":""},{"$f":"IF('見積書(2号)'!K883=\"\",\"\",'見積書(2号)'!K883)","v":""},{"$f":"IF('見積書(2号)'!L883=\"\",\"\",'見積書(2号)'!L883)","v":""},{"$f":"IF('見積書(2号)'!M883=\"\",\"\",'見積書(2号)'!M883)","v":""},null,"","",null,"",""]
[{"$f":"IF('見積書(2号)'!A884=\"\",\"\",'見積書(2号)'!A884)","v":""},{"$f":"IF('見積書(2号)'!B884=\"\",\"\",'見積書(2号)'!B884)","v":""},{"$f":"IF('見積書(2号)'!C884=\"\",\"\",'見積書(2号)'!C884)","v":""},{"$f":"IF('見積書(2号)'!H884=\"\",\"\",'見積書(2号)'!H884)","v":""},{"$f":"IF('見積書(2号)'!E884=\"\",\"\",'見積書(2号)'!E884)","v":""},{"$f":"IF('見積書(2号)'!I884=\"\",\"\",'見積書(2号)'!I884)","v":""},{"$f":"IF('見積書(2号)'!J884=\"\",\"\",'見積書(2号)'!J884)","v":""},{"$f":"IF('見積書(2号)'!K884=\"\",\"\",'見積書(2号)'!K884)","v":""},{"$f":"IF('見積書(2号)'!L884=\"\",\"\",'見積書(2号)'!L884)","v":""},{"$f":"IF('見積書(2号)'!M884=\"\",\"\",'見積書(2号)'!M884)","v":""},null,"","",null,"",""]
[{"$f":"IF('見積書(2号)'!A885=\"\",\"\",'見積書(2号)'!A885)","v":""},{"$f":"IF('見積書(2号)'!B885=\"\",\"\",'見積書(2号)'!B885)","v":""},{"$f":"IF('見積書(2号)'!C885=\"\",\"\",'見積書(2号)'!C885)","v":""},{"$f":"IF('見積書(2号)'!H885=\"\",\"\",'見積書(2号)'!H885)","v":""},{"$f":"IF('見積書(2号)'!E885=\"\",\"\",'見積書(2号)'!E885)","v":""},{"$f":"IF('見積書(2号)'!I885=\"\",\"\",'見積書(2号)'!I885)","v":""},{"$f":"IF('見積書(2号)'!J885=\"\",\"\",'見積書(2号)'!J885)","v":""},{"$f":"IF('見積書(2号)'!K885=\"\",\"\",'見積書(2号)'!K885)","v":""},{"$f":"IF('見積書(2号)'!L885=\"\",\"\",'見積書(2号)'!L885)","v":""},{"$f":"IF('見積書(2号)'!M885=\"\",\"\",'見積書(2号)'!M885)","v":""},null,"","",null,"",""]
[{"$f":"IF('見積書(2号)'!A886=\"\",\"\",'見積書(2号)'!A886)","v":""},{"$f":"IF('見積書(2号)'!B886=\"\",\"\",'見積書(2号)'!B886)","v":""},{"$f":"IF('見積書(2号)'!C886=\"\",\"\",'見積書(2号)'!C886)","v":""},{"$f":"IF('見積書(2号)'!H886=\"\",\"\",'見積書(2号)'!H886)","v":""},{"$f":"IF('見積書(2号)'!E886=\"\",\"\",'見積書(2号)'!E886)","v":""},{"$f":"IF('見積書(2号)'!I886=\"\",\"\",'見積書(2号)'!I886)","v":""},{"$f":"IF('見積書(2号)'!J886=\"\",\"\",'見積書(2号)'!J886)","v":""},{"$f":"IF('見積書(2号)'!K886=\"\",\"\",'見積書(2号)'!K886)","v":""},{"$f":"IF('見積書(2号)'!L886=\"\",\"\",'見積書(2号)'!L886)","v":""},{"$f":"IF('見積書(2号)'!M886=\"\",\"\",'見積書(2号)'!M886)","v":""},null,"","",null,"",""]
[{"$f":"IF('見積書(2号)'!A887=\"\",\"\",'見積書(2号)'!A887)","v":""},{"$f":"IF('見積書(2号)'!B887=\"\",\"\",'見積書(2号)'!B887)","v":""},{"$f":"IF('見積書(2号)'!C887=\"\",\"\",'見積書(2号)'!C887)","v":""},{"$f":"IF('見積書(2号)'!H887=\"\",\"\",'見積書(2号)'!H887)","v":""},{"$f":"IF('見積書(2号)'!E887=\"\",\"\",'見積書(2号)'!E887)","v":""},{"$f":"IF('見積書(2号)'!I887=\"\",\"\",'見積書(2号)'!I887)","v":""},{"$f":"IF('見積書(2号)'!J887=\"\",\"\",'見積書(2号)'!J887)","v":""},{"$f":"IF('見積書(2号)'!K887=\"\",\"\",'見積書(2号)'!K887)","v":""},{"$f":"IF('見積書(2号)'!L887=\"\",\"\",'見積書(2号)'!L887)","v":""},{"$f":"IF('見積書(2号)'!M887=\"\",\"\",'見積書(2号)'!M887)","v":""},null,"","",null,"",""]
[{"$f":"IF('見積書(2号)'!A888=\"\",\"\",'見積書(2号)'!A888)","v":""},{"$f":"IF('見積書(2号)'!B888=\"\",\"\",'見積書(2号)'!B888)","v":""},{"$f":"IF('見積書(2号)'!C888=\"\",\"\",'見積書(2号)'!C888)","v":""},{"$f":"IF('見積書(2号)'!H888=\"\",\"\",'見積書(2号)'!H888)","v":""},{"$f":"IF('見積書(2号)'!E888=\"\",\"\",'見積書(2号)'!E888)","v":""},{"$f":"IF('見積書(2号)'!I888=\"\",\"\",'見積書(2号)'!I888)","v":""},{"$f":"IF('見積書(2号)'!J888=\"\",\"\",'見積書(2号)'!J888)","v":""},{"$f":"IF('見積書(2号)'!K888=\"\",\"\",'見積書(2号)'!K888)","v":""},{"$f":"IF('見積書(2号)'!L888=\"\",\"\",'見積書(2号)'!L888)","v":""},{"$f":"IF('見積書(2号)'!M888=\"\",\"\",'見積書(2号)'!M888)","v":""},null,"","",null,"",""]
[{"$f":"IF('見積書(2号)'!A889=\"\",\"\",'見積書(2号)'!A889)","v":""},{"$f":"IF('見積書(2号)'!B889=\"\",\"\",'見積書(2号)'!B889)","v":""},{"$f":"IF('見積書(2号)'!C889=\"\",\"\",'見積書(2号)'!C889)","v":""},{"$f":"IF('見積書(2号)'!H889=\"\",\"\",'見積書(2号)'!H889)","v":""},{"$f":"IF('見積書(2号)'!E889=\"\",\"\",'見積書(2号)'!E889)","v":""},{"$f":"IF('見積書(2号)'!I889=\"\",\"\",'見積書(2号)'!I889)","v":""},{"$f":"IF('見積書(2号)'!J889=\"\",\"\",'見積書(2号)'!J889)","v":""},{"$f":"IF('見積書(2号)'!K889=\"\",\"\",'見積書(2号)'!K889)","v":""},{"$f":"IF('見積書(2号)'!L889=\"\",\"\",'見積書(2号)'!L889)","v":""},{"$f":"IF('見積書(2号)'!M889=\"\",\"\",'見積書(2号)'!M889)","v":""},null,"","",null,"",""]
[{"$f":"IF('見積書(2号)'!A890=\"\",\"\",'見積書(2号)'!A890)","v":""},{"$f":"IF('見積書(2号)'!B890=\"\",\"\",'見積書(2号)'!B890)","v":""},{"$f":"IF('見積書(2号)'!C890=\"\",\"\",'見積書(2号)'!C890)","v":""},{"$f":"IF('見積書(2号)'!H890=\"\",\"\",'見積書(2号)'!H890)","v":""},{"$f":"IF('見積書(2号)'!E890=\"\",\"\",'見積書(2号)'!E890)","v":""},{"$f":"IF('見積書(2号)'!I890=\"\",\"\",'見積書(2号)'!I890)","v":""},{"$f":"IF('見積書(2号)'!J890=\"\",\"\",'見積書(2号)'!J890)","v":""},{"$f":"IF('見積書(2号)'!K890=\"\",\"\",'見積書(2号)'!K890)","v":""},{"$f":"IF('見積書(2号)'!L890=\"\",\"\",'見積書(2号)'!L890)","v":""},{"$f":"IF('見積書(2号)'!M890=\"\",\"\",'見積書(2号)'!M890)","v":""},null,"","",null,"",""]
[{"$f":"IF('見積書(2号)'!A891=\"\",\"\",'見積書(2号)'!A891)","v":""},{"$f":"IF('見積書(2号)'!B891=\"\",\"\",'見積書(2号)'!B891)","v":""},{"$f":"IF('見積書(2号)'!C891=\"\",\"\",'見積書(2号)'!C891)","v":""},{"$f":"IF('見積書(2号)'!H891=\"\",\"\",'見積書(2号)'!H891)","v":""},{"$f":"IF('見積書(2号)'!E891=\"\",\"\",'見積書(2号)'!E891)","v":""},{"$f":"IF('見積書(2号)'!I891=\"\",\"\",'見積書(2号)'!I891)","v":""},{"$f":"IF('見積書(2号)'!J891=\"\",\"\",'見積書(2号)'!J891)","v":""},{"$f":"IF('見積書(2号)'!K891=\"\",\"\",'見積書(2号)'!K891)","v":""},{"$f":"IF('見積書(2号)'!L891=\"\",\"\",'見積書(2号)'!L891)","v":""},{"$f":"IF('見積書(2号)'!M891=\"\",\"\",'見積書(2号)'!M891)","v":""},null,"","",null,"",""]
[{"$f":"IF('見積書(2号)'!A892=\"\",\"\",'見積書(2号)'!A892)","v":""},{"$f":"IF('見積書(2号)'!B892=\"\",\"\",'見積書(2号)'!B892)","v":""},{"$f":"IF('見積書(2号)'!C892=\"\",\"\",'見積書(2号)'!C892)","v":""},{"$f":"IF('見積書(2号)'!H892=\"\",\"\",'見積書(2号)'!H892)","v":""},{"$f":"IF('見積書(2号)'!E892=\"\",\"\",'見積書(2号)'!E892)","v":""},{"$f":"IF('見積書(2号)'!I892=\"\",\"\",'見積書(2号)'!I892)","v":""},{"$f":"IF('見積書(2号)'!J892=\"\",\"\",'見積書(2号)'!J892)","v":""},{"$f":"IF('見積書(2号)'!K892=\"\",\"\",'見積書(2号)'!K892)","v":""},{"$f":"IF('見積書(2号)'!L892=\"\",\"\",'見積書(2号)'!L892)","v":""},{"$f":"IF('見積書(2号)'!M892=\"\",\"\",'見積書(2号)'!M892)","v":""},null,"","",null,"",""]
[{"$f":"IF('見積書(2号)'!A893=\"\",\"\",'見積書(2号)'!A893)","v":""},{"$f":"IF('見積書(2号)'!B893=\"\",\"\",'見積書(2号)'!B893)","v":""},{"$f":"IF('見積書(2号)'!C893=\"\",\"\",'見積書(2号)'!C893)","v":""},{"$f":"IF('見積書(2号)'!H893=\"\",\"\",'見積書(2号)'!H893)","v":""},{"$f":"IF('見積書(2号)'!E893=\"\",\"\",'見積書(2号)'!E893)","v":""},{"$f":"IF('見積書(2号)'!I893=\"\",\"\",'見積書(2号)'!I893)","v":""},{"$f":"IF('見積書(2号)'!J893=\"\",\"\",'見積書(2号)'!J893)","v":""},{"$f":"IF('見積書(2号)'!K893=\"\",\"\",'見積書(2号)'!K893)","v":""},{"$f":"IF('見積書(2号)'!L893=\"\",\"\",'見積書(2号)'!L893)","v":""},{"$f":"IF('見積書(2号)'!M893=\"\",\"\",'見積書(2号)'!M893)","v":""},null,"","",null,"",""]
[{"$f":"IF('見積書(2号)'!A894=\"\",\"\",'見積書(2号)'!A894)","v":""},{"$f":"IF('見積書(2号)'!B894=\"\",\"\",'見積書(2号)'!B894)","v":""},{"$f":"IF('見積書(2号)'!C894=\"\",\"\",'見積書(2号)'!C894)","v":""},{"$f":"IF('見積書(2号)'!H894=\"\",\"\",'見積書(2号)'!H894)","v":""},{"$f":"IF('見積書(2号)'!E894=\"\",\"\",'見積書(2号)'!E894)","v":""},{"$f":"IF('見積書(2号)'!I894=\"\",\"\",'見積書(2号)'!I894)","v":""},{"$f":"IF('見積書(2号)'!J894=\"\",\"\",'見積書(2号)'!J894)","v":""},{"$f":"IF('見積書(2号)'!K894=\"\",\"\",'見積書(2号)'!K894)","v":""},{"$f":"IF('見積書(2号)'!L894=\"\",\"\",'見積書(2号)'!L894)","v":""},{"$f":"IF('見積書(2号)'!M894=\"\",\"\",'見積書(2号)'!M894)","v":""},null,"","",null,"",""]
[{"$f":"IF('見積書(2号)'!A895=\"\",\"\",'見積書(2号)'!A895)","v":""},{"$f":"IF('見積書(2号)'!B895=\"\",\"\",'見積書(2号)'!B895)","v":""},{"$f":"IF('見積書(2号)'!C895=\"\",\"\",'見積書(2号)'!C895)","v":""},{"$f":"IF('見積書(2号)'!H895=\"\",\"\",'見積書(2号)'!H895)","v":""},{"$f":"IF('見積書(2号)'!E895=\"\",\"\",'見積書(2号)'!E895)","v":""},{"$f":"IF('見積書(2号)'!I895=\"\",\"\",'見積書(2号)'!I895)","v":""},{"$f":"IF('見積書(2号)'!J895=\"\",\"\",'見積書(2号)'!J895)","v":""},{"$f":"IF('見積書(2号)'!K895=\"\",\"\",'見積書(2号)'!K895)","v":""},{"$f":"IF('見積書(2号)'!L895=\"\",\"\",'見積書(2号)'!L895)","v":""},{"$f":"IF('見積書(2号)'!M895=\"\",\"\",'見積書(2号)'!M895)","v":""},null,"","",null,"",""]
[{"$f":"IF('見積書(2号)'!A896=\"\",\"\",'見積書(2号)'!A896)","v":""},{"$f":"IF('見積書(2号)'!B896=\"\",\"\",'見積書(2号)'!B896)","v":""},{"$f":"IF('見積書(2号)'!C896=\"\",\"\",'見積書(2号)'!C896)","v":""},{"$f":"IF('見積書(2号)'!H896=\"\",\"\",'見積書(2号)'!H896)","v":""},{"$f":"IF('見積書(2号)'!E896=\"\",\"\",'見積書(2号)'!E896)","v":""},{"$f":"IF('見積書(2号)'!I896=\"\",\"\",'見積書(2号)'!I896)","v":""},{"$f":"IF('見積書(2号)'!J896=\"\",\"\",'見積書(2号)'!J896)","v":""},{"$f":"IF('見積書(2号)'!K896=\"\",\"\",'見積書(2号)'!K896)","v":""},{"$f":"IF('見積書(2号)'!L896=\"\",\"\",'見積書(2号)'!L896)","v":""},{"$f":"IF('見積書(2号)'!M896=\"\",\"\",'見積書(2号)'!M896)","v":""},null,"","",null,"",""]
[{"$f":"IF('見積書(2号)'!A897=\"\",\"\",'見積書(2号)'!A897)","v":""},{"$f":"IF('見積書(2号)'!B897=\"\",\"\",'見積書(2号)'!B897)","v":""},{"$f":"IF('見積書(2号)'!C897=\"\",\"\",'見積書(2号)'!C897)","v":""},{"$f":"IF('見積書(2号)'!H897=\"\",\"\",'見積書(2号)'!H897)","v":""},{"$f":"IF('見積書(2号)'!E897=\"\",\"\",'見積書(2号)'!E897)","v":""},{"$f":"IF('見積書(2号)'!I897=\"\",\"\",'見積書(2号)'!I897)","v":""},{"$f":"IF('見積書(2号)'!J897=\"\",\"\",'見積書(2号)'!J897)","v":""},{"$f":"IF('見積書(2号)'!K897=\"\",\"\",'見積書(2号)'!K897)","v":""},{"$f":"IF('見積書(2号)'!L897=\"\",\"\",'見積書(2号)'!L897)","v":""},{"$f":"IF('見積書(2号)'!M897=\"\",\"\",'見積書(2号)'!M897)","v":""},null,"","",null,"",""]
[{"$f":"IF('見積書(2号)'!A898=\"\",\"\",'見積書(2号)'!A898)","v":""},{"$f":"IF('見積書(2号)'!B898=\"\",\"\",'見積書(2号)'!B898)","v":""},{"$f":"IF('見積書(2号)'!C898=\"\",\"\",'見積書(2号)'!C898)","v":""},{"$f":"IF('見積書(2号)'!H898=\"\",\"\",'見積書(2号)'!H898)","v":""},{"$f":"IF('見積書(2号)'!E898=\"\",\"\",'見積書(2号)'!E898)","v":""},{"$f":"IF('見積書(2号)'!I898=\"\",\"\",'見積書(2号)'!I898)","v":""},{"$f":"IF('見積書(2号)'!J898=\"\",\"\",'見積書(2号)'!J898)","v":""},{"$f":"IF('見積書(2号)'!K898=\"\",\"\",'見積書(2号)'!K898)","v":""},{"$f":"IF('見積書(2号)'!L898=\"\",\"\",'見積書(2号)'!L898)","v":""},{"$f":"IF('見積書(2号)'!M898=\"\",\"\",'見積書(2号)'!M898)","v":""},null,"","",null,"",""]
[{"$f":"IF('見積書(2号)'!A899=\"\",\"\",'見積書(2号)'!A899)","v":""},{"$f":"IF('見積書(2号)'!B899=\"\",\"\",'見積書(2号)'!B899)","v":""},{"$f":"IF('見積書(2号)'!C899=\"\",\"\",'見積書(2号)'!C899)","v":""},{"$f":"IF('見積書(2号)'!H899=\"\",\"\",'見積書(2号)'!H899)","v":""},{"$f":"IF('見積書(2号)'!E899=\"\",\"\",'見積書(2号)'!E899)","v":""},{"$f":"IF('見積書(2号)'!I899=\"\",\"\",'見積書(2号)'!I899)","v":""},{"$f":"IF('見積書(2号)'!J899=\"\",\"\",'見積書(2号)'!J899)","v":""},{"$f":"IF('見積書(2号)'!K899=\"\",\"\",'見積書(2号)'!K899)","v":""},{"$f":"IF('見積書(2号)'!L899=\"\",\"\",'見積書(2号)'!L899)","v":""},{"$f":"IF('見積書(2号)'!M899=\"\",\"\",'見積書(2号)'!M899)","v":""},null,"","",null,"",""]
[{"$f":"IF('見積書(2号)'!A900=\"\",\"\",'見積書(2号)'!A900)","v":""},{"$f":"IF('見積書(2号)'!B900=\"\",\"\",'見積書(2号)'!B900)","v":""},{"$f":"IF('見積書(2号)'!C900=\"\",\"\",'見積書(2号)'!C900)","v":""},{"$f":"IF('見積書(2号)'!H900=\"\",\"\",'見積書(2号)'!H900)","v":""},{"$f":"IF('見積書(2号)'!E900=\"\",\"\",'見積書(2号)'!E900)","v":""},{"$f":"IF('見積書(2号)'!I900=\"\",\"\",'見積書(2号)'!I900)","v":""},{"$f":"IF('見積書(2号)'!J900=\"\",\"\",'見積書(2号)'!J900)","v":""},{"$f":"IF('見積書(2号)'!K900=\"\",\"\",'見積書(2号)'!K900)","v":""},{"$f":"IF('見積書(2号)'!L900=\"\",\"\",'見積書(2号)'!L900)","v":""},{"$f":"IF('見積書(2号)'!M900=\"\",\"\",'見積書(2号)'!M900)","v":""},null,"","",null,"",""]
[{"$f":"IF('見積書(2号)'!A901=\"\",\"\",'見積書(2号)'!A901)","v":""},{"$f":"IF('見積書(2号)'!B901=\"\",\"\",'見積書(2号)'!B901)","v":""},{"$f":"IF('見積書(2号)'!C901=\"\",\"\",'見積書(2号)'!C901)","v":""},{"$f":"IF('見積書(2号)'!H901=\"\",\"\",'見積書(2号)'!H901)","v":""},{"$f":"IF('見積書(2号)'!E901=\"\",\"\",'見積書(2号)'!E901)","v":""},{"$f":"IF('見積書(2号)'!I901=\"\",\"\",'見積書(2号)'!I901)","v":""},{"$f":"IF('見積書(2号)'!J901=\"\",\"\",'見積書(2号)'!J901)","v":""},{"$f":"IF('見積書(2号)'!K901=\"\",\"\",'見積書(2号)'!K901)","v":""},{"$f":"IF('見積書(2号)'!L901=\"\",\"\",'見積書(2号)'!L901)","v":""},{"$f":"IF('見積書(2号)'!M901=\"\",\"\",'見積書(2号)'!M901)","v":""},null,"","",null,"",""]
[{"$f":"IF('見積書(2号)'!A902=\"\",\"\",'見積書(2号)'!A902)","v":""},{"$f":"IF('見積書(2号)'!B902=\"\",\"\",'見積書(2号)'!B902)","v":""},{"$f":"IF('見積書(2号)'!C902=\"\",\"\",'見積書(2号)'!C902)","v":""},{"$f":"IF('見積書(2号)'!H902=\"\",\"\",'見積書(2号)'!H902)","v":""},{"$f":"IF('見積書(2号)'!E902=\"\",\"\",'見積書(2号)'!E902)","v":""},{"$f":"IF('見積書(2号)'!I902=\"\",\"\",'見積書(2号)'!I902)","v":""},{"$f":"IF('見積書(2号)'!J902=\"\",\"\",'見積書(2号)'!J902)","v":""},{"$f":"IF('見積書(2号)'!K902=\"\",\"\",'見積書(2号)'!K902)","v":""},{"$f":"IF('見積書(2号)'!L902=\"\",\"\",'見積書(2号)'!L902)","v":""},{"$f":"IF('見積書(2号)'!M902=\"\",\"\",'見積書(2号)'!M902)","v":""},null,"","",null,"",""]
[{"$f":"IF('見積書(2号)'!A903=\"\",\"\",'見積書(2号)'!A903)","v":""},{"$f":"IF('見積書(2号)'!B903=\"\",\"\",'見積書(2号)'!B903)","v":""},{"$f":"IF('見積書(2号)'!C903=\"\",\"\",'見積書(2号)'!C903)","v":""},{"$f":"IF('見積書(2号)'!H903=\"\",\"\",'見積書(2号)'!H903)","v":""},{"$f":"IF('見積書(2号)'!E903=\"\",\"\",'見積書(2号)'!E903)","v":""},{"$f":"IF('見積書(2号)'!I903=\"\",\"\",'見積書(2号)'!I903)","v":""},{"$f":"IF('見積書(2号)'!J903=\"\",\"\",'見積書(2号)'!J903)","v":""},{"$f":"IF('見積書(2号)'!K903=\"\",\"\",'見積書(2号)'!K903)","v":""},{"$f":"IF('見積書(2号)'!L903=\"\",\"\",'見積書(2号)'!L903)","v":""},{"$f":"IF('見積書(2号)'!M903=\"\",\"\",'見積書(2号)'!M903)","v":""},null,"","",null,"",""]
[{"$f":"IF('見積書(2号)'!A904=\"\",\"\",'見積書(2号)'!A904)","v":""},{"$f":"IF('見積書(2号)'!B904=\"\",\"\",'見積書(2号)'!B904)","v":""},{"$f":"IF('見積書(2号)'!C904=\"\",\"\",'見積書(2号)'!C904)","v":""},{"$f":"IF('見積書(2号)'!H904=\"\",\"\",'見積書(2号)'!H904)","v":""},{"$f":"IF('見積書(2号)'!E904=\"\",\"\",'見積書(2号)'!E904)","v":""},{"$f":"IF('見積書(2号)'!I904=\"\",\"\",'見積書(2号)'!I904)","v":""},{"$f":"IF('見積書(2号)'!J904=\"\",\"\",'見積書(2号)'!J904)","v":""},{"$f":"IF('見積書(2号)'!K904=\"\",\"\",'見積書(2号)'!K904)","v":""},{"$f":"IF('見積書(2号)'!L904=\"\",\"\",'見積書(2号)'!L904)","v":""},{"$f":"IF('見積書(2号)'!M904=\"\",\"\",'見積書(2号)'!M904)","v":""},null,"","",null,"",""]
[{"$f":"IF('見積書(2号)'!A905=\"\",\"\",'見積書(2号)'!A905)","v":""},{"$f":"IF('見積書(2号)'!B905=\"\",\"\",'見積書(2号)'!B905)","v":""},{"$f":"IF('見積書(2号)'!C905=\"\",\"\",'見積書(2号)'!C905)","v":""},{"$f":"IF('見積書(2号)'!H905=\"\",\"\",'見積書(2号)'!H905)","v":""},{"$f":"IF('見積書(2号)'!E905=\"\",\"\",'見積書(2号)'!E905)","v":""},{"$f":"IF('見積書(2号)'!I905=\"\",\"\",'見積書(2号)'!I905)","v":""},{"$f":"IF('見積書(2号)'!J905=\"\",\"\",'見積書(2号)'!J905)","v":""},{"$f":"IF('見積書(2号)'!K905=\"\",\"\",'見積書(2号)'!K905)","v":""},{"$f":"IF('見積書(2号)'!L905=\"\",\"\",'見積書(2号)'!L905)","v":""},{"$f":"IF('見積書(2号)'!M905=\"\",\"\",'見積書(2号)'!M905)","v":""},null,"","",null,"",""]
[{"$f":"IF('見積書(2号)'!A906=\"\",\"\",'見積書(2号)'!A906)","v":""},{"$f":"IF('見積書(2号)'!B906=\"\",\"\",'見積書(2号)'!B906)","v":""},{"$f":"IF('見積書(2号)'!C906=\"\",\"\",'見積書(2号)'!C906)","v":""},{"$f":"IF('見積書(2号)'!H906=\"\",\"\",'見積書(2号)'!H906)","v":""},{"$f":"IF('見積書(2号)'!E906=\"\",\"\",'見積書(2号)'!E906)","v":""},{"$f":"IF('見積書(2号)'!I906=\"\",\"\",'見積書(2号)'!I906)","v":""},{"$f":"IF('見積書(2号)'!J906=\"\",\"\",'見積書(2号)'!J906)","v":""},{"$f":"IF('見積書(2号)'!K906=\"\",\"\",'見積書(2号)'!K906)","v":""},{"$f":"IF('見積書(2号)'!L906=\"\",\"\",'見積書(2号)'!L906)","v":""},{"$f":"IF('見積書(2号)'!M906=\"\",\"\",'見積書(2号)'!M906)","v":""},null,"","",null,"",""]
[{"$f":"IF('見積書(2号)'!A907=\"\",\"\",'見積書(2号)'!A907)","v":""},{"$f":"IF('見積書(2号)'!B907=\"\",\"\",'見積書(2号)'!B907)","v":""},{"$f":"IF('見積書(2号)'!C907=\"\",\"\",'見積書(2号)'!C907)","v":""},{"$f":"IF('見積書(2号)'!H907=\"\",\"\",'見積書(2号)'!H907)","v":""},{"$f":"IF('見積書(2号)'!E907=\"\",\"\",'見積書(2号)'!E907)","v":""},{"$f":"IF('見積書(2号)'!I907=\"\",\"\",'見積書(2号)'!I907)","v":""},{"$f":"IF('見積書(2号)'!J907=\"\",\"\",'見積書(2号)'!J907)","v":""},{"$f":"IF('見積書(2号)'!K907=\"\",\"\",'見積書(2号)'!K907)","v":""},{"$f":"IF('見積書(2号)'!L907=\"\",\"\",'見積書(2号)'!L907)","v":""},{"$f":"IF('見積書(2号)'!M907=\"\",\"\",'見積書(2号)'!M907)","v":""},null,{"$f":"IF(I907=\"\",F907,I907)","v":""},{"$f":"IF(L907=\"\",\"\",L907*K907)","v":""},null,"",""]
[{"$f":"IF('見積書(2号)'!A908=\"\",\"\",'見積書(2号)'!A908)","v":""},{"$f":"IF('見積書(2号)'!B908=\"\",\"\",'見積書(2号)'!B908)","v":""},{"$f":"IF('見積書(2号)'!C908=\"\",\"\",'見積書(2号)'!C908)","v":""},{"$f":"IF('見積書(2号)'!H908=\"\",\"\",'見積書(2号)'!H908)","v":""},{"$f":"IF('見積書(2号)'!E908=\"\",\"\",'見積書(2号)'!E908)","v":""},{"$f":"IF('見積書(2号)'!I908=\"\",\"\",'見積書(2号)'!I908)","v":""},{"$f":"IF('見積書(2号)'!J908=\"\",\"\",'見積書(2号)'!J908)","v":""},{"$f":"IF('見積書(2号)'!K908=\"\",\"\",'見積書(2号)'!K908)","v":""},{"$f":"IF('見積書(2号)'!L908=\"\",\"\",'見積書(2号)'!L908)","v":""},{"$f":"IF('見積書(2号)'!M908=\"\",\"\",'見積書(2号)'!M908)","v":""},null,"","",null,"",""]
[{"$f":"IF('見積書(2号)'!A909=\"\",\"\",'見積書(2号)'!A909)","v":""},{"$f":"IF('見積書(2号)'!B909=\"\",\"\",'見積書(2号)'!B909)","v":""},{"$f":"IF('見積書(2号)'!C909=\"\",\"\",'見積書(2号)'!C909)","v":""},{"$f":"IF('見積書(2号)'!H909=\"\",\"\",'見積書(2号)'!H909)","v":""},{"$f":"IF('見積書(2号)'!E909=\"\",\"\",'見積書(2号)'!E909)","v":""},{"$f":"IF('見積書(2号)'!I909=\"\",\"\",'見積書(2号)'!I909)","v":""},{"$f":"IF('見積書(2号)'!J909=\"\",\"\",'見積書(2号)'!J909)","v":""},{"$f":"IF('見積書(2号)'!K909=\"\",\"\",'見積書(2号)'!K909)","v":""},{"$f":"IF('見積書(2号)'!L909=\"\",\"\",'見積書(2号)'!L909)","v":""},{"$f":"IF('見積書(2号)'!M909=\"\",\"\",'見積書(2号)'!M909)","v":""},null,"","",null,"",""]
[{"$f":"IF('見積書(2号)'!A910=\"\",\"\",'見積書(2号)'!A910)","v":""},{"$f":"IF('見積書(2号)'!B910=\"\",\"\",'見積書(2号)'!B910)","v":""},{"$f":"IF('見積書(2号)'!C910=\"\",\"\",'見積書(2号)'!C910)","v":""},{"$f":"IF('見積書(2号)'!H910=\"\",\"\",'見積書(2号)'!H910)","v":""},{"$f":"IF('見積書(2号)'!E910=\"\",\"\",'見積書(2号)'!E910)","v":""},{"$f":"IF('見積書(2号)'!I910=\"\",\"\",'見積書(2号)'!I910)","v":""},{"$f":"IF('見積書(2号)'!J910=\"\",\"\",'見積書(2号)'!J910)","v":""},{"$f":"IF('見積書(2号)'!K910=\"\",\"\",'見積書(2号)'!K910)","v":""},{"$f":"IF('見積書(2号)'!L910=\"\",\"\",'見積書(2号)'!L910)","v":""},{"$f":"IF('見積書(2号)'!M910=\"\",\"\",'見積書(2号)'!M910)","v":""},null,"","",null,"",""]
[{"$f":"IF('見積書(2号)'!A911=\"\",\"\",'見積書(2号)'!A911)","v":""},{"$f":"IF('見積書(2号)'!B911=\"\",\"\",'見積書(2号)'!B911)","v":""},{"$f":"IF('見積書(2号)'!C911=\"\",\"\",'見積書(2号)'!C911)","v":""},{"$f":"IF('見積書(2号)'!H911=\"\",\"\",'見積書(2号)'!H911)","v":""},{"$f":"IF('見積書(2号)'!E911=\"\",\"\",'見積書(2号)'!E911)","v":""},{"$f":"IF('見積書(2号)'!I911=\"\",\"\",'見積書(2号)'!I911)","v":""},{"$f":"IF('見積書(2号)'!J911=\"\",\"\",'見積書(2号)'!J911)","v":""},{"$f":"IF('見積書(2号)'!K911=\"\",\"\",'見積書(2号)'!K911)","v":""},{"$f":"IF('見積書(2号)'!L911=\"\",\"\",'見積書(2号)'!L911)","v":""},{"$f":"IF('見積書(2号)'!M911=\"\",\"\",'見積書(2号)'!M911)","v":""},null,"","",null,"",""]
[{"$f":"IF('見積書(2号)'!A912=\"\",\"\",'見積書(2号)'!A912)","v":""},{"$f":"IF('見積書(2号)'!B912=\"\",\"\",'見積書(2号)'!B912)","v":""},{"$f":"IF('見積書(2号)'!C912=\"\",\"\",'見積書(2号)'!C912)","v":""},{"$f":"IF('見積書(2号)'!H912=\"\",\"\",'見積書(2号)'!H912)","v":""},{"$f":"IF('見積書(2号)'!E912=\"\",\"\",'見積書(2号)'!E912)","v":""},{"$f":"IF('見積書(2号)'!I912=\"\",\"\",'見積書(2号)'!I912)","v":""},{"$f":"IF('見積書(2号)'!J912=\"\",\"\",'見積書(2号)'!J912)","v":""},{"$f":"IF('見積書(2号)'!K912=\"\",\"\",'見積書(2号)'!K912)","v":""},{"$f":"IF('見積書(2号)'!L912=\"\",\"\",'見積書(2号)'!L912)","v":""},{"$f":"IF('見積書(2号)'!M912=\"\",\"\",'見積書(2号)'!M912)","v":""},null,"","",null,"",""]
[{"$f":"IF('見積書(2号)'!A913=\"\",\"\",'見積書(2号)'!A913)","v":""},{"$f":"IF('見積書(2号)'!B913=\"\",\"\",'見積書(2号)'!B913)","v":""},{"$f":"IF('見積書(2号)'!C913=\"\",\"\",'見積書(2号)'!C913)","v":""},{"$f":"IF('見積書(2号)'!H913=\"\",\"\",'見積書(2号)'!H913)","v":""},{"$f":"IF('見積書(2号)'!E913=\"\",\"\",'見積書(2号)'!E913)","v":""},{"$f":"IF('見積書(2号)'!I913=\"\",\"\",'見積書(2号)'!I913)","v":""},{"$f":"IF('見積書(2号)'!J913=\"\",\"\",'見積書(2号)'!J913)","v":""},{"$f":"IF('見積書(2号)'!K913=\"\",\"\",'見積書(2号)'!K913)","v":""},{"$f":"IF('見積書(2号)'!L913=\"\",\"\",'見積書(2号)'!L913)","v":""},{"$f":"IF('見積書(2号)'!M913=\"\",\"\",'見積書(2号)'!M913)","v":""},null,"","",null,"",""]
[{"$f":"IF('見積書(2号)'!A914=\"\",\"\",'見積書(2号)'!A914)","v":""},{"$f":"IF('見積書(2号)'!B914=\"\",\"\",'見積書(2号)'!B914)","v":""},{"$f":"IF('見積書(2号)'!C914=\"\",\"\",'見積書(2号)'!C914)","v":""},{"$f":"IF('見積書(2号)'!H914=\"\",\"\",'見積書(2号)'!H914)","v":""},{"$f":"IF('見積書(2号)'!E914=\"\",\"\",'見積書(2号)'!E914)","v":""},{"$f":"IF('見積書(2号)'!I914=\"\",\"\",'見積書(2号)'!I914)","v":""},{"$f":"IF('見積書(2号)'!J914=\"\",\"\",'見積書(2号)'!J914)","v":""},{"$f":"IF('見積書(2号)'!K914=\"\",\"\",'見積書(2号)'!K914)","v":""},{"$f":"IF('見積書(2号)'!L914=\"\",\"\",'見積書(2号)'!L914)","v":""},{"$f":"IF('見積書(2号)'!M914=\"\",\"\",'見積書(2号)'!M914)","v":""},null,"","",null,"",""]
[{"$f":"IF('見積書(2号)'!A915=\"\",\"\",'見積書(2号)'!A915)","v":""},{"$f":"IF('見積書(2号)'!B915=\"\",\"\",'見積書(2号)'!B915)","v":""},{"$f":"IF('見積書(2号)'!C915=\"\",\"\",'見積書(2号)'!C915)","v":""},{"$f":"IF('見積書(2号)'!H915=\"\",\"\",'見積書(2号)'!H915)","v":""},{"$f":"IF('見積書(2号)'!E915=\"\",\"\",'見積書(2号)'!E915)","v":""},{"$f":"IF('見積書(2号)'!I915=\"\",\"\",'見積書(2号)'!I915)","v":""},{"$f":"IF('見積書(2号)'!J915=\"\",\"\",'見積書(2号)'!J915)","v":""},{"$f":"IF('見積書(2号)'!K915=\"\",\"\",'見積書(2号)'!K915)","v":""},{"$f":"IF('見積書(2号)'!L915=\"\",\"\",'見積書(2号)'!L915)","v":""},{"$f":"IF('見積書(2号)'!M915=\"\",\"\",'見積書(2号)'!M915)","v":""},null,"","",null,"",""]
[{"$f":"IF('見積書(2号)'!A916=\"\",\"\",'見積書(2号)'!A916)","v":""},{"$f":"IF('見積書(2号)'!B916=\"\",\"\",'見積書(2号)'!B916)","v":""},{"$f":"IF('見積書(2号)'!C916=\"\",\"\",'見積書(2号)'!C916)","v":""},{"$f":"IF('見積書(2号)'!H916=\"\",\"\",'見積書(2号)'!H916)","v":""},{"$f":"IF('見積書(2号)'!E916=\"\",\"\",'見積書(2号)'!E916)","v":""},{"$f":"IF('見積書(2号)'!I916=\"\",\"\",'見積書(2号)'!I916)","v":""},{"$f":"IF('見積書(2号)'!J916=\"\",\"\",'見積書(2号)'!J916)","v":""},{"$f":"IF('見積書(2号)'!K916=\"\",\"\",'見積書(2号)'!K916)","v":""},{"$f":"IF('見積書(2号)'!L916=\"\",\"\",'見積書(2号)'!L916)","v":""},{"$f":"IF('見積書(2号)'!M916=\"\",\"\",'見積書(2号)'!M916)","v":""},null,"","",null,"",""]
[{"$f":"IF('見積書(2号)'!A917=\"\",\"\",'見積書(2号)'!A917)","v":""},{"$f":"IF('見積書(2号)'!B917=\"\",\"\",'見積書(2号)'!B917)","v":""},{"$f":"IF('見積書(2号)'!C917=\"\",\"\",'見積書(2号)'!C917)","v":""},{"$f":"IF('見積書(2号)'!H917=\"\",\"\",'見積書(2号)'!H917)","v":""},{"$f":"IF('見積書(2号)'!E917=\"\",\"\",'見積書(2号)'!E917)","v":""},{"$f":"IF('見積書(2号)'!I917=\"\",\"\",'見積書(2号)'!I917)","v":""},{"$f":"IF('見積書(2号)'!J917=\"\",\"\",'見積書(2号)'!J917)","v":""},{"$f":"IF('見積書(2号)'!K917=\"\",\"\",'見積書(2号)'!K917)","v":""},{"$f":"IF('見積書(2号)'!L917=\"\",\"\",'見積書(2号)'!L917)","v":""},{"$f":"IF('見積書(2号)'!M917=\"\",\"\",'見積書(2号)'!M917)","v":""},null,"","",null,"",""]
[{"$f":"IF('見積書(2号)'!A918=\"\",\"\",'見積書(2号)'!A918)","v":""},{"$f":"IF('見積書(2号)'!B918=\"\",\"\",'見積書(2号)'!B918)","v":""},{"$f":"IF('見積書(2号)'!C918=\"\",\"\",'見積書(2号)'!C918)","v":""},{"$f":"IF('見積書(2号)'!H918=\"\",\"\",'見積書(2号)'!H918)","v":""},{"$f":"IF('見積書(2号)'!E918=\"\",\"\",'見積書(2号)'!E918)","v":""},{"$f":"IF('見積書(2号)'!I918=\"\",\"\",'見積書(2号)'!I918)","v":""},{"$f":"IF('見積書(2号)'!J918=\"\",\"\",'見積書(2号)'!J918)","v":""},{"$f":"IF('見積書(2号)'!K918=\"\",\"\",'見積書(2号)'!K918)","v":""},{"$f":"IF('見積書(2号)'!L918=\"\",\"\",'見積書(2号)'!L918)","v":""},{"$f":"IF('見積書(2号)'!M918=\"\",\"\",'見積書(2号)'!M918)","v":""},null,"","",null,"",""]
[{"$f":"IF('見積書(2号)'!A919=\"\",\"\",'見積書(2号)'!A919)","v":""},{"$f":"IF('見積書(2号)'!B919=\"\",\"\",'見積書(2号)'!B919)","v":""},{"$f":"IF('見積書(2号)'!C919=\"\",\"\",'見積書(2号)'!C919)","v":""},{"$f":"IF('見積書(2号)'!H919=\"\",\"\",'見積書(2号)'!H919)","v":""},{"$f":"IF('見積書(2号)'!E919=\"\",\"\",'見積書(2号)'!E919)","v":""},{"$f":"IF('見積書(2号)'!I919=\"\",\"\",'見積書(2号)'!I919)","v":""},{"$f":"IF('見積書(2号)'!J919=\"\",\"\",'見積書(2号)'!J919)","v":""},{"$f":"IF('見積書(2号)'!K919=\"\",\"\",'見積書(2号)'!K919)","v":""},{"$f":"IF('見積書(2号)'!L919=\"\",\"\",'見積書(2号)'!L919)","v":""},{"$f":"IF('見積書(2号)'!M919=\"\",\"\",'見積書(2号)'!M919)","v":""},null,"","",null,"",""]
[{"$f":"IF('見積書(2号)'!A920=\"\",\"\",'見積書(2号)'!A920)","v":""},{"$f":"IF('見積書(2号)'!B920=\"\",\"\",'見積書(2号)'!B920)","v":""},{"$f":"IF('見積書(2号)'!C920=\"\",\"\",'見積書(2号)'!C920)","v":""},{"$f":"IF('見積書(2号)'!H920=\"\",\"\",'見積書(2号)'!H920)","v":""},{"$f":"IF('見積書(2号)'!E920=\"\",\"\",'見積書(2号)'!E920)","v":""},{"$f":"IF('見積書(2号)'!I920=\"\",\"\",'見積書(2号)'!I920)","v":""},{"$f":"IF('見積書(2号)'!J920=\"\",\"\",'見積書(2号)'!J920)","v":""},{"$f":"IF('見積書(2号)'!K920=\"\",\"\",'見積書(2号)'!K920)","v":""},{"$f":"IF('見積書(2号)'!L920=\"\",\"\",'見積書(2号)'!L920)","v":""},{"$f":"IF('見積書(2号)'!M920=\"\",\"\",'見積書(2号)'!M920)","v":""},null,"","",null,"",""]
[{"$f":"IF('見積書(2号)'!A921=\"\",\"\",'見積書(2号)'!A921)","v":""},{"$f":"IF('見積書(2号)'!B921=\"\",\"\",'見積書(2号)'!B921)","v":""},{"$f":"IF('見積書(2号)'!C921=\"\",\"\",'見積書(2号)'!C921)","v":""},{"$f":"IF('見積書(2号)'!H921=\"\",\"\",'見積書(2号)'!H921)","v":""},{"$f":"IF('見積書(2号)'!E921=\"\",\"\",'見積書(2号)'!E921)","v":""},{"$f":"IF('見積書(2号)'!I921=\"\",\"\",'見積書(2号)'!I921)","v":""},{"$f":"IF('見積書(2号)'!J921=\"\",\"\",'見積書(2号)'!J921)","v":""},{"$f":"IF('見積書(2号)'!K921=\"\",\"\",'見積書(2号)'!K921)","v":""},{"$f":"IF('見積書(2号)'!L921=\"\",\"\",'見積書(2号)'!L921)","v":""},{"$f":"IF('見積書(2号)'!M921=\"\",\"\",'見積書(2号)'!M921)","v":""},null,"","",null,"",""]
[{"$f":"IF('見積書(2号)'!A922=\"\",\"\",'見積書(2号)'!A922)","v":""},{"$f":"IF('見積書(2号)'!B922=\"\",\"\",'見積書(2号)'!B922)","v":""},{"$f":"IF('見積書(2号)'!C922=\"\",\"\",'見積書(2号)'!C922)","v":""},{"$f":"IF('見積書(2号)'!H922=\"\",\"\",'見積書(2号)'!H922)","v":""},{"$f":"IF('見積書(2号)'!E922=\"\",\"\",'見積書(2号)'!E922)","v":""},{"$f":"IF('見積書(2号)'!I922=\"\",\"\",'見積書(2号)'!I922)","v":""},{"$f":"IF('見積書(2号)'!J922=\"\",\"\",'見積書(2号)'!J922)","v":""},{"$f":"IF('見積書(2号)'!K922=\"\",\"\",'見積書(2号)'!K922)","v":""},{"$f":"IF('見積書(2号)'!L922=\"\",\"\",'見積書(2号)'!L922)","v":""},{"$f":"IF('見積書(2号)'!M922=\"\",\"\",'見積書(2号)'!M922)","v":""},null,"","",null,"",""]
[{"$f":"IF('見積書(2号)'!A923=\"\",\"\",'見積書(2号)'!A923)","v":""},{"$f":"IF('見積書(2号)'!B923=\"\",\"\",'見積書(2号)'!B923)","v":""},{"$f":"IF('見積書(2号)'!C923=\"\",\"\",'見積書(2号)'!C923)","v":""},{"$f":"IF('見積書(2号)'!H923=\"\",\"\",'見積書(2号)'!H923)","v":""},{"$f":"IF('見積書(2号)'!E923=\"\",\"\",'見積書(2号)'!E923)","v":""},{"$f":"IF('見積書(2号)'!I923=\"\",\"\",'見積書(2号)'!I923)","v":""},{"$f":"IF('見積書(2号)'!J923=\"\",\"\",'見積書(2号)'!J923)","v":""},{"$f":"IF('見積書(2号)'!K923=\"\",\"\",'見積書(2号)'!K923)","v":""},{"$f":"IF('見積書(2号)'!L923=\"\",\"\",'見積書(2号)'!L923)","v":""},{"$f":"IF('見積書(2号)'!M923=\"\",\"\",'見積書(2号)'!M923)","v":""},null,"","",null,"",""]
[{"$f":"IF('見積書(2号)'!A924=\"\",\"\",'見積書(2号)'!A924)","v":""},{"$f":"IF('見積書(2号)'!B924=\"\",\"\",'見積書(2号)'!B924)","v":""},{"$f":"IF('見積書(2号)'!C924=\"\",\"\",'見積書(2号)'!C924)","v":""},{"$f":"IF('見積書(2号)'!H924=\"\",\"\",'見積書(2号)'!H924)","v":""},{"$f":"IF('見積書(2号)'!E924=\"\",\"\",'見積書(2号)'!E924)","v":""},{"$f":"IF('見積書(2号)'!I924=\"\",\"\",'見積書(2号)'!I924)","v":""},{"$f":"IF('見積書(2号)'!J924=\"\",\"\",'見積書(2号)'!J924)","v":""},{"$f":"IF('見積書(2号)'!K924=\"\",\"\",'見積書(2号)'!K924)","v":""},{"$f":"IF('見積書(2号)'!L924=\"\",\"\",'見積書(2号)'!L924)","v":""},{"$f":"IF('見積書(2号)'!M924=\"\",\"\",'見積書(2号)'!M924)","v":""},null,"","",null,"",""]
[{"$f":"IF('見積書(2号)'!A925=\"\",\"\",'見積書(2号)'!A925)","v":""},{"$f":"IF('見積書(2号)'!B925=\"\",\"\",'見積書(2号)'!B925)","v":""},{"$f":"IF('見積書(2号)'!C925=\"\",\"\",'見積書(2号)'!C925)","v":""},{"$f":"IF('見積書(2号)'!H925=\"\",\"\",'見積書(2号)'!H925)","v":""},{"$f":"IF('見積書(2号)'!E925=\"\",\"\",'見積書(2号)'!E925)","v":""},{"$f":"IF('見積書(2号)'!I925=\"\",\"\",'見積書(2号)'!I925)","v":""},{"$f":"IF('見積書(2号)'!J925=\"\",\"\",'見積書(2号)'!J925)","v":""},{"$f":"IF('見積書(2号)'!K925=\"\",\"\",'見積書(2号)'!K925)","v":""},{"$f":"IF('見積書(2号)'!L925=\"\",\"\",'見積書(2号)'!L925)","v":""},{"$f":"IF('見積書(2号)'!M925=\"\",\"\",'見積書(2号)'!M925)","v":""},null,"","",null,"",""]
[{"$f":"IF('見積書(2号)'!A926=\"\",\"\",'見積書(2号)'!A926)","v":""},{"$f":"IF('見積書(2号)'!B926=\"\",\"\",'見積書(2号)'!B926)","v":""},{"$f":"IF('見積書(2号)'!C926=\"\",\"\",'見積書(2号)'!C926)","v":""},{"$f":"IF('見積書(2号)'!H926=\"\",\"\",'見積書(2号)'!H926)","v":""},{"$f":"IF('見積書(2号)'!E926=\"\",\"\",'見積書(2号)'!E926)","v":""},{"$f":"IF('見積書(2号)'!I926=\"\",\"\",'見積書(2号)'!I926)","v":""},{"$f":"IF('見積書(2号)'!J926=\"\",\"\",'見積書(2号)'!J926)","v":""},{"$f":"IF('見積書(2号)'!K926=\"\",\"\",'見積書(2号)'!K926)","v":""},{"$f":"IF('見積書(2号)'!L926=\"\",\"\",'見積書(2号)'!L926)","v":""},{"$f":"IF('見積書(2号)'!M926=\"\",\"\",'見積書(2号)'!M926)","v":""},null,"","",null,"",""]
[{"$f":"IF('見積書(2号)'!A927=\"\",\"\",'見積書(2号)'!A927)","v":""},{"$f":"IF('見積書(2号)'!B927=\"\",\"\",'見積書(2号)'!B927)","v":""},{"$f":"IF('見積書(2号)'!C927=\"\",\"\",'見積書(2号)'!C927)","v":""},{"$f":"IF('見積書(2号)'!H927=\"\",\"\",'見積書(2号)'!H927)","v":""},{"$f":"IF('見積書(2号)'!E927=\"\",\"\",'見積書(2号)'!E927)","v":""},{"$f":"IF('見積書(2号)'!I927=\"\",\"\",'見積書(2号)'!I927)","v":""},{"$f":"IF('見積書(2号)'!J927=\"\",\"\",'見積書(2号)'!J927)","v":""},{"$f":"IF('見積書(2号)'!K927=\"\",\"\",'見積書(2号)'!K927)","v":""},{"$f":"IF('見積書(2号)'!L927=\"\",\"\",'見積書(2号)'!L927)","v":""},{"$f":"IF('見積書(2号)'!M927=\"\",\"\",'見積書(2号)'!M927)","v":""},null,"","",null,"",""]
[{"$f":"IF('見積書(2号)'!A928=\"\",\"\",'見積書(2号)'!A928)","v":""},{"$f":"IF('見積書(2号)'!B928=\"\",\"\",'見積書(2号)'!B928)","v":""},{"$f":"IF('見積書(2号)'!C928=\"\",\"\",'見積書(2号)'!C928)","v":""},{"$f":"IF('見積書(2号)'!H928=\"\",\"\",'見積書(2号)'!H928)","v":""},{"$f":"IF('見積書(2号)'!E928=\"\",\"\",'見積書(2号)'!E928)","v":""},{"$f":"IF('見積書(2号)'!I928=\"\",\"\",'見積書(2号)'!I928)","v":""},{"$f":"IF('見積書(2号)'!J928=\"\",\"\",'見積書(2号)'!J928)","v":""},{"$f":"IF('見積書(2号)'!K928=\"\",\"\",'見積書(2号)'!K928)","v":""},{"$f":"IF('見積書(2号)'!L928=\"\",\"\",'見積書(2号)'!L928)","v":""},{"$f":"IF('見積書(2号)'!M928=\"\",\"\",'見積書(2号)'!M928)","v":""},null,"","",null,"",""]
[{"$f":"IF('見積書(2号)'!A929=\"\",\"\",'見積書(2号)'!A929)","v":""},{"$f":"IF('見積書(2号)'!B929=\"\",\"\",'見積書(2号)'!B929)","v":""},{"$f":"IF('見積書(2号)'!C929=\"\",\"\",'見積書(2号)'!C929)","v":""},{"$f":"IF('見積書(2号)'!H929=\"\",\"\",'見積書(2号)'!H929)","v":""},{"$f":"IF('見積書(2号)'!E929=\"\",\"\",'見積書(2号)'!E929)","v":""},{"$f":"IF('見積書(2号)'!I929=\"\",\"\",'見積書(2号)'!I929)","v":""},{"$f":"IF('見積書(2号)'!J929=\"\",\"\",'見積書(2号)'!J929)","v":""},{"$f":"IF('見積書(2号)'!K929=\"\",\"\",'見積書(2号)'!K929)","v":""},{"$f":"IF('見積書(2号)'!L929=\"\",\"\",'見積書(2号)'!L929)","v":""},{"$f":"IF('見積書(2号)'!M929=\"\",\"\",'見積書(2号)'!M929)","v":""},null,"","",null,"",""]
[{"$f":"IF('見積書(2号)'!A930=\"\",\"\",'見積書(2号)'!A930)","v":""},{"$f":"IF('見積書(2号)'!B930=\"\",\"\",'見積書(2号)'!B930)","v":""},{"$f":"IF('見積書(2号)'!C930=\"\",\"\",'見積書(2号)'!C930)","v":""},{"$f":"IF('見積書(2号)'!H930=\"\",\"\",'見積書(2号)'!H930)","v":""},{"$f":"IF('見積書(2号)'!E930=\"\",\"\",'見積書(2号)'!E930)","v":""},{"$f":"IF('見積書(2号)'!I930=\"\",\"\",'見積書(2号)'!I930)","v":""},{"$f":"IF('見積書(2号)'!J930=\"\",\"\",'見積書(2号)'!J930)","v":""},{"$f":"IF('見積書(2号)'!K930=\"\",\"\",'見積書(2号)'!K930)","v":""},{"$f":"IF('見積書(2号)'!L930=\"\",\"\",'見積書(2号)'!L930)","v":""},{"$f":"IF('見積書(2号)'!M930=\"\",\"\",'見積書(2号)'!M930)","v":""},null,"","",null,"",""]
[{"$f":"IF('見積書(2号)'!A931=\"\",\"\",'見積書(2号)'!A931)","v":""},{"$f":"IF('見積書(2号)'!B931=\"\",\"\",'見積書(2号)'!B931)","v":""},{"$f":"IF('見積書(2号)'!C931=\"\",\"\",'見積書(2号)'!C931)","v":""},{"$f":"IF('見積書(2号)'!H931=\"\",\"\",'見積書(2号)'!H931)","v":""},{"$f":"IF('見積書(2号)'!E931=\"\",\"\",'見積書(2号)'!E931)","v":""},{"$f":"IF('見積書(2号)'!I931=\"\",\"\",'見積書(2号)'!I931)","v":""},{"$f":"IF('見積書(2号)'!J931=\"\",\"\",'見積書(2号)'!J931)","v":""},{"$f":"IF('見積書(2号)'!K931=\"\",\"\",'見積書(2号)'!K931)","v":""},{"$f":"IF('見積書(2号)'!L931=\"\",\"\",'見積書(2号)'!L931)","v":""},{"$f":"IF('見積書(2号)'!M931=\"\",\"\",'見積書(2号)'!M931)","v":""},null,"","",null,"",""]
[{"$f":"IF('見積書(2号)'!A932=\"\",\"\",'見積書(2号)'!A932)","v":""},{"$f":"IF('見積書(2号)'!B932=\"\",\"\",'見積書(2号)'!B932)","v":""},{"$f":"IF('見積書(2号)'!C932=\"\",\"\",'見積書(2号)'!C932)","v":""},{"$f":"IF('見積書(2号)'!H932=\"\",\"\",'見積書(2号)'!H932)","v":""},{"$f":"IF('見積書(2号)'!E932=\"\",\"\",'見積書(2号)'!E932)","v":""},{"$f":"IF('見積書(2号)'!I932=\"\",\"\",'見積書(2号)'!I932)","v":""},{"$f":"IF('見積書(2号)'!J932=\"\",\"\",'見積書(2号)'!J932)","v":""},{"$f":"IF('見積書(2号)'!K932=\"\",\"\",'見積書(2号)'!K932)","v":""},{"$f":"IF('見積書(2号)'!L932=\"\",\"\",'見積書(2号)'!L932)","v":""},{"$f":"IF('見積書(2号)'!M932=\"\",\"\",'見積書(2号)'!M932)","v":""},null,"","",null,"",""]
[{"$f":"IF('見積書(2号)'!A933=\"\",\"\",'見積書(2号)'!A933)","v":""},{"$f":"IF('見積書(2号)'!B933=\"\",\"\",'見積書(2号)'!B933)","v":""},{"$f":"IF('見積書(2号)'!C933=\"\",\"\",'見積書(2号)'!C933)","v":""},{"$f":"IF('見積書(2号)'!H933=\"\",\"\",'見積書(2号)'!H933)","v":""},{"$f":"IF('見積書(2号)'!E933=\"\",\"\",'見積書(2号)'!E933)","v":""},{"$f":"IF('見積書(2号)'!I933=\"\",\"\",'見積書(2号)'!I933)","v":""},{"$f":"IF('見積書(2号)'!J933=\"\",\"\",'見積書(2号)'!J933)","v":""},{"$f":"IF('見積書(2号)'!K933=\"\",\"\",'見積書(2号)'!K933)","v":""},{"$f":"IF('見積書(2号)'!L933=\"\",\"\",'見積書(2号)'!L933)","v":""},{"$f":"IF('見積書(2号)'!M933=\"\",\"\",'見積書(2号)'!M933)","v":""},null,"","",null,"",""]
[{"$f":"IF('見積書(2号)'!A934=\"\",\"\",'見積書(2号)'!A934)","v":""},{"$f":"IF('見積書(2号)'!B934=\"\",\"\",'見積書(2号)'!B934)","v":""},{"$f":"IF('見積書(2号)'!C934=\"\",\"\",'見積書(2号)'!C934)","v":""},{"$f":"IF('見積書(2号)'!H934=\"\",\"\",'見積書(2号)'!H934)","v":""},{"$f":"IF('見積書(2号)'!E934=\"\",\"\",'見積書(2号)'!E934)","v":""},{"$f":"IF('見積書(2号)'!I934=\"\",\"\",'見積書(2号)'!I934)","v":""},{"$f":"IF('見積書(2号)'!J934=\"\",\"\",'見積書(2号)'!J934)","v":""},{"$f":"IF('見積書(2号)'!K934=\"\",\"\",'見積書(2号)'!K934)","v":""},{"$f":"IF('見積書(2号)'!L934=\"\",\"\",'見積書(2号)'!L934)","v":""},{"$f":"IF('見積書(2号)'!M934=\"\",\"\",'見積書(2号)'!M934)","v":""},null,"","",null,"",""]
[{"$f":"IF('見積書(2号)'!A935=\"\",\"\",'見積書(2号)'!A935)","v":""},{"$f":"IF('見積書(2号)'!B935=\"\",\"\",'見積書(2号)'!B935)","v":""},{"$f":"IF('見積書(2号)'!C935=\"\",\"\",'見積書(2号)'!C935)","v":""},{"$f":"IF('見積書(2号)'!H935=\"\",\"\",'見積書(2号)'!H935)","v":""},{"$f":"IF('見積書(2号)'!E935=\"\",\"\",'見積書(2号)'!E935)","v":""},{"$f":"IF('見積書(2号)'!I935=\"\",\"\",'見積書(2号)'!I935)","v":""},{"$f":"IF('見積書(2号)'!J935=\"\",\"\",'見積書(2号)'!J935)","v":""},{"$f":"IF('見積書(2号)'!K935=\"\",\"\",'見積書(2号)'!K935)","v":""},{"$f":"IF('見積書(2号)'!L935=\"\",\"\",'見積書(2号)'!L935)","v":""},{"$f":"IF('見積書(2号)'!M935=\"\",\"\",'見積書(2号)'!M935)","v":""},null,"","",null,"",""]
[{"$f":"IF('見積書(2号)'!A936=\"\",\"\",'見積書(2号)'!A936)","v":""},{"$f":"IF('見積書(2号)'!B936=\"\",\"\",'見積書(2号)'!B936)","v":""},{"$f":"IF('見積書(2号)'!C936=\"\",\"\",'見積書(2号)'!C936)","v":""},{"$f":"IF('見積書(2号)'!H936=\"\",\"\",'見積書(2号)'!H936)","v":""},{"$f":"IF('見積書(2号)'!E936=\"\",\"\",'見積書(2号)'!E936)","v":""},{"$f":"IF('見積書(2号)'!I936=\"\",\"\",'見積書(2号)'!I936)","v":""},{"$f":"IF('見積書(2号)'!J936=\"\",\"\",'見積書(2号)'!J936)","v":""},{"$f":"IF('見積書(2号)'!K936=\"\",\"\",'見積書(2号)'!K936)","v":""},{"$f":"IF('見積書(2号)'!L936=\"\",\"\",'見積書(2号)'!L936)","v":""},{"$f":"IF('見積書(2号)'!M936=\"\",\"\",'見積書(2号)'!M936)","v":""},null,"","",null,"",""]
[{"$f":"IF('見積書(2号)'!A937=\"\",\"\",'見積書(2号)'!A937)","v":""},{"$f":"IF('見積書(2号)'!B937=\"\",\"\",'見積書(2号)'!B937)","v":""},{"$f":"IF('見積書(2号)'!C937=\"\",\"\",'見積書(2号)'!C937)","v":""},{"$f":"IF('見積書(2号)'!H937=\"\",\"\",'見積書(2号)'!H937)","v":""},{"$f":"IF('見積書(2号)'!E937=\"\",\"\",'見積書(2号)'!E937)","v":""},{"$f":"IF('見積書(2号)'!I937=\"\",\"\",'見積書(2号)'!I937)","v":""},{"$f":"IF('見積書(2号)'!J937=\"\",\"\",'見積書(2号)'!J937)","v":""},{"$f":"IF('見積書(2号)'!K937=\"\",\"\",'見積書(2号)'!K937)","v":""},{"$f":"IF('見積書(2号)'!L937=\"\",\"\",'見積書(2号)'!L937)","v":""},{"$f":"IF('見積書(2号)'!M937=\"\",\"\",'見積書(2号)'!M937)","v":""},null,"","",null,"",""]
[{"$f":"IF('見積書(2号)'!A938=\"\",\"\",'見積書(2号)'!A938)","v":""},{"$f":"IF('見積書(2号)'!B938=\"\",\"\",'見積書(2号)'!B938)","v":""},{"$f":"IF('見積書(2号)'!C938=\"\",\"\",'見積書(2号)'!C938)","v":""},{"$f":"IF('見積書(2号)'!H938=\"\",\"\",'見積書(2号)'!H938)","v":""},{"$f":"IF('見積書(2号)'!E938=\"\",\"\",'見積書(2号)'!E938)","v":""},{"$f":"IF('見積書(2号)'!I938=\"\",\"\",'見積書(2号)'!I938)","v":""},{"$f":"IF('見積書(2号)'!J938=\"\",\"\",'見積書(2号)'!J938)","v":""},{"$f":"IF('見積書(2号)'!K938=\"\",\"\",'見積書(2号)'!K938)","v":""},{"$f":"IF('見積書(2号)'!L938=\"\",\"\",'見積書(2号)'!L938)","v":""},{"$f":"IF('見積書(2号)'!M938=\"\",\"\",'見積書(2号)'!M938)","v":""},null,"","",null,"",""]
[{"$f":"IF('見積書(2号)'!A939=\"\",\"\",'見積書(2号)'!A939)","v":""},{"$f":"IF('見積書(2号)'!B939=\"\",\"\",'見積書(2号)'!B939)","v":""},{"$f":"IF('見積書(2号)'!C939=\"\",\"\",'見積書(2号)'!C939)","v":""},{"$f":"IF('見積書(2号)'!H939=\"\",\"\",'見積書(2号)'!H939)","v":""},{"$f":"IF('見積書(2号)'!E939=\"\",\"\",'見積書(2号)'!E939)","v":""},{"$f":"IF('見積書(2号)'!I939=\"\",\"\",'見積書(2号)'!I939)","v":""},{"$f":"IF('見積書(2号)'!J939=\"\",\"\",'見積書(2号)'!J939)","v":""},{"$f":"IF('見積書(2号)'!K939=\"\",\"\",'見積書(2号)'!K939)","v":""},{"$f":"IF('見積書(2号)'!L939=\"\",\"\",'見積書(2号)'!L939)","v":""},{"$f":"IF('見積書(2号)'!M939=\"\",\"\",'見積書(2号)'!M939)","v":""},null,"","",null,"",""]
[{"$f":"IF('見積書(2号)'!A940=\"\",\"\",'見積書(2号)'!A940)","v":""},{"$f":"IF('見積書(2号)'!B940=\"\",\"\",'見積書(2号)'!B940)","v":""},{"$f":"IF('見積書(2号)'!C940=\"\",\"\",'見積書(2号)'!C940)","v":""},{"$f":"IF('見積書(2号)'!H940=\"\",\"\",'見積書(2号)'!H940)","v":""},{"$f":"IF('見積書(2号)'!E940=\"\",\"\",'見積書(2号)'!E940)","v":""},{"$f":"IF('見積書(2号)'!I940=\"\",\"\",'見積書(2号)'!I940)","v":""},{"$f":"IF('見積書(2号)'!J940=\"\",\"\",'見積書(2号)'!J940)","v":""},{"$f":"IF('見積書(2号)'!K940=\"\",\"\",'見積書(2号)'!K940)","v":""},{"$f":"IF('見積書(2号)'!L940=\"\",\"\",'見積書(2号)'!L940)","v":""},{"$f":"IF('見積書(2号)'!M940=\"\",\"\",'見積書(2号)'!M940)","v":""},null,"","",null,"",""]
[{"$f":"IF('見積書(2号)'!A941=\"\",\"\",'見積書(2号)'!A941)","v":""},{"$f":"IF('見積書(2号)'!B941=\"\",\"\",'見積書(2号)'!B941)","v":""},{"$f":"IF('見積書(2号)'!C941=\"\",\"\",'見積書(2号)'!C941)","v":""},{"$f":"IF('見積書(2号)'!H941=\"\",\"\",'見積書(2号)'!H941)","v":""},{"$f":"IF('見積書(2号)'!E941=\"\",\"\",'見積書(2号)'!E941)","v":""},{"$f":"IF('見積書(2号)'!I941=\"\",\"\",'見積書(2号)'!I941)","v":""},{"$f":"IF('見積書(2号)'!J941=\"\",\"\",'見積書(2号)'!J941)","v":""},{"$f":"IF('見積書(2号)'!K941=\"\",\"\",'見積書(2号)'!K941)","v":""},{"$f":"IF('見積書(2号)'!L941=\"\",\"\",'見積書(2号)'!L941)","v":""},{"$f":"IF('見積書(2号)'!M941=\"\",\"\",'見積書(2号)'!M941)","v":""},null,"","",null,"",""]
[{"$f":"IF('見積書(2号)'!A942=\"\",\"\",'見積書(2号)'!A942)","v":""},{"$f":"IF('見積書(2号)'!B942=\"\",\"\",'見積書(2号)'!B942)","v":""},{"$f":"IF('見積書(2号)'!C942=\"\",\"\",'見積書(2号)'!C942)","v":""},{"$f":"IF('見積書(2号)'!H942=\"\",\"\",'見積書(2号)'!H942)","v":""},{"$f":"IF('見積書(2号)'!E942=\"\",\"\",'見積書(2号)'!E942)","v":""},{"$f":"IF('見積書(2号)'!I942=\"\",\"\",'見積書(2号)'!I942)","v":""},{"$f":"IF('見積書(2号)'!J942=\"\",\"\",'見積書(2号)'!J942)","v":""},{"$f":"IF('見積書(2号)'!K942=\"\",\"\",'見積書(2号)'!K942)","v":""},{"$f":"IF('見積書(2号)'!L942=\"\",\"\",'見積書(2号)'!L942)","v":""},{"$f":"IF('見積書(2号)'!M942=\"\",\"\",'見積書(2号)'!M942)","v":""},null,"","",null,"",""]
[{"$f":"IF('見積書(2号)'!A943=\"\",\"\",'見積書(2号)'!A943)","v":""},{"$f":"IF('見積書(2号)'!B943=\"\",\"\",'見積書(2号)'!B943)","v":""},{"$f":"IF('見積書(2号)'!C943=\"\",\"\",'見積書(2号)'!C943)","v":""},{"$f":"IF('見積書(2号)'!H943=\"\",\"\",'見積書(2号)'!H943)","v":""},{"$f":"IF('見積書(2号)'!E943=\"\",\"\",'見積書(2号)'!E943)","v":""},{"$f":"IF('見積書(2号)'!I943=\"\",\"\",'見積書(2号)'!I943)","v":""},{"$f":"IF('見積書(2号)'!J943=\"\",\"\",'見積書(2号)'!J943)","v":""},{"$f":"IF('見積書(2号)'!K943=\"\",\"\",'見積書(2号)'!K943)","v":""},{"$f":"IF('見積書(2号)'!L943=\"\",\"\",'見積書(2号)'!L943)","v":""},{"$f":"IF('見積書(2号)'!M943=\"\",\"\",'見積書(2号)'!M943)","v":""},null,"","",null,"",""]
[{"$f":"IF('見積書(2号)'!A944=\"\",\"\",'見積書(2号)'!A944)","v":""},{"$f":"IF('見積書(2号)'!B944=\"\",\"\",'見積書(2号)'!B944)","v":""},{"$f":"IF('見積書(2号)'!C944=\"\",\"\",'見積書(2号)'!C944)","v":""},{"$f":"IF('見積書(2号)'!H944=\"\",\"\",'見積書(2号)'!H944)","v":""},{"$f":"IF('見積書(2号)'!E944=\"\",\"\",'見積書(2号)'!E944)","v":""},{"$f":"IF('見積書(2号)'!I944=\"\",\"\",'見積書(2号)'!I944)","v":""},{"$f":"IF('見積書(2号)'!J944=\"\",\"\",'見積書(2号)'!J944)","v":""},{"$f":"IF('見積書(2号)'!K944=\"\",\"\",'見積書(2号)'!K944)","v":""},{"$f":"IF('見積書(2号)'!L944=\"\",\"\",'見積書(2号)'!L944)","v":""},{"$f":"IF('見積書(2号)'!M944=\"\",\"\",'見積書(2号)'!M944)","v":""},null,"","",null,"",""]
[{"$f":"IF('見積書(2号)'!A945=\"\",\"\",'見積書(2号)'!A945)","v":""},{"$f":"IF('見積書(2号)'!B945=\"\",\"\",'見積書(2号)'!B945)","v":""},{"$f":"IF('見積書(2号)'!C945=\"\",\"\",'見積書(2号)'!C945)","v":""},{"$f":"IF('見積書(2号)'!H945=\"\",\"\",'見積書(2号)'!H945)","v":""},{"$f":"IF('見積書(2号)'!E945=\"\",\"\",'見積書(2号)'!E945)","v":""},{"$f":"IF('見積書(2号)'!I945=\"\",\"\",'見積書(2号)'!I945)","v":""},{"$f":"IF('見積書(2号)'!J945=\"\",\"\",'見積書(2号)'!J945)","v":""},{"$f":"IF('見積書(2号)'!K945=\"\",\"\",'見積書(2号)'!K945)","v":""},{"$f":"IF('見積書(2号)'!L945=\"\",\"\",'見積書(2号)'!L945)","v":""},{"$f":"IF('見積書(2号)'!M945=\"\",\"\",'見積書(2号)'!M945)","v":""},null,"","",null,"",""]
[{"$f":"IF('見積書(2号)'!A946=\"\",\"\",'見積書(2号)'!A946)","v":""},{"$f":"IF('見積書(2号)'!B946=\"\",\"\",'見積書(2号)'!B946)","v":""},{"$f":"IF('見積書(2号)'!C946=\"\",\"\",'見積書(2号)'!C946)","v":""},{"$f":"IF('見積書(2号)'!H946=\"\",\"\",'見積書(2号)'!H946)","v":""},{"$f":"IF('見積書(2号)'!E946=\"\",\"\",'見積書(2号)'!E946)","v":""},{"$f":"IF('見積書(2号)'!I946=\"\",\"\",'見積書(2号)'!I946)","v":""},{"$f":"IF('見積書(2号)'!J946=\"\",\"\",'見積書(2号)'!J946)","v":""},{"$f":"IF('見積書(2号)'!K946=\"\",\"\",'見積書(2号)'!K946)","v":""},{"$f":"IF('見積書(2号)'!L946=\"\",\"\",'見積書(2号)'!L946)","v":""},{"$f":"IF('見積書(2号)'!M946=\"\",\"\",'見積書(2号)'!M946)","v":""},null,"","",null,"",""]
[{"$f":"IF('見積書(2号)'!A947=\"\",\"\",'見積書(2号)'!A947)","v":""},{"$f":"IF('見積書(2号)'!B947=\"\",\"\",'見積書(2号)'!B947)","v":""},{"$f":"IF('見積書(2号)'!C947=\"\",\"\",'見積書(2号)'!C947)","v":""},{"$f":"IF('見積書(2号)'!H947=\"\",\"\",'見積書(2号)'!H947)","v":""},{"$f":"IF('見積書(2号)'!E947=\"\",\"\",'見積書(2号)'!E947)","v":""},{"$f":"IF('見積書(2号)'!I947=\"\",\"\",'見積書(2号)'!I947)","v":""},{"$f":"IF('見積書(2号)'!J947=\"\",\"\",'見積書(2号)'!J947)","v":""},{"$f":"IF('見積書(2号)'!K947=\"\",\"\",'見積書(2号)'!K947)","v":""},{"$f":"IF('見積書(2号)'!L947=\"\",\"\",'見積書(2号)'!L947)","v":""},{"$f":"IF('見積書(2号)'!M947=\"\",\"\",'見積書(2号)'!M947)","v":""},null,"","",null,"",""]
[{"$f":"IF('見積書(2号)'!A948=\"\",\"\",'見積書(2号)'!A948)","v":""},{"$f":"IF('見積書(2号)'!B948=\"\",\"\",'見積書(2号)'!B948)","v":""},{"$f":"IF('見積書(2号)'!C948=\"\",\"\",'見積書(2号)'!C948)","v":""},{"$f":"IF('見積書(2号)'!H948=\"\",\"\",'見積書(2号)'!H948)","v":""},{"$f":"IF('見積書(2号)'!E948=\"\",\"\",'見積書(2号)'!E948)","v":""},{"$f":"IF('見積書(2号)'!I948=\"\",\"\",'見積書(2号)'!I948)","v":""},{"$f":"IF('見積書(2号)'!J948=\"\",\"\",'見積書(2号)'!J948)","v":""},{"$f":"IF('見積書(2号)'!K948=\"\",\"\",'見積書(2号)'!K948)","v":""},{"$f":"IF('見積書(2号)'!L948=\"\",\"\",'見積書(2号)'!L948)","v":""},{"$f":"IF('見積書(2号)'!M948=\"\",\"\",'見積書(2号)'!M948)","v":""},null,"","",null,"",""]
[{"$f":"IF('見積書(2号)'!A949=\"\",\"\",'見積書(2号)'!A949)","v":""},{"$f":"IF('見積書(2号)'!B949=\"\",\"\",'見積書(2号)'!B949)","v":""},{"$f":"IF('見積書(2号)'!C949=\"\",\"\",'見積書(2号)'!C949)","v":""},{"$f":"IF('見積書(2号)'!H949=\"\",\"\",'見積書(2号)'!H949)","v":""},{"$f":"IF('見積書(2号)'!E949=\"\",\"\",'見積書(2号)'!E949)","v":""},{"$f":"IF('見積書(2号)'!I949=\"\",\"\",'見積書(2号)'!I949)","v":""},{"$f":"IF('見積書(2号)'!J949=\"\",\"\",'見積書(2号)'!J949)","v":""},{"$f":"IF('見積書(2号)'!K949=\"\",\"\",'見積書(2号)'!K949)","v":""},{"$f":"IF('見積書(2号)'!L949=\"\",\"\",'見積書(2号)'!L949)","v":""},{"$f":"IF('見積書(2号)'!M949=\"\",\"\",'見積書(2号)'!M949)","v":""},null,"","",null,"",""]
[{"$f":"IF('見積書(2号)'!A950=\"\",\"\",'見積書(2号)'!A950)","v":""},{"$f":"IF('見積書(2号)'!B950=\"\",\"\",'見積書(2号)'!B950)","v":""},{"$f":"IF('見積書(2号)'!C950=\"\",\"\",'見積書(2号)'!C950)","v":""},{"$f":"IF('見積書(2号)'!H950=\"\",\"\",'見積書(2号)'!H950)","v":""},{"$f":"IF('見積書(2号)'!E950=\"\",\"\",'見積書(2号)'!E950)","v":""},{"$f":"IF('見積書(2号)'!I950=\"\",\"\",'見積書(2号)'!I950)","v":""},{"$f":"IF('見積書(2号)'!J950=\"\",\"\",'見積書(2号)'!J950)","v":""},{"$f":"IF('見積書(2号)'!K950=\"\",\"\",'見積書(2号)'!K950)","v":""},{"$f":"IF('見積書(2号)'!L950=\"\",\"\",'見積書(2号)'!L950)","v":""},{"$f":"IF('見積書(2号)'!M950=\"\",\"\",'見積書(2号)'!M950)","v":""},null,"","",null,"",""]
[{"$f":"IF('見積書(2号)'!A951=\"\",\"\",'見積書(2号)'!A951)","v":""},{"$f":"IF('見積書(2号)'!B951=\"\",\"\",'見積書(2号)'!B951)","v":""},{"$f":"IF('見積書(2号)'!C951=\"\",\"\",'見積書(2号)'!C951)","v":""},{"$f":"IF('見積書(2号)'!H951=\"\",\"\",'見積書(2号)'!H951)","v":""},{"$f":"IF('見積書(2号)'!E951=\"\",\"\",'見積書(2号)'!E951)","v":""},{"$f":"IF('見積書(2号)'!I951=\"\",\"\",'見積書(2号)'!I951)","v":""},{"$f":"IF('見積書(2号)'!J951=\"\",\"\",'見積書(2号)'!J951)","v":""},{"$f":"IF('見積書(2号)'!K951=\"\",\"\",'見積書(2号)'!K951)","v":""},{"$f":"IF('見積書(2号)'!L951=\"\",\"\",'見積書(2号)'!L951)","v":""},{"$f":"IF('見積書(2号)'!M951=\"\",\"\",'見積書(2号)'!M951)","v":""},null,"","",null,"",""]
[{"$f":"IF('見積書(2号)'!A952=\"\",\"\",'見積書(2号)'!A952)","v":""},{"$f":"IF('見積書(2号)'!B952=\"\",\"\",'見積書(2号)'!B952)","v":""},{"$f":"IF('見積書(2号)'!C952=\"\",\"\",'見積書(2号)'!C952)","v":""},{"$f":"IF('見積書(2号)'!H952=\"\",\"\",'見積書(2号)'!H952)","v":""},{"$f":"IF('見積書(2号)'!E952=\"\",\"\",'見積書(2号)'!E952)","v":""},{"$f":"IF('見積書(2号)'!I952=\"\",\"\",'見積書(2号)'!I952)","v":""},{"$f":"IF('見積書(2号)'!J952=\"\",\"\",'見積書(2号)'!J952)","v":""},{"$f":"IF('見積書(2号)'!K952=\"\",\"\",'見積書(2号)'!K952)","v":""},{"$f":"IF('見積書(2号)'!L952=\"\",\"\",'見積書(2号)'!L952)","v":""},{"$f":"IF('見積書(2号)'!M952=\"\",\"\",'見積書(2号)'!M952)","v":""},null,"","",null,"",""]
[{"$f":"IF('見積書(2号)'!A953=\"\",\"\",'見積書(2号)'!A953)","v":""},{"$f":"IF('見積書(2号)'!B953=\"\",\"\",'見積書(2号)'!B953)","v":""},{"$f":"IF('見積書(2号)'!C953=\"\",\"\",'見積書(2号)'!C953)","v":""},{"$f":"IF('見積書(2号)'!H953=\"\",\"\",'見積書(2号)'!H953)","v":""},{"$f":"IF('見積書(2号)'!E953=\"\",\"\",'見積書(2号)'!E953)","v":""},{"$f":"IF('見積書(2号)'!I953=\"\",\"\",'見積書(2号)'!I953)","v":""},{"$f":"IF('見積書(2号)'!J953=\"\",\"\",'見積書(2号)'!J953)","v":""},{"$f":"IF('見積書(2号)'!K953=\"\",\"\",'見積書(2号)'!K953)","v":""},{"$f":"IF('見積書(2号)'!L953=\"\",\"\",'見積書(2号)'!L953)","v":""},{"$f":"IF('見積書(2号)'!M953=\"\",\"\",'見積書(2号)'!M953)","v":""},null,"","",null,"",""]
[{"$f":"IF('見積書(2号)'!A954=\"\",\"\",'見積書(2号)'!A954)","v":""},{"$f":"IF('見積書(2号)'!B954=\"\",\"\",'見積書(2号)'!B954)","v":""},{"$f":"IF('見積書(2号)'!C954=\"\",\"\",'見積書(2号)'!C954)","v":""},{"$f":"IF('見積書(2号)'!H954=\"\",\"\",'見積書(2号)'!H954)","v":""},{"$f":"IF('見積書(2号)'!E954=\"\",\"\",'見積書(2号)'!E954)","v":""},{"$f":"IF('見積書(2号)'!I954=\"\",\"\",'見積書(2号)'!I954)","v":""},{"$f":"IF('見積書(2号)'!J954=\"\",\"\",'見積書(2号)'!J954)","v":""},{"$f":"IF('見積書(2号)'!K954=\"\",\"\",'見積書(2号)'!K954)","v":""},{"$f":"IF('見積書(2号)'!L954=\"\",\"\",'見積書(2号)'!L954)","v":""},{"$f":"IF('見積書(2号)'!M954=\"\",\"\",'見積書(2号)'!M954)","v":""},null,"","",null,"",""]
[{"$f":"IF('見積書(2号)'!A955=\"\",\"\",'見積書(2号)'!A955)","v":""},{"$f":"IF('見積書(2号)'!B955=\"\",\"\",'見積書(2号)'!B955)","v":""},{"$f":"IF('見積書(2号)'!C955=\"\",\"\",'見積書(2号)'!C955)","v":""},{"$f":"IF('見積書(2号)'!H955=\"\",\"\",'見積書(2号)'!H955)","v":""},{"$f":"IF('見積書(2号)'!E955=\"\",\"\",'見積書(2号)'!E955)","v":""},{"$f":"IF('見積書(2号)'!I955=\"\",\"\",'見積書(2号)'!I955)","v":""},{"$f":"IF('見積書(2号)'!J955=\"\",\"\",'見積書(2号)'!J955)","v":""},{"$f":"IF('見積書(2号)'!K955=\"\",\"\",'見積書(2号)'!K955)","v":""},{"$f":"IF('見積書(2号)'!L955=\"\",\"\",'見積書(2号)'!L955)","v":""},{"$f":"IF('見積書(2号)'!M955=\"\",\"\",'見積書(2号)'!M955)","v":""},null,"","",null,"",""]
[{"$f":"IF('見積書(2号)'!A956=\"\",\"\",'見積書(2号)'!A956)","v":""},{"$f":"IF('見積書(2号)'!B956=\"\",\"\",'見積書(2号)'!B956)","v":""},{"$f":"IF('見積書(2号)'!C956=\"\",\"\",'見積書(2号)'!C956)","v":""},{"$f":"IF('見積書(2号)'!H956=\"\",\"\",'見積書(2号)'!H956)","v":""},{"$f":"IF('見積書(2号)'!E956=\"\",\"\",'見積書(2号)'!E956)","v":""},{"$f":"IF('見積書(2号)'!I956=\"\",\"\",'見積書(2号)'!I956)","v":""},{"$f":"IF('見積書(2号)'!J956=\"\",\"\",'見積書(2号)'!J956)","v":""},{"$f":"IF('見積書(2号)'!K956=\"\",\"\",'見積書(2号)'!K956)","v":""},{"$f":"IF('見積書(2号)'!L956=\"\",\"\",'見積書(2号)'!L956)","v":""},{"$f":"IF('見積書(2号)'!M956=\"\",\"\",'見積書(2号)'!M956)","v":""},null,"","",null,"",""]
[{"$f":"IF('見積書(2号)'!A957=\"\",\"\",'見積書(2号)'!A957)","v":""},{"$f":"IF('見積書(2号)'!B957=\"\",\"\",'見積書(2号)'!B957)","v":""},{"$f":"IF('見積書(2号)'!C957=\"\",\"\",'見積書(2号)'!C957)","v":""},{"$f":"IF('見積書(2号)'!H957=\"\",\"\",'見積書(2号)'!H957)","v":""},{"$f":"IF('見積書(2号)'!E957=\"\",\"\",'見積書(2号)'!E957)","v":""},{"$f":"IF('見積書(2号)'!I957=\"\",\"\",'見積書(2号)'!I957)","v":""},{"$f":"IF('見積書(2号)'!J957=\"\",\"\",'見積書(2号)'!J957)","v":""},{"$f":"IF('見積書(2号)'!K957=\"\",\"\",'見積書(2号)'!K957)","v":""},{"$f":"IF('見積書(2号)'!L957=\"\",\"\",'見積書(2号)'!L957)","v":""},{"$f":"IF('見積書(2号)'!M957=\"\",\"\",'見積書(2号)'!M957)","v":""},null,"","",null,"",""]
[{"$f":"IF('見積書(2号)'!A958=\"\",\"\",'見積書(2号)'!A958)","v":""},{"$f":"IF('見積書(2号)'!B958=\"\",\"\",'見積書(2号)'!B958)","v":""},{"$f":"IF('見積書(2号)'!C958=\"\",\"\",'見積書(2号)'!C958)","v":""},{"$f":"IF('見積書(2号)'!H958=\"\",\"\",'見積書(2号)'!H958)","v":""},{"$f":"IF('見積書(2号)'!E958=\"\",\"\",'見積書(2号)'!E958)","v":""},{"$f":"IF('見積書(2号)'!I958=\"\",\"\",'見積書(2号)'!I958)","v":""},{"$f":"IF('見積書(2号)'!J958=\"\",\"\",'見積書(2号)'!J958)","v":""},{"$f":"IF('見積書(2号)'!K958=\"\",\"\",'見積書(2号)'!K958)","v":""},{"$f":"IF('見積書(2号)'!L958=\"\",\"\",'見積書(2号)'!L958)","v":""},{"$f":"IF('見積書(2号)'!M958=\"\",\"\",'見積書(2号)'!M958)","v":""},null,"","",null,"",""]
[{"$f":"IF('見積書(2号)'!A959=\"\",\"\",'見積書(2号)'!A959)","v":""},{"$f":"IF('見積書(2号)'!B959=\"\",\"\",'見積書(2号)'!B959)","v":""},{"$f":"IF('見積書(2号)'!C959=\"\",\"\",'見積書(2号)'!C959)","v":""},{"$f":"IF('見積書(2号)'!H959=\"\",\"\",'見積書(2号)'!H959)","v":""},{"$f":"IF('見積書(2号)'!E959=\"\",\"\",'見積書(2号)'!E959)","v":""},{"$f":"IF('見積書(2号)'!I959=\"\",\"\",'見積書(2号)'!I959)","v":""},{"$f":"IF('見積書(2号)'!J959=\"\",\"\",'見積書(2号)'!J959)","v":""},{"$f":"IF('見積書(2号)'!K959=\"\",\"\",'見積書(2号)'!K959)","v":""},{"$f":"IF('見積書(2号)'!L959=\"\",\"\",'見積書(2号)'!L959)","v":""},{"$f":"IF('見積書(2号)'!M959=\"\",\"\",'見積書(2号)'!M959)","v":""},null,"","",null,"",""]
[{"$f":"IF('見積書(2号)'!A960=\"\",\"\",'見積書(2号)'!A960)","v":""},{"$f":"IF('見積書(2号)'!B960=\"\",\"\",'見積書(2号)'!B960)","v":""},{"$f":"IF('見積書(2号)'!C960=\"\",\"\",'見積書(2号)'!C960)","v":""},{"$f":"IF('見積書(2号)'!H960=\"\",\"\",'見積書(2号)'!H960)","v":""},{"$f":"IF('見積書(2号)'!E960=\"\",\"\",'見積書(2号)'!E960)","v":""},{"$f":"IF('見積書(2号)'!I960=\"\",\"\",'見積書(2号)'!I960)","v":""},{"$f":"IF('見積書(2号)'!J960=\"\",\"\",'見積書(2号)'!J960)","v":""},{"$f":"IF('見積書(2号)'!K960=\"\",\"\",'見積書(2号)'!K960)","v":""},{"$f":"IF('見積書(2号)'!L960=\"\",\"\",'見積書(2号)'!L960)","v":""},{"$f":"IF('見積書(2号)'!M960=\"\",\"\",'見積書(2号)'!M960)","v":""},null,"","",null,"",""]
[{"$f":"IF('見積書(2号)'!A961=\"\",\"\",'見積書(2号)'!A961)","v":""},{"$f":"IF('見積書(2号)'!B961=\"\",\"\",'見積書(2号)'!B961)","v":""},{"$f":"IF('見積書(2号)'!C961=\"\",\"\",'見積書(2号)'!C961)","v":""},{"$f":"IF('見積書(2号)'!H961=\"\",\"\",'見積書(2号)'!H961)","v":""},{"$f":"IF('見積書(2号)'!E961=\"\",\"\",'見積書(2号)'!E961)","v":""},{"$f":"IF('見積書(2号)'!I961=\"\",\"\",'見積書(2号)'!I961)","v":""},{"$f":"IF('見積書(2号)'!J961=\"\",\"\",'見積書(2号)'!J961)","v":""},{"$f":"IF('見積書(2号)'!K961=\"\",\"\",'見積書(2号)'!K961)","v":""},{"$f":"IF('見積書(2号)'!L961=\"\",\"\",'見積書(2号)'!L961)","v":""},{"$f":"IF('見積書(2号)'!M961=\"\",\"\",'見積書(2号)'!M961)","v":""},null,"","",null,"",""]
[{"$f":"IF('見積書(2号)'!A962=\"\",\"\",'見積書(2号)'!A962)","v":""},{"$f":"IF('見積書(2号)'!B962=\"\",\"\",'見積書(2号)'!B962)","v":""},{"$f":"IF('見積書(2号)'!C962=\"\",\"\",'見積書(2号)'!C962)","v":""},{"$f":"IF('見積書(2号)'!H962=\"\",\"\",'見積書(2号)'!H962)","v":""},{"$f":"IF('見積書(2号)'!E962=\"\",\"\",'見積書(2号)'!E962)","v":""},{"$f":"IF('見積書(2号)'!I962=\"\",\"\",'見積書(2号)'!I962)","v":""},{"$f":"IF('見積書(2号)'!J962=\"\",\"\",'見積書(2号)'!J962)","v":""},{"$f":"IF('見積書(2号)'!K962=\"\",\"\",'見積書(2号)'!K962)","v":""},{"$f":"IF('見積書(2号)'!L962=\"\",\"\",'見積書(2号)'!L962)","v":""},{"$f":"IF('見積書(2号)'!M962=\"\",\"\",'見積書(2号)'!M962)","v":""},null,"","",null,"",""]
[{"$f":"IF('見積書(2号)'!A963=\"\",\"\",'見積書(2号)'!A963)","v":""},{"$f":"IF('見積書(2号)'!B963=\"\",\"\",'見積書(2号)'!B963)","v":""},{"$f":"IF('見積書(2号)'!C963=\"\",\"\",'見積書(2号)'!C963)","v":""},{"$f":"IF('見積書(2号)'!H963=\"\",\"\",'見積書(2号)'!H963)","v":""},{"$f":"IF('見積書(2号)'!E963=\"\",\"\",'見積書(2号)'!E963)","v":""},{"$f":"IF('見積書(2号)'!I963=\"\",\"\",'見積書(2号)'!I963)","v":""},{"$f":"IF('見積書(2号)'!J963=\"\",\"\",'見積書(2号)'!J963)","v":""},{"$f":"IF('見積書(2号)'!K963=\"\",\"\",'見積書(2号)'!K963)","v":""},{"$f":"IF('見積書(2号)'!L963=\"\",\"\",'見積書(2号)'!L963)","v":""},{"$f":"IF('見積書(2号)'!M963=\"\",\"\",'見積書(2号)'!M963)","v":""},null,"","",null,"",""]
[{"$f":"IF('見積書(2号)'!A964=\"\",\"\",'見積書(2号)'!A964)","v":""},{"$f":"IF('見積書(2号)'!B964=\"\",\"\",'見積書(2号)'!B964)","v":""},{"$f":"IF('見積書(2号)'!C964=\"\",\"\",'見積書(2号)'!C964)","v":""},{"$f":"IF('見積書(2号)'!H964=\"\",\"\",'見積書(2号)'!H964)","v":""},{"$f":"IF('見積書(2号)'!E964=\"\",\"\",'見積書(2号)'!E964)","v":""},{"$f":"IF('見積書(2号)'!I964=\"\",\"\",'見積書(2号)'!I964)","v":""},{"$f":"IF('見積書(2号)'!J964=\"\",\"\",'見積書(2号)'!J964)","v":""},{"$f":"IF('見積書(2号)'!K964=\"\",\"\",'見積書(2号)'!K964)","v":""},{"$f":"IF('見積書(2号)'!L964=\"\",\"\",'見積書(2号)'!L964)","v":""},{"$f":"IF('見積書(2号)'!M964=\"\",\"\",'見積書(2号)'!M964)","v":""},null,"","",null,"",""]
[{"$f":"IF('見積書(2号)'!A965=\"\",\"\",'見積書(2号)'!A965)","v":""},{"$f":"IF('見積書(2号)'!B965=\"\",\"\",'見積書(2号)'!B965)","v":""},{"$f":"IF('見積書(2号)'!C965=\"\",\"\",'見積書(2号)'!C965)","v":""},{"$f":"IF('見積書(2号)'!H965=\"\",\"\",'見積書(2号)'!H965)","v":""},{"$f":"IF('見積書(2号)'!E965=\"\",\"\",'見積書(2号)'!E965)","v":""},{"$f":"IF('見積書(2号)'!I965=\"\",\"\",'見積書(2号)'!I965)","v":""},{"$f":"IF('見積書(2号)'!J965=\"\",\"\",'見積書(2号)'!J965)","v":""},{"$f":"IF('見積書(2号)'!K965=\"\",\"\",'見積書(2号)'!K965)","v":""},{"$f":"IF('見積書(2号)'!L965=\"\",\"\",'見積書(2号)'!L965)","v":""},{"$f":"IF('見積書(2号)'!M965=\"\",\"\",'見積書(2号)'!M965)","v":""},null,"","",null,"",""]
[{"$f":"IF('見積書(2号)'!A966=\"\",\"\",'見積書(2号)'!A966)","v":""},{"$f":"IF('見積書(2号)'!B966=\"\",\"\",'見積書(2号)'!B966)","v":""},{"$f":"IF('見積書(2号)'!C966=\"\",\"\",'見積書(2号)'!C966)","v":""},{"$f":"IF('見積書(2号)'!H966=\"\",\"\",'見積書(2号)'!H966)","v":""},{"$f":"IF('見積書(2号)'!E966=\"\",\"\",'見積書(2号)'!E966)","v":""},{"$f":"IF('見積書(2号)'!I966=\"\",\"\",'見積書(2号)'!I966)","v":""},{"$f":"IF('見積書(2号)'!J966=\"\",\"\",'見積書(2号)'!J966)","v":""},{"$f":"IF('見積書(2号)'!K966=\"\",\"\",'見積書(2号)'!K966)","v":""},{"$f":"IF('見積書(2号)'!L966=\"\",\"\",'見積書(2号)'!L966)","v":""},{"$f":"IF('見積書(2号)'!M966=\"\",\"\",'見積書(2号)'!M966)","v":""},null,"","",null,"",""]
[{"$f":"IF('見積書(2号)'!A967=\"\",\"\",'見積書(2号)'!A967)","v":""},{"$f":"IF('見積書(2号)'!B967=\"\",\"\",'見積書(2号)'!B967)","v":""},{"$f":"IF('見積書(2号)'!C967=\"\",\"\",'見積書(2号)'!C967)","v":""},{"$f":"IF('見積書(2号)'!H967=\"\",\"\",'見積書(2号)'!H967)","v":""},{"$f":"IF('見積書(2号)'!E967=\"\",\"\",'見積書(2号)'!E967)","v":""},{"$f":"IF('見積書(2号)'!I967=\"\",\"\",'見積書(2号)'!I967)","v":""},{"$f":"IF('見積書(2号)'!J967=\"\",\"\",'見積書(2号)'!J967)","v":""},{"$f":"IF('見積書(2号)'!K967=\"\",\"\",'見積書(2号)'!K967)","v":""},{"$f":"IF('見積書(2号)'!L967=\"\",\"\",'見積書(2号)'!L967)","v":""},{"$f":"IF('見積書(2号)'!M967=\"\",\"\",'見積書(2号)'!M967)","v":""},null,"","",null,"",""]
[{"$f":"IF('見積書(2号)'!A968=\"\",\"\",'見積書(2号)'!A968)","v":""},{"$f":"IF('見積書(2号)'!B968=\"\",\"\",'見積書(2号)'!B968)","v":""},{"$f":"IF('見積書(2号)'!C968=\"\",\"\",'見積書(2号)'!C968)","v":""},{"$f":"IF('見積書(2号)'!H968=\"\",\"\",'見積書(2号)'!H968)","v":""},{"$f":"IF('見積書(2号)'!E968=\"\",\"\",'見積書(2号)'!E968)","v":""},{"$f":"IF('見積書(2号)'!I968=\"\",\"\",'見積書(2号)'!I968)","v":""},{"$f":"IF('見積書(2号)'!J968=\"\",\"\",'見積書(2号)'!J968)","v":""},{"$f":"IF('見積書(2号)'!K968=\"\",\"\",'見積書(2号)'!K968)","v":""},{"$f":"IF('見積書(2号)'!L968=\"\",\"\",'見積書(2号)'!L968)","v":""},{"$f":"IF('見積書(2号)'!M968=\"\",\"\",'見積書(2号)'!M968)","v":""},null,"","",null,"",""]
[{"$f":"IF('見積書(2号)'!A969=\"\",\"\",'見積書(2号)'!A969)","v":""},{"$f":"IF('見積書(2号)'!B969=\"\",\"\",'見積書(2号)'!B969)","v":""},{"$f":"IF('見積書(2号)'!C969=\"\",\"\",'見積書(2号)'!C969)","v":""},{"$f":"IF('見積書(2号)'!H969=\"\",\"\",'見積書(2号)'!H969)","v":""},{"$f":"IF('見積書(2号)'!E969=\"\",\"\",'見積書(2号)'!E969)","v":""},{"$f":"IF('見積書(2号)'!I969=\"\",\"\",'見積書(2号)'!I969)","v":""},{"$f":"IF('見積書(2号)'!J969=\"\",\"\",'見積書(2号)'!J969)","v":""},{"$f":"IF('見積書(2号)'!K969=\"\",\"\",'見積書(2号)'!K969)","v":""},{"$f":"IF('見積書(2号)'!L969=\"\",\"\",'見積書(2号)'!L969)","v":""},{"$f":"IF('見積書(2号)'!M969=\"\",\"\",'見積書(2号)'!M969)","v":""},null,"","",null,"",""]
[{"$f":"IF('見積書(2号)'!A970=\"\",\"\",'見積書(2号)'!A970)","v":""},{"$f":"IF('見積書(2号)'!B970=\"\",\"\",'見積書(2号)'!B970)","v":""},{"$f":"IF('見積書(2号)'!C970=\"\",\"\",'見積書(2号)'!C970)","v":""},{"$f":"IF('見積書(2号)'!H970=\"\",\"\",'見積書(2号)'!H970)","v":""},{"$f":"IF('見積書(2号)'!E970=\"\",\"\",'見積書(2号)'!E970)","v":""},{"$f":"IF('見積書(2号)'!I970=\"\",\"\",'見積書(2号)'!I970)","v":""},{"$f":"IF('見積書(2号)'!J970=\"\",\"\",'見積書(2号)'!J970)","v":""},{"$f":"IF('見積書(2号)'!K970=\"\",\"\",'見積書(2号)'!K970)","v":""},{"$f":"IF('見積書(2号)'!L970=\"\",\"\",'見積書(2号)'!L970)","v":""},{"$f":"IF('見積書(2号)'!M970=\"\",\"\",'見積書(2号)'!M970)","v":""},null,"","",null,"",""]
[{"$f":"IF('見積書(2号)'!A971=\"\",\"\",'見積書(2号)'!A971)","v":""},{"$f":"IF('見積書(2号)'!B971=\"\",\"\",'見積書(2号)'!B971)","v":""},{"$f":"IF('見積書(2号)'!C971=\"\",\"\",'見積書(2号)'!C971)","v":""},{"$f":"IF('見積書(2号)'!H971=\"\",\"\",'見積書(2号)'!H971)","v":""},{"$f":"IF('見積書(2号)'!E971=\"\",\"\",'見積書(2号)'!E971)","v":""},{"$f":"IF('見積書(2号)'!I971=\"\",\"\",'見積書(2号)'!I971)","v":""},{"$f":"IF('見積書(2号)'!J971=\"\",\"\",'見積書(2号)'!J971)","v":""},{"$f":"IF('見積書(2号)'!K971=\"\",\"\",'見積書(2号)'!K971)","v":""},{"$f":"IF('見積書(2号)'!L971=\"\",\"\",'見積書(2号)'!L971)","v":""},{"$f":"IF('見積書(2号)'!M971=\"\",\"\",'見積書(2号)'!M971)","v":""},null,{"$f":"IF(I971=\"\",F971,I971)","v":""},{"$f":"IF(L971=\"\",\"\",L971*K971)","v":""},null,"",""]
[{"$f":"IF('見積書(2号)'!A972=\"\",\"\",'見積書(2号)'!A972)","v":""},{"$f":"IF('見積書(2号)'!B972=\"\",\"\",'見積書(2号)'!B972)","v":""},{"$f":"IF('見積書(2号)'!C972=\"\",\"\",'見積書(2号)'!C972)","v":""},{"$f":"IF('見積書(2号)'!H972=\"\",\"\",'見積書(2号)'!H972)","v":""},{"$f":"IF('見積書(2号)'!E972=\"\",\"\",'見積書(2号)'!E972)","v":""},{"$f":"IF('見積書(2号)'!I972=\"\",\"\",'見積書(2号)'!I972)","v":""},{"$f":"IF('見積書(2号)'!J972=\"\",\"\",'見積書(2号)'!J972)","v":""},{"$f":"IF('見積書(2号)'!K972=\"\",\"\",'見積書(2号)'!K972)","v":""},{"$f":"IF('見積書(2号)'!L972=\"\",\"\",'見積書(2号)'!L972)","v":""},{"$f":"IF('見積書(2号)'!M972=\"\",\"\",'見積書(2号)'!M972)","v":""},null,"","",null,"",""]
[{"$f":"IF('見積書(2号)'!A973=\"\",\"\",'見積書(2号)'!A973)","v":""},{"$f":"IF('見積書(2号)'!B973=\"\",\"\",'見積書(2号)'!B973)","v":""},{"$f":"IF('見積書(2号)'!C973=\"\",\"\",'見積書(2号)'!C973)","v":""},{"$f":"IF('見積書(2号)'!H973=\"\",\"\",'見積書(2号)'!H973)","v":""},{"$f":"IF('見積書(2号)'!E973=\"\",\"\",'見積書(2号)'!E973)","v":""},{"$f":"IF('見積書(2号)'!I973=\"\",\"\",'見積書(2号)'!I973)","v":""},{"$f":"IF('見積書(2号)'!J973=\"\",\"\",'見積書(2号)'!J973)","v":""},{"$f":"IF('見積書(2号)'!K973=\"\",\"\",'見積書(2号)'!K973)","v":""},{"$f":"IF('見積書(2号)'!L973=\"\",\"\",'見積書(2号)'!L973)","v":""},{"$f":"IF('見積書(2号)'!M973=\"\",\"\",'見積書(2号)'!M973)","v":""},null,"","",null,"",""]
[{"$f":"IF('見積書(2号)'!A974=\"\",\"\",'見積書(2号)'!A974)","v":""},{"$f":"IF('見積書(2号)'!B974=\"\",\"\",'見積書(2号)'!B974)","v":""},{"$f":"IF('見積書(2号)'!C974=\"\",\"\",'見積書(2号)'!C974)","v":""},{"$f":"IF('見積書(2号)'!H974=\"\",\"\",'見積書(2号)'!H974)","v":""},{"$f":"IF('見積書(2号)'!E974=\"\",\"\",'見積書(2号)'!E974)","v":""},{"$f":"IF('見積書(2号)'!I974=\"\",\"\",'見積書(2号)'!I974)","v":""},{"$f":"IF('見積書(2号)'!J974=\"\",\"\",'見積書(2号)'!J974)","v":""},{"$f":"IF('見積書(2号)'!K974=\"\",\"\",'見積書(2号)'!K974)","v":""},{"$f":"IF('見積書(2号)'!L974=\"\",\"\",'見積書(2号)'!L974)","v":""},{"$f":"IF('見積書(2号)'!M974=\"\",\"\",'見積書(2号)'!M974)","v":""},null,"","",null,"",""]
[{"$f":"IF('見積書(2号)'!A975=\"\",\"\",'見積書(2号)'!A975)","v":""},{"$f":"IF('見積書(2号)'!B975=\"\",\"\",'見積書(2号)'!B975)","v":""},{"$f":"IF('見積書(2号)'!C975=\"\",\"\",'見積書(2号)'!C975)","v":""},{"$f":"IF('見積書(2号)'!H975=\"\",\"\",'見積書(2号)'!H975)","v":""},{"$f":"IF('見積書(2号)'!E975=\"\",\"\",'見積書(2号)'!E975)","v":""},{"$f":"IF('見積書(2号)'!I975=\"\",\"\",'見積書(2号)'!I975)","v":""},{"$f":"IF('見積書(2号)'!J975=\"\",\"\",'見積書(2号)'!J975)","v":""},{"$f":"IF('見積書(2号)'!K975=\"\",\"\",'見積書(2号)'!K975)","v":""},{"$f":"IF('見積書(2号)'!L975=\"\",\"\",'見積書(2号)'!L975)","v":""},{"$f":"IF('見積書(2号)'!M975=\"\",\"\",'見積書(2号)'!M975)","v":""},null,"","",null,"",""]
[{"$f":"IF('見積書(2号)'!A976=\"\",\"\",'見積書(2号)'!A976)","v":""},{"$f":"IF('見積書(2号)'!B976=\"\",\"\",'見積書(2号)'!B976)","v":""},{"$f":"IF('見積書(2号)'!C976=\"\",\"\",'見積書(2号)'!C976)","v":""},{"$f":"IF('見積書(2号)'!H976=\"\",\"\",'見積書(2号)'!H976)","v":""},{"$f":"IF('見積書(2号)'!E976=\"\",\"\",'見積書(2号)'!E976)","v":""},{"$f":"IF('見積書(2号)'!I976=\"\",\"\",'見積書(2号)'!I976)","v":""},{"$f":"IF('見積書(2号)'!J976=\"\",\"\",'見積書(2号)'!J976)","v":""},{"$f":"IF('見積書(2号)'!K976=\"\",\"\",'見積書(2号)'!K976)","v":""},{"$f":"IF('見積書(2号)'!L976=\"\",\"\",'見積書(2号)'!L976)","v":""},{"$f":"IF('見積書(2号)'!M976=\"\",\"\",'見積書(2号)'!M976)","v":""},null,"","",null,"",""]
[{"$f":"IF('見積書(2号)'!A977=\"\",\"\",'見積書(2号)'!A977)","v":""},{"$f":"IF('見積書(2号)'!B977=\"\",\"\",'見積書(2号)'!B977)","v":""},{"$f":"IF('見積書(2号)'!C977=\"\",\"\",'見積書(2号)'!C977)","v":""},{"$f":"IF('見積書(2号)'!H977=\"\",\"\",'見積書(2号)'!H977)","v":""},{"$f":"IF('見積書(2号)'!E977=\"\",\"\",'見積書(2号)'!E977)","v":""},{"$f":"IF('見積書(2号)'!I977=\"\",\"\",'見積書(2号)'!I977)","v":""},{"$f":"IF('見積書(2号)'!J977=\"\",\"\",'見積書(2号)'!J977)","v":""},{"$f":"IF('見積書(2号)'!K977=\"\",\"\",'見積書(2号)'!K977)","v":""},{"$f":"IF('見積書(2号)'!L977=\"\",\"\",'見積書(2号)'!L977)","v":""},{"$f":"IF('見積書(2号)'!M977=\"\",\"\",'見積書(2号)'!M977)","v":""},null,"","",null,"",""]
[{"$f":"IF('見積書(2号)'!A978=\"\",\"\",'見積書(2号)'!A978)","v":""},{"$f":"IF('見積書(2号)'!B978=\"\",\"\",'見積書(2号)'!B978)","v":""},{"$f":"IF('見積書(2号)'!C978=\"\",\"\",'見積書(2号)'!C978)","v":""},{"$f":"IF('見積書(2号)'!H978=\"\",\"\",'見積書(2号)'!H978)","v":""},{"$f":"IF('見積書(2号)'!E978=\"\",\"\",'見積書(2号)'!E978)","v":""},{"$f":"IF('見積書(2号)'!I978=\"\",\"\",'見積書(2号)'!I978)","v":""},{"$f":"IF('見積書(2号)'!J978=\"\",\"\",'見積書(2号)'!J978)","v":""},{"$f":"IF('見積書(2号)'!K978=\"\",\"\",'見積書(2号)'!K978)","v":""},{"$f":"IF('見積書(2号)'!L978=\"\",\"\",'見積書(2号)'!L978)","v":""},{"$f":"IF('見積書(2号)'!M978=\"\",\"\",'見積書(2号)'!M978)","v":""},null,"","",null,"",""]
[{"$f":"IF('見積書(2号)'!A979=\"\",\"\",'見積書(2号)'!A979)","v":""},{"$f":"IF('見積書(2号)'!B979=\"\",\"\",'見積書(2号)'!B979)","v":""},{"$f":"IF('見積書(2号)'!C979=\"\",\"\",'見積書(2号)'!C979)","v":""},{"$f":"IF('見積書(2号)'!H979=\"\",\"\",'見積書(2号)'!H979)","v":""},{"$f":"IF('見積書(2号)'!E979=\"\",\"\",'見積書(2号)'!E979)","v":""},{"$f":"IF('見積書(2号)'!I979=\"\",\"\",'見積書(2号)'!I979)","v":""},{"$f":"IF('見積書(2号)'!J979=\"\",\"\",'見積書(2号)'!J979)","v":""},{"$f":"IF('見積書(2号)'!K979=\"\",\"\",'見積書(2号)'!K979)","v":""},{"$f":"IF('見積書(2号)'!L979=\"\",\"\",'見積書(2号)'!L979)","v":""},{"$f":"IF('見積書(2号)'!M979=\"\",\"\",'見積書(2号)'!M979)","v":""},null,"","",null,"",""]
[{"$f":"IF('見積書(2号)'!A980=\"\",\"\",'見積書(2号)'!A980)","v":""},{"$f":"IF('見積書(2号)'!B980=\"\",\"\",'見積書(2号)'!B980)","v":""},{"$f":"IF('見積書(2号)'!C980=\"\",\"\",'見積書(2号)'!C980)","v":""},{"$f":"IF('見積書(2号)'!H980=\"\",\"\",'見積書(2号)'!H980)","v":""},{"$f":"IF('見積書(2号)'!E980=\"\",\"\",'見積書(2号)'!E980)","v":""},{"$f":"IF('見積書(2号)'!I980=\"\",\"\",'見積書(2号)'!I980)","v":""},{"$f":"IF('見積書(2号)'!J980=\"\",\"\",'見積書(2号)'!J980)","v":""},{"$f":"IF('見積書(2号)'!K980=\"\",\"\",'見積書(2号)'!K980)","v":""},{"$f":"IF('見積書(2号)'!L980=\"\",\"\",'見積書(2号)'!L980)","v":""},{"$f":"IF('見積書(2号)'!M980=\"\",\"\",'見積書(2号)'!M980)","v":""},null,"","",null,"",""]
[{"$f":"IF('見積書(2号)'!A981=\"\",\"\",'見積書(2号)'!A981)","v":""},{"$f":"IF('見積書(2号)'!B981=\"\",\"\",'見積書(2号)'!B981)","v":""},{"$f":"IF('見積書(2号)'!C981=\"\",\"\",'見積書(2号)'!C981)","v":""},{"$f":"IF('見積書(2号)'!H981=\"\",\"\",'見積書(2号)'!H981)","v":""},{"$f":"IF('見積書(2号)'!E981=\"\",\"\",'見積書(2号)'!E981)","v":""},{"$f":"IF('見積書(2号)'!I981=\"\",\"\",'見積書(2号)'!I981)","v":""},{"$f":"IF('見積書(2号)'!J981=\"\",\"\",'見積書(2号)'!J981)","v":""},{"$f":"IF('見積書(2号)'!K981=\"\",\"\",'見積書(2号)'!K981)","v":""},{"$f":"IF('見積書(2号)'!L981=\"\",\"\",'見積書(2号)'!L981)","v":""},{"$f":"IF('見積書(2号)'!M981=\"\",\"\",'見積書(2号)'!M981)","v":""},null,"","",null,"",""]
[{"$f":"IF('見積書(2号)'!A982=\"\",\"\",'見積書(2号)'!A982)","v":""},{"$f":"IF('見積書(2号)'!B982=\"\",\"\",'見積書(2号)'!B982)","v":""},{"$f":"IF('見積書(2号)'!C982=\"\",\"\",'見積書(2号)'!C982)","v":""},{"$f":"IF('見積書(2号)'!H982=\"\",\"\",'見積書(2号)'!H982)","v":""},{"$f":"IF('見積書(2号)'!E982=\"\",\"\",'見積書(2号)'!E982)","v":""},{"$f":"IF('見積書(2号)'!I982=\"\",\"\",'見積書(2号)'!I982)","v":""},{"$f":"IF('見積書(2号)'!J982=\"\",\"\",'見積書(2号)'!J982)","v":""},{"$f":"IF('見積書(2号)'!K982=\"\",\"\",'見積書(2号)'!K982)","v":""},{"$f":"IF('見積書(2号)'!L982=\"\",\"\",'見積書(2号)'!L982)","v":""},{"$f":"IF('見積書(2号)'!M982=\"\",\"\",'見積書(2号)'!M982)","v":""},null,"","",null,"",""]
[{"$f":"IF('見積書(2号)'!A983=\"\",\"\",'見積書(2号)'!A983)","v":""},{"$f":"IF('見積書(2号)'!B983=\"\",\"\",'見積書(2号)'!B983)","v":""},{"$f":"IF('見積書(2号)'!C983=\"\",\"\",'見積書(2号)'!C983)","v":""},{"$f":"IF('見積書(2号)'!H983=\"\",\"\",'見積書(2号)'!H983)","v":""},{"$f":"IF('見積書(2号)'!E983=\"\",\"\",'見積書(2号)'!E983)","v":""},{"$f":"IF('見積書(2号)'!I983=\"\",\"\",'見積書(2号)'!I983)","v":""},{"$f":"IF('見積書(2号)'!J983=\"\",\"\",'見積書(2号)'!J983)","v":""},{"$f":"IF('見積書(2号)'!K983=\"\",\"\",'見積書(2号)'!K983)","v":""},{"$f":"IF('見積書(2号)'!L983=\"\",\"\",'見積書(2号)'!L983)","v":""},{"$f":"IF('見積書(2号)'!M983=\"\",\"\",'見積書(2号)'!M983)","v":""},null,"","",null,"",""]
[{"$f":"IF('見積書(2号)'!A984=\"\",\"\",'見積書(2号)'!A984)","v":""},{"$f":"IF('見積書(2号)'!B984=\"\",\"\",'見積書(2号)'!B984)","v":""},{"$f":"IF('見積書(2号)'!C984=\"\",\"\",'見積書(2号)'!C984)","v":""},{"$f":"IF('見積書(2号)'!H984=\"\",\"\",'見積書(2号)'!H984)","v":""},{"$f":"IF('見積書(2号)'!E984=\"\",\"\",'見積書(2号)'!E984)","v":""},{"$f":"IF('見積書(2号)'!I984=\"\",\"\",'見積書(2号)'!I984)","v":""},{"$f":"IF('見積書(2号)'!J984=\"\",\"\",'見積書(2号)'!J984)","v":""},{"$f":"IF('見積書(2号)'!K984=\"\",\"\",'見積書(2号)'!K984)","v":""},{"$f":"IF('見積書(2号)'!L984=\"\",\"\",'見積書(2号)'!L984)","v":""},{"$f":"IF('見積書(2号)'!M984=\"\",\"\",'見積書(2号)'!M984)","v":""},null,"","",null,"",""]
[{"$f":"IF('見積書(2号)'!A985=\"\",\"\",'見積書(2号)'!A985)","v":""},{"$f":"IF('見積書(2号)'!B985=\"\",\"\",'見積書(2号)'!B985)","v":""},{"$f":"IF('見積書(2号)'!C985=\"\",\"\",'見積書(2号)'!C985)","v":""},{"$f":"IF('見積書(2号)'!H985=\"\",\"\",'見積書(2号)'!H985)","v":""},{"$f":"IF('見積書(2号)'!E985=\"\",\"\",'見積書(2号)'!E985)","v":""},{"$f":"IF('見積書(2号)'!I985=\"\",\"\",'見積書(2号)'!I985)","v":""},{"$f":"IF('見積書(2号)'!J985=\"\",\"\",'見積書(2号)'!J985)","v":""},{"$f":"IF('見積書(2号)'!K985=\"\",\"\",'見積書(2号)'!K985)","v":""},{"$f":"IF('見積書(2号)'!L985=\"\",\"\",'見積書(2号)'!L985)","v":""},{"$f":"IF('見積書(2号)'!M985=\"\",\"\",'見積書(2号)'!M985)","v":""},null,"","",null,"",""]
[{"$f":"IF('見積書(2号)'!A986=\"\",\"\",'見積書(2号)'!A986)","v":""},{"$f":"IF('見積書(2号)'!B986=\"\",\"\",'見積書(2号)'!B986)","v":""},{"$f":"IF('見積書(2号)'!C986=\"\",\"\",'見積書(2号)'!C986)","v":""},{"$f":"IF('見積書(2号)'!H986=\"\",\"\",'見積書(2号)'!H986)","v":""},{"$f":"IF('見積書(2号)'!E986=\"\",\"\",'見積書(2号)'!E986)","v":""},{"$f":"IF('見積書(2号)'!I986=\"\",\"\",'見積書(2号)'!I986)","v":""},{"$f":"IF('見積書(2号)'!J986=\"\",\"\",'見積書(2号)'!J986)","v":""},{"$f":"IF('見積書(2号)'!K986=\"\",\"\",'見積書(2号)'!K986)","v":""},{"$f":"IF('見積書(2号)'!L986=\"\",\"\",'見積書(2号)'!L986)","v":""},{"$f":"IF('見積書(2号)'!M986=\"\",\"\",'見積書(2号)'!M986)","v":""},null,"","",null,"",""]
[{"$f":"IF('見積書(2号)'!A987=\"\",\"\",'見積書(2号)'!A987)","v":""},{"$f":"IF('見積書(2号)'!B987=\"\",\"\",'見積書(2号)'!B987)","v":""},{"$f":"IF('見積書(2号)'!C987=\"\",\"\",'見積書(2号)'!C987)","v":""},{"$f":"IF('見積書(2号)'!H987=\"\",\"\",'見積書(2号)'!H987)","v":""},{"$f":"IF('見積書(2号)'!E987=\"\",\"\",'見積書(2号)'!E987)","v":""},{"$f":"IF('見積書(2号)'!I987=\"\",\"\",'見積書(2号)'!I987)","v":""},{"$f":"IF('見積書(2号)'!J987=\"\",\"\",'見積書(2号)'!J987)","v":""},{"$f":"IF('見積書(2号)'!K987=\"\",\"\",'見積書(2号)'!K987)","v":""},{"$f":"IF('見積書(2号)'!L987=\"\",\"\",'見積書(2号)'!L987)","v":""},{"$f":"IF('見積書(2号)'!M987=\"\",\"\",'見積書(2号)'!M987)","v":""},null,"","",null,"",""]
[{"$f":"IF('見積書(2号)'!A988=\"\",\"\",'見積書(2号)'!A988)","v":""},{"$f":"IF('見積書(2号)'!B988=\"\",\"\",'見積書(2号)'!B988)","v":""},{"$f":"IF('見積書(2号)'!C988=\"\",\"\",'見積書(2号)'!C988)","v":""},{"$f":"IF('見積書(2号)'!H988=\"\",\"\",'見積書(2号)'!H988)","v":""},{"$f":"IF('見積書(2号)'!E988=\"\",\"\",'見積書(2号)'!E988)","v":""},{"$f":"IF('見積書(2号)'!I988=\"\",\"\",'見積書(2号)'!I988)","v":""},{"$f":"IF('見積書(2号)'!J988=\"\",\"\",'見積書(2号)'!J988)","v":""},{"$f":"IF('見積書(2号)'!K988=\"\",\"\",'見積書(2号)'!K988)","v":""},{"$f":"IF('見積書(2号)'!L988=\"\",\"\",'見積書(2号)'!L988)","v":""},{"$f":"IF('見積書(2号)'!M988=\"\",\"\",'見積書(2号)'!M988)","v":""},null,"","",null,"",""]
[{"$f":"IF('見積書(2号)'!A989=\"\",\"\",'見積書(2号)'!A989)","v":""},{"$f":"IF('見積書(2号)'!B989=\"\",\"\",'見積書(2号)'!B989)","v":""},{"$f":"IF('見積書(2号)'!C989=\"\",\"\",'見積書(2号)'!C989)","v":""},{"$f":"IF('見積書(2号)'!H989=\"\",\"\",'見積書(2号)'!H989)","v":""},{"$f":"IF('見積書(2号)'!E989=\"\",\"\",'見積書(2号)'!E989)","v":""},{"$f":"IF('見積書(2号)'!I989=\"\",\"\",'見積書(2号)'!I989)","v":""},{"$f":"IF('見積書(2号)'!J989=\"\",\"\",'見積書(2号)'!J989)","v":""},{"$f":"IF('見積書(2号)'!K989=\"\",\"\",'見積書(2号)'!K989)","v":""},{"$f":"IF('見積書(2号)'!L989=\"\",\"\",'見積書(2号)'!L989)","v":""},{"$f":"IF('見積書(2号)'!M989=\"\",\"\",'見積書(2号)'!M989)","v":""},null,"","",null,"",""]
[{"$f":"IF('見積書(2号)'!A990=\"\",\"\",'見積書(2号)'!A990)","v":""},{"$f":"IF('見積書(2号)'!B990=\"\",\"\",'見積書(2号)'!B990)","v":""},{"$f":"IF('見積書(2号)'!C990=\"\",\"\",'見積書(2号)'!C990)","v":""},{"$f":"IF('見積書(2号)'!H990=\"\",\"\",'見積書(2号)'!H990)","v":""},{"$f":"IF('見積書(2号)'!E990=\"\",\"\",'見積書(2号)'!E990)","v":""},{"$f":"IF('見積書(2号)'!I990=\"\",\"\",'見積書(2号)'!I990)","v":""},{"$f":"IF('見積書(2号)'!J990=\"\",\"\",'見積書(2号)'!J990)","v":""},{"$f":"IF('見積書(2号)'!K990=\"\",\"\",'見積書(2号)'!K990)","v":""},{"$f":"IF('見積書(2号)'!L990=\"\",\"\",'見積書(2号)'!L990)","v":""},{"$f":"IF('見積書(2号)'!M990=\"\",\"\",'見積書(2号)'!M990)","v":""},null,"","",null,"",""]
[{"$f":"IF('見積書(2号)'!A991=\"\",\"\",'見積書(2号)'!A991)","v":""},{"$f":"IF('見積書(2号)'!B991=\"\",\"\",'見積書(2号)'!B991)","v":""},{"$f":"IF('見積書(2号)'!C991=\"\",\"\",'見積書(2号)'!C991)","v":""},{"$f":"IF('見積書(2号)'!H991=\"\",\"\",'見積書(2号)'!H991)","v":""},{"$f":"IF('見積書(2号)'!E991=\"\",\"\",'見積書(2号)'!E991)","v":""},{"$f":"IF('見積書(2号)'!I991=\"\",\"\",'見積書(2号)'!I991)","v":""},{"$f":"IF('見積書(2号)'!J991=\"\",\"\",'見積書(2号)'!J991)","v":""},{"$f":"IF('見積書(2号)'!K991=\"\",\"\",'見積書(2号)'!K991)","v":""},{"$f":"IF('見積書(2号)'!L991=\"\",\"\",'見積書(2号)'!L991)","v":""},{"$f":"IF('見積書(2号)'!M991=\"\",\"\",'見積書(2号)'!M991)","v":""},null,"","",null,"",""]
[{"$f":"IF('見積書(2号)'!A992=\"\",\"\",'見積書(2号)'!A992)","v":""},{"$f":"IF('見積書(2号)'!B992=\"\",\"\",'見積書(2号)'!B992)","v":""},{"$f":"IF('見積書(2号)'!C992=\"\",\"\",'見積書(2号)'!C992)","v":""},{"$f":"IF('見積書(2号)'!H992=\"\",\"\",'見積書(2号)'!H992)","v":""},{"$f":"IF('見積書(2号)'!E992=\"\",\"\",'見積書(2号)'!E992)","v":""},{"$f":"IF('見積書(2号)'!I992=\"\",\"\",'見積書(2号)'!I992)","v":""},{"$f":"IF('見積書(2号)'!J992=\"\",\"\",'見積書(2号)'!J992)","v":""},{"$f":"IF('見積書(2号)'!K992=\"\",\"\",'見積書(2号)'!K992)","v":""},{"$f":"IF('見積書(2号)'!L992=\"\",\"\",'見積書(2号)'!L992)","v":""},{"$f":"IF('見積書(2号)'!M992=\"\",\"\",'見積書(2号)'!M992)","v":""},null,"","",null,"",""]
[{"$f":"IF('見積書(2号)'!A993=\"\",\"\",'見積書(2号)'!A993)","v":""},{"$f":"IF('見積書(2号)'!B993=\"\",\"\",'見積書(2号)'!B993)","v":""},{"$f":"IF('見積書(2号)'!C993=\"\",\"\",'見積書(2号)'!C993)","v":""},{"$f":"IF('見積書(2号)'!H993=\"\",\"\",'見積書(2号)'!H993)","v":""},{"$f":"IF('見積書(2号)'!E993=\"\",\"\",'見積書(2号)'!E993)","v":""},{"$f":"IF('見積書(2号)'!I993=\"\",\"\",'見積書(2号)'!I993)","v":""},{"$f":"IF('見積書(2号)'!J993=\"\",\"\",'見積書(2号)'!J993)","v":""},{"$f":"IF('見積書(2号)'!K993=\"\",\"\",'見積書(2号)'!K993)","v":""},{"$f":"IF('見積書(2号)'!L993=\"\",\"\",'見積書(2号)'!L993)","v":""},{"$f":"IF('見積書(2号)'!M993=\"\",\"\",'見積書(2号)'!M993)","v":""},null,"","",null,"",""]
[{"$f":"IF('見積書(2号)'!A994=\"\",\"\",'見積書(2号)'!A994)","v":""},{"$f":"IF('見積書(2号)'!B994=\"\",\"\",'見積書(2号)'!B994)","v":""},{"$f":"IF('見積書(2号)'!C994=\"\",\"\",'見積書(2号)'!C994)","v":""},{"$f":"IF('見積書(2号)'!H994=\"\",\"\",'見積書(2号)'!H994)","v":""},{"$f":"IF('見積書(2号)'!E994=\"\",\"\",'見積書(2号)'!E994)","v":""},{"$f":"IF('見積書(2号)'!I994=\"\",\"\",'見積書(2号)'!I994)","v":""},{"$f":"IF('見積書(2号)'!J994=\"\",\"\",'見積書(2号)'!J994)","v":""},{"$f":"IF('見積書(2号)'!K994=\"\",\"\",'見積書(2号)'!K994)","v":""},{"$f":"IF('見積書(2号)'!L994=\"\",\"\",'見積書(2号)'!L994)","v":""},{"$f":"IF('見積書(2号)'!M994=\"\",\"\",'見積書(2号)'!M994)","v":""},null,"","",null,"",""]
[{"$f":"IF('見積書(2号)'!A995=\"\",\"\",'見積書(2号)'!A995)","v":""},{"$f":"IF('見積書(2号)'!B995=\"\",\"\",'見積書(2号)'!B995)","v":""},{"$f":"IF('見積書(2号)'!C995=\"\",\"\",'見積書(2号)'!C995)","v":""},{"$f":"IF('見積書(2号)'!H995=\"\",\"\",'見積書(2号)'!H995)","v":""},{"$f":"IF('見積書(2号)'!E995=\"\",\"\",'見積書(2号)'!E995)","v":""},{"$f":"IF('見積書(2号)'!I995=\"\",\"\",'見積書(2号)'!I995)","v":""},{"$f":"IF('見積書(2号)'!J995=\"\",\"\",'見積書(2号)'!J995)","v":""},{"$f":"IF('見積書(2号)'!K995=\"\",\"\",'見積書(2号)'!K995)","v":""},{"$f":"IF('見積書(2号)'!L995=\"\",\"\",'見積書(2号)'!L995)","v":""},{"$f":"IF('見積書(2号)'!M995=\"\",\"\",'見積書(2号)'!M995)","v":""},null,"","",null,"",""]
[{"$f":"IF('見積書(2号)'!A996=\"\",\"\",'見積書(2号)'!A996)","v":""},{"$f":"IF('見積書(2号)'!B996=\"\",\"\",'見積書(2号)'!B996)","v":""},{"$f":"IF('見積書(2号)'!C996=\"\",\"\",'見積書(2号)'!C996)","v":""},{"$f":"IF('見積書(2号)'!H996=\"\",\"\",'見積書(2号)'!H996)","v":""},{"$f":"IF('見積書(2号)'!E996=\"\",\"\",'見積書(2号)'!E996)","v":""},{"$f":"IF('見積書(2号)'!I996=\"\",\"\",'見積書(2号)'!I996)","v":""},{"$f":"IF('見積書(2号)'!J996=\"\",\"\",'見積書(2号)'!J996)","v":""},{"$f":"IF('見積書(2号)'!K996=\"\",\"\",'見積書(2号)'!K996)","v":""},{"$f":"IF('見積書(2号)'!L996=\"\",\"\",'見積書(2号)'!L996)","v":""},{"$f":"IF('見積書(2号)'!M996=\"\",\"\",'見積書(2号)'!M996)","v":""},null,"","",null,"",""]
[{"$f":"IF('見積書(2号)'!A997=\"\",\"\",'見積書(2号)'!A997)","v":""},{"$f":"IF('見積書(2号)'!B997=\"\",\"\",'見積書(2号)'!B997)","v":""},{"$f":"IF('見積書(2号)'!C997=\"\",\"\",'見積書(2号)'!C997)","v":""},{"$f":"IF('見積書(2号)'!H997=\"\",\"\",'見積書(2号)'!H997)","v":""},{"$f":"IF('見積書(2号)'!E997=\"\",\"\",'見積書(2号)'!E997)","v":""},{"$f":"IF('見積書(2号)'!I997=\"\",\"\",'見積書(2号)'!I997)","v":""},{"$f":"IF('見積書(2号)'!J997=\"\",\"\",'見積書(2号)'!J997)","v":""},{"$f":"IF('見積書(2号)'!K997=\"\",\"\",'見積書(2号)'!K997)","v":""},{"$f":"IF('見積書(2号)'!L997=\"\",\"\",'見積書(2号)'!L997)","v":""},{"$f":"IF('見積書(2号)'!M997=\"\",\"\",'見積書(2号)'!M997)","v":""},null,"","",null,"",""]
[{"$f":"IF('見積書(2号)'!A998=\"\",\"\",'見積書(2号)'!A998)","v":""},{"$f":"IF('見積書(2号)'!B998=\"\",\"\",'見積書(2号)'!B998)","v":""},{"$f":"IF('見積書(2号)'!C998=\"\",\"\",'見積書(2号)'!C998)","v":""},{"$f":"IF('見積書(2号)'!H998=\"\",\"\",'見積書(2号)'!H998)","v":""},{"$f":"IF('見積書(2号)'!E998=\"\",\"\",'見積書(2号)'!E998)","v":""},{"$f":"IF('見積書(2号)'!I998=\"\",\"\",'見積書(2号)'!I998)","v":""},{"$f":"IF('見積書(2号)'!J998=\"\",\"\",'見積書(2号)'!J998)","v":""},{"$f":"IF('見積書(2号)'!K998=\"\",\"\",'見積書(2号)'!K998)","v":""},{"$f":"IF('見積書(2号)'!L998=\"\",\"\",'見積書(2号)'!L998)","v":""},{"$f":"IF('見積書(2号)'!M998=\"\",\"\",'見積書(2号)'!M998)","v":""},null,"","",null,"",""]
[{"$f":"IF('見積書(2号)'!A999=\"\",\"\",'見積書(2号)'!A999)","v":""},{"$f":"IF('見積書(2号)'!B999=\"\",\"\",'見積書(2号)'!B999)","v":""},{"$f":"IF('見積書(2号)'!C999=\"\",\"\",'見積書(2号)'!C999)","v":""},{"$f":"IF('見積書(2号)'!H999=\"\",\"\",'見積書(2号)'!H999)","v":""},{"$f":"IF('見積書(2号)'!E999=\"\",\"\",'見積書(2号)'!E999)","v":""},{"$f":"IF('見積書(2号)'!I999=\"\",\"\",'見積書(2号)'!I999)","v":""},{"$f":"IF('見積書(2号)'!J999=\"\",\"\",'見積書(2号)'!J999)","v":""},{"$f":"IF('見積書(2号)'!K999=\"\",\"\",'見積書(2号)'!K999)","v":""},{"$f":"IF('見積書(2号)'!L999=\"\",\"\",'見積書(2号)'!L999)","v":""},{"$f":"IF('見積書(2号)'!M999=\"\",\"\",'見積書(2号)'!M999)","v":""},null,"","",null,"",""]
[{"$f":"IF('見積書(2号)'!A1000=\"\",\"\",'見積書(2号)'!A1000)","v":""},{"$f":"IF('見積書(2号)'!B1000=\"\",\"\",'見積書(2号)'!B1000)","v":""},{"$f":"IF('見積書(2号)'!C1000=\"\",\"\",'見積書(2号)'!C1000)","v":""},{"$f":"IF('見積書(2号)'!H1000=\"\",\"\",'見積書(2号)'!H1000)","v":""},{"$f":"IF('見積書(2号)'!E1000=\"\",\"\",'見積書(2号)'!E1000)","v":""},{"$f":"IF('見積書(2号)'!I1000=\"\",\"\",'見積書(2号)'!I1000)","v":""},{"$f":"IF('見積書(2号)'!J1000=\"\",\"\",'見積書(2号)'!J1000)","v":""},{"$f":"IF('見積書(2号)'!K1000=\"\",\"\",'見積書(2号)'!K1000)","v":""},{"$f":"IF('見積書(2号)'!L1000=\"\",\"\",'見積書(2号)'!L1000)","v":""},{"$f":"IF('見積書(2号)'!M1000=\"\",\"\",'見積書(2号)'!M1000)","v":""},null,"","",null,"",""]
[{"$f":"IF('見積書(2号)'!A1001=\"\",\"\",'見積書(2号)'!A1001)","v":""},{"$f":"IF('見積書(2号)'!B1001=\"\",\"\",'見積書(2号)'!B1001)","v":""},{"$f":"IF('見積書(2号)'!C1001=\"\",\"\",'見積書(2号)'!C1001)","v":""},{"$f":"IF('見積書(2号)'!H1001=\"\",\"\",'見積書(2号)'!H1001)","v":""},{"$f":"IF('見積書(2号)'!E1001=\"\",\"\",'見積書(2号)'!E1001)","v":""},{"$f":"IF('見積書(2号)'!I1001=\"\",\"\",'見積書(2号)'!I1001)","v":""},{"$f":"IF('見積書(2号)'!J1001=\"\",\"\",'見積書(2号)'!J1001)","v":""},{"$f":"IF('見積書(2号)'!K1001=\"\",\"\",'見積書(2号)'!K1001)","v":""},{"$f":"IF('見積書(2号)'!L1001=\"\",\"\",'見積書(2号)'!L1001)","v":""},{"$f":"IF('見積書(2号)'!M1001=\"\",\"\",'見積書(2号)'!M1001)","v":""},null,"","",null,"",""]
[{"$f":"IF('見積書(2号)'!A1002=\"\",\"\",'見積書(2号)'!A1002)","v":""},{"$f":"IF('見積書(2号)'!B1002=\"\",\"\",'見積書(2号)'!B1002)","v":""},{"$f":"IF('見積書(2号)'!C1002=\"\",\"\",'見積書(2号)'!C1002)","v":""},{"$f":"IF('見積書(2号)'!H1002=\"\",\"\",'見積書(2号)'!H1002)","v":""},{"$f":"IF('見積書(2号)'!E1002=\"\",\"\",'見積書(2号)'!E1002)","v":""},{"$f":"IF('見積書(2号)'!I1002=\"\",\"\",'見積書(2号)'!I1002)","v":""},{"$f":"IF('見積書(2号)'!J1002=\"\",\"\",'見積書(2号)'!J1002)","v":""},{"$f":"IF('見積書(2号)'!K1002=\"\",\"\",'見積書(2号)'!K1002)","v":""},{"$f":"IF('見積書(2号)'!L1002=\"\",\"\",'見積書(2号)'!L1002)","v":""},{"$f":"IF('見積書(2号)'!M1002=\"\",\"\",'見積書(2号)'!M1002)","v":""},null,"","",null,"",""]
[{"$f":"IF('見積書(2号)'!A1003=\"\",\"\",'見積書(2号)'!A1003)","v":""},{"$f":"IF('見積書(2号)'!B1003=\"\",\"\",'見積書(2号)'!B1003)","v":""},{"$f":"IF('見積書(2号)'!C1003=\"\",\"\",'見積書(2号)'!C1003)","v":""},{"$f":"IF('見積書(2号)'!H1003=\"\",\"\",'見積書(2号)'!H1003)","v":""},{"$f":"IF('見積書(2号)'!E1003=\"\",\"\",'見積書(2号)'!E1003)","v":""},{"$f":"IF('見積書(2号)'!I1003=\"\",\"\",'見積書(2号)'!I1003)","v":""},{"$f":"IF('見積書(2号)'!J1003=\"\",\"\",'見積書(2号)'!J1003)","v":""},{"$f":"IF('見積書(2号)'!K1003=\"\",\"\",'見積書(2号)'!K1003)","v":""},{"$f":"IF('見積書(2号)'!L1003=\"\",\"\",'見積書(2号)'!L1003)","v":""},{"$f":"IF('見積書(2号)'!M1003=\"\",\"\",'見積書(2号)'!M1003)","v":""},null,"","",null,"",""]
[{"$f":"IF('見積書(2号)'!A1004=\"\",\"\",'見積書(2号)'!A1004)","v":""},{"$f":"IF('見積書(2号)'!B1004=\"\",\"\",'見積書(2号)'!B1004)","v":""},{"$f":"IF('見積書(2号)'!C1004=\"\",\"\",'見積書(2号)'!C1004)","v":""},{"$f":"IF('見積書(2号)'!H1004=\"\",\"\",'見積書(2号)'!H1004)","v":""},{"$f":"IF('見積書(2号)'!E1004=\"\",\"\",'見積書(2号)'!E1004)","v":""},{"$f":"IF('見積書(2号)'!I1004=\"\",\"\",'見積書(2号)'!I1004)","v":""},{"$f":"IF('見積書(2号)'!J1004=\"\",\"\",'見積書(2号)'!J1004)","v":""},{"$f":"IF('見積書(2号)'!K1004=\"\",\"\",'見積書(2号)'!K1004)","v":""},{"$f":"IF('見積書(2号)'!L1004=\"\",\"\",'見積書(2号)'!L1004)","v":""},{"$f":"IF('見積書(2号)'!M1004=\"\",\"\",'見積書(2号)'!M1004)","v":""},null,"","",null,"",""]
[{"$f":"IF('見積書(2号)'!A1005=\"\",\"\",'見積書(2号)'!A1005)","v":""},{"$f":"IF('見積書(2号)'!B1005=\"\",\"\",'見積書(2号)'!B1005)","v":""},{"$f":"IF('見積書(2号)'!C1005=\"\",\"\",'見積書(2号)'!C1005)","v":""},{"$f":"IF('見積書(2号)'!H1005=\"\",\"\",'見積書(2号)'!H1005)","v":""},{"$f":"IF('見積書(2号)'!E1005=\"\",\"\",'見積書(2号)'!E1005)","v":""},{"$f":"IF('見積書(2号)'!I1005=\"\",\"\",'見積書(2号)'!I1005)","v":""},{"$f":"IF('見積書(2号)'!J1005=\"\",\"\",'見積書(2号)'!J1005)","v":""},{"$f":"IF('見積書(2号)'!K1005=\"\",\"\",'見積書(2号)'!K1005)","v":""},{"$f":"IF('見積書(2号)'!L1005=\"\",\"\",'見積書(2号)'!L1005)","v":""},{"$f":"IF('見積書(2号)'!M1005=\"\",\"\",'見積書(2号)'!M1005)","v":""},null,"","",null,"",""]
[{"$f":"IF('見積書(2号)'!A1006=\"\",\"\",'見積書(2号)'!A1006)","v":""},{"$f":"IF('見積書(2号)'!B1006=\"\",\"\",'見積書(2号)'!B1006)","v":""},{"$f":"IF('見積書(2号)'!C1006=\"\",\"\",'見積書(2号)'!C1006)","v":""},{"$f":"IF('見積書(2号)'!H1006=\"\",\"\",'見積書(2号)'!H1006)","v":""},{"$f":"IF('見積書(2号)'!E1006=\"\",\"\",'見積書(2号)'!E1006)","v":""},{"$f":"IF('見積書(2号)'!I1006=\"\",\"\",'見積書(2号)'!I1006)","v":""},{"$f":"IF('見積書(2号)'!J1006=\"\",\"\",'見積書(2号)'!J1006)","v":""},{"$f":"IF('見積書(2号)'!K1006=\"\",\"\",'見積書(2号)'!K1006)","v":""},{"$f":"IF('見積書(2号)'!L1006=\"\",\"\",'見積書(2号)'!L1006)","v":""},{"$f":"IF('見積書(2号)'!M1006=\"\",\"\",'見積書(2号)'!M1006)","v":""},null,"","",null,"",""]