{"text_format":"1","workbook":"xlsx","n_sheets":15,"sheets":["説明書","1号【入力】","2号【入力】","2号(2)【入力】","見積1号【印刷】","見積2号【印刷】","見積2号(2)【印刷】","契約1号【印刷】","契約2号【印刷】","契約2号(2)【印刷】","出来高表紙","請求3号","請求4号","請求4号(2)","QR"],"not_rendered":{"charts":0,"images":5,"macros":1,"external_links":0,"defined_names":41,"comments":0,"pivot_tables":0},"unopened":[],"bounds":{"document_bytes":16777216,"sheet_cells":100000,"rows_first":2000,"rows_last":500,"rows_between":2000,"halvings":0,"cell_chars":16384,"cell_head_chars":4096},"cells_cut":0,"cells_raw":0,"read":"whole","date_system":"1900"}

{"sheet":"説明書","index":0,"n_rows":66,"n_cols":7,"rows_kept":66,"cut":false,"hidden":false,"merged":[[61,2,61,3],[64,2,65,3],[64,4,64,6],[65,4,65,6],[62,2,63,3],[62,4,62,6],[63,4,63,6],[61,4,61,6],[60,1,65,1],[39,1,39,3],[40,1,47,1],[46,2,47,3],[48,1,59,1],[48,2,53,2],[54,2,59,2],[58,3,59,3],[48,3,49,3],[60,2,60,3],[40,2,43,3],[44,2,45,3],[56,3,57,3],[50,3,51,3],[52,3,53,3],[54,3,55,3],[59,4,59,6],[58,4,58,6],[45,4,45,6],[56,4,56,6],[57,4,57,6],[55,4,55,6],[50,4,50,6],[51,4,51,6],[52,4,52,6],[54,4,54,6],[53,4,53,6],[39,4,39,6],[48,4,48,6],[49,4,49,6],[46,4,46,6],[47,4,47,6],[40,4,40,6],[43,4,43,6],[44,4,44,6],[41,4,41,6],[42,4,42,6]]}
["説明書　…見積書作成にあたって…"]
[]
["用途・目的","１．このブックの1号用紙、2号用紙は㈱福田組の指定見積書（土木工事用）です。"]
[null,"２．このブックの請求（未契約用）、4号用紙は㈱福田組の指定請求書（土木工事用）です。"]
[null,"３．エクセルの計算機能やプリント機能を用いて、迅速かつ正確な計算と見積書等の作成を目的とし"]
[null,"　ております。"]
[null,"４．このブックの出来高表紙をデータ利用し、紙による請求書や印鑑無しで支払業務を行います。"]
[]
["使　い　方","１．入力は入力用シートに入力して下さい。"]
[null,"２．1号用紙には、2号用紙の集計値を手入力する、あるいは、2号用紙とリンクさせて計算式を任意に"]
[null,"　組み込んでください。その他白抜きセルに必要事項を記入して下さい。"]
[null,"　＊ 右上の取引先コード（7桁）は必ず記入して下さい。6桁の場合、先頭に\"0\"を付して下さい。"]
[null,"３．名称（品名・作業内容等）、規格・摘要、数量、単価等必要事項を、2号用紙に記入して完成させ"]
[null,"　ます。"]
[null,"４．白抜きセルに必要事項を記入すると、着色セル",null,null,null,null,"内で計算され完成されます。"]
[null,"　ただし、設定の計算式に誤まりや不具合がある場合がありますので、入力作成後に内容のチェックを"]
[null,"　していただくようお願いします。"]
[null,"　　また、印刷する場合は、カラー印刷を必要としませんので、白黒で印刷願います。"]
[null,"５．以上で見積書提出用の入力は終了です。画面で良く確認してください。"]
[null,"６．印刷は印刷用シートで印刷して下さい。また記入してある必要なページのみ印刷して下さい。"]
[null,"７．1号用紙見積用及び2号用紙(2号(2)用紙)見積用は1部、1号用紙契約用、2号用紙(2号(2)用紙)契"]
[null,"　約用は4部印刷して下さい。"]
[null,"８．見積1号用紙に記名捺印し、1号用紙契約用は4部に記名して全部で5組㈱福田組へ提出願います。"]
[null,"９．出来高請求をする場合は、ワークシート「請求4号」「請求4号(2)」に出来高明細を入力してください。"]
[null,"　名称、規格・摘要、契約数量、単価等の必要事項は2号用紙より転記されています。"]
[null,"　１）出来高100%時に出来高報告書下段の「工事完成（出来高100％）時記入欄」を"]
[null,"　　　ご入力いただき、ご提出ください。"]
[null,"　２）請求（未契約用）は、弊社から注文書の発行が行われないが出来高により請求するものについて"]
[null,"　　ご使用ください。"]
[null,"　　　この請求書を使用すれば弊社ホームページに掲載の「請求書（工事用）」を使用する必要はありません。"]
[null,"　　請求（工事用）を利用する場合は出来高集計を入力し、かつ白抜きセルに必要事項を入力して作成"]
[null,"　したものを提出してください。"]
[null,"10．変更が発生した場合は、1号用紙、2号用紙ともに【入力】ワークシートの変更後欄に追加入力して"]
[null,"　作成、提出願います。"]
[null,"　　変更前後で単価の変わらない項目は、変更前の注文単価を変更後の見積単価としてください。"]
[]
["そ　の　他","このやり方の、Excelの計算機能等の設定の変更は自由です。"]
[null,"より使いやすく設定を変更してお使い下さい。"]
[]
["シート一覧","シ ー ト 名",null,null,"内　　　　　　容　　　　　　等"]
[null,"入 力 用","1号【入力】",null,"見積書表紙及び注文内訳書表紙作成用"]
[null,null,null,null,"　白抜きセルに入力。変更の場合は変更後欄に入力。"]
[null,null,null,null,"「法定福利費」欄を変更しました。"]
[null,null,null,null,"消費税率欄は選択式となります。"]
[null,null,"2号【入力】",null,"見積内訳及び注文内訳作成用 － 直接工事費作成用"]
[null,null,null,null,"　見積および注文欄に入力。変更の場合は変更後欄に入力。"]
[null,null,"2号(2)【入力】",null,"見積内訳及び注文内訳作成用 － 仮設費、諸経費作成用"]
[null,null,null,null,"　見積および注文欄に入力。変更の場合は変更後欄に入力。"]
[null,"印　　刷　　用","見 積 書","見積1号【印刷】","見積書表紙印刷用 － 印刷表示（右上）「1号用紙見積用」"]
[null,null,null,null,"　1部提出。要記名押印。"]
[null,null,null,"見積2号【印刷】","見積内訳印刷用（直接工事費） － 印刷表示（右上）「見積用紙2号用」"]
[null,null,null,null,"　1部提出。"]
[null,null,null,"見積2号(2)【印刷】","見積内訳印刷用（直接工事費） － 印刷表示（右上）「見積用紙2号(2)用」"]
[null,null,null,null,"　1部提出。"]
[null,null,"契 約 書","契約1号【印刷】","注文内訳書表紙印刷用 － 印刷表示（右上）「1号用紙契約用」"]
[null,null,null,null,"　4部提出。要記名。押印不要。"]
[null,null,null,"契約2号【印刷】","見積内訳印刷用（直接工事費） － 印刷表示（右上）「2号用紙契約用」"]
[null,null,null,null,"　4部提出。"]
[null,null,null,"契約2号(2)【印刷】","見積内訳印刷用（直接工事費） － 印刷表示（右上）「2号(2)用紙契約用」"]
[null,null,null,null,"　4部提出。"]
[null,"請 求 用","出来高表紙",null,"出来高報告書 － 請求書なしでの出来高請求用"]
[null,null,"(兼　工事目的物引渡書)",null,"　出来高欄に出来高数量・その他必要事項を入力しデータで提出。"]
[null,null,"請求4号",null,"請求内訳書 － 直接工事費用"]
[null,null,null,null,"　出来高欄に出来高数量を入力。"]
[null,null,"請求4(2)号",null,"請求内訳書 － 仮設費、諸経費作成用"]
[null,null,null,null,"　出来高欄に出来高数量を入力。"]

{"sheet":"1号【入力】","index":1,"n_rows":37,"n_cols":46,"rows_kept":37,"cut":false,"hidden":false,"merged":[[25,14,25,15],[26,14,26,15],[27,14,27,15],[28,14,28,15],[23,9,23,12],[23,13,23,15],[9,29,10,31],[22,19,22,22],[25,17,25,18],[16,16,17,16],[24,23,24,27],[26,19,26,22],[27,19,27,22],[28,19,28,22],[23,28,23,32],[23,23,23,27],[24,28,24,32],[25,28,25,32],[23,19,23,22],[28,28,28,32],[7,0,10,0],[11,9,11,11],[7,1,10,8],[11,6,11,8],[13,1,14,5],[11,1,12,5],[24,0,24,8],[22,0,22,8],[19,9,19,15],[15,3,15,4],[16,9,17,15],[18,9,18,15],[24,9,24,12],[20,0,20,8],[19,0,19,8],[14,6,14,8],[18,0,18,8],[16,0,17,8],[24,14,24,15],[26,0,26,8],[28,0,28,8],[27,0,27,8],[25,9,25,12],[26,9,26,12],[27,9,27,12],[28,9,28,12],[12,6,12,8],[21,0,21,8],[13,6,13,8],[15,1,15,2],[16,42,17,42],[19,19,19,22],[19,17,19,18],[9,11,9,12],[21,19,21,22],[16,41,17,41],[16,36,17,36],[16,37,17,37],[16,38,17,38],[16,39,17,39],[9,32,10,34],[9,13,9,16],[21,9,21,15],[20,23,20,27],[20,17,20,18],[16,40,17,40],[0,0,1,34],[5,1,5,2],[2,18,2,20],[5,0,6,0],[2,4,2,5],[2,2,2,3],[2,27,2,29],[4,22,4,24],[2,31,2,33],[5,20,5,33],[3,11,4,12],[3,13,4,16],[5,18,5,19],[6,12,6,13],[6,15,6,17],[3,1,4,8],[6,18,6,19],[6,20,6,33],[5,9,5,12],[5,3,5,8],[6,1,6,8],[6,10,6,11],[35,0,35,8],[35,9,35,15],[32,17,32,18],[9,18,10,20],[7,9,8,11],[18,17,18,18],[32,0,32,8],[33,0,33,8],[34,0,34,8],[34,9,34,15],[32,9,32,15],[29,9,29,15],[33,17,33,18],[25,19,25,22],[29,17,29,18],[33,9,33,15],[30,9,30,15],[22,9,22,15],[20,9,20,15],[25,0,25,8],[29,0,29,8],[30,0,30,8],[31,0,31,8],[23,0,23,8],[30,17,30,18],[31,17,31,18],[7,18,7,19],[9,21,10,28],[18,23,18,27],[22,17,22,18],[22,23,22,27],[18,19,18,22],[20,33,20,35],[16,28,17,32],[18,28,18,32],[16,23,17,27],[16,19,17,22],[12,20,12,24],[13,20,13,24],[14,20,14,24],[16,33,17,35],[7,20,7,33],[16,17,17,18],[25,23,25,27],[19,28,19,32],[20,19,20,22],[20,28,20,32],[19,23,19,27],[36,33,36,35],[34,33,34,35],[35,33,35,35],[34,23,34,27],[36,19,36,22],[35,19,35,22],[21,23,21,27],[29,23,29,27],[34,17,34,18],[30,23,30,27],[30,28,30,32],[36,28,36,32],[36,23,36,27],[34,19,34,22],[21,28,21,32],[35,28,35,32],[35,23,35,27],[34,28,34,32],[33,28,33,32],[23,33,23,35],[21,33,21,35],[29,28,29,32],[24,17,24,18],[22,28,22,32],[32,23,32,27],[24,33,24,35],[32,33,32,35],[18,33,18,35],[19,33,19,35],[25,33,25,35],[29,33,29,35],[30,33,30,34],[31,33,31,34],[26,33,26,34],[27,33,27,34],[28,33,28,34],[8,27,8,33],[31,9,31,15],[12,9,12,19],[13,9,13,19],[14,9,14,19],[15,5,15,19],[33,33,33,35],[31,28,31,32],[31,23,31,27],[31,19,31,22],[30,19,30,22],[32,28,32,32],[32,19,32,22],[22,33,22,35],[26,28,26,32],[27,28,27,32],[26,23,26,27],[27,23,27,27],[28,23,28,27],[33,19,33,22],[29,19,29,22],[23,17,23,18],[24,19,24,22],[33,23,33,27]]}
["見　　積　　書"]
[]
[null,"株式会社","福田組",null,"御中",null,null,null,null,null,null,null,null,null,null,null,null,null,"建設業許可番号",null,null,null,"特",null,"般",null,"第",null,null,null,"号","取引先ｺｰﾄﾞ",null,null,null,true]
[null,"下記の通り見積もり致します。",null,null,null,null,null,null,null,null,null,"提出日"]
[null,null,null,null,null,null,null,null,null,null,null,null,null,null,null,null,null,null,null,"　〒",null,"-",null,null,null,null,null,null,null,null,null,null,null,null,null,false]
["工事名","工事ｺｰﾄﾞ",null,null,null,null,null,null,null,"　協力会社施工期間",null,null,null,null,null,null,null,null,"住　所"]
[null,null,null,null,null,null,null,null,null,"自",null,null,"～",null,"至",null,null,null,"会社名"]
["工事場所",null,null,null,null,null,null,null,null,"　支 払 条 件",null,null,null,null,null,null,null,null,"代表者",null,null,null,null,null,null,null,null,null,null,null,null,null,null,null,"印"]
[null,null,null,null,null,null,null,null,null,null,null,null,null,null,null,null,null,null," 適格請求書発行事業者登録番号",null,null,null,null,null,null,null,"Ｔ"]
[null,null,null,null,null,null,null,null,null,null,"貴社規定","その他（",null,null,null,null,null,"）","担当部課・氏名",null,null,null,null,null,null,null,null,null,null,"電話番号"]
[]
["今回見積金額",{"$f":"IF(AC37=0,T36,IF(AK37=0,AC36,IF(AM37=0,AK36,IF(AO37=0,AM36,AO36))))","v":""},null,null,null,null,"有効期限",null,null,"　見 積 条 件",null,null,null,null,null,null,null,null,null,null,"社会保険加入状況",null,null,null,null,null,null,null,null,null,null,null,null,null,null,true]
["（税込み）",null,null,null,null,null,null,null,null,null,null,null,null,null,null,null,null,null,null,null,"健康保険",null,null,null,null,null,"加入",null,null,null,"未加入",null,null,null,"適用除外",false,null,null,null,null,null,null,null,true,false,false]
["今回注文金額",{"$f":"IF(AH37=0,X36,IF(AL37=0,AH36,IF(AN37=0,AL36,IF(AP37=0,AN36,AP36))))","v":""},null,null,null,null,"有効期限",null,null,null,null,null,null,null,null,null,null,null,null,null,"厚生年金保険",null,null,null,null,null,"加入",null,null,null,"未加入",null,null,null,"適用除外",null,null,null,null,null,null,null,null,true,false,false]
["（税込み）",null,null,null,null,null,null,null,null,null,null,null,null,null,null,null,null,null,null,null,"雇用保険",null,null,null,null,null,"加入",null,null,null,"未加入",null,null,null,"適用除外",null,null,null,null,null,null,null,null,true,false,false]
["工種コード",null,null,"工種名"]
["名　　　　　　称",null,null,null,null,null,null,null,null,"規　格・摘　要",null,null,null,null,null,null,"単位","数量",null,"当初見積金額",null,null,null,"当初注文金額",null,null,null,null,"変更後見積金額\n（第１回）",null,null,null,null,"変更後注文金額\n（第１回）",null,null,"変更後見積金額\n（第２回）","変更後注文金額\n（第２回）","変更後見積金額\n（第３回）","変更後注文金額\n（第３回）","変更後見積金額\n（第４回）","変更後注文金額\n（第４回）","備　　　考"]
[]
[null,null,null,null,null,null,null,null,null,null,null,null,null,null,null,null,null,null,null,{"$f":"+'2号【入力】'!G33","v":0},null,null,null,{"$f":"+'2号【入力】'!J33","v":0},null,null,null,null,{"$f":"+IF('2号【入力】'!N33=\"\",\"\",'2号【入力】'!N33)","v":0},null,null,null,null,{"$f":"+'2号【入力】'!Q33","v":0},null,null,{"$f":"+'2号【入力】'!U33","v":0},{"$f":"+'2号【入力】'!X33","v":0},{"$f":"+'2号【入力】'!AB33","v":0},{"$f":"+'2号【入力】'!AE33","v":0},{"$f":"+'2号【入力】'!AI33","v":0},{"$f":"+'2号【入力】'!AL33","v":0}]
[]
["工事費　計",null,null,null,null,null,null,null,null,null,null,null,null,null,null,null,null,null,null,{"$f":"T19","v":0},null,null,null,{"$f":"X19","v":0},null,null,null,null,{"$f":"AC19","v":0},null,null,null,null,{"$f":"AH19","v":0},null,null,{"$f":"AK19","v":0},0,0,0,0,0]
[null,null,null,null,null,null,null,null,null,"⇒労務費総額"]
[null,null,null,null,null,null,null,null,null,"労務比率",null,null,null,null,null,null,null,null,null,{"$f":"IFERROR(T22/T21,)","v":0},null,null,null,{"$f":"IFERROR(X22/X21,)","v":0},null,null,null,null,{"$f":"IF(AC21=0,\"\",AC22/AC21)","v":""},null,null,null,null,{"$f":"IF(AH21=0,\"\",AH22/AH21)","v":""},null,null,{"$f":"IF(AK21=0,\"\",AK22/AK21)","v":""},"","","","",""]
["事業主負担法定福利費",null,null,null,null,null,null,null,null,"保険名称",null,null,null,"料率"]
[null,null,null,null,null,null,null,null,null,"a.健康保険料",null,null,null,"×",4.6050000000000001E-2,null,null,null,null,{"$f":"ROUNDDOWN(T22*O25,0)","v":0},null,null,null,{"$f":"ROUNDDOWN(X22*O25,0)","v":0},null,null,null,null,{"$f":"ROUNDDOWN(AC22*O25,0)","v":0},null,null,null,null,{"$f":"ROUNDDOWN(AH22*O25,0)","v":0},null,null,{"$f":"ROUNDDOWN(AK22*O25,0)","v":0},{"$f":"ROUNDDOWN(AL22*O25,0)","v":0},{"$f":"ROUNDDOWN(AM22*O25,0)","v":0},{"$f":"ROUNDDOWN(AN22*O25,0)","v":0},{"$f":"ROUNDDOWN(AO22*O25,0)","v":0},{"$f":"ROUNDDOWN(AP22*O25,0)","v":0}]
[null,null,null,null,null,null,null,null,null,"b.介護保険料",null,null,null,"×",4.0499999999999998E-3,null,null,null,null,{"$f":"ROUNDDOWN(T22*O26,0)","v":0},null,null,null,{"$f":"ROUNDDOWN(X22*O26,0)","v":0},null,null,null,null,{"$f":"ROUNDDOWN(AC22*O26,0)","v":0},null,null,null,null,{"$f":"ROUNDDOWN(AH22*O26,0)","v":0},null,null,{"$f":"ROUNDDOWN(AK22*O26,0)","v":0},{"$f":"ROUNDDOWN(AL22*O26,0)","v":0},{"$f":"ROUNDDOWN(AM22*O26,0)","v":0},{"$f":"ROUNDDOWN(AN22*O26,0)","v":0},{"$f":"ROUNDDOWN(AO22*O26,0)","v":0},{"$f":"ROUNDDOWN(AP22*O26,0)","v":0}]
[null,null,null,null,null,null,null,null,null,"c.厚生年金保険料",null,null,null,"×",9.5100000000000004E-2,null,null,null,null,{"$f":"ROUNDDOWN(T22*O27,0)","v":0},null,null,null,{"$f":"ROUNDDOWN(X22*O27,0)","v":0},null,null,null,null,{"$f":"ROUNDDOWN(AC22*O27,0)","v":0},null,null,null,null,{"$f":"ROUNDDOWN(AH22*O27,0)","v":0},null,null,{"$f":"ROUNDDOWN(AK22*O27,0)","v":0},{"$f":"ROUNDDOWN(AL22*O27,0)","v":0},{"$f":"ROUNDDOWN(AM22*O27,0)","v":0},{"$f":"ROUNDDOWN(AN22*O27,0)","v":0},{"$f":"ROUNDDOWN(AO22*O27,0)","v":0},{"$f":"ROUNDDOWN(AP22*O27,0)","v":0}]
[null,null,null,null,null,null,null,null,null,"d.雇用保険料",null,null,null,"×",1.0500000000000001E-2,null,null,null,null,{"$f":"ROUNDDOWN(T22*O28,0)","v":0},null,null,null,{"$f":"ROUNDDOWN(X22*O28,0)","v":0},null,null,null,null,{"$f":"ROUNDDOWN(AC22*O28,0)","v":0},null,null,null,null,{"$f":"ROUNDDOWN(AH22*O28,0)","v":0},null,null,{"$f":"ROUNDDOWN(AK22*O28,0)","v":0},{"$f":"ROUNDDOWN(AL22*O28,0)","v":0},{"$f":"ROUNDDOWN(AM22*O28,0)","v":0},{"$f":"ROUNDDOWN(AN22*O28,0)","v":0},{"$f":"ROUNDDOWN(AO22*O28,0)","v":0},{"$f":"ROUNDDOWN(AP22*O28,0)","v":0}]
[null,null,null,null,null,null,null,null,null,"e.子ども・子育て支援金",null,null,null,"×",1.15E-3,null,null,null,null,{"$f":"ROUNDDOWN(T22*O29,0)","v":0},null,null,null,{"$f":"ROUNDDOWN(X22*O29,0)","v":0},null,null,null,null,{"$f":"ROUNDDOWN(AC22*O29,0)","v":0},null,null,null,null,{"$f":"ROUNDDOWN(AH22*O29,0)","v":0},null,null,{"$f":"ROUNDDOWN(AK22*O29,0)","v":0},{"$f":"ROUNDDOWN(AL22*O29,0)","v":0},{"$f":"ROUNDDOWN(AM22*O29,0)","v":0},{"$f":"ROUNDDOWN(AN22*O29,0)","v":0},{"$f":"ROUNDDOWN(AO22*O29,0)","v":0},{"$f":"ROUNDDOWN(AP22*O29,0)","v":0}]
[]
["法定福利費　計",null,null,null,null,null,null,null,null,"a～eの合計",null,null,null,null,null,null,null,null,null,{"$f":"T25+T26+T27+T28+T29","v":0},null,null,null,{"$f":"X25+X26+X27+X28+X29","v":0},null,null,null,null,{"$f":"AC25+AC26+AC27+AC28+AC29","v":0},null,null,null,null,{"$f":"AH25+AH26+AH27+AH28+AH29","v":0},null,null,{"$f":"AK25+AK26+AK27+AK28+AK29","v":0},{"$f":"AL25+AL26+AL27+AL28+AL29","v":0},{"$f":"AM25+AM26+AM27+AM28+AM29","v":0},{"$f":"AN25+AN26+AN27+AN28+AN29","v":0},{"$f":"AO25+AO26+AO27+AO28+AO29","v":0},{"$f":"AP25+AP26+AP27+AP28+AP29","v":0}]
["その他諸経費"]
["税　抜　計",null,null,null,null,null,null,null,null,null,null,null,null,null,null,null,null,null,null,{"$f":"IF(T37=0,\"\",T37)","v":""},null,null,null,{"$f":"IF(X37=0,\"\",X37)","v":""},null,null,null,null,{"$f":"IF(AC37=0,\"\",AC37)","v":""},null,null,null,null,{"$f":"IF(AH37=0,\"\",AH37)","v":""},null,null,{"$f":"+IF(AK37=0,\"\",AK37)","v":""},{"$f":"+IF(AL37=0,\"\",AL37)","v":""},"","","",""]
["消 費 税 率",null,null,null,null,null,null,null,null,null,null,null,null,null,null,null,"％",null,null,10,null,null,null,10,null,null,null,null,10,null,null,null,null,10,null,null,10,10,10,10,10,10]
["消　費　税",null,null,null,null,null,null,null,null,null,null,null,null,null,null,null,null,null,null,{"$f":"IFERROR(TRUNC(T33*10/100),)","v":0},null,null,null,{"$f":"IFERROR(TRUNC(X33*10/100),)","v":0},null,null,null,null,{"$f":"IFERROR(TRUNC(AC33*10/100),)","v":0},null,null,null,null,{"$f":"IFERROR(TRUNC(AH33*10/100),)","v":0},null,null,{"$f":"IFERROR(TRUNC(AK33*10/100),)","v":0},0,0,0,0,0]
["合　　　計",null,null,null,null,null,null,null,null,null,null,null,null,null,null,null,null,null,null,{"$f":"IF(T35=\" \",\"\",IF(T33=\"\",\"\",T33+T35))","v":""},null,null,null,{"$f":"IF(X35=\" \",\"\",IF(X33=\"\",\"\",X33+X35))","v":""},null,null,null,null,{"$f":"IF(AC35=\" \",\"\",IF(AC33=\"\",\"\",AC33+AC35))","v":""},null,null,null,null,{"$f":"IF(AH35=\" \",\"\",IF(AH33=\"\",\"\",AH33+AH35))","v":""},null,null,{"$f":"IF(AK35=\" \",\"\",IF(AK33=\"\",\"\",AK33+AK35))","v":""},"","","","",""]
[null,null,null,null,null,null,null,null,null,null,null,null,null,null,null,null,null,null,null,{"$f":"T21+T31+T32","v":0},null,null,null,{"$f":"X21+X31+X32","v":0},null,null,null,null,{"$f":"AC21+AC31+AC32","v":0},null,null,null,null,{"$f":"AH21+AH31+AH32","v":0},null,null,{"$f":"AK21+AK31+AK32","v":0},0,0,0,0,0]

{"sheet":"2号【入力】","index":2,"n_rows":308,"n_cols":40,"rows_kept":308,"cut":false,"hidden":false,"merged":[[1,39,2,39],[1,28,1,30],[1,32,1,34],[1,35,1,37],[1,25,1,27],[1,18,1,20],[1,21,1,23],[1,1,1,2],[1,4,1,6],[1,7,1,9],[1,11,1,13],[1,14,1,16]]}
[null,null,null,null,null,null,null,null,null,{"$f":"SUM(G4:G308)+SUM(J4:J308)","v":0},null,null,null,null,null,null,{"$f":"SUM(N4:N308)+SUM(Q4:Q308)","v":0},null,null,null,null,null,null,{"$f":"SUM(U4:U308)+SUM(X4:X308)","v":0},null,null,null,null,null,null,{"$f":"SUM(AB4:AB308)+SUM(AE4:AE308)","v":0},null,null,null,null,null,null,{"$f":"SUM(AI4:AI308)+SUM(AL4:AL308)","v":0}]
["　","　項　　　　　目",null,null,"当初見積金額",null,null,"当初注文金額",null,null,null,"変更後見積金額（第1回）",null,null,"変更後注文金額（第1回）",null,null,null,"変更後見積金額（第２回）",null,null,"変更後注文金額（第２回）",null,null,null,"変更後見積金額（第３回）",null,null,"変更後注文金額（第３回）",null,null,null,"変更後見積金額（第４回）",null,null,"変更後注文金額（第４回）",null,null,null,"備　　　考"]
["番号","名　　　　　称","規　　格　　・　摘　　要","単位","数　量","単　価","金　　額","数　量","単　価","金　　額",null,"数　量","単　価","金　　額","数　量","単　価","金　　額",null,"数　量","単　価","金　　額","数　量","単　価","金　　額",null,"数　量","単　価","金　　額","数　量","単　価","金　　額",null,"数　量","単　価","金　　額","数　量","単　価","金　　額"]
[1,null,null,null,null,null,{"$f":"IF(OR(E4=\"\",F4=\"\"),\"\",ROUNDDOWN(E4*F4,0))","v":""},null,null,{"$f":"IF(OR(H4=\"\",I4=\"\"),\"\",ROUNDDOWN(H4*I4,0))","v":""},null,null,null,{"$f":"IF(OR(L4=\"\",M4=\"\"),\"\",ROUNDDOWN(L4*M4,0))","v":""},null,null,{"$f":"IF(OR(O4=\"\",P4=\"\"),\"\",ROUNDDOWN(O4*P4,0))","v":""},null,null,null,{"$f":"IF(OR(S4=\"\",T4=\"\"),\"\",ROUNDDOWN(S4*T4,0))","v":""},null,null,{"$f":"IF(OR(V4=\"\",W4=\"\"),\"\",ROUNDDOWN(V4*W4,0))","v":""},null,null,null,{"$f":"IF(OR(Z4=\"\",AA4=\"\"),\"\",ROUNDDOWN(Z4*AA4,0))","v":""},null,null,{"$f":"IF(OR(AC4=\"\",AD4=\"\"),\"\",ROUNDDOWN(AC4*AD4,0))","v":""},null,null,null,{"$f":"IF(OR(AG4=\"\",AH4=\"\"),\"\",ROUNDDOWN(AG4*AH4,0))","v":""},null,null,{"$f":"IF(OR(AJ4=\"\",AK4=\"\"),\"\",ROUNDDOWN(AJ4*AK4,0))","v":""}]
[2,null,null,null,null,null,{"$f":"IF(OR(E5=\"\",F5=\"\"),\"\",ROUNDDOWN(E5*F5,0))","v":""},null,null,{"$f":"IF(OR(H5=\"\",I5=\"\"),\"\",ROUNDDOWN(H5*I5,0))","v":""},null,null,null,{"$f":"IF(OR(L5=\"\",M5=\"\"),\"\",ROUNDDOWN(L5*M5,0))","v":""},null,null,{"$f":"IF(OR(O5=\"\",P5=\"\"),\"\",ROUNDDOWN(O5*P5,0))","v":""},null,null,null,{"$f":"IF(OR(S5=\"\",T5=\"\"),\"\",ROUNDDOWN(S5*T5,0))","v":""},null,null,{"$f":"IF(OR(V5=\"\",W5=\"\"),\"\",ROUNDDOWN(V5*W5,0))","v":""},null,null,null,{"$f":"IF(OR(Z5=\"\",AA5=\"\"),\"\",ROUNDDOWN(Z5*AA5,0))","v":""},null,null,{"$f":"IF(OR(AC5=\"\",AD5=\"\"),\"\",ROUNDDOWN(AC5*AD5,0))","v":""},null,null,null,{"$f":"IF(OR(AG5=\"\",AH5=\"\"),\"\",ROUNDDOWN(AG5*AH5,0))","v":""},null,null,{"$f":"IF(OR(AJ5=\"\",AK5=\"\"),\"\",ROUNDDOWN(AJ5*AK5,0))","v":""}]
[3,null,null,null,null,null,{"$f":"IF(OR(E6=\"\",F6=\"\"),\"\",ROUNDDOWN(E6*F6,0))","v":""},null,null,{"$f":"IF(OR(H6=\"\",I6=\"\"),\"\",ROUNDDOWN(H6*I6,0))","v":""},null,null,null,{"$f":"IF(OR(L6=\"\",M6=\"\"),\"\",ROUNDDOWN(L6*M6,0))","v":""},null,null,{"$f":"IF(OR(O6=\"\",P6=\"\"),\"\",ROUNDDOWN(O6*P6,0))","v":""},null,null,null,{"$f":"IF(OR(S6=\"\",T6=\"\"),\"\",ROUNDDOWN(S6*T6,0))","v":""},null,null,{"$f":"IF(OR(V6=\"\",W6=\"\"),\"\",ROUNDDOWN(V6*W6,0))","v":""},null,null,null,{"$f":"IF(OR(Z6=\"\",AA6=\"\"),\"\",ROUNDDOWN(Z6*AA6,0))","v":""},null,null,{"$f":"IF(OR(AC6=\"\",AD6=\"\"),\"\",ROUNDDOWN(AC6*AD6,0))","v":""},null,null,null,{"$f":"IF(OR(AG6=\"\",AH6=\"\"),\"\",ROUNDDOWN(AG6*AH6,0))","v":""},null,null,{"$f":"IF(OR(AJ6=\"\",AK6=\"\"),\"\",ROUNDDOWN(AJ6*AK6,0))","v":""}]
[4,null,null,null,null,null,"",null,null,"",null,null,null,"",null,null,"",null,null,null,"",null,null,"",null,null,null,"",null,null,"",null,null,null,"",null,null,""]
[5,null,null,null,null,null,"",null,null,"",null,null,null,"",null,null,"",null,null,null,"",null,null,"",null,null,null,"",null,null,"",null,null,null,"",null,null,""]
[6,null,null,null,null,null,"",null,null,"",null,null,null,"",null,null,"",null,null,null,"",null,null,"",null,null,null,"",null,null,"",null,null,null,"",null,null,""]
[7,null,null,null,null,null,"",null,null,"",null,null,null,"",null,null,"",null,null,null,"",null,null,"",null,null,null,"",null,null,"",null,null,null,"",null,null,""]
[8,null,null,null,null,null,"",null,null,"",null,null,null,"",null,null,"",null,null,null,"",null,null,"",null,null,null,"",null,null,"",null,null,null,"",null,null,""]
[9,null,null,null,null,null,"",null,null,"",null,null,null,"",null,null,"",null,null,null,"",null,null,"",null,null,null,"",null,null,"",null,null,null,"",null,null,""]
[10,null,null,null,null,null,"",null,null,"",null,null,null,"",null,null,"",null,null,null,"",null,null,"",null,null,null,"",null,null,"",null,null,null,"",null,null,""]
[11,null,null,null,null,null,"",null,null,"",null,null,null,"",null,null,"",null,null,null,"",null,null,"",null,null,null,"",null,null,"",null,null,null,"",null,null,""]
[12,null,null,null,null,null,"",null,null,"",null,null,null,"",null,null,"",null,null,null,"",null,null,"",null,null,null,"",null,null,"",null,null,null,"",null,null,""]
[13,null,null,null,null,null,"",null,null,"",null,null,null,"",null,null,"",null,null,null,"",null,null,"",null,null,null,"",null,null,"",null,null,null,"",null,null,""]
[14,null,null,null,null,null,"",null,null,"",null,null,null,"",null,null,"",null,null,null,"",null,null,"",null,null,null,"",null,null,"",null,null,null,"",null,null,""]
[15,null,null,null,null,null,"",null,null,"",null,null,null,"",null,null,"",null,null,null,"",null,null,"",null,null,null,"",null,null,"",null,null,null,"",null,null,""]
[16,null,null,null,null,null,"",null,null,"",null,null,null,"",null,null,"",null,null,null,"",null,null,"",null,null,null,"",null,null,"",null,null,null,"",null,null,""]
[17,null,null,null,null,null,"",null,null,"",null,null,null,"",null,null,"",null,null,null,"",null,null,"",null,null,null,"",null,null,"",null,null,null,"",null,null,""]
[18,null,null,null,null,null,"",null,null,"",null,null,null,"",null,null,"",null,null,null,"",null,null,"",null,null,null,"",null,null,"",null,null,null,"",null,null,""]
[19,null,null,null,null,null,"",null,null,"",null,null,null,"",null,null,"",null,null,null,"",null,null,"",null,null,null,"",null,null,"",null,null,null,"",null,null,""]
[20,null,null,null,null,null,"",null,null,"",null,null,null,"",null,null,"",null,null,null,"",null,null,"",null,null,null,"",null,null,"",null,null,null,"",null,null,""]
[21,null,null,null,null,null,"",null,null,"",null,null,null,"",null,null,"",null,null,null,"",null,null,"",null,null,null,"",null,null,"",null,null,null,"",null,null,""]
[22,null,null,null,null,null,"",null,null,"",null,null,null,"",null,null,"",null,null,null,"",null,null,"",null,null,null,"",null,null,"",null,null,null,"",null,null,""]
[23,null,null,null,null,null,"",null,null,"",null,null,null,"",null,null,"",null,null,null,"",null,null,"",null,null,null,"",null,null,"",null,null,null,"",null,null,""]
[24,null,null,null,null,null,"",null,null,"",null,null,null,"",null,null,"",null,null,null,"",null,null,"",null,null,null,"",null,null,"",null,null,null,"",null,null,""]
[25,null,null,null,null,null,"",null,null,"",null,null,null,"",null,null,"",null,null,null,"",null,null,"",null,null,null,"",null,null,"",null,null,null,"",null,null,""]
[26,null,null,null,null,null,"",null,null,"",null,null,null,"",null,null,"",null,null,null,"",null,null,"",null,null,null,"",null,null,"",null,null,null,"",null,null,""]
[27,null,null,null,null,null,"",null,null,"",null,null,null,"",null,null,"",null,null,null,"",null,null,"",null,null,null,"",null,null,"",null,null,null,"",null,null,""]
[28,null,null,null,null,null,"",null,null,"",null,null,null,"",null,null,"",null,null,null,"",null,null,"",null,null,null,"",null,null,"",null,null,null,"",null,null,""]
[29,null,null,null,null,null,"",null,null,"",null,null,null,"",null,null,"",null,null,null,"",null,null,"",null,null,null,"",null,null,"",null,null,null,"",null,null,""]
[30,"項計","　","　",null,null,{"$f":"IF(G34=0,\"\",SUM(G4:G32))","v":0},null,null,{"$f":"IF(J34=0,\"\",SUM(J4:J32))","v":0},null,null,null,{"$f":"IF(N34=0,\"\",SUM(N4:N32))","v":0},null,null,{"$f":"IF(Q34=0,\"\",SUM(Q4:Q32))","v":0},null,null,null,{"$f":"IF(U34=0,\"\",SUM(U4:U32))","v":0},null,null,{"$f":"IF(X34=0,\"\",SUM(X4:X32))","v":0},null,null,null,{"$f":"IF(AB34=0,\"\",SUM(AB4:AB32))","v":0},null,null,{"$f":"IF(AE34=0,\"\",SUM(AE4:AE32))","v":0},null,null,null,{"$f":"IF(AI34=0,\"\",SUM(AI4:AI32))","v":0},null,null,{"$f":"IF(AL34=0,\"\",SUM(AL4:AL32))","v":0}]
[31,null,null,null,null,null,{"$f":"IF(OR(E34=\"\",F34=\"\"),\"\",ROUNDDOWN(E34*F34,0))","v":""},null,null,{"$f":"IF(OR(H34=\"\",I34=\"\"),\"\",ROUNDDOWN(H34*I34,0))","v":""},null,null,null,"",null,null,"",null,null,null,"",null,null,"",null,null,null,"",null,null,"",null,null,null,"",null,null,""]
[32,null,null,null,null,null,"",null,null,"",null,null,null,"",null,null,"",null,null,null,"",null,null,"",null,null,null,"",null,null,"",null,null,null,"",null,null,""]
[33,null,null,null,null,null,"",null,null,"",null,null,null,"",null,null,"",null,null,null,"",null,null,"",null,null,null,"",null,null,"",null,null,null,"",null,null,""]
[34,null,null,null,null,null,"",null,null,"",null,null,null,"",null,null,"",null,null,null,"",null,null,"",null,null,null,"",null,null,"",null,null,null,"",null,null,""]
[35,null,null,null,null,null,"",null,null,"",null,null,null,"",null,null,"",null,null,null,"",null,null,"",null,null,null,"",null,null,"",null,null,null,"",null,null,""]
[36,null,null,null,null,null,"",null,null,"",null,null,null,"",null,null,"",null,null,null,"",null,null,"",null,null,null,"",null,null,"",null,null,null,"",null,null,""]
[37,null,null,null,null,null,"",null,null,"",null,null,null,"",null,null,"",null,null,null,"",null,null,"",null,null,null,"",null,null,"",null,null,null,"",null,null,""]
[38,null,null,null,null,null,"",null,null,"",null,null,null,"",null,null,"",null,null,null,"",null,null,"",null,null,null,"",null,null,"",null,null,null,"",null,null,""]
[39,null,null,null,null,null,"",null,null,"",null,null,null,"",null,null,"",null,null,null,"",null,null,"",null,null,null,"",null,null,"",null,null,null,"",null,null,""]
[40,null,null,null,null,null,"",null,null,"",null,null,null,"",null,null,"",null,null,null,"",null,null,"",null,null,null,"",null,null,"",null,null,null,"",null,null,""]
[41,null,null,null,null,null,"",null,null,"",null,null,null,"",null,null,"",null,null,null,"",null,null,"",null,null,null,"",null,null,"",null,null,null,"",null,null,""]
[42,null,null,null,null,null,"",null,null,"",null,null,null,"",null,null,"",null,null,null,"",null,null,"",null,null,null,"",null,null,"",null,null,null,"",null,null,""]
[43,null,null,null,null,null,"",null,null,"",null,null,null,"",null,null,"",null,null,null,"",null,null,"",null,null,null,"",null,null,"",null,null,null,"",null,null,""]
[44,null,null,null,null,null,"",null,null,"",null,null,null,"",null,null,"",null,null,null,"",null,null,"",null,null,null,"",null,null,"",null,null,null,"",null,null,""]
[45,null,null,null,null,null,"",null,null,"",null,null,null,"",null,null,"",null,null,null,"",null,null,"",null,null,null,"",null,null,"",null,null,null,"",null,null,""]
[46,null,null,null,null,null,"",null,null,"",null,null,null,"",null,null,"",null,null,null,"",null,null,"",null,null,null,"",null,null,"",null,null,null,"",null,null,""]
[47,null,null,null,null,null,"",null,null,"",null,null,null,"",null,null,"",null,null,null,"",null,null,"",null,null,null,"",null,null,"",null,null,null,"",null,null,""]
[48,null,null,null,null,null,"",null,null,"",null,null,null,"",null,null,"",null,null,null,"",null,null,"",null,null,null,"",null,null,"",null,null,null,"",null,null,""]
[49,null,null,null,null,null,"",null,null,"",null,null,null,"",null,null,"",null,null,null,"",null,null,"",null,null,null,"",null,null,"",null,null,null,"",null,null,""]
[50,null,null,null,null,null,"",null,null,"",null,null,null,"",null,null,"",null,null,null,"",null,null,"",null,null,null,"",null,null,"",null,null,null,"",null,null,""]
[51,null,null,null,null,null,"",null,null,"",null,null,null,"",null,null,"",null,null,null,"",null,null,"",null,null,null,"",null,null,"",null,null,null,"",null,null,""]
[52,null,null,null,null,null,"",null,null,"",null,null,null,"",null,null,"",null,null,null,"",null,null,"",null,null,null,"",null,null,"",null,null,null,"",null,null,""]
[53,null,null,null,null,null,"",null,null,"",null,null,null,"",null,null,"",null,null,null,"",null,null,"",null,null,null,"",null,null,"",null,null,null,"",null,null,""]
[54,null,null,null,null,null,"",null,null,"",null,null,null,"",null,null,"",null,null,null,"",null,null,"",null,null,null,"",null,null,"",null,null,null,"",null,null,""]
[55,null,null,null,null,null,"",null,null,"",null,null,null,"",null,null,"",null,null,null,"",null,null,"",null,null,null,"",null,null,"",null,null,null,"",null,null,""]
[56,null,null,null,null,null,"",null,null,"",null,null,null,"",null,null,"",null,null,null,"",null,null,"",null,null,null,"",null,null,"",null,null,null,"",null,null,""]
[57,null,null,null,null,null,"",null,null,"",null,null,null,"",null,null,"",null,null,null,"",null,null,"",null,null,null,"",null,null,"",null,null,null,"",null,null,""]
[58,null,null,null,null,null,"",null,null,"",null,null,null,"",null,null,"",null,null,null,"",null,null,"",null,null,null,"",null,null,"",null,null,null,"",null,null,""]
[59,null,null,null,null,null,"",null,null,"",null,null,null,"",null,null,"",null,null,null,"",null,null,"",null,null,null,"",null,null,"",null,null,null,"",null,null,""]
[60,null,null,null,null,null,{"$f":"IF(OR(E63=\"\",F63=\"\"),\"\",ROUNDDOWN(E63*F63,0))","v":""},null,null,"",null,null,null,"",null,null,"",null,null,null,"",null,null,"",null,null,null,"",null,null,"",null,null,null,"",null,null,""]
[61,null,null,null,null,null,"",null,null,"",null,null,null,"",null,null,"",null,null,null,"",null,null,"",null,null,null,"",null,null,"",null,null,null,"",null,null,""]
[62,null,null,null,null,null,"",null,null,"",null,null,null,"",null,null,"",null,null,null,"",null,null,"",null,null,null,"",null,null,"",null,null,null,"",null,null,""]
[63,null,null,null,null,null,"",null,null,"",null,null,null,"",null,null,"",null,null,null,"",null,null,"",null,null,null,"",null,null,"",null,null,null,"",null,null,""]
[64,null,null,null,null,null,"",null,null,"",null,null,null,"",null,null,"",null,null,null,"",null,null,"",null,null,null,"",null,null,"",null,null,null,"",null,null,""]
[65,null,null,null,null,null,"",null,null,"",null,null,null,"",null,null,"",null,null,null,"",null,null,"",null,null,null,"",null,null,"",null,null,null,"",null,null,""]
[66,null,null,null,null,null,"",null,null,"",null,null,null,"",null,null,"",null,null,null,"",null,null,"",null,null,null,"",null,null,"",null,null,null,"",null,null,""]
[67,null,null,null,null,null,{"$f":"IF(OR(E70=\"\",F70=\"\"),\"\",ROUNDDOWN(E70*F70,0))","v":""},null,null,{"$f":"IF(OR(H70=\"\",I70=\"\"),\"\",ROUNDDOWN(H70*I70,0))","v":""},null,null,null,{"$f":"IF(OR(L70=\"\",M70=\"\"),\"\",ROUNDDOWN(L70*M70,0))","v":""},null,null,{"$f":"IF(OR(O70=\"\",P70=\"\"),\"\",ROUNDDOWN(O70*P70,0))","v":""},null,null,null,{"$f":"IF(OR(S70=\"\",T70=\"\"),\"\",ROUNDDOWN(S70*T70,0))","v":""},null,null,{"$f":"IF(OR(V70=\"\",W70=\"\"),\"\",ROUNDDOWN(V70*W70,0))","v":""},null,null,null,{"$f":"IF(OR(Z70=\"\",AA70=\"\"),\"\",ROUNDDOWN(Z70*AA70,0))","v":""},null,null,{"$f":"IF(OR(AC70=\"\",AD70=\"\"),\"\",ROUNDDOWN(AC70*AD70,0))","v":""},null,null,null,{"$f":"IF(OR(AG70=\"\",AH70=\"\"),\"\",ROUNDDOWN(AG70*AH70,0))","v":""},null,null,{"$f":"IF(OR(AJ70=\"\",AK70=\"\"),\"\",ROUNDDOWN(AJ70*AK70,0))","v":""}]
[68,null,null,null,null,null,"",null,null,"",null,null,null,"",null,null,"",null,null,null,"",null,null,"",null,null,null,"",null,null,"",null,null,null,"",null,null,""]
[69,null,null,null,null,null,"",null,null,"",null,null,null,"",null,null,"",null,null,null,"",null,null,"",null,null,null,"",null,null,"",null,null,null,"",null,null,""]
[70,null,null,null,null,null,"",null,null,"",null,null,null,"",null,null,"",null,null,null,"",null,null,"",null,null,null,"",null,null,"",null,null,null,"",null,null,""]
[71,null,null,null,null,null,"",null,null,"",null,null,null,"",null,null,"",null,null,null,"",null,null,"",null,null,null,"",null,null,"",null,null,null,"",null,null,""]
[72,null,null,null,null,null,"",null,null,"",null,null,null,"",null,null,"",null,null,null,"",null,null,"",null,null,null,"",null,null,"",null,null,null,"",null,null,""]
[73,null,null,null,null,null,"",null,null,"",null,null,null,"",null,null,"",null,null,null,"",null,null,"",null,null,null,"",null,null,"",null,null,null,"",null,null,""]
[74,null,null,null,null,null,"",null,null,"",null,null,null,"",null,null,"",null,null,null,"",null,null,"",null,null,null,"",null,null,"",null,null,null,"",null,null,""]
[75,null,null,null,null,null,"",null,null,"",null,null,null,"",null,null,"",null,null,null,"",null,null,"",null,null,null,"",null,null,"",null,null,null,"",null,null,""]
[76,null,null,null,null,null,"",null,null,"",null,null,null,"",null,null,"",null,null,null,"",null,null,"",null,null,null,"",null,null,"",null,null,null,"",null,null,""]
[77,null,null,null,null,null,"",null,null,"",null,null,null,"",null,null,"",null,null,null,"",null,null,"",null,null,null,"",null,null,"",null,null,null,"",null,null,""]
[78,null,null,null,null,null,"",null,null,"",null,null,null,"",null,null,"",null,null,null,"",null,null,"",null,null,null,"",null,null,"",null,null,null,"",null,null,""]
[79,null,null,null,null,null,"",null,null,"",null,null,null,"",null,null,"",null,null,null,"",null,null,"",null,null,null,"",null,null,"",null,null,null,"",null,null,""]
[80,null,null,null,null,null,"",null,null,"",null,null,null,"",null,null,"",null,null,null,"",null,null,"",null,null,null,"",null,null,"",null,null,null,"",null,null,""]
[81,null,null,null,null,null,"",null,null,"",null,null,null,"",null,null,"",null,null,null,"",null,null,"",null,null,null,"",null,null,"",null,null,null,"",null,null,""]
[82,null,null,null,null,null,"",null,null,"",null,null,null,"",null,null,"",null,null,null,"",null,null,"",null,null,null,"",null,null,"",null,null,null,"",null,null,""]
[83,null,null,null,null,null,"",null,null,"",null,null,null,"",null,null,"",null,null,null,"",null,null,"",null,null,null,"",null,null,"",null,null,null,"",null,null,""]
[84,null,null,null,null,null,"",null,null,"",null,null,null,"",null,null,"",null,null,null,"",null,null,"",null,null,null,"",null,null,"",null,null,null,"",null,null,""]
[85,null,null,null,null,null,"",null,null,"",null,null,null,"",null,null,"",null,null,null,"",null,null,"",null,null,null,"",null,null,"",null,null,null,"",null,null,""]
[86,null,null,null,null,null,"",null,null,"",null,null,null,"",null,null,"",null,null,null,"",null,null,"",null,null,null,"",null,null,"",null,null,null,"",null,null,""]
[87,null,null,null,null,null,"",null,null,"",null,null,null,"",null,null,"",null,null,null,"",null,null,"",null,null,null,"",null,null,"",null,null,null,"",null,null,""]
[88,null,null,null,null,null,"",null,null,"",null,null,null,"",null,null,"",null,null,null,"",null,null,"",null,null,null,"",null,null,"",null,null,null,"",null,null,""]
[89,null,null,null,null,null,"",null,null,"",null,null,null,"",null,null,"",null,null,null,"",null,null,"",null,null,null,"",null,null,"",null,null,null,"",null,null,""]
[90,null,null,null,null,null,"",null,null,"",null,null,null,"",null,null,"",null,null,null,"",null,null,"",null,null,null,"",null,null,"",null,null,null,"",null,null,""]
[91,null,null,null,null,null,"",null,null,"",null,null,null,"",null,null,"",null,null,null,"",null,null,"",null,null,null,"",null,null,"",null,null,null,"",null,null,""]
[92,null,null,null,null,null,"",null,null,"",null,null,null,"",null,null,"",null,null,null,"",null,null,"",null,null,null,"",null,null,"",null,null,null,"",null,null,""]
[93,null,null,null,null,null,"",null,null,"",null,null,null,"",null,null,"",null,null,null,"",null,null,"",null,null,null,"",null,null,"",null,null,null,"",null,null,""]
[94,null,null,null,null,null,"",null,null,"",null,null,null,"",null,null,"",null,null,null,"",null,null,"",null,null,null,"",null,null,"",null,null,null,"",null,null,""]
[95,null,null,null,null,null,"",null,null,"",null,null,null,"",null,null,"",null,null,null,"",null,null,"",null,null,null,"",null,null,"",null,null,null,"",null,null,""]
[96,null,null,null,null,null,"",null,null,"",null,null,null,"",null,null,"",null,null,null,"",null,null,"",null,null,null,"",null,null,"",null,null,null,"",null,null,""]
[97,null,null,null,null,null,"",null,null,"",null,null,null,"",null,null,"",null,null,null,"",null,null,"",null,null,null,"",null,null,"",null,null,null,"",null,null,""]
[98,null,null,null,null,null,"",null,null,"",null,null,null,"",null,null,"",null,null,null,"",null,null,"",null,null,null,"",null,null,"",null,null,null,"",null,null,""]
[99,null,null,null,null,null,"",null,null,"",null,null,null,"",null,null,"",null,null,null,"",null,null,"",null,null,null,"",null,null,"",null,null,null,"",null,null,""]
[100,null,null,null,null,null,"",null,null,"",null,null,null,"",null,null,"",null,null,null,"",null,null,"",null,null,null,"",null,null,"",null,null,null,"",null,null,""]
[101,null,null,null,null,null,"",null,null,"",null,null,null,"",null,null,"",null,null,null,"",null,null,"",null,null,null,"",null,null,"",null,null,null,"",null,null,""]
[102,null,null,null,null,null,"",null,null,"",null,null,null,"",null,null,"",null,null,null,"",null,null,"",null,null,null,"",null,null,"",null,null,null,"",null,null,""]
[103,null,null,null,null,null,"",null,null,"",null,null,null,"",null,null,"",null,null,null,"",null,null,"",null,null,null,"",null,null,"",null,null,null,"",null,null,""]
[104,null,null,null,null,null,"",null,null,"",null,null,null,"",null,null,"",null,null,null,"",null,null,"",null,null,null,"",null,null,"",null,null,null,"",null,null,""]
[105,null,null,null,null,null,"",null,null,"",null,null,null,"",null,null,"",null,null,null,"",null,null,"",null,null,null,"",null,null,"",null,null,null,"",null,null,""]
[106,null,null,null,null,null,"",null,null,"",null,null,null,"",null,null,"",null,null,null,"",null,null,"",null,null,null,"",null,null,"",null,null,null,"",null,null,""]
[107,null,null,null,null,null,"",null,null,"",null,null,null,"",null,null,"",null,null,null,"",null,null,"",null,null,null,"",null,null,"",null,null,null,"",null,null,""]
[108,null,null,null,null,null,"",null,null,"",null,null,null,"",null,null,"",null,null,null,"",null,null,"",null,null,null,"",null,null,"",null,null,null,"",null,null,""]
[109,null,null,null,null,null,"",null,null,"",null,null,null,"",null,null,"",null,null,null,"",null,null,"",null,null,null,"",null,null,"",null,null,null,"",null,null,""]
[110,null,null,null,null,null,"",null,null,"",null,null,null,"",null,null,"",null,null,null,"",null,null,"",null,null,null,"",null,null,"",null,null,null,"",null,null,""]
[111,null,null,null,null,null,"",null,null,"",null,null,null,"",null,null,"",null,null,null,"",null,null,"",null,null,null,"",null,null,"",null,null,null,"",null,null,""]
[112,null,null,null,null,null,"",null,null,"",null,null,null,"",null,null,"",null,null,null,"",null,null,"",null,null,null,"",null,null,"",null,null,null,"",null,null,""]
[113,null,null,null,null,null,"",null,null,"",null,null,null,"",null,null,"",null,null,null,"",null,null,"",null,null,null,"",null,null,"",null,null,null,"",null,null,""]
[114,null,null,null,null,null,"",null,null,"",null,null,null,"",null,null,"",null,null,null,"",null,null,"",null,null,null,"",null,null,"",null,null,null,"",null,null,""]
[115,null,null,null,null,null,"",null,null,"",null,null,null,"",null,null,"",null,null,null,"",null,null,"",null,null,null,"",null,null,"",null,null,null,"",null,null,""]
[116,null,null,null,null,null,"",null,null,"",null,null,null,"",null,null,"",null,null,null,"",null,null,"",null,null,null,"",null,null,"",null,null,null,"",null,null,""]
[117,null,null,null,null,null,"",null,null,"",null,null,null,"",null,null,"",null,null,null,"",null,null,"",null,null,null,"",null,null,"",null,null,null,"",null,null,""]
[118,null,null,null,null,null,"",null,null,"",null,null,null,"",null,null,"",null,null,null,"",null,null,"",null,null,null,"",null,null,"",null,null,null,"",null,null,""]
[119,null,null,null,null,null,"",null,null,"",null,null,null,"",null,null,"",null,null,null,"",null,null,"",null,null,null,"",null,null,"",null,null,null,"",null,null,""]
[120,null,null,null,null,null,"",null,null,"",null,null,null,"",null,null,"",null,null,null,"",null,null,"",null,null,null,"",null,null,"",null,null,null,"",null,null,""]
[121,null,null,null,null,null,"",null,null,"",null,null,null,"",null,null,"",null,null,null,"",null,null,"",null,null,null,"",null,null,"",null,null,null,"",null,null,""]
[122,null,null,null,null,null,"",null,null,"",null,null,null,"",null,null,"",null,null,null,"",null,null,"",null,null,null,"",null,null,"",null,null,null,"",null,null,""]
[123,null,null,null,null,null,"",null,null,"",null,null,null,"",null,null,"",null,null,null,"",null,null,"",null,null,null,"",null,null,"",null,null,null,"",null,null,""]
[124,null,null,null,null,null,"",null,null,"",null,null,null,"",null,null,"",null,null,null,"",null,null,"",null,null,null,"",null,null,"",null,null,null,"",null,null,""]
[125,null,null,null,null,null,"",null,null,"",null,null,null,"",null,null,"",null,null,null,"",null,null,"",null,null,null,"",null,null,"",null,null,null,"",null,null,""]
[126,null,null,null,null,null,"",null,null,"",null,null,null,"",null,null,"",null,null,null,"",null,null,"",null,null,null,"",null,null,"",null,null,null,"",null,null,""]
[127,null,null,null,null,null,"",null,null,"",null,null,null,"",null,null,"",null,null,null,"",null,null,"",null,null,null,"",null,null,"",null,null,null,"",null,null,""]
[128,null,null,null,null,null,"",null,null,"",null,null,null,"",null,null,"",null,null,null,"",null,null,"",null,null,null,"",null,null,"",null,null,null,"",null,null,""]
[129,null,null,null,null,null,"",null,null,"",null,null,null,"",null,null,"",null,null,null,"",null,null,"",null,null,null,"",null,null,"",null,null,null,"",null,null,""]
[130,null,null,null,null,null,"",null,null,"",null,null,null,"",null,null,"",null,null,null,"",null,null,"",null,null,null,"",null,null,"",null,null,null,"",null,null,""]
[131,null,null,null,null,null,{"$f":"IF(OR(E134=\"\",F134=\"\"),\"\",ROUNDDOWN(E134*F134,0))","v":""},null,null,{"$f":"IF(OR(H134=\"\",I134=\"\"),\"\",ROUNDDOWN(H134*I134,0))","v":""},null,null,null,{"$f":"IF(OR(L134=\"\",M134=\"\"),\"\",ROUNDDOWN(L134*M134,0))","v":""},null,null,{"$f":"IF(OR(O134=\"\",P134=\"\"),\"\",ROUNDDOWN(O134*P134,0))","v":""},null,null,null,{"$f":"IF(OR(S134=\"\",T134=\"\"),\"\",ROUNDDOWN(S134*T134,0))","v":""},null,null,{"$f":"IF(OR(V134=\"\",W134=\"\"),\"\",ROUNDDOWN(V134*W134,0))","v":""},null,null,null,{"$f":"IF(OR(Z134=\"\",AA134=\"\"),\"\",ROUNDDOWN(Z134*AA134,0))","v":""},null,null,{"$f":"IF(OR(AC134=\"\",AD134=\"\"),\"\",ROUNDDOWN(AC134*AD134,0))","v":""},null,null,null,{"$f":"IF(OR(AG134=\"\",AH134=\"\"),\"\",ROUNDDOWN(AG134*AH134,0))","v":""},null,null,{"$f":"IF(OR(AJ134=\"\",AK134=\"\"),\"\",ROUNDDOWN(AJ134*AK134,0))","v":""}]
[132,null,null,null,null,null,"",null,null,"",null,null,null,"",null,null,"",null,null,null,"",null,null,"",null,null,null,"",null,null,"",null,null,null,"",null,null,""]
[133,null,null,null,null,null,"",null,null,"",null,null,null,"",null,null,"",null,null,null,"",null,null,"",null,null,null,"",null,null,"",null,null,null,"",null,null,""]
[134,null,null,null,null,null,"",null,null,"",null,null,null,"",null,null,"",null,null,null,"",null,null,"",null,null,null,"",null,null,"",null,null,null,"",null,null,""]
[135,null,null,null,null,null,"",null,null,"",null,null,null,"",null,null,"",null,null,null,"",null,null,"",null,null,null,"",null,null,"",null,null,null,"",null,null,""]
[136,null,null,null,null,null,"",null,null,"",null,null,null,"",null,null,"",null,null,null,"",null,null,"",null,null,null,"",null,null,"",null,null,null,"",null,null,""]
[137,null,null,null,null,null,"",null,null,"",null,null,null,"",null,null,"",null,null,null,"",null,null,"",null,null,null,"",null,null,"",null,null,null,"",null,null,""]
[138,null,null,null,null,null,"",null,null,"",null,null,null,"",null,null,"",null,null,null,"",null,null,"",null,null,null,"",null,null,"",null,null,null,"",null,null,""]
[139,null,null,null,null,null,"",null,null,"",null,null,null,"",null,null,"",null,null,null,"",null,null,"",null,null,null,"",null,null,"",null,null,null,"",null,null,""]
[140,null,null,null,null,null,"",null,null,"",null,null,null,"",null,null,"",null,null,null,"",null,null,"",null,null,null,"",null,null,"",null,null,null,"",null,null,""]
[141,null,null,null,null,null,"",null,null,"",null,null,null,"",null,null,"",null,null,null,"",null,null,"",null,null,null,"",null,null,"",null,null,null,"",null,null,""]
[142,null,null,null,null,null,"",null,null,"",null,null,null,"",null,null,"",null,null,null,"",null,null,"",null,null,null,"",null,null,"",null,null,null,"",null,null,""]
[143,null,null,null,null,null,"",null,null,"",null,null,null,"",null,null,"",null,null,null,"",null,null,"",null,null,null,"",null,null,"",null,null,null,"",null,null,""]
[144,null,null,null,null,null,"",null,null,"",null,null,null,"",null,null,"",null,null,null,"",null,null,"",null,null,null,"",null,null,"",null,null,null,"",null,null,""]
[145,null,null,null,null,null,"",null,null,"",null,null,null,"",null,null,"",null,null,null,"",null,null,"",null,null,null,"",null,null,"",null,null,null,"",null,null,""]
[146,null,null,null,null,null,"",null,null,"",null,null,null,"",null,null,"",null,null,null,"",null,null,"",null,null,null,"",null,null,"",null,null,null,"",null,null,""]
[147,null,null,null,null,null,"",null,null,"",null,null,null,"",null,null,"",null,null,null,"",null,null,"",null,null,null,"",null,null,"",null,null,null,"",null,null,""]
[148,null,null,null,null,null,"",null,null,"",null,null,null,"",null,null,"",null,null,null,"",null,null,"",null,null,null,"",null,null,"",null,null,null,"",null,null,""]
[149,null,null,null,null,null,"",null,null,"",null,null,null,"",null,null,"",null,null,null,"",null,null,"",null,null,null,"",null,null,"",null,null,null,"",null,null,""]
[150,null,null,null,null,null,"",null,null,"",null,null,null,"",null,null,"",null,null,null,"",null,null,"",null,null,null,"",null,null,"",null,null,null,"",null,null,""]
[151,null,null,null,null,null,"",null,null,"",null,null,null,"",null,null,"",null,null,null,"",null,null,"",null,null,null,"",null,null,"",null,null,null,"",null,null,""]
[152,null,null,null,null,null,"",null,null,"",null,null,null,"",null,null,"",null,null,null,"",null,null,"",null,null,null,"",null,null,"",null,null,null,"",null,null,""]
[153,null,null,null,null,null,"",null,null,"",null,null,null,"",null,null,"",null,null,null,"",null,null,"",null,null,null,"",null,null,"",null,null,null,"",null,null,""]
[154,null,null,null,null,null,"",null,null,"",null,null,null,"",null,null,"",null,null,null,"",null,null,"",null,null,null,"",null,null,"",null,null,null,"",null,null,""]
[155,null,null,null,null,null,"",null,null,"",null,null,null,"",null,null,"",null,null,null,"",null,null,"",null,null,null,"",null,null,"",null,null,null,"",null,null,""]
[156,null,null,null,null,null,"",null,null,"",null,null,null,"",null,null,"",null,null,null,"",null,null,"",null,null,null,"",null,null,"",null,null,null,"",null,null,""]
[157,null,null,null,null,null,"",null,null,"",null,null,null,"",null,null,"",null,null,null,"",null,null,"",null,null,null,"",null,null,"",null,null,null,"",null,null,""]
[158,null,null,null,null,null,"",null,null,"",null,null,null,"",null,null,"",null,null,null,"",null,null,"",null,null,null,"",null,null,"",null,null,null,"",null,null,""]
[159,null,null,null,null,null,"",null,null,"",null,null,null,"",null,null,"",null,null,null,"",null,null,"",null,null,null,"",null,null,"",null,null,null,"",null,null,""]
[160,null,null,null,null,null,"",null,null,"",null,null,null,"",null,null,"",null,null,null,"",null,null,"",null,null,null,"",null,null,"",null,null,null,"",null,null,""]
[161,null,null,null,null,null,"",null,null,"",null,null,null,"",null,null,"",null,null,null,"",null,null,"",null,null,null,"",null,null,"",null,null,null,"",null,null,""]
[162,null,null,null,null,null,"",null,null,"",null,null,null,"",null,null,"",null,null,null,"",null,null,"",null,null,null,"",null,null,"",null,null,null,"",null,null,""]
[163,null,null,null,null,null,"",null,null,"",null,null,null,"",null,null,"",null,null,null,"",null,null,"",null,null,null,"",null,null,"",null,null,null,"",null,null,""]
[164,null,null,null,null,null,"",null,null,"",null,null,null,"",null,null,"",null,null,null,"",null,null,"",null,null,null,"",null,null,"",null,null,null,"",null,null,""]
[165,null,null,null,null,null,"",null,null,"",null,null,null,"",null,null,"",null,null,null,"",null,null,"",null,null,null,"",null,null,"",null,null,null,"",null,null,""]
[166,null,null,null,null,null,"",null,null,"",null,null,null,"",null,null,"",null,null,null,"",null,null,"",null,null,null,"",null,null,"",null,null,null,"",null,null,""]
[167,null,null,null,null,null,"",null,null,"",null,null,null,"",null,null,"",null,null,null,"",null,null,"",null,null,null,"",null,null,"",null,null,null,"",null,null,""]
[168,null,null,null,null,null,"",null,null,"",null,null,null,"",null,null,"",null,null,null,"",null,null,"",null,null,null,"",null,null,"",null,null,null,"",null,null,""]
[169,null,null,null,null,null,"",null,null,"",null,null,null,"",null,null,"",null,null,null,"",null,null,"",null,null,null,"",null,null,"",null,null,null,"",null,null,""]
[170,null,null,null,null,null,"",null,null,"",null,null,null,"",null,null,"",null,null,null,"",null,null,"",null,null,null,"",null,null,"",null,null,null,"",null,null,""]
[171,null,null,null,null,null,"",null,null,"",null,null,null,"",null,null,"",null,null,null,"",null,null,"",null,null,null,"",null,null,"",null,null,null,"",null,null,""]
[172,null,null,null,null,null,"",null,null,"",null,null,null,"",null,null,"",null,null,null,"",null,null,"",null,null,null,"",null,null,"",null,null,null,"",null,null,""]
[173,null,null,null,null,null,"",null,null,"",null,null,null,"",null,null,"",null,null,null,"",null,null,"",null,null,null,"",null,null,"",null,null,null,"",null,null,""]
[174,null,null,null,null,null,"",null,null,"",null,null,null,"",null,null,"",null,null,null,"",null,null,"",null,null,null,"",null,null,"",null,null,null,"",null,null,""]
[175,null,null,null,null,null,"",null,null,"",null,null,null,"",null,null,"",null,null,null,"",null,null,"",null,null,null,"",null,null,"",null,null,null,"",null,null,""]
[176,null,null,null,null,null,"",null,null,"",null,null,null,"",null,null,"",null,null,null,"",null,null,"",null,null,null,"",null,null,"",null,null,null,"",null,null,""]
[177,null,null,null,null,null,"",null,null,"",null,null,null,"",null,null,"",null,null,null,"",null,null,"",null,null,null,"",null,null,"",null,null,null,"",null,null,""]
[178,null,null,null,null,null,"",null,null,"",null,null,null,"",null,null,"",null,null,null,"",null,null,"",null,null,null,"",null,null,"",null,null,null,"",null,null,""]
[179,null,null,null,null,null,"",null,null,"",null,null,null,"",null,null,"",null,null,null,"",null,null,"",null,null,null,"",null,null,"",null,null,null,"",null,null,""]
[180,null,null,null,null,null,"",null,null,"",null,null,null,"",null,null,"",null,null,null,"",null,null,"",null,null,null,"",null,null,"",null,null,null,"",null,null,""]
[181,null,null,null,null,null,"",null,null,"",null,null,null,"",null,null,"",null,null,null,"",null,null,"",null,null,null,"",null,null,"",null,null,null,"",null,null,""]
[182,null,null,null,null,null,"",null,null,"",null,null,null,"",null,null,"",null,null,null,"",null,null,"",null,null,null,"",null,null,"",null,null,null,"",null,null,""]
[183,null,null,null,null,null,"",null,null,"",null,null,null,"",null,null,"",null,null,null,"",null,null,"",null,null,null,"",null,null,"",null,null,null,"",null,null,""]
[184,null,null,null,null,null,"",null,null,"",null,null,null,"",null,null,"",null,null,null,"",null,null,"",null,null,null,"",null,null,"",null,null,null,"",null,null,""]
[185,null,null,null,null,null,"",null,null,"",null,null,null,"",null,null,"",null,null,null,"",null,null,"",null,null,null,"",null,null,"",null,null,null,"",null,null,""]
[186,null,null,null,null,null,"",null,null,"",null,null,null,"",null,null,"",null,null,null,"",null,null,"",null,null,null,"",null,null,"",null,null,null,"",null,null,""]
[187,null,null,null,null,null,"",null,null,"",null,null,null,"",null,null,"",null,null,null,"",null,null,"",null,null,null,"",null,null,"",null,null,null,"",null,null,""]
[188,null,null,null,null,null,"",null,null,"",null,null,null,"",null,null,"",null,null,null,"",null,null,"",null,null,null,"",null,null,"",null,null,null,"",null,null,""]
[189,null,null,null,null,null,"",null,null,"",null,null,null,"",null,null,"",null,null,null,"",null,null,"",null,null,null,"",null,null,"",null,null,null,"",null,null,""]
[190,null,null,null,null,null,"",null,null,"",null,null,null,"",null,null,"",null,null,null,"",null,null,"",null,null,null,"",null,null,"",null,null,null,"",null,null,""]
[191,null,null,null,null,null,"",null,null,"",null,null,null,"",null,null,"",null,null,null,"",null,null,"",null,null,null,"",null,null,"",null,null,null,"",null,null,""]
[192,null,null,null,null,null,"",null,null,"",null,null,null,"",null,null,"",null,null,null,"",null,null,"",null,null,null,"",null,null,"",null,null,null,"",null,null,""]
[193,null,null,null,null,null,"",null,null,"",null,null,null,"",null,null,"",null,null,null,"",null,null,"",null,null,null,"",null,null,"",null,null,null,"",null,null,""]
[194,null,null,null,null,null,"",null,null,"",null,null,null,"",null,null,"",null,null,null,"",null,null,"",null,null,null,"",null,null,"",null,null,null,"",null,null,""]
[195,null,null,null,null,null,{"$f":"IF(OR(E198=\"\",F198=\"\"),\"\",ROUNDDOWN(E198*F198,0))","v":""},null,null,{"$f":"IF(OR(H198=\"\",I198=\"\"),\"\",ROUNDDOWN(H198*I198,0))","v":""},null,null,null,{"$f":"IF(OR(L198=\"\",M198=\"\"),\"\",ROUNDDOWN(L198*M198,0))","v":""},null,null,{"$f":"IF(OR(O198=\"\",P198=\"\"),\"\",ROUNDDOWN(O198*P198,0))","v":""},null,null,null,{"$f":"IF(OR(S198=\"\",T198=\"\"),\"\",ROUNDDOWN(S198*T198,0))","v":""},null,null,{"$f":"IF(OR(V198=\"\",W198=\"\"),\"\",ROUNDDOWN(V198*W198,0))","v":""},null,null,null,{"$f":"IF(OR(Z198=\"\",AA198=\"\"),\"\",ROUNDDOWN(Z198*AA198,0))","v":""},null,null,{"$f":"IF(OR(AC198=\"\",AD198=\"\"),\"\",ROUNDDOWN(AC198*AD198,0))","v":""},null,null,null,{"$f":"IF(OR(AG198=\"\",AH198=\"\"),\"\",ROUNDDOWN(AG198*AH198,0))","v":""},null,null,{"$f":"IF(OR(AJ198=\"\",AK198=\"\"),\"\",ROUNDDOWN(AJ198*AK198,0))","v":""}]
[196,null,null,null,null,null,"",null,null,"",null,null,null,"",null,null,"",null,null,null,"",null,null,"",null,null,null,"",null,null,"",null,null,null,"",null,null,""]
[197,null,null,null,null,null,"",null,null,"",null,null,null,"",null,null,"",null,null,null,"",null,null,"",null,null,null,"",null,null,"",null,null,null,"",null,null,""]
[198,null,null,null,null,null,"",null,null,"",null,null,null,"",null,null,"",null,null,null,"",null,null,"",null,null,null,"",null,null,"",null,null,null,"",null,null,""]
[199,null,null,null,null,null,"",null,null,"",null,null,null,"",null,null,"",null,null,null,"",null,null,"",null,null,null,"",null,null,"",null,null,null,"",null,null,""]
[200,null,null,null,null,null,"",null,null,"",null,null,null,"",null,null,"",null,null,null,"",null,null,"",null,null,null,"",null,null,"",null,null,null,"",null,null,""]
[201,null,null,null,null,null,"",null,null,"",null,null,null,"",null,null,"",null,null,null,"",null,null,"",null,null,null,"",null,null,"",null,null,null,"",null,null,""]
[202,null,null,null,null,null,"",null,null,"",null,null,null,"",null,null,"",null,null,null,"",null,null,"",null,null,null,"",null,null,"",null,null,null,"",null,null,""]
[203,null,null,null,null,null,"",null,null,"",null,null,null,"",null,null,"",null,null,null,"",null,null,"",null,null,null,"",null,null,"",null,null,null,"",null,null,""]
[204,null,null,null,null,null,"",null,null,"",null,null,null,"",null,null,"",null,null,null,"",null,null,"",null,null,null,"",null,null,"",null,null,null,"",null,null,""]
[205,null,null,null,null,null,"",null,null,"",null,null,null,"",null,null,"",null,null,null,"",null,null,"",null,null,null,"",null,null,"",null,null,null,"",null,null,""]
[206,null,null,null,null,null,"",null,null,"",null,null,null,"",null,null,"",null,null,null,"",null,null,"",null,null,null,"",null,null,"",null,null,null,"",null,null,""]
[207,null,null,null,null,null,"",null,null,"",null,null,null,"",null,null,"",null,null,null,"",null,null,"",null,null,null,"",null,null,"",null,null,null,"",null,null,""]
[208,null,null,null,null,null,"",null,null,"",null,null,null,"",null,null,"",null,null,null,"",null,null,"",null,null,null,"",null,null,"",null,null,null,"",null,null,""]
[209,null,null,null,null,null,"",null,null,"",null,null,null,"",null,null,"",null,null,null,"",null,null,"",null,null,null,"",null,null,"",null,null,null,"",null,null,""]
[210,null,null,null,null,null,"",null,null,"",null,null,null,"",null,null,"",null,null,null,"",null,null,"",null,null,null,"",null,null,"",null,null,null,"",null,null,""]
[211,null,null,null,null,null,"",null,null,"",null,null,null,"",null,null,"",null,null,null,"",null,null,"",null,null,null,"",null,null,"",null,null,null,"",null,null,""]
[212,null,null,null,null,null,"",null,null,"",null,null,null,"",null,null,"",null,null,null,"",null,null,"",null,null,null,"",null,null,"",null,null,null,"",null,null,""]
[213,null,null,null,null,null,"",null,null,"",null,null,null,"",null,null,"",null,null,null,"",null,null,"",null,null,null,"",null,null,"",null,null,null,"",null,null,""]
[214,null,null,null,null,null,"",null,null,"",null,null,null,"",null,null,"",null,null,null,"",null,null,"",null,null,null,"",null,null,"",null,null,null,"",null,null,""]
[215,null,null,null,null,null,"",null,null,"",null,null,null,"",null,null,"",null,null,null,"",null,null,"",null,null,null,"",null,null,"",null,null,null,"",null,null,""]
[216,null,null,null,null,null,"",null,null,"",null,null,null,"",null,null,"",null,null,null,"",null,null,"",null,null,null,"",null,null,"",null,null,null,"",null,null,""]
[217,null,null,null,null,null,"",null,null,"",null,null,null,"",null,null,"",null,null,null,"",null,null,"",null,null,null,"",null,null,"",null,null,null,"",null,null,""]
[218,null,null,null,null,null,"",null,null,"",null,null,null,"",null,null,"",null,null,null,"",null,null,"",null,null,null,"",null,null,"",null,null,null,"",null,null,""]
[219,null,null,null,null,null,"",null,null,"",null,null,null,"",null,null,"",null,null,null,"",null,null,"",null,null,null,"",null,null,"",null,null,null,"",null,null,""]
[220,null,null,null,null,null,"",null,null,"",null,null,null,"",null,null,"",null,null,null,"",null,null,"",null,null,null,"",null,null,"",null,null,null,"",null,null,""]
[221,null,null,null,null,null,"",null,null,"",null,null,null,"",null,null,"",null,null,null,"",null,null,"",null,null,null,"",null,null,"",null,null,null,"",null,null,""]
[222,null,null,null,null,null,"",null,null,"",null,null,null,"",null,null,"",null,null,null,"",null,null,"",null,null,null,"",null,null,"",null,null,null,"",null,null,""]
[223,null,null,null,null,null,"",null,null,"",null,null,null,"",null,null,"",null,null,null,"",null,null,"",null,null,null,"",null,null,"",null,null,null,"",null,null,""]
[224,null,null,null,null,null,"",null,null,"",null,null,null,"",null,null,"",null,null,null,"",null,null,"",null,null,null,"",null,null,"",null,null,null,"",null,null,""]
[225,null,null,null,null,null,"",null,null,"",null,null,null,"",null,null,"",null,null,null,"",null,null,"",null,null,null,"",null,null,"",null,null,null,"",null,null,""]
[226,null,null,null,null,null,"",null,null,"",null,null,null,"",null,null,"",null,null,null,"",null,null,"",null,null,null,"",null,null,"",null,null,null,"",null,null,""]
[227,null,null,null,null,null,"",null,null,"",null,null,null,"",null,null,"",null,null,null,"",null,null,"",null,null,null,"",null,null,"",null,null,null,"",null,null,""]
[228,null,null,null,null,null,"",null,null,"",null,null,null,"",null,null,"",null,null,null,"",null,null,"",null,null,null,"",null,null,"",null,null,null,"",null,null,""]
[229,null,null,null,null,null,"",null,null,"",null,null,null,"",null,null,"",null,null,null,"",null,null,"",null,null,null,"",null,null,"",null,null,null,"",null,null,""]
[230,null,null,null,null,null,"",null,null,"",null,null,null,"",null,null,"",null,null,null,"",null,null,"",null,null,null,"",null,null,"",null,null,null,"",null,null,""]
[231,null,null,null,null,null,"",null,null,"",null,null,null,"",null,null,"",null,null,null,"",null,null,"",null,null,null,"",null,null,"",null,null,null,"",null,null,""]
[232,null,null,null,null,null,"",null,null,"",null,null,null,"",null,null,"",null,null,null,"",null,null,"",null,null,null,"",null,null,"",null,null,null,"",null,null,""]
[233,null,null,null,null,null,"",null,null,"",null,null,null,"",null,null,"",null,null,null,"",null,null,"",null,null,null,"",null,null,"",null,null,null,"",null,null,""]
[234,null,null,null,null,null,"",null,null,"",null,null,null,"",null,null,"",null,null,null,"",null,null,"",null,null,null,"",null,null,"",null,null,null,"",null,null,""]
[235,null,null,null,null,null,"",null,null,"",null,null,null,"",null,null,"",null,null,null,"",null,null,"",null,null,null,"",null,null,"",null,null,null,"",null,null,""]
[236,null,null,null,null,null,"",null,null,"",null,null,null,"",null,null,"",null,null,null,"",null,null,"",null,null,null,"",null,null,"",null,null,null,"",null,null,""]
[237,null,null,null,null,null,"",null,null,"",null,null,null,"",null,null,"",null,null,null,"",null,null,"",null,null,null,"",null,null,"",null,null,null,"",null,null,""]
[238,null,null,null,null,null,"",null,null,"",null,null,null,"",null,null,"",null,null,null,"",null,null,"",null,null,null,"",null,null,"",null,null,null,"",null,null,""]
[239,null,null,null,null,null,"",null,null,"",null,null,null,"",null,null,"",null,null,null,"",null,null,"",null,null,null,"",null,null,"",null,null,null,"",null,null,""]
[240,null,null,null,null,null,"",null,null,"",null,null,null,"",null,null,"",null,null,null,"",null,null,"",null,null,null,"",null,null,"",null,null,null,"",null,null,""]
[241,null,null,null,null,null,"",null,null,"",null,null,null,"",null,null,"",null,null,null,"",null,null,"",null,null,null,"",null,null,"",null,null,null,"",null,null,""]
[242,null,null,null,null,null,"",null,null,"",null,null,null,"",null,null,"",null,null,null,"",null,null,"",null,null,null,"",null,null,"",null,null,null,"",null,null,""]
[243,null,null,null,null,null,"",null,null,"",null,null,null,"",null,null,"",null,null,null,"",null,null,"",null,null,null,"",null,null,"",null,null,null,"",null,null,""]
[244,null,null,null,null,null,"",null,null,"",null,null,null,"",null,null,"",null,null,null,"",null,null,"",null,null,null,"",null,null,"",null,null,null,"",null,null,""]
[245,null,null,null,null,null,"",null,null,"",null,null,null,"",null,null,"",null,null,null,"",null,null,"",null,null,null,"",null,null,"",null,null,null,"",null,null,""]
[246,null,null,null,null,null,"",null,null,"",null,null,null,"",null,null,"",null,null,null,"",null,null,"",null,null,null,"",null,null,"",null,null,null,"",null,null,""]
[247,null,null,null,null,null,"",null,null,"",null,null,null,"",null,null,"",null,null,null,"",null,null,"",null,null,null,"",null,null,"",null,null,null,"",null,null,""]
[248,null,null,null,null,null,"",null,null,"",null,null,null,"",null,null,"",null,null,null,"",null,null,"",null,null,null,"",null,null,"",null,null,null,"",null,null,""]
[249,null,null,null,null,null,"",null,null,"",null,null,null,"",null,null,"",null,null,null,"",null,null,"",null,null,null,"",null,null,"",null,null,null,"",null,null,""]
[250,null,null,null,null,null,"",null,null,"",null,null,null,"",null,null,"",null,null,null,"",null,null,"",null,null,null,"",null,null,"",null,null,null,"",null,null,""]
[251,null,null,null,null,null,"",null,null,"",null,null,null,"",null,null,"",null,null,null,"",null,null,"",null,null,null,"",null,null,"",null,null,null,"",null,null,""]
[252,null,null,null,null,null,"",null,null,"",null,null,null,"",null,null,"",null,null,null,"",null,null,"",null,null,null,"",null,null,"",null,null,null,"",null,null,""]
[253,null,null,null,null,null,"",null,null,"",null,null,null,"",null,null,"",null,null,null,"",null,null,"",null,null,null,"",null,null,"",null,null,null,"",null,null,""]
[254,null,null,null,null,null,"",null,null,"",null,null,null,"",null,null,"",null,null,null,"",null,null,"",null,null,null,"",null,null,"",null,null,null,"",null,null,""]
[255,null,null,null,null,null,"",null,null,"",null,null,null,"",null,null,"",null,null,null,"",null,null,"",null,null,null,"",null,null,"",null,null,null,"",null,null,""]
[256,null,null,null,null,null,"",null,null,"",null,null,null,"",null,null,"",null,null,null,"",null,null,"",null,null,null,"",null,null,"",null,null,null,"",null,null,""]
[257,null,null,null,null,null,"",null,null,"",null,null,null,"",null,null,"",null,null,null,"",null,null,"",null,null,null,"",null,null,"",null,null,null,"",null,null,""]
[258,null,null,null,null,null,"",null,null,"",null,null,null,"",null,null,"",null,null,null,"",null,null,"",null,null,null,"",null,null,"",null,null,null,"",null,null,""]
[259,null,null,null,null,null,{"$f":"IF(OR(E262=\"\",F262=\"\"),\"\",ROUNDDOWN(E262*F262,0))","v":""},null,null,{"$f":"IF(OR(H262=\"\",I262=\"\"),\"\",ROUNDDOWN(H262*I262,0))","v":""},null,null,null,{"$f":"IF(OR(L262=\"\",M262=\"\"),\"\",ROUNDDOWN(L262*M262,0))","v":""},null,null,{"$f":"IF(OR(O262=\"\",P262=\"\"),\"\",ROUNDDOWN(O262*P262,0))","v":""},null,null,null,{"$f":"IF(OR(S262=\"\",T262=\"\"),\"\",ROUNDDOWN(S262*T262,0))","v":""},null,null,{"$f":"IF(OR(V262=\"\",W262=\"\"),\"\",ROUNDDOWN(V262*W262,0))","v":""},null,null,null,{"$f":"IF(OR(Z262=\"\",AA262=\"\"),\"\",ROUNDDOWN(Z262*AA262,0))","v":""},null,null,{"$f":"IF(OR(AC262=\"\",AD262=\"\"),\"\",ROUNDDOWN(AC262*AD262,0))","v":""},null,null,null,{"$f":"IF(OR(AG262=\"\",AH262=\"\"),\"\",ROUNDDOWN(AG262*AH262,0))","v":""},null,null,{"$f":"IF(OR(AJ262=\"\",AK262=\"\"),\"\",ROUNDDOWN(AJ262*AK262,0))","v":""}]
[260,null,null,null,null,null,"",null,null,"",null,null,null,"",null,null,"",null,null,null,"",null,null,"",null,null,null,"",null,null,"",null,null,null,"",null,null,""]
[261,null,null,null,null,null,"",null,null,"",null,null,null,"",null,null,"",null,null,null,"",null,null,"",null,null,null,"",null,null,"",null,null,null,"",null,null,""]
[262,null,null,null,null,null,"",null,null,"",null,null,null,"",null,null,"",null,null,null,"",null,null,"",null,null,null,"",null,null,"",null,null,null,"",null,null,""]
[263,null,null,null,null,null,"",null,null,"",null,null,null,"",null,null,"",null,null,null,"",null,null,"",null,null,null,"",null,null,"",null,null,null,"",null,null,""]
[264,null,null,null,null,null,"",null,null,"",null,null,null,"",null,null,"",null,null,null,"",null,null,"",null,null,null,"",null,null,"",null,null,null,"",null,null,""]
[265,null,null,null,null,null,"",null,null,"",null,null,null,"",null,null,"",null,null,null,"",null,null,"",null,null,null,"",null,null,"",null,null,null,"",null,null,""]
[266,null,null,null,null,null,"",null,null,"",null,null,null,"",null,null,"",null,null,null,"",null,null,"",null,null,null,"",null,null,"",null,null,null,"",null,null,""]
[267,null,null,null,null,null,"",null,null,"",null,null,null,"",null,null,"",null,null,null,"",null,null,"",null,null,null,"",null,null,"",null,null,null,"",null,null,""]
[268,null,null,null,null,null,"",null,null,"",null,null,null,"",null,null,"",null,null,null,"",null,null,"",null,null,null,"",null,null,"",null,null,null,"",null,null,""]
[269,null,null,null,null,null,"",null,null,"",null,null,null,"",null,null,"",null,null,null,"",null,null,"",null,null,null,"",null,null,"",null,null,null,"",null,null,""]
[270,null,null,null,null,null,"",null,null,"",null,null,null,"",null,null,"",null,null,null,"",null,null,"",null,null,null,"",null,null,"",null,null,null,"",null,null,""]
[271,null,null,null,null,null,"",null,null,"",null,null,null,"",null,null,"",null,null,null,"",null,null,"",null,null,null,"",null,null,"",null,null,null,"",null,null,""]
[272,null,null,null,null,null,"",null,null,"",null,null,null,"",null,null,"",null,null,null,"",null,null,"",null,null,null,"",null,null,"",null,null,null,"",null,null,""]
[273,null,null,null,null,null,"",null,null,"",null,null,null,"",null,null,"",null,null,null,"",null,null,"",null,null,null,"",null,null,"",null,null,null,"",null,null,""]
[274,null,null,null,null,null,"",null,null,"",null,null,null,"",null,null,"",null,null,null,"",null,null,"",null,null,null,"",null,null,"",null,null,null,"",null,null,""]
[275,null,null,null,null,null,"",null,null,"",null,null,null,"",null,null,"",null,null,null,"",null,null,"",null,null,null,"",null,null,"",null,null,null,"",null,null,""]
[276,null,null,null,null,null,"",null,null,"",null,null,null,"",null,null,"",null,null,null,"",null,null,"",null,null,null,"",null,null,"",null,null,null,"",null,null,""]
[277,null,null,null,null,null,"",null,null,"",null,null,null,"",null,null,"",null,null,null,"",null,null,"",null,null,null,"",null,null,"",null,null,null,"",null,null,""]
[278,null,null,null,null,null,"",null,null,"",null,null,null,"",null,null,"",null,null,null,"",null,null,"",null,null,null,"",null,null,"",null,null,null,"",null,null,""]
[279,null,null,null,null,null,"",null,null,"",null,null,null,"",null,null,"",null,null,null,"",null,null,"",null,null,null,"",null,null,"",null,null,null,"",null,null,""]
[280,null,null,null,null,null,"",null,null,"",null,null,null,"",null,null,"",null,null,null,"",null,null,"",null,null,null,"",null,null,"",null,null,null,"",null,null,""]
[281,null,null,null,null,null,"",null,null,"",null,null,null,"",null,null,"",null,null,null,"",null,null,"",null,null,null,"",null,null,"",null,null,null,"",null,null,""]
[282,null,null,null,null,null,"",null,null,"",null,null,null,"",null,null,"",null,null,null,"",null,null,"",null,null,null,"",null,null,"",null,null,null,"",null,null,""]
[283,null,null,null,null,null,"",null,null,"",null,null,null,"",null,null,"",null,null,null,"",null,null,"",null,null,null,"",null,null,"",null,null,null,"",null,null,""]
[284,null,null,null,null,null,"",null,null,"",null,null,null,"",null,null,"",null,null,null,"",null,null,"",null,null,null,"",null,null,"",null,null,null,"",null,null,""]
[285,null,null,null,null,null,"",null,null,"",null,null,null,"",null,null,"",null,null,null,"",null,null,"",null,null,null,"",null,null,"",null,null,null,"",null,null,""]
[286,null,null,null,null,null,"",null,null,"",null,null,null,"",null,null,"",null,null,null,"",null,null,"",null,null,null,"",null,null,"",null,null,null,"",null,null,""]
[287,null,null,null,null,null,"",null,null,"",null,null,null,"",null,null,"",null,null,null,"",null,null,"",null,null,null,"",null,null,"",null,null,null,"",null,null,""]
[288,null,null,null,null,null,"",null,null,"",null,null,null,"",null,null,"",null,null,null,"",null,null,"",null,null,null,"",null,null,"",null,null,null,"",null,null,""]
[289,null,null,null,null,null,"",null,null,"",null,null,null,"",null,null,"",null,null,null,"",null,null,"",null,null,null,"",null,null,"",null,null,null,"",null,null,""]
[290,null,null,null,null,null,"",null,null,"",null,null,null,"",null,null,"",null,null,null,"",null,null,"",null,null,null,"",null,null,"",null,null,null,"",null,null,""]
[291,null,null,null,null,null,"",null,null,"",null,null,null,"",null,null,"",null,null,null,"",null,null,"",null,null,null,"",null,null,"",null,null,null,"",null,null,""]
[292,null,null,null,null,null,"",null,null,"",null,null,null,"",null,null,"",null,null,null,"",null,null,"",null,null,null,"",null,null,"",null,null,null,"",null,null,""]
[293,null,null,null,null,null,"",null,null,"",null,null,null,"",null,null,"",null,null,null,"",null,null,"",null,null,null,"",null,null,"",null,null,null,"",null,null,""]
[294,null,null,null,null,null,"",null,null,"",null,null,null,"",null,null,"",null,null,null,"",null,null,"",null,null,null,"",null,null,"",null,null,null,"",null,null,""]
[295,null,null,null,null,null,"",null,null,"",null,null,null,"",null,null,"",null,null,null,"",null,null,"",null,null,null,"",null,null,"",null,null,null,"",null,null,""]
[296,null,null,null,null,null,"",null,null,"",null,null,null,"",null,null,"",null,null,null,"",null,null,"",null,null,null,"",null,null,"",null,null,null,"",null,null,""]
[297,null,null,null,null,null,"",null,null,"",null,null,null,"",null,null,"",null,null,null,"",null,null,"",null,null,null,"",null,null,"",null,null,null,"",null,null,""]
[298,null,null,null,null,null,"",null,null,"",null,null,null,"",null,null,"",null,null,null,"",null,null,"",null,null,null,"",null,null,"",null,null,null,"",null,null,""]
[299,null,null,null,null,null,"",null,null,"",null,null,null,"",null,null,"",null,null,null,"",null,null,"",null,null,null,"",null,null,"",null,null,null,"",null,null,""]
[300,null,null,null,null,null,"",null,null,"",null,null,null,"",null,null,"",null,null,null,"",null,null,"",null,null,null,"",null,null,"",null,null,null,"",null,null,""]
[301,null,null,null,null,null,"",null,null,"",null,null,null,"",null,null,"",null,null,null,"",null,null,"",null,null,null,"",null,null,"",null,null,null,"",null,null,""]
[302,null,null,null,null,null,"",null,null,"",null,null,null,"",null,null,"",null,null,null,"",null,null,"",null,null,null,"",null,null,"",null,null,null,"",null,null,""]
[303,null,null,null,null,null,"",null,null,"",null,null,null,"",null,null,"",null,null,null,"",null,null,"",null,null,null,"",null,null,"",null,null,null,"",null,null,""]
[304,null,null,null,null,null,"",null,null,"",null,null,null,"",null,null,"",null,null,null,"",null,null,"",null,null,null,"",null,null,"",null,null,null,"",null,null,""]
[305,null,null,null,null,null,"",null,null,"",null,null,null,"",null,null,"",null,null,null,"",null,null,"",null,null,null,"",null,null,"",null,null,null,"",null,null,""]

{"sheet":"2号(2)【入力】","index":3,"n_rows":96,"n_cols":40,"rows_kept":96,"cut":false,"hidden":false,"merged":[[1,25,1,27],[1,39,2,39],[1,28,1,30],[1,32,1,34],[1,35,1,37],[1,14,1,16],[1,18,1,20],[1,21,1,23],[1,1,1,2],[1,4,1,6],[1,7,1,9],[1,11,1,13]]}
[null,null,null,null,null,null,null,null,null,{"$f":"SUM(J4:J305)","v":0},null,null,null,null,null,null,{"$f":"SUM(Q4:Q305)","v":0},null,null,null,null,null,null,{"$f":"SUM(X4:X305)","v":0},null,null,null,null,null,null,{"$f":"SUM(AE4:AE305)","v":0},null,null,null,null,null,null,{"$f":"SUM(AL4:AL305)","v":0}]
["　","　項　　　　　目",null,null,"当初見積金額",null,null,"当初注文金額",null,null,null,"変更後見積金額（第１回）",null,null,"変更後注文金額（第１回）",null,null,null,"変更後見積金額（第２回）",null,null,"変更後注文金額（第２回）",null,null,null,"変更後見積金額（第３回）",null,null,"変更後注文金額（第３回）",null,null,null,"変更後見積金額（第４回）",null,null,"変更後注文金額（第４回）",null,null,null,"備　　　考"]
["番号","名　　　　　称","規　　格　　・　摘　　要","単位","数　量","単　価","金　　額","数　量","単　価","金　　額",null,"数　量","単　価","金　　額","数　量","単　価","金　　額",null,"数　量","単　価","金　　額","数　量","単　価","金　　額",null,"数　量","単　価","金　　額","数　量","単　価","金　　額",null,"数　量","単　価","金　　額","数　量","単　価","金　　額"]
[1,null,null,null,null,null,{"$f":"IF(OR(E4=\"\",F4=\"\"),\"\",ROUNDDOWN(E4*F4,0))","v":""},null,null,{"$f":"IF(OR(H4=\"\",I4=\"\"),\"\",ROUNDDOWN(H4*I4,0))","v":""},null,null,null,{"$f":"IF(OR(L4=\"\",M4=\"\"),\"\",ROUNDDOWN(L4*M4,0))","v":""},null,null,{"$f":"IF(OR(O4=\"\",P4=\"\"),\"\",ROUNDDOWN(O4*P4,0))","v":""},null,null,null,{"$f":"IF(OR(S4=\"\",T4=\"\"),\"\",ROUNDDOWN(S4*T4,0))","v":""},null,null,{"$f":"IF(OR(V4=\"\",W4=\"\"),\"\",ROUNDDOWN(V4*W4,0))","v":""},null,null,null,{"$f":"IF(OR(Z4=\"\",AA4=\"\"),\"\",ROUNDDOWN(Z4*AA4,0))","v":""},null,null,{"$f":"IF(OR(AC4=\"\",AD4=\"\"),\"\",ROUNDDOWN(AC4*AD4,0))","v":""},null,null,null,{"$f":"IF(OR(AG4=\"\",AH4=\"\"),\"\",ROUNDDOWN(AG4*AH4,0))","v":""},null,null,{"$f":"IF(OR(AJ4=\"\",AK4=\"\"),\"\",ROUNDDOWN(AJ4*AK4,0))","v":""}]
[2,null,null,null,null,null,"",null,null,"",null,null,null,{"$f":"IF(OR(L5=\"\",M5=\"\"),\"\",ROUNDDOWN(L5*M5,0))","v":""},null,null,{"$f":"IF(OR(O5=\"\",P5=\"\"),\"\",ROUNDDOWN(O5*P5,0))","v":""},null,null,null,{"$f":"IF(OR(S5=\"\",T5=\"\"),\"\",ROUNDDOWN(S5*T5,0))","v":""},null,null,{"$f":"IF(OR(V5=\"\",W5=\"\"),\"\",ROUNDDOWN(V5*W5,0))","v":""},null,null,null,{"$f":"IF(OR(Z5=\"\",AA5=\"\"),\"\",ROUNDDOWN(Z5*AA5,0))","v":""},null,null,{"$f":"IF(OR(AC5=\"\",AD5=\"\"),\"\",ROUNDDOWN(AC5*AD5,0))","v":""},null,null,null,{"$f":"IF(OR(AG5=\"\",AH5=\"\"),\"\",ROUNDDOWN(AG5*AH5,0))","v":""},null,null,{"$f":"IF(OR(AJ5=\"\",AK5=\"\"),\"\",ROUNDDOWN(AJ5*AK5,0))","v":""}]
[3,null,null,null,null,null,"",null,null,"",null,null,null,"",null,null,"",null,null,null,"",null,null,"",null,null,null,"",null,null,"",null,null,null,"",null,null,""]
[4,null,null,null,null,null,"",null,null,"",null,null,null,"",null,null,"",null,null,null,"",null,null,"",null,null,null,"",null,null,"",null,null,null,"",null,null,""]
[5,null,null,null,null,null,"",null,null,"",null,null,null,"",null,null,"",null,null,null,"",null,null,"",null,null,null,"",null,null,"",null,null,null,"",null,null,""]
[6,null,null,null,null,null,"",null,null,"",null,null,null,"",null,null,"",null,null,null,"",null,null,"",null,null,null,"",null,null,"",null,null,null,"",null,null,""]
[7,null,null,null,null,null,"",null,null,"",null,null,null,"",null,null,"",null,null,null,"",null,null,"",null,null,null,"",null,null,"",null,null,null,"",null,null,""]
[8,null,null,null,null,null,"",null,null,"",null,null,null,"",null,null,"",null,null,null,"",null,null,"",null,null,null,"",null,null,"",null,null,null,"",null,null,""]
[9,null,null,null,null,null,"",null,null,"",null,null,null,"",null,null,"",null,null,null,"",null,null,"",null,null,null,"",null,null,"",null,null,null,"",null,null,""]
[10,null,null,null,null,null,"",null,null,"",null,null,null,"",null,null,"",null,null,null,"",null,null,"",null,null,null,"",null,null,"",null,null,null,"",null,null,""]
[11,null,null,null,null,null,"",null,null,"",null,null,null,"",null,null,"",null,null,null,"",null,null,"",null,null,null,"",null,null,"",null,null,null,"",null,null,""]
[12,null,null,null,null,null,"",null,null,"",null,null,null,"",null,null,"",null,null,null,"",null,null,"",null,null,null,"",null,null,"",null,null,null,"",null,null,""]
[13,null,null,null,null,null,"",null,null,"",null,null,null,"",null,null,"",null,null,null,"",null,null,"",null,null,null,"",null,null,"",null,null,null,"",null,null,""]
[14,null,null,null,null,null,"",null,null,"",null,null,null,"",null,null,"",null,null,null,"",null,null,"",null,null,null,"",null,null,"",null,null,null,"",null,null,""]
[15,null,null,null,null,null,"",null,null,"",null,null,null,"",null,null,"",null,null,null,"",null,null,"",null,null,null,"",null,null,"",null,null,null,"",null,null,""]
[16,null,null,null,null,null,"",null,null,"",null,null,null,"",null,null,"",null,null,null,"",null,null,"",null,null,null,"",null,null,"",null,null,null,"",null,null,""]
[17,null,null,null,null,null,"",null,null,"",null,null,null,"",null,null,"",null,null,null,"",null,null,"",null,null,null,"",null,null,"",null,null,null,"",null,null,""]
[18,null,null,null,null,null,"",null,null,"",null,null,null,"",null,null,"",null,null,null,"",null,null,"",null,null,null,"",null,null,"",null,null,null,"",null,null,""]
[19,null,null,null,null,null,"",null,null,"",null,null,null,"",null,null,"",null,null,null,"",null,null,"",null,null,null,"",null,null,"",null,null,null,"",null,null,""]
[20,null,null,null,null,null,"",null,null,"",null,null,null,"",null,null,"",null,null,null,"",null,null,"",null,null,null,"",null,null,"",null,null,null,"",null,null,""]
[21,null,null,null,null,null,"",null,null,"",null,null,null,"",null,null,"",null,null,null,"",null,null,"",null,null,null,"",null,null,"",null,null,null,"",null,null,""]
[22,null,null,null,null,null,"",null,null,"",null,null,null,"",null,null,"",null,null,null,"",null,null,"",null,null,null,"",null,null,"",null,null,null,"",null,null,""]
[23,null,null,null,null,null,"",null,null,"",null,null,null,"",null,null,"",null,null,null,"",null,null,"",null,null,null,"",null,null,"",null,null,null,"",null,null,""]
[24,null,null,null,null,null,"",null,null,"",null,null,null,"",null,null,"",null,null,null,"",null,null,"",null,null,null,"",null,null,"",null,null,null,"",null,null,""]
[25,null,null,null,null,null,"",null,null,"",null,null,null,"",null,null,"",null,null,null,"",null,null,"",null,null,null,"",null,null,"",null,null,null,"",null,null,""]
[26,null,null,null,null,null,"",null,null,"",null,null,null,"",null,null,"",null,null,null,"",null,null,"",null,null,null,"",null,null,"",null,null,null,"",null,null,""]
[27,null,null,null,null,null,"",null,null,"",null,null,null,"",null,null,"",null,null,null,"",null,null,"",null,null,null,"",null,null,"",null,null,null,"",null,null,""]
[28,null,null,null,null,null,"",null,null,"",null,null,null,"",null,null,"",null,null,null,"",null,null,"",null,null,null,"",null,null,"",null,null,null,"",null,null,""]
[29,null,null,null,null,null,"",null,null,"",null,null,null,"",null,null,"",null,null,null,"",null,null,"",null,null,null,"",null,null,"",null,null,null,"",null,null,""]
[30,"頁　　計","　","　",null,null,{"$f":"IF(G34=0,\"\",SUM(G4:G32))","v":0},null,null,{"$f":"IF(J34=0,\"\",SUM(J4:J32))","v":0},null,null,null,{"$f":"IF(N34=0,\"\",SUM(N4:N32))","v":0},null,null,{"$f":"IF(Q34=0,\"\",SUM(Q4:Q32))","v":0},null,null,null,{"$f":"IF(U34=0,\"\",SUM(U4:U32))","v":0},null,null,{"$f":"IF(X34=0,\"\",SUM(X4:X32))","v":0},null,null,null,{"$f":"IF(AB34=0,\"\",SUM(AB4:AB32))","v":0},null,null,{"$f":"IF(AE34=0,\"\",SUM(AE4:AE32))","v":0},null,null,null,{"$f":"IF(AI34=0,\"\",SUM(AI4:AI32))","v":0},null,null,{"$f":"IF(AL34=0,\"\",SUM(AL4:AL32))","v":0}]
[31,null,null,null,null,null,{"$f":"IF(OR(E34=\"\",F34=\"\"),\"\",ROUNDDOWN(E34*F34,0))","v":""},null,null,{"$f":"IF(OR(H34=\"\",I34=\"\"),\"\",ROUNDDOWN(H34*I34,0))","v":""},null,null,null,"",null,null,"",null,null,null,"",null,null,"",null,null,null,{"$f":"IF(OR(Z34=\"\",AA34=\"\"),\"\",ROUNDDOWN(Z34*AA34,0))","v":""},null,null,{"$f":"IF(OR(AC34=\"\",AD34=\"\"),\"\",ROUNDDOWN(AC34*AD34,0))","v":""},null,null,null,{"$f":"IF(OR(AG34=\"\",AH34=\"\"),\"\",ROUNDDOWN(AG34*AH34,0))","v":""},null,null,{"$f":"IF(OR(AJ34=\"\",AK34=\"\"),\"\",ROUNDDOWN(AJ34*AK34,0))","v":""}]
[32,null,null,null,null,null,"",null,null,"",null,null,null,"",null,null,"",null,null,null,"",null,null,"",null,null,null,"",null,null,"",null,null,null,"",null,null,""]
[33,null,null,null,null,null,"",null,null,"",null,null,null,"",null,null,"",null,null,null,"",null,null,"",null,null,null,"",null,null,"",null,null,null,"",null,null,""]
[34,null,null,null,null,null,"",null,null,"",null,null,null,"",null,null,"",null,null,null,"",null,null,"",null,null,null,"",null,null,"",null,null,null,"",null,null,""]
[35,null,null,null,null,null,"",null,null,"",null,null,null,"",null,null,"",null,null,null,"",null,null,"",null,null,null,"",null,null,"",null,null,null,"",null,null,""]
[36,null,null,null,null,null,"",null,null,"",null,null,null,"",null,null,"",null,null,null,"",null,null,"",null,null,null,"",null,null,"",null,null,null,"",null,null,""]
[37,null,null,null,null,null,"",null,null,"",null,null,null,"",null,null,"",null,null,null,"",null,null,"",null,null,null,"",null,null,"",null,null,null,"",null,null,""]
[38,null,null,null,null,null,"",null,null,"",null,null,null,"",null,null,"",null,null,null,"",null,null,"",null,null,null,"",null,null,"",null,null,null,"",null,null,""]
[39,null,null,null,null,null,"",null,null,"",null,null,null,"",null,null,"",null,null,null,"",null,null,"",null,null,null,"",null,null,"",null,null,null,"",null,null,""]
[40,null,null,null,null,null,"",null,null,"",null,null,null,"",null,null,"",null,null,null,"",null,null,"",null,null,null,"",null,null,"",null,null,null,"",null,null,""]
[41,null,null,null,null,null,"",null,null,"",null,null,null,"",null,null,"",null,null,null,"",null,null,"",null,null,null,"",null,null,"",null,null,null,"",null,null,""]
[42,null,null,null,null,null,"",null,null,"",null,null,null,"",null,null,"",null,null,null,"",null,null,"",null,null,null,"",null,null,"",null,null,null,"",null,null,""]
[43,null,null,null,null,null,"",null,null,"",null,null,null,"",null,null,"",null,null,null,"",null,null,"",null,null,null,"",null,null,"",null,null,null,"",null,null,""]
[44,null,null,null,null,null,"",null,null,"",null,null,null,"",null,null,"",null,null,null,"",null,null,"",null,null,null,"",null,null,"",null,null,null,"",null,null,""]
[45,null,null,null,null,null,"",null,null,"",null,null,null,"",null,null,"",null,null,null,"",null,null,"",null,null,null,"",null,null,"",null,null,null,"",null,null,""]
[46,null,null,null,null,null,"",null,null,"",null,null,null,"",null,null,"",null,null,null,"",null,null,"",null,null,null,"",null,null,"",null,null,null,"",null,null,""]
[47,null,null,null,null,null,"",null,null,"",null,null,null,"",null,null,"",null,null,null,"",null,null,"",null,null,null,"",null,null,"",null,null,null,"",null,null,""]
[48,null,null,null,null,null,"",null,null,"",null,null,null,"",null,null,"",null,null,null,"",null,null,"",null,null,null,"",null,null,"",null,null,null,"",null,null,""]
[49,null,null,null,null,null,"",null,null,"",null,null,null,"",null,null,"",null,null,null,"",null,null,"",null,null,null,"",null,null,"",null,null,null,"",null,null,""]
[50,null,null,null,null,null,"",null,null,"",null,null,null,"",null,null,"",null,null,null,"",null,null,"",null,null,null,"",null,null,"",null,null,null,"",null,null,""]
[51,null,null,null,null,null,"",null,null,"",null,null,null,"",null,null,"",null,null,null,"",null,null,"",null,null,null,"",null,null,"",null,null,null,"",null,null,""]
[52,null,null,null,null,null,"",null,null,"",null,null,null,"",null,null,"",null,null,null,"",null,null,"",null,null,null,"",null,null,"",null,null,null,"",null,null,""]
[53,null,null,null,null,null,"",null,null,"",null,null,null,"",null,null,"",null,null,null,"",null,null,"",null,null,null,"",null,null,"",null,null,null,"",null,null,""]
[54,null,null,null,null,null,"",null,null,"",null,null,null,"",null,null,"",null,null,null,"",null,null,"",null,null,null,"",null,null,"",null,null,null,"",null,null,""]
[55,null,null,null,null,null,"",null,null,"",null,null,null,"",null,null,"",null,null,null,"",null,null,"",null,null,null,"",null,null,"",null,null,null,"",null,null,""]
[56,null,null,null,null,null,"",null,null,"",null,null,null,"",null,null,"",null,null,null,"",null,null,"",null,null,null,"",null,null,"",null,null,null,"",null,null,""]
[57,null,null,null,null,null,"",null,null,"",null,null,null,"",null,null,"",null,null,null,"",null,null,"",null,null,null,"",null,null,"",null,null,null,"",null,null,""]
[58,null,null,null,null,null,"",null,null,"",null,null,null,"",null,null,"",null,null,null,"",null,null,"",null,null,null,"",null,null,"",null,null,null,"",null,null,""]
[59,null,null,null,null,null,"",null,null,"",null,null,null,"",null,null,"",null,null,null,"",null,null,"",null,null,null,"",null,null,"",null,null,null,"",null,null,""]
[60,null,null,null,null,null,"",null,null,"",null,null,null,"",null,null,"",null,null,null,"",null,null,"",null,null,null,"",null,null,"",null,null,null,"",null,null,""]
[61,null,null,null,null,null,"",null,null,"",null,null,null,"",null,null,"",null,null,null,"",null,null,"",null,null,null,"",null,null,"",null,null,null,"",null,null,""]
[62,null,null,null,null,null,"",null,null,"",null,null,null,"",null,null,"",null,null,null,"",null,null,"",null,null,null,"",null,null,"",null,null,null,"",null,null,""]
[63,null,null,null,null,null,"",null,null,"",null,null,null,"",null,null,"",null,null,null,"",null,null,"",null,null,null,"",null,null,"",null,null,null,"",null,null,""]
[64,null,null,null,null,null,"",null,null,"",null,null,null,"",null,null,"",null,null,null,"",null,null,"",null,null,null,"",null,null,"",null,null,null,"",null,null,""]
[65,null,null,null,null,null,"",null,null,"",null,null,null,"",null,null,"",null,null,null,"",null,null,"",null,null,null,"",null,null,"",null,null,null,"",null,null,""]
[66,null,null,null,null,null,"",null,null,{"$f":"IF(OR(H69=\"\",I69=\"\"),\"\",ROUNDDOWN(H69*I69,0))","v":""},null,null,null,{"$f":"IF(OR(L69=\"\",M69=\"\"),\"\",ROUNDDOWN(L69*M69,0))","v":""},null,null,{"$f":"IF(OR(O69=\"\",P69=\"\"),\"\",ROUNDDOWN(O69*P69,0))","v":""},null,null,null,{"$f":"IF(OR(S69=\"\",T69=\"\"),\"\",ROUNDDOWN(S69*T69,0))","v":""},null,null,{"$f":"IF(OR(V69=\"\",W69=\"\"),\"\",ROUNDDOWN(V69*W69,0))","v":""},null,null,null,{"$f":"IF(OR(Z69=\"\",AA69=\"\"),\"\",ROUNDDOWN(Z69*AA69,0))","v":""},null,null,{"$f":"IF(OR(AC69=\"\",AD69=\"\"),\"\",ROUNDDOWN(AC69*AD69,0))","v":""},null,null,null,{"$f":"IF(OR(AG69=\"\",AH69=\"\"),\"\",ROUNDDOWN(AG69*AH69,0))","v":""},null,null,{"$f":"IF(OR(AJ69=\"\",AK69=\"\"),\"\",ROUNDDOWN(AJ69*AK69,0))","v":""}]
[67,null,null,null,null,null,{"$f":"IF(OR(E70=\"\",F70=\"\"),\"\",ROUNDDOWN(E70*F70,0))","v":""},null,null,"",null,null,null,"",null,null,"",null,null,null,"",null,null,"",null,null,null,"",null,null,"",null,null,null,"",null,null,""]
[68,null,null,null,null,null,"",null,null,"",null,null,null,"",null,null,"",null,null,null,"",null,null,"",null,null,null,"",null,null,"",null,null,null,"",null,null,""]
[69,null,null,null,null,null,"",null,null,"",null,null,null,"",null,null,"",null,null,null,"",null,null,"",null,null,null,"",null,null,"",null,null,null,"",null,null,""]
[70,null,null,null,null,null,"",null,null,"",null,null,null,"",null,null,"",null,null,null,"",null,null,"",null,null,null,"",null,null,"",null,null,null,"",null,null,""]
[71,null,null,null,null,null,"",null,null,"",null,null,null,"",null,null,"",null,null,null,"",null,null,"",null,null,null,"",null,null,"",null,null,null,"",null,null,""]
[72,null,null,null,null,null,"",null,null,"",null,null,null,"",null,null,"",null,null,null,"",null,null,"",null,null,null,"",null,null,"",null,null,null,"",null,null,""]
[73,null,null,null,null,null,"",null,null,"",null,null,null,"",null,null,"",null,null,null,"",null,null,"",null,null,null,"",null,null,"",null,null,null,"",null,null,""]
[74,null,null,null,null,null,"",null,null,"",null,null,null,"",null,null,"",null,null,null,"",null,null,"",null,null,null,"",null,null,"",null,null,null,"",null,null,""]
[75,null,null,null,null,null,"",null,null,"",null,null,null,"",null,null,"",null,null,null,"",null,null,"",null,null,null,"",null,null,"",null,null,null,"",null,null,""]
[76,null,null,null,null,null,"",null,null,"",null,null,null,"",null,null,"",null,null,null,"",null,null,"",null,null,null,"",null,null,"",null,null,null,"",null,null,""]
[77,null,null,null,null,null,"",null,null,"",null,null,null,"",null,null,"",null,null,null,"",null,null,"",null,null,null,"",null,null,"",null,null,null,"",null,null,""]
[78,null,null,null,null,null,"",null,null,"",null,null,null,"",null,null,"",null,null,null,"",null,null,"",null,null,null,"",null,null,"",null,null,null,"",null,null,""]
[79,null,null,null,null,null,"",null,null,"",null,null,null,"",null,null,"",null,null,null,"",null,null,"",null,null,null,"",null,null,"",null,null,null,"",null,null,""]
[80,null,null,null,null,null,"",null,null,"",null,null,null,"",null,null,"",null,null,null,"",null,null,"",null,null,null,"",null,null,"",null,null,null,"",null,null,""]
[81,null,null,null,null,null,"",null,null,"",null,null,null,"",null,null,"",null,null,null,"",null,null,"",null,null,null,"",null,null,"",null,null,null,"",null,null,""]
[82,null,null,null,null,null,"",null,null,"",null,null,null,"",null,null,"",null,null,null,"",null,null,"",null,null,null,"",null,null,"",null,null,null,"",null,null,""]
[83,null,null,null,null,null,"",null,null,"",null,null,null,"",null,null,"",null,null,null,"",null,null,"",null,null,null,"",null,null,"",null,null,null,"",null,null,""]
[84,null,null,null,null,null,"",null,null,"",null,null,null,"",null,null,"",null,null,null,"",null,null,"",null,null,null,"",null,null,"",null,null,null,"",null,null,""]
[85,null,null,null,null,null,"",null,null,"",null,null,null,"",null,null,"",null,null,null,"",null,null,"",null,null,null,"",null,null,"",null,null,null,"",null,null,""]
[86,null,null,null,null,null,"",null,null,"",null,null,null,"",null,null,"",null,null,null,"",null,null,"",null,null,null,"",null,null,"",null,null,null,"",null,null,""]
[87,null,null,null,null,null,"",null,null,"",null,null,null,"",null,null,"",null,null,null,"",null,null,"",null,null,null,"",null,null,"",null,null,null,"",null,null,""]
[88,null,null,null,null,null,"",null,null,"",null,null,null,"",null,null,"",null,null,null,"",null,null,"",null,null,null,"",null,null,"",null,null,null,"",null,null,""]
[89,null,null,null,null,null,"",null,null,"",null,null,null,"",null,null,"",null,null,null,"",null,null,"",null,null,null,"",null,null,"",null,null,null,"",null,null,""]
[90,null,null,null,null,null,"",null,null,"",null,null,null,"",null,null,"",null,null,null,"",null,null,"",null,null,null,"",null,null,"",null,null,null,"",null,null,""]
[91,null,null,null,null,null,"",null,null,"",null,null,null,"",null,null,"",null,null,null,"",null,null,"",null,null,null,"",null,null,"",null,null,null,"",null,null,""]
[92,null,null,null,null,null,"",null,null,"",null,null,null,"",null,null,"",null,null,null,"",null,null,"",null,null,null,"",null,null,"",null,null,null,"",null,null,""]
[93,null,null,null,null,null,"",null,null,"",null,null,null,"",null,null,"",null,null,null,"",null,null,"",null,null,null,"",null,null,"",null,null,null,"",null,null,""]

{"sheet":"見積1号【印刷】","index":4,"n_rows":36,"n_cols":34,"rows_kept":36,"cut":false,"hidden":false,"merged":[[27,23,27,27],[35,28,35,32],[35,23,35,27],[15,17,16,18],[15,19,16,22],[22,28,22,33],[18,28,18,33],[19,28,19,33],[31,28,31,32],[24,19,24,22],[26,23,26,27],[21,28,21,33],[29,28,29,33],[22,23,22,27],[26,28,26,33],[28,28,28,33],[22,19,22,22],[34,28,34,32],[32,28,32,32],[33,23,33,27],[32,19,32,22],[33,19,33,22],[33,28,33,32],[26,17,26,18],[24,23,24,27],[7,0,9,0],[12,1,13,5],[18,17,18,18],[15,9,16,15],[11,9,11,19],[12,9,12,19],[13,9,13,19],[7,1,9,8],[7,18,7,19],[13,6,13,8],[7,9,7,11],[10,1,11,5],[8,18,9,20],[13,20,13,24],[17,23,17,27],[18,23,18,27],[15,23,16,27],[7,20,7,32],[28,23,28,27],[22,0,22,8],[21,0,21,8],[30,28,30,33],[27,9,27,12],[27,14,27,15],[26,19,26,22],[25,17,25,18],[23,9,23,12],[24,9,24,12],[24,14,24,15],[28,17,28,18],[28,0,28,8],[26,14,26,15],[25,0,25,8],[23,14,23,15],[25,19,25,22],[22,17,22,18],[25,9,25,12],[26,0,26,8],[23,23,23,27],[27,19,27,22],[24,28,24,33],[27,28,27,33],[31,0,31,8],[32,0,32,8],[33,0,33,8],[34,0,34,8],[31,9,31,15],[34,9,34,15],[31,23,31,27],[29,23,29,27],[30,23,30,27],[32,23,32,27],[34,23,34,27],[33,9,33,15],[29,0,29,8],[30,0,30,8],[29,9,29,15],[0,0,1,33],[5,1,5,2],[2,18,2,20],[5,0,6,0],[2,4,2,5],[2,2,2,3],[5,3,5,8],[6,1,6,8],[3,1,4,8],[5,18,5,19],[6,10,6,11],[3,13,4,16],[6,12,6,13],[5,9,5,12],[3,11,4,12],[6,15,6,17],[4,22,4,24],[2,27,2,29],[2,31,2,32],[5,20,5,32],[6,20,6,32],[6,18,6,19],[35,19,35,22],[34,19,34,22],[28,9,28,15],[35,17,35,18],[30,17,30,18],[32,9,32,15],[17,17,17,18],[30,19,30,22],[29,17,29,18],[29,19,29,22],[28,19,28,22],[31,19,31,22],[25,14,25,15],[26,9,26,12],[20,17,20,18],[22,9,22,12],[22,13,22,15],[21,17,21,18],[21,19,21,22],[19,19,19,22],[18,19,18,22],[20,19,20,22],[19,17,19,18],[20,9,20,15],[25,23,25,27],[25,28,25,33],[21,23,21,27],[10,9,10,11],[15,16,16,16],[12,6,12,8],[10,6,10,8],[11,6,11,8],[20,0,20,8],[14,3,14,4],[17,19,17,22],[17,9,17,15],[17,0,17,8],[18,0,18,8],[14,1,14,2],[15,0,16,8],[18,9,18,15],[12,20,12,24],[19,0,19,8],[17,28,17,33],[19,9,19,15],[11,20,11,24],[20,28,20,33],[20,23,20,27],[23,19,23,22],[21,9,21,15],[14,5,14,19],[23,28,23,33],[8,14,8,16],[8,12,8,13],[8,21,9,28],[8,32,9,33],[19,23,19,27],[8,29,9,31],[15,28,16,33]]}
["見　　積　　書"]
[]
[null,"株式会社","福田組",null,"御中",null,null,null,null,null,null,null,null,null,null,null,null,null,"建設業許可番号",null,null,{"$f":"+IF('1号【入力】'!AJ3=TRUE,\"■\",\"□\")","v":"■"},"特",{"$f":"+IF('1号【入力】'!AJ5=TRUE,\"■\",\"□\")","v":"□"},"般",{"$f":"+'1号【入力】'!Z3","v":0},"第",{"$f":"+'1号【入力】'!AB3","v":0},null,null,"号","取引先ｺｰﾄﾞ",null,{"$f":"+'1号【入力】'!AI3","v":0}]
[null,"下記の通り見積もり致します。",null,null,null,null,null,null,null,null,null,"提出日",null,{"$f":"IF(+'1号【入力】'!N4=\"\",\"\",+'1号【入力】'!N4)","v":""}]
[null,null,null,null,null,null,null,null,null,null,null,null,null,null,null,null,null,null,null,"　〒",{"$f":"+'1号【入力】'!U5","v":0},"-",{"$f":"+'1号【入力】'!W5","v":0}]
["工事名","工事ｺｰﾄﾞ",null,{"$f":"+'1号【入力】'!D6","v":0},null,null,null,null,null,"　協力会社施工期間",null,null,null,null,null,null,null,null,"住　所",null,{"$f":"+'1号【入力】'!U6","v":0}]
[null,{"$f":"+'1号【入力】'!B7","v":0},null,null,null,null,null,null,null,"自",{"$f":"IF(+'1号【入力】'!K7=\"\",\"\",+'1号【入力】'!K7)","v":""},null,"～",null,"至",{"$f":"IF(+'1号【入力】'!P7=\"\",\"\",+'1号【入力】'!P7)","v":""},null,null,"会社名",null,{"$f":"+'1号【入力】'!U7","v":0}]
["工事場所",{"$f":"+'1号【入力】'!B8","v":0},null,null,null,null,null,null,null,"　支 払 条 件",null,null,null,null,null,null,null,null,"代表者",null,{"$f":"+'1号【入力】'!U8","v":0},null,null,null,null,null,null,null,null,null,null,null,null,"印"]
[null,null,null,null,null,null,null,null,null,{"$f":"+IF('1号【入力】'!AJ12=TRUE,\"■\",\"□\")","v":"■"},"貴社規定",{"$f":"+IF('1号【入力】'!AJ13=TRUE,\"■\",\"□\")","v":"□"},"その他（",null,{"$f":"+'1号【入力】'!N10","v":0},null,null,"）","担当部課・氏名",null,null,{"$f":"+'1号【入力】'!V10","v":0},null,null,null,null,null,null,null,"電話番号",null,null,{"$f":"+'1号【入力】'!AG10","v":0}]
[]
[{"$f":"+IF(X36=0,\"見積金額\",\"前回見積金額\")","v":"見積金額"},{"$f":"IF(T35=\"\",\"\",T35)","v":""},null,null,null,null,"有効期限",null,null,"　見 積 条 件",null,null,null,null,null,null,null,null,null,null,"社会保険加入状況"]
["（税込み）",null,null,null,null,null,{"$f":"IF(+'1号【入力】'!G13=\"\",\"\",+'1号【入力】'!G13)","v":""},null,null,{"$f":"+'1号【入力】'!J13","v":0},null,null,null,null,null,null,null,null,null,null,"健康保険",null,null,null,null,null,"加入",null,null,null,"未加入",null,null,"適用除外"]
[{"$f":"+IF(X36=0,\"変更後見積金額\",\"今回見積金額\")","v":"変更後見積金額"},{"$f":"IF(X35=\"\",\"\",X35)","v":""},null,null,null,null,"有効期限",null,null,{"$f":"+'1号【入力】'!J14","v":0},null,null,null,null,null,null,null,null,null,null,"厚生年金保険",null,null,null,null,null,"加入",null,null,null,"未加入",null,null,"適用除外"]
["（税込み）",null,null,null,null,null,{"$f":"IF(+'1号【入力】'!G15=\"\",\"\",+'1号【入力】'!G15)","v":""},null,null,{"$f":"+'1号【入力】'!J15","v":0},null,null,null,null,null,null,null,null,null,null,"雇用保険",null,null,null,null,null,"加入",null,null,null,"未加入",null,null,"適用除外"]
["工種コード",{"$f":"+'1号【入力】'!B16","v":0},null,"工種名",null,{"$f":"+'1号【入力】'!F16","v":0}]
["名　　　　　　称",null,null,null,null,null,null,null,null,"規　格・摘　要",null,null,null,null,null,null,"単位","数量",null,{"$f":"IF('1号【入力】'!AC37=0,\"見　積　金　額\",IF('1号【入力】'!AK37=0,\"当初見積金額\",IF('1号【入力】'!AM37=0,'1号【入力】'!AC17,IF('1号【入力】'!AO37=0,'1号【入力】'!AK17,'1号【入力】'!AM17))))","v":"見　積　金　額"},null,null,null,{"$f":"IF('1号【入力】'!AC37=0,\"変更後見積金額\",IF('1号【入力】'!AK37=0,'1号【入力】'!AC17,IF('1号【入力】'!AM37=0,'1号【入力】'!AK17,IF('1号【入力】'!AO37=0,'1号【入力】'!AM17,'1号【入力】'!AO17))))","v":"変更後見積金額"},null,null,null,null,"備　　　考"]
[]
[{"$f":"'1号【入力】'!A19","v":0},null,null,null,null,null,null,null,null,{"$f":"'1号【入力】'!J19","v":0},null,null,null,null,null,null,{"$f":"'1号【入力】'!Q19","v":0},{"$f":"'1号【入力】'!R19","v":0},null,{"$f":"IF(OFFSET('1号【入力】'!T19,0,$Q$36,1,1)=\"\",\"\",OFFSET('1号【入力】'!T19,0,$Q$36,1,1))","v":0},null,null,null,{"$f":"IF(OFFSET('1号【入力】'!AC19,0,$R$36,1,1)=\"\",\"\",OFFSET('1号【入力】'!AC19,0,$R$36,1,1))","v":0},null,null,null,null,{"$f":"+'1号【入力】'!AQ19","v":0}]
[{"$f":"'1号【入力】'!A20","v":0},null,null,null,null,null,null,null,null,{"$f":"'1号【入力】'!J20","v":0},null,null,null,null,null,null,{"$f":"'1号【入力】'!Q20","v":0},{"$f":"'1号【入力】'!R20","v":0},null,{"$f":"IF(OFFSET('1号【入力】'!T20,0,$Q$36,1,1)=\"\",\"\",OFFSET('1号【入力】'!T20,0,$Q$36,1,1))","v":""},null,null,null,{"$f":"IF(OFFSET('1号【入力】'!AC20,0,$R$36,1,1)=\"\",\"\",OFFSET('1号【入力】'!AC20,0,$R$36,1,1))","v":""},null,null,null,null,{"$f":"+'1号【入力】'!AQ20","v":0}]
[{"$f":"'1号【入力】'!A21","v":"工事費　計"},null,null,null,null,null,null,null,null,{"$f":"'1号【入力】'!J21","v":0},null,null,null,null,null,null,{"$f":"'1号【入力】'!Q21","v":0},{"$f":"'1号【入力】'!R21","v":0},null,{"$f":"IF(OFFSET('1号【入力】'!T21,0,$Q$36,1,1)=\"\",\"\",OFFSET('1号【入力】'!T21,0,$Q$36,1,1))","v":0},null,null,null,{"$f":"IF(OFFSET('1号【入力】'!AC21,0,$R$36,1,1)=\"\",\"\",OFFSET('1号【入力】'!AC21,0,$R$36,1,1))","v":0},null,null,null,null,{"$f":"+'1号【入力】'!AQ21","v":0}]
[{"$f":"'1号【入力】'!A22","v":0},null,null,null,null,null,null,null,null,{"$f":"'1号【入力】'!J22","v":"⇒労務費総額"},null,null,null,null,null,null,{"$f":"'1号【入力】'!Q22","v":0},{"$f":"'1号【入力】'!R22","v":0},null,{"$f":"IF(OFFSET('1号【入力】'!T22,0,$Q$36,1,1)=\"\",\"\",OFFSET('1号【入力】'!T22,0,$Q$36,1,1))","v":""},null,null,null,{"$f":"IF(OFFSET('1号【入力】'!AC22,0,$R$36,1,1)=\"\",\"\",OFFSET('1号【入力】'!AC22,0,$R$36,1,1))","v":""},null,null,null,null,{"$f":"+'1号【入力】'!AQ22","v":0}]
[{"$f":"'1号【入力】'!A23","v":0},null,null,null,null,null,null,null,null,{"$f":"'1号【入力】'!J23","v":"労務比率"},null,null,null,null,null,null,{"$f":"'1号【入力】'!Q23","v":0},{"$f":"'1号【入力】'!R23","v":0},null,{"$f":"IF(OFFSET('1号【入力】'!T23,0,$Q$36,1,1)=\"\",\"\",OFFSET('1号【入力】'!T23,0,$Q$36,1,1))","v":0},null,null,null,{"$f":"IF(OFFSET('1号【入力】'!AC23,0,$R$36,1,1)=\"\",\"\",OFFSET('1号【入力】'!AC23,0,$R$36,1,1))","v":""},null,null,null,null,{"$f":"+'1号【入力】'!AQ23","v":0}]
[{"$f":"'1号【入力】'!A24","v":"事業主負担法定福利費"},null,null,null,null,null,null,null,null,{"$f":"'1号【入力】'!J24","v":"保険名称"},null,null,null,{"$f":"'1号【入力】'!N24","v":"料率"},null,null,{"$f":"'1号【入力】'!Q24","v":0},{"$f":"'1号【入力】'!R24","v":0},null,{"$f":"IF(OFFSET('1号【入力】'!T24,0,$Q$36,1,1)=\"\",\"\",OFFSET('1号【入力】'!T24,0,$Q$36,1,1))","v":""},null,null,null,{"$f":"IF(OFFSET('1号【入力】'!AC24,0,$R$36,1,1)=\"\",\"\",OFFSET('1号【入力】'!AC24,0,$R$36,1,1))","v":""},null,null,null,null,{"$f":"+'1号【入力】'!AQ24","v":0}]
[null,null,null,null,null,null,null,null,null,{"$f":"'1号【入力】'!J25","v":"a.健康保険料"},null,null,null,{"$f":"'1号【入力】'!N25","v":"×"},{"$f":"IF('1号【入力】'!O25>0,'1号【入力】'!O25,\"\")","v":4.6050000000000001E-2},null,null,null,null,{"$f":"IF(OFFSET('1号【入力】'!T25,0,$Q$36,1,1)=\"\",\"\",OFFSET('1号【入力】'!T25,0,$Q$36,1,1))","v":0},null,null,null,{"$f":"IF(OFFSET('1号【入力】'!AC25,0,$R$36,1,1)=\"\",\"\",OFFSET('1号【入力】'!AC25,0,$R$36,1,1))","v":0},null,null,null,null,{"$f":"+'1号【入力】'!AQ25","v":0}]
[null,null,null,null,null,null,null,null,null,{"$f":"'1号【入力】'!J26","v":"b.介護保険料"},null,null,null,{"$f":"'1号【入力】'!N26","v":"×"},{"$f":"IF('1号【入力】'!O26>0,'1号【入力】'!O26,\"\")","v":4.0499999999999998E-3},null,null,null,null,{"$f":"IF(OFFSET('1号【入力】'!T26,0,$Q$36,1,1)=\"\",\"\",OFFSET('1号【入力】'!T26,0,$Q$36,1,1))","v":0},null,null,null,{"$f":"IF(OFFSET('1号【入力】'!AC26,0,$R$36,1,1)=\"\",\"\",OFFSET('1号【入力】'!AC26,0,$R$36,1,1))","v":0},null,null,null,null,{"$f":"+'1号【入力】'!AQ26","v":0}]
[{"$f":"'1号【入力】'!A25","v":0},null,null,null,null,null,null,null,null,{"$f":"'1号【入力】'!J27","v":"c.厚生年金保険料"},null,null,null,{"$f":"'1号【入力】'!N27","v":"×"},{"$f":"IF('1号【入力】'!O27>0,'1号【入力】'!O27,\"\")","v":9.5100000000000004E-2},null,{"$f":"'1号【入力】'!Q25","v":0},{"$f":"'1号【入力】'!R25","v":0},null,{"$f":"IF(OFFSET('1号【入力】'!T27,0,$Q$36,1,1)=\"\",\"\",OFFSET('1号【入力】'!T27,0,$Q$36,1,1))","v":0},null,null,null,{"$f":"IF(OFFSET('1号【入力】'!AC27,0,$R$36,1,1)=\"\",\"\",OFFSET('1号【入力】'!AC27,0,$R$36,1,1))","v":0},null,null,null,null,{"$f":"+'1号【入力】'!AQ27","v":0}]
[{"$f":"'1号【入力】'!A26","v":0},null,null,null,null,null,null,null,null,{"$f":"'1号【入力】'!J28","v":"d.雇用保険料"},null,null,null,{"$f":"'1号【入力】'!N28","v":"×"},{"$f":"IF('1号【入力】'!O28>0,'1号【入力】'!O28,\"\")","v":1.0500000000000001E-2},null,{"$f":"'1号【入力】'!Q26","v":0},{"$f":"'1号【入力】'!R26","v":0},null,{"$f":"IF(OFFSET('1号【入力】'!T28,0,$Q$36,1,1)=\"\",\"\",OFFSET('1号【入力】'!T28,0,$Q$36,1,1))","v":0},null,null,null,{"$f":"IF(OFFSET('1号【入力】'!AC28,0,$R$36,1,1)=\"\",\"\",OFFSET('1号【入力】'!AC28,0,$R$36,1,1))","v":0},null,null,null,null,{"$f":"+'1号【入力】'!AQ28","v":0}]
[null,null,null,null,null,null,null,null,null,{"$f":"'1号【入力】'!J29","v":"e.子ども・子育て支援金"},null,null,null,{"$f":"'1号【入力】'!N29","v":"×"},{"$f":"IF('1号【入力】'!O29>0,'1号【入力】'!O29,\"\")","v":1.15E-3},null,null,null,null,{"$f":"IF(OFFSET('1号【入力】'!T29,0,$Q$36,1,1)=\"\",\"\",OFFSET('1号【入力】'!T29,0,$Q$36,1,1))","v":0},null,null,null,{"$f":"IF(OFFSET('1号【入力】'!AC29,0,$R$36,1,1)=\"\",\"\",OFFSET('1号【入力】'!AC29,0,$R$36,1,1))","v":0},null,null,null,null,{"$f":"+'1号【入力】'!AQ29","v":0}]
[{"$f":"'1号【入力】'!A30","v":0},null,null,null,null,null,null,null,null,{"$f":"'1号【入力】'!J30","v":0},null,null,null,null,null,null,{"$f":"'1号【入力】'!Q30","v":0},{"$f":"'1号【入力】'!R30","v":0},null,{"$f":"IF(OFFSET('1号【入力】'!T30,0,$Q$36,1,1)=\"\",\"\",OFFSET('1号【入力】'!T30,0,$Q$36,1,1))","v":""},null,null,null,{"$f":"IF(OFFSET('1号【入力】'!AC30,0,$R$36,1,1)=\"\",\"\",OFFSET('1号【入力】'!AC30,0,$R$36,1,1))","v":""},null,null,null,null,{"$f":"+'1号【入力】'!AQ30","v":0}]
[{"$f":"'1号【入力】'!A31","v":"法定福利費　計"},null,null,null,null,null,null,null,null,{"$f":"'1号【入力】'!J31","v":"a～eの合計"},null,null,null,null,null,null,{"$f":"'1号【入力】'!Q31","v":0},{"$f":"'1号【入力】'!R31","v":0},null,{"$f":"IF(OFFSET('1号【入力】'!T31,0,$Q$36,1,1)=\"\",\"\",OFFSET('1号【入力】'!T31,0,$Q$36,1,1))","v":0},null,null,null,{"$f":"IF(OFFSET('1号【入力】'!AC31,0,$R$36,1,1)=\"\",\"\",OFFSET('1号【入力】'!AC31,0,$R$36,1,1))","v":0},null,null,null,null,{"$f":"IFERROR(T30/T21,)","v":0}]
["その他諸経費",null,null,null,null,null,null,null,null,{"$f":"'1号【入力】'!J32","v":0},null,null,null,null,null,null,{"$f":"'1号【入力】'!Q32","v":0},{"$f":"'1号【入力】'!R32","v":0},null,{"$f":"IF(OFFSET('1号【入力】'!T32,0,$Q$36,1,1)=\"\",\"\",OFFSET('1号【入力】'!T32,0,$Q$36,1,1))","v":""},null,null,null,{"$f":"IF(OFFSET('1号【入力】'!AC32,0,$R$36,1,1)=\"\",\"\",OFFSET('1号【入力】'!AC32,0,$R$36,1,1))","v":""},null,null,null,null,"↑法定保険料率"]
["税　抜　計",null,null,null,null,null,null,null,null,null,null,null,null,null,null,null,null,null,null,{"$f":"IF(OFFSET('1号【入力】'!T33,0,$Q$36,1,1)=\"\",\"\",OFFSET('1号【入力】'!T33,0,$Q$36,1,1))","v":""},null,null,null,{"$f":"IF(OFFSET('1号【入力】'!AC33,0,$R$36,1,1)=\"\",\"\",OFFSET('1号【入力】'!AC33,0,$R$36,1,1))","v":""},null,null,null,null,{"$f":"IF(X32=\"\",\"\",+X32-T32)","v":""},null,null,null,null,"←前回増減"]
["消 費 税 率",null,null,null,null,null,null,null,null,null,null,null,null,null,null,null,"％",null,null,{"$f":"IF(OFFSET('1号【入力】'!T34,0,$Q$36,1,1)=\"\",\"\",OFFSET('1号【入力】'!T34,0,$Q$36,1,1))","v":10},null,null,null,{"$f":"IF(OFFSET('1号【入力】'!AC34,0,$R$36,1,1)=\"\",\"\",OFFSET('1号【入力】'!AC34,0,$R$36,1,1))","v":10}]
["消　費　税",null,null,null,null,null,null,null,null,null,null,null,null,null,null,null,null,null,null,{"$f":"IF(OFFSET('1号【入力】'!T35,0,$Q$36,1,1)=\"\",\"\",OFFSET('1号【入力】'!T35,0,$Q$36,1,1))","v":0},null,null,null,{"$f":"IF(OFFSET('1号【入力】'!AC35,0,$R$36,1,1)=\"\",\"\",OFFSET('1号【入力】'!AC35,0,$R$36,1,1))","v":0},null,null,null,null,{"$f":"IF(X34=0,\"\",+X34-T34)","v":""}]
["合　　　計",null,null,null,null,null,null,null,null,null,null,null,null,null,null,null,null,null,null,{"$f":"IF(OFFSET('1号【入力】'!T36,0,$Q$36,1,1)=\"\",\"\",OFFSET('1号【入力】'!T36,0,$Q$36,1,1))","v":""},null,null,null,{"$f":"IF(OFFSET('1号【入力】'!AC36,0,$R$36,1,1)=\"\",\"\",OFFSET('1号【入力】'!AC36,0,$R$36,1,1))","v":""},null,null,null,null,{"$f":"IF(X35=\"\",\"\",+X35-T35)","v":""}]
[null,null,null,null,null,null,null,null,null,null,null,null,null,null,null,null,{"$f":"+IF(OR(T16=\"見　積　金　額\",T16=\"当初見積金額\")=TRUE,0,IF(T16='1号【入力】'!AC17,9,IF(T16='1号【入力】'!AK17,17,19)))","v":0},{"$f":"+IF(X16='1号【入力】'!AO17,12,IF(X16='1号【入力】'!AM17,10,IF(X16='1号【入力】'!AK17,8,0)))","v":0},null,{"$f":"T20+T30+T31","v":{"$error":"#VALUE!"}},null,null,null,{"$f":"SUM(X18:AB31)","v":0}]

{"sheet":"見積2号【印刷】","index":5,"n_rows":303,"n_cols":11,"rows_kept":303,"cut":false,"hidden":false,"merged":[[1,10,2,10],[1,1,1,2],[1,4,1,6],[1,7,1,9]]}
[null,null,null,{"$f":"+IF(E2=\"見　積　金　額\",0,IF(E2='2号【入力】'!L2,7,IF(E2='2号【入力】'!S2,14,21)))","v":0}]
["　","　項　　　　　目",null,null,{"$f":"+IF('2号【入力】'!X1=0,\"見　積　金　額\",IF('2号【入力】'!AE1=0,'2号【入力】'!L2,IF('2号【入力】'!AL1=0,'2号【入力】'!S2,'2号【入力】'!Z2)))","v":"見　積　金　額"},null,null,{"$f":"+IF('2号【入力】'!Q1=0,\"変更後見積金額\",IF('2号【入力】'!X1=0,'2号【入力】'!L2,IF('2号【入力】'!AE1=0,'2号【入力】'!S2,IF('2号【入力】'!AL1=0,'2号【入力】'!Z2,'2号【入力】'!AG2))))","v":"変更後見積金額"},null,null,"備　　　考"]
["番号","名　　　　　称","規　　格　　・　摘　　要","単位","数　量","単　価","金　　額","数　量","単　価","金　　額"]
[{"$f":"INDIRECT(ADDRESS(ROW(A4),COLUMN(A4),4,,\"2号【入力】\"))","v":1},0,{"$f":"INDIRECT(ADDRESS(ROW(C4),COLUMN(C4),4,,\"2号【入力】\"))","v":0},{"$f":"INDIRECT(ADDRESS(ROW(D4),COLUMN(D4),4,,\"2号【入力】\"))","v":0},{"$f":"IF(OFFSET(INDIRECT(ADDRESS(ROW(E4),COLUMN(E4),4,,\"2号【入力】\")),0,$D$1,1,1)=\"\",\"\",OFFSET(INDIRECT(ADDRESS(ROW(E4),COLUMN(E4),4,,\"2号【入力】\")),0,$D$1,1,1))","v":""},{"$f":"IF(OFFSET(INDIRECT(ADDRESS(ROW(F4),COLUMN(F4),4,,\"2号【入力】\")),0,$D$1,1,1)=\"\",\"\",OFFSET(INDIRECT(ADDRESS(ROW(F4),COLUMN(F4),4,,\"2号【入力】\")),0,$D$1,1,1))","v":""},{"$f":"IF(OFFSET(INDIRECT(ADDRESS(ROW(G4),COLUMN(G4),4,,\"2号【入力】\")),0,$D$1,1,1)=\"\",\"\",OFFSET(INDIRECT(ADDRESS(ROW(G4),COLUMN(G4),4,,\"2号【入力】\")),0,$D$1,1,1))","v":""},{"$f":"IF(OFFSET(INDIRECT(ADDRESS(ROW(L4),COLUMN(L4),4,,\"2号【入力】\")),0,$D$1,1,1)=\"\",\"\",OFFSET(INDIRECT(ADDRESS(ROW(L4),COLUMN(L4),4,,\"2号【入力】\")),0,$D$1,1,1))","v":""},{"$f":"IF(OFFSET(INDIRECT(ADDRESS(ROW(M4),COLUMN(M4),4,,\"2号【入力】\")),0,$D$1,1,1)=\"\",\"\",OFFSET(INDIRECT(ADDRESS(ROW(M4),COLUMN(M4),4,,\"2号【入力】\")),0,$D$1,1,1))","v":""},{"$f":"IF(OFFSET(INDIRECT(ADDRESS(ROW(N4),COLUMN(N4),4,,\"2号【入力】\")),0,$D$1,1,1)=\"\",\"\",OFFSET(INDIRECT(ADDRESS(ROW(N4),COLUMN(N4),4,,\"2号【入力】\")),0,$D$1,1,1))","v":""},{"$f":"INDIRECT(ADDRESS(ROW(AN4),COLUMN(AN4),4,,\"2号【入力】\"))","v":0}]
[2,0,0,0,{"$f":"IF(OFFSET(INDIRECT(ADDRESS(ROW(E5),COLUMN(E5),4,,\"2号【入力】\")),0,$D$1,1,1)=\"\",\"\",OFFSET(INDIRECT(ADDRESS(ROW(E5),COLUMN(E5),4,,\"2号【入力】\")),0,$D$1,1,1))","v":""},"","",{"$f":"IF(OFFSET(INDIRECT(ADDRESS(ROW(L5),COLUMN(L5),4,,\"2号【入力】\")),0,$D$1,1,1)=\"\",\"\",OFFSET(INDIRECT(ADDRESS(ROW(L5),COLUMN(L5),4,,\"2号【入力】\")),0,$D$1,1,1))","v":""},{"$f":"IF(OFFSET(INDIRECT(ADDRESS(ROW(M5),COLUMN(M5),4,,\"2号【入力】\")),0,$D$1,1,1)=\"\",\"\",OFFSET(INDIRECT(ADDRESS(ROW(M5),COLUMN(M5),4,,\"2号【入力】\")),0,$D$1,1,1))","v":""},{"$f":"IF(OFFSET(INDIRECT(ADDRESS(ROW(N5),COLUMN(N5),4,,\"2号【入力】\")),0,$D$1,1,1)=\"\",\"\",OFFSET(INDIRECT(ADDRESS(ROW(N5),COLUMN(N5),4,,\"2号【入力】\")),0,$D$1,1,1))","v":""},{"$f":"INDIRECT(ADDRESS(ROW(AN5),COLUMN(AN5),4,,\"2号【入力】\"))","v":0}]
[3,0,0,0,"","","","","","",0]
[4,0,0,0,"","","","","","",0]
[5,0,0,0,"","","","","","",0]
[6,0,0,0,"","","","","","",0]
[7,0,0,0,"","","","","","",0]
[8,0,0,0,"","","","","","",0]
[9,0,0,0,"","","","","","",0]
[10,0,0,0,"","","","","","",0]
[11,0,0,0,"","","","","","",0]
[12,0,0,0,"","","","","","",0]
[13,0,0,0,"","","","","","",0]
[14,0,0,0,"","","","","","",0]
[15,0,0,0,"","","","","","",0]
[16,0,0,0,"","","","","","",0]
[{"$f":"INDIRECT(ADDRESS(ROW(A20),COLUMN(A20),4,,\"2号【入力】\"))","v":17},0,0,0,"","","","","","",0]
[18,0,0,0,"","","","","","",0]
[19,0,0,0,"","","","","","",0]
[20,0,0,0,"","","","","","",0]
[21,0,0,0,"","","","","","",0]
[22,0,0,0,"","","","","","",0]
[23,0,0,0,"","","","","","",0]
[24,0,0,0,"","","","","","",0]
[25,0,0,0,"","","","","","",0]
[26,0,0,0,"","","","","","",0]
[27,0,0,0,"","","","","","",0]
[28,0,0,0,"","","","","","",0]
[29,0,0,0,"","","","","","",0]
[30,"項計","　","　","","",0,"","",0,0]
[31,0,0,0,"","","","","","",0]
[32,0,0,0,"","","","","","",0]
[33,0,0,0,"","","","","","",0]
[34,0,0,0,"","","","","","",0]
[35,0,0,0,"","","","","","",0]
[36,0,0,0,"","","","","","",0]
[37,0,0,0,"","","","","","",0]
[38,0,0,0,"","","","","","",0]
[39,0,0,0,"","","","","","",0]
[40,0,0,0,"","","","","","",0]
[41,0,0,0,"","","","","","",0]
[42,0,0,0,"","","","","","",0]
[43,0,0,0,"","","","","","",0]
[44,0,0,0,"","","","","","",0]
[45,0,0,0,"","","","","","",0]
[46,0,0,0,"","","","","","",0]
[47,0,0,0,"","","","","","",0]
[48,0,0,0,"","","","","","",0]
[49,0,0,0,"","","","","","",0]
[50,0,0,0,"","","","","","",0]
[51,0,0,0,"","","","","","",0]
[52,0,0,0,"","","","","","",0]
[53,0,0,0,"","","","","","",0]
[54,0,0,0,"","","","","","",0]
[55,0,0,0,"","","","","","",0]
[56,0,0,0,"","","","","","",0]
[57,0,0,0,"","","","","","",0]
[58,0,0,0,"","","","","","",0]
[59,0,0,0,"","","","","","",0]
[60,0,0,0,"","","","","","",0]
[61,0,0,0,"","","","","","",0]
[62,0,0,0,"","","","","","",0]
[63,0,0,0,"","","","","","",0]
[64,0,0,0,"","","","","","",0]
[65,0,0,0,"","","","","","",0]
[66,0,0,0,{"$f":"IF(OFFSET(INDIRECT(ADDRESS(ROW(E69),COLUMN(E69),4,,\"2号【入力】\")),0,$D$1,1,1)=\"\",\"\",OFFSET(INDIRECT(ADDRESS(ROW(E69),COLUMN(E69),4,,\"2号【入力】\")),0,$D$1,1,1))","v":""},"","",{"$f":"IF(OFFSET(INDIRECT(ADDRESS(ROW(L69),COLUMN(L69),4,,\"2号【入力】\")),0,$D$1,1,1)=\"\",\"\",OFFSET(INDIRECT(ADDRESS(ROW(L69),COLUMN(L69),4,,\"2号【入力】\")),0,$D$1,1,1))","v":""},{"$f":"IF(OFFSET(INDIRECT(ADDRESS(ROW(M69),COLUMN(M69),4,,\"2号【入力】\")),0,$D$1,1,1)=\"\",\"\",OFFSET(INDIRECT(ADDRESS(ROW(M69),COLUMN(M69),4,,\"2号【入力】\")),0,$D$1,1,1))","v":""},{"$f":"IF(OFFSET(INDIRECT(ADDRESS(ROW(N69),COLUMN(N69),4,,\"2号【入力】\")),0,$D$1,1,1)=\"\",\"\",OFFSET(INDIRECT(ADDRESS(ROW(N69),COLUMN(N69),4,,\"2号【入力】\")),0,$D$1,1,1))","v":""},{"$f":"INDIRECT(ADDRESS(ROW(AN69),COLUMN(AN69),4,,\"2号【入力】\"))","v":0}]
[67,0,0,0,"","","","","","",0]
[68,0,0,0,"","","","","","",0]
[69,0,0,0,"","","","","","",0]
[70,0,0,0,"","","","","","",0]
[71,0,0,0,"","","","","","",0]
[72,0,0,0,"","","","","","",0]
[73,0,0,0,"","","","","","",0]
[74,0,0,0,"","","","","","",0]
[75,0,0,0,"","","","","","",0]
[76,0,0,0,"","","","","","",0]
[77,0,0,0,"","","","","","",0]
[78,0,0,0,"","","","","","",0]
[79,0,0,0,"","","","","","",0]
[80,0,0,{"$f":"INDIRECT(ADDRESS(ROW(D83),COLUMN(D83),4,,\"2号【入力】\"))","v":0},"","","","","","",0]
[{"$f":"INDIRECT(ADDRESS(ROW(A84),COLUMN(A84),4,,\"2号【入力】\"))","v":81},0,0,0,"","","","","","",0]
[82,0,0,0,"","","","","","",0]
[83,0,0,0,"","","","","","",0]
[84,0,0,0,"","","","","","",0]
[85,0,0,0,"","","","","","",0]
[86,0,0,0,"","","","","","",0]
[87,0,0,0,"","","","","","",0]
[88,0,0,0,"","","","","","",0]
[89,0,0,0,"","","","","","",0]
[90,0,0,0,"","","","","","",0]
[91,0,0,0,"","","","","","",0]
[92,0,0,0,"","","","","","",0]
[93,0,0,0,"","","","","","",0]
[94,0,0,0,"","","","","","",0]
[95,0,0,0,"","","","","","",0]
[96,0,0,0,"","","","","","",0]
[97,0,0,0,"","","","","","",0]
[98,0,0,0,"","","","","","",0]
[99,0,0,0,"","","","","","",0]
[100,0,0,0,"","","","","","",0]
[101,0,0,0,"","","","","","",0]
[102,0,0,0,"","","","","","",0]
[103,0,0,0,"","","","","","",0]
[104,0,0,0,"","","","","","",0]
[105,0,0,0,"","","","","","",0]
[106,0,0,0,"","","","","","",0]
[107,0,0,0,"","","","","","",0]
[108,0,0,0,"","","","","","",0]
[109,0,0,0,"","","","","","",0]
[110,0,0,0,"","","","","","",0]
[111,0,0,0,"","","","","","",0]
[112,0,0,0,"","","","","","",0]
[113,0,0,0,"","","","","","",0]
[114,0,0,0,"","","","","","",0]
[115,0,0,0,"","","","","","",0]
[116,0,0,0,"","","","","","",0]
[117,0,0,0,"","","","","","",0]
[118,0,0,0,"","","","","","",0]
[119,0,0,0,"","","","","","",0]
[120,0,0,0,"","","","","","",0]
[121,0,0,0,"","","","","","",0]
[122,0,0,0,"","","","","","",0]
[123,0,0,0,"","","","","","",0]
[124,0,0,0,"","","","","","",0]
[125,0,0,0,"","","","","","",0]
[126,0,0,0,"","","","","","",0]
[127,0,0,0,"","","","","","",0]
[128,0,0,0,"","","","","","",0]
[129,0,0,0,"","","","","","",0]
[130,0,0,0,{"$f":"IF(OFFSET(INDIRECT(ADDRESS(ROW(E133),COLUMN(E133),4,,\"2号【入力】\")),0,$D$1,1,1)=\"\",\"\",OFFSET(INDIRECT(ADDRESS(ROW(E133),COLUMN(E133),4,,\"2号【入力】\")),0,$D$1,1,1))","v":""},"","",{"$f":"IF(OFFSET(INDIRECT(ADDRESS(ROW(L133),COLUMN(L133),4,,\"2号【入力】\")),0,$D$1,1,1)=\"\",\"\",OFFSET(INDIRECT(ADDRESS(ROW(L133),COLUMN(L133),4,,\"2号【入力】\")),0,$D$1,1,1))","v":""},{"$f":"IF(OFFSET(INDIRECT(ADDRESS(ROW(M133),COLUMN(M133),4,,\"2号【入力】\")),0,$D$1,1,1)=\"\",\"\",OFFSET(INDIRECT(ADDRESS(ROW(M133),COLUMN(M133),4,,\"2号【入力】\")),0,$D$1,1,1))","v":""},{"$f":"IF(OFFSET(INDIRECT(ADDRESS(ROW(N133),COLUMN(N133),4,,\"2号【入力】\")),0,$D$1,1,1)=\"\",\"\",OFFSET(INDIRECT(ADDRESS(ROW(N133),COLUMN(N133),4,,\"2号【入力】\")),0,$D$1,1,1))","v":""},{"$f":"INDIRECT(ADDRESS(ROW(AN133),COLUMN(AN133),4,,\"2号【入力】\"))","v":0}]
[131,0,0,0,"","","","","","",0]
[132,0,0,0,"","","","","","",0]
[133,0,0,0,"","","","","","",0]
[134,0,0,0,"","","","","","",0]
[135,0,0,0,"","","","","","",0]
[136,0,0,0,"","","","","","",0]
[137,0,0,0,"","","","","","",0]
[138,0,0,0,"","","","","","",0]
[139,0,0,0,"","","","","","",0]
[140,0,0,0,"","","","","","",0]
[141,0,0,0,"","","","","","",0]
[142,0,0,0,"","","","","","",0]
[143,0,0,0,"","","","","","",0]
[144,0,0,0,"","","","","","",0]
[{"$f":"INDIRECT(ADDRESS(ROW(A148),COLUMN(A148),4,,\"2号【入力】\"))","v":145},0,0,0,"","","","","","",0]
[146,0,0,0,"","","","","","",0]
[147,0,0,0,"","","","","","",0]
[148,0,0,0,"","","","","","",0]
[149,0,0,0,"","","","","","",0]
[150,0,0,0,"","","","","","",0]
[151,0,0,0,"","","","","","",0]
[152,0,0,0,"","","","","","",0]
[153,0,0,0,"","","","","","",0]
[154,0,0,0,"","","","","","",0]
[155,0,0,0,"","","","","","",0]
[156,0,0,0,"","","","","","",0]
[157,0,0,0,"","","","","","",0]
[158,0,0,0,"","","","","","",0]
[159,0,0,0,"","","","","","",0]
[160,0,0,0,"","","","","","",0]
[161,0,0,0,"","","","","","",0]
[162,0,0,0,{"$f":"IF(OFFSET(INDIRECT(ADDRESS(ROW(E165),COLUMN(E165),4,,\"2号【入力】\")),0,$D$1,1,1)=\"\",\"\",OFFSET(INDIRECT(ADDRESS(ROW(E165),COLUMN(E165),4,,\"2号【入力】\")),0,$D$1,1,1))","v":""},"","","","","",0]
[163,0,0,0,"","","","","","",0]
[164,0,0,0,"","","","","","",0]
[165,0,0,0,"","","","","","",0]
[166,0,0,0,"","","","","","",0]
[167,0,0,0,"","","","","","",0]
[168,0,0,0,"","","","","","",0]
[169,0,0,0,"","","","","","",0]
[170,0,0,0,"","","","","","",0]
[171,0,0,0,"","","","","","",0]
[172,0,0,0,"","","","","","",0]
[173,0,0,0,"","","","","","",0]
[174,0,0,0,"","","","","","",0]
[175,0,0,0,"","","","","","",0]
[176,0,0,0,"","","","","","",0]
[177,0,0,0,"","","","","","",0]
[178,0,0,0,"","","","","","",0]
[179,0,0,0,"","","","","","",0]
[180,0,0,0,"","","","","","",0]
[181,0,0,0,"","","","","","",0]
[182,0,0,0,"","","","","","",0]
[183,0,0,0,"","","","","","",0]
[184,0,0,0,"","","","","","",0]
[185,0,0,0,"","","","","","",0]
[186,0,0,0,"","","","","","",0]
[187,0,0,0,"","","","","","",0]
[188,0,0,0,"","","","","","",0]
[189,0,0,0,"","","","","","",0]
[190,0,0,0,"","","","","","",0]
[191,0,0,0,"","","","","","",0]
[192,0,0,0,"","","","","","",0]
[193,0,0,0,"","","","","","",0]
[194,0,0,0,{"$f":"IF(OFFSET(INDIRECT(ADDRESS(ROW(E197),COLUMN(E197),4,,\"2号【入力】\")),0,$D$1,1,1)=\"\",\"\",OFFSET(INDIRECT(ADDRESS(ROW(E197),COLUMN(E197),4,,\"2号【入力】\")),0,$D$1,1,1))","v":""},"","",{"$f":"IF(OFFSET(INDIRECT(ADDRESS(ROW(L197),COLUMN(L197),4,,\"2号【入力】\")),0,$D$1,1,1)=\"\",\"\",OFFSET(INDIRECT(ADDRESS(ROW(L197),COLUMN(L197),4,,\"2号【入力】\")),0,$D$1,1,1))","v":""},{"$f":"IF(OFFSET(INDIRECT(ADDRESS(ROW(M197),COLUMN(M197),4,,\"2号【入力】\")),0,$D$1,1,1)=\"\",\"\",OFFSET(INDIRECT(ADDRESS(ROW(M197),COLUMN(M197),4,,\"2号【入力】\")),0,$D$1,1,1))","v":""},{"$f":"IF(OFFSET(INDIRECT(ADDRESS(ROW(N197),COLUMN(N197),4,,\"2号【入力】\")),0,$D$1,1,1)=\"\",\"\",OFFSET(INDIRECT(ADDRESS(ROW(N197),COLUMN(N197),4,,\"2号【入力】\")),0,$D$1,1,1))","v":""},{"$f":"INDIRECT(ADDRESS(ROW(AN197),COLUMN(AN197),4,,\"2号【入力】\"))","v":0}]
[195,0,0,0,"","","","","","",0]
[196,0,0,0,"","","","","","",0]
[197,0,0,0,"","","","","","",0]
[198,0,0,0,"","","","","","",0]
[199,0,0,0,"","","","","","",0]
[200,0,0,0,"","","","","","",0]
[201,0,0,0,"","","","","","",0]
[202,0,0,0,"","","","","","",0]
[203,0,0,0,"","","","","","",0]
[204,0,0,0,"","","","","","",0]
[205,0,0,0,"","","","","","",0]
[206,0,0,0,"","","","","","",0]
[207,0,0,0,"","","","","","",0]
[208,0,0,{"$f":"INDIRECT(ADDRESS(ROW(D211),COLUMN(D211),4,,\"2号【入力】\"))","v":0},"","","","","","",0]
[{"$f":"INDIRECT(ADDRESS(ROW(A212),COLUMN(A212),4,,\"2号【入力】\"))","v":209},0,0,0,"","","","","","",0]
[210,0,0,0,"","","","","","",0]
[211,0,0,0,"","","","","","",0]
[212,0,0,0,"","","","","","",0]
[213,0,0,0,"","","","","","",0]
[214,0,0,0,"","","","","","",0]
[215,0,0,0,"","","","","","",0]
[216,0,0,0,"","","","","","",0]
[217,0,0,0,"","","","","","",0]
[218,0,0,0,"","","","","","",0]
[219,0,0,0,"","","","","","",0]
[220,0,0,0,"","","","","","",0]
[221,0,0,0,"","","","","","",0]
[222,0,0,0,"","","","","","",0]
[223,0,0,0,"","","","","","",0]
[224,0,0,0,"","","","","","",0]
[225,0,0,0,"","","","","","",0]
[226,0,0,0,{"$f":"IF(OFFSET(INDIRECT(ADDRESS(ROW(E229),COLUMN(E229),4,,\"2号【入力】\")),0,$D$1,1,1)=\"\",\"\",OFFSET(INDIRECT(ADDRESS(ROW(E229),COLUMN(E229),4,,\"2号【入力】\")),0,$D$1,1,1))","v":""},"","","","","",0]
[227,0,0,0,"","","","","","",0]
[228,0,0,0,"","","","","","",0]
[229,0,0,0,"","","","","","",0]
[230,0,0,0,"","","","","","",0]
[231,0,0,0,"","","","","","",0]
[232,0,0,0,"","","","","","",0]
[233,0,0,0,"","","","","","",0]
[234,0,0,0,"","","","","","",0]
[235,0,0,0,"","","","","","",0]
[236,0,0,0,"","","","","","",0]
[237,0,0,0,"","","","","","",0]
[238,0,0,0,"","","","","","",0]
[239,0,0,0,"","","","","","",0]
[240,0,0,0,"","","","","","",0]
[241,0,0,0,"","","","","","",0]
[242,0,0,0,"","","","","","",0]
[243,0,0,0,"","","","","","",0]
[244,0,0,0,"","","","","","",0]
[245,0,0,0,"","","","","","",0]
[246,0,0,0,"","","","","","",0]
[247,0,0,0,"","","","","","",0]
[248,0,0,0,"","","","","","",0]
[249,0,0,0,"","","","","","",0]
[250,0,0,0,"","","","","","",0]
[251,0,0,0,"","","","","","",0]
[252,0,0,0,"","","","","","",0]
[253,0,0,0,"","","","","","",0]
[254,0,0,0,"","","","","","",0]
[255,0,0,0,"","","","","","",0]
[256,0,0,0,"","","","","","",0]
[257,0,0,0,"","","","","","",0]
[258,0,0,0,{"$f":"IF(OFFSET(INDIRECT(ADDRESS(ROW(E261),COLUMN(E261),4,,\"2号【入力】\")),0,$D$1,1,1)=\"\",\"\",OFFSET(INDIRECT(ADDRESS(ROW(E261),COLUMN(E261),4,,\"2号【入力】\")),0,$D$1,1,1))","v":""},"","",{"$f":"IF(OFFSET(INDIRECT(ADDRESS(ROW(L261),COLUMN(L261),4,,\"2号【入力】\")),0,$D$1,1,1)=\"\",\"\",OFFSET(INDIRECT(ADDRESS(ROW(L261),COLUMN(L261),4,,\"2号【入力】\")),0,$D$1,1,1))","v":""},{"$f":"IF(OFFSET(INDIRECT(ADDRESS(ROW(M261),COLUMN(M261),4,,\"2号【入力】\")),0,$D$1,1,1)=\"\",\"\",OFFSET(INDIRECT(ADDRESS(ROW(M261),COLUMN(M261),4,,\"2号【入力】\")),0,$D$1,1,1))","v":""},{"$f":"IF(OFFSET(INDIRECT(ADDRESS(ROW(N261),COLUMN(N261),4,,\"2号【入力】\")),0,$D$1,1,1)=\"\",\"\",OFFSET(INDIRECT(ADDRESS(ROW(N261),COLUMN(N261),4,,\"2号【入力】\")),0,$D$1,1,1))","v":""},{"$f":"INDIRECT(ADDRESS(ROW(AN261),COLUMN(AN261),4,,\"2号【入力】\"))","v":0}]
[259,0,0,0,"","","","","","",0]
[260,0,0,0,"","","","","","",0]
[261,0,0,0,"","","","","","",0]
[262,0,0,0,"","","","","","",0]
[263,0,0,0,"","","","","","",0]
[264,0,0,0,"","","","","","",0]
[265,0,0,0,"","","","","","",0]
[266,0,0,0,"","","","","","",0]
[267,0,0,0,"","","","","","",0]
[268,0,0,0,"","","","","","",0]
[269,0,0,0,"","","","","","",0]
[270,0,0,0,"","","","","","",0]
[271,0,0,0,"","","","","","",0]
[272,0,0,0,"","","","","","",0]
[{"$f":"INDIRECT(ADDRESS(ROW(A276),COLUMN(A276),4,,\"2号【入力】\"))","v":273},0,0,0,"","","","","","",0]
[274,0,0,0,"","","","","","",0]
[275,0,0,0,"","","","","","",0]
[276,0,0,0,"","","","","","",0]
[277,0,0,0,"","","","","","",0]
[278,0,0,0,"","","","","","",0]
[279,0,0,0,"","","","","","",0]
[280,0,0,0,"","","","","","",0]
[281,0,0,0,"","","","","","",0]
[282,0,0,0,"","","","","","",0]
[283,0,0,0,"","","","","","",0]
[284,0,0,0,"","","","","","",0]
[285,0,0,0,"","","","","","",0]
[286,0,0,0,"","","","","","",0]
[287,0,0,0,"","","","","","",0]
[288,0,0,0,"","","","","","",0]
[289,0,0,0,"","","","","","",0]
[290,0,0,0,"","","","","","",0]
[291,0,0,0,"","","","","","",0]
[292,0,0,0,"","","","","","",0]
[293,0,0,0,"","","","","","",0]
[294,0,0,0,"","","","","","",0]
[295,0,0,0,"","","","","","",0]
[296,0,0,0,"","","","","","",0]
[297,0,0,0,"","","","","","",0]
[298,0,0,0,"","","","","","",0]
[299,0,0,0,"","","","","","",0]
[300,0,0,0,"","","","","","",0]

{"sheet":"見積2号(2)【印刷】","index":6,"n_rows":93,"n_cols":11,"rows_kept":93,"cut":false,"hidden":false,"merged":[[1,10,2,10],[1,1,1,2],[1,4,1,6],[1,7,1,9]]}
[null,null,null,{"$f":"+IF(E2=\"見　積　金　額\",0,IF(E2='2号(2)【入力】'!L2,7,IF(E2='2号(2)【入力】'!S2,14,21)))","v":0}]
["　","　項　　　　　目",null,null,{"$f":"+IF('2号(2)【入力】'!X1=0,\"見　積　金　額\",IF('2号(2)【入力】'!AE1=0,'2号(2)【入力】'!L2,IF('2号(2)【入力】'!AL1=0,'2号(2)【入力】'!S2,'2号(2)【入力】'!Z2)))","v":"見　積　金　額"},null,null,{"$f":"+IF('2号(2)【入力】'!Q1=0,\"変更後見積金額\",IF('2号(2)【入力】'!X1=0,'2号(2)【入力】'!L2,IF('2号(2)【入力】'!AE1=0,'2号(2)【入力】'!S2,IF('2号(2)【入力】'!AL1=0,'2号(2)【入力】'!Z2,'2号(2)【入力】'!AG2))))","v":"変更後見積金額"},null,null,"備　　　考"]
["番号","名　　　　　称","規　　格　　・　摘　　要","単位","数　量","単　価","金　　額","数　量","単　価","金　　額"]
[{"$f":"INDIRECT(ADDRESS(ROW(A4),COLUMN(A4),4,,\"2号(2)【入力】\"))","v":1},0,0,0,{"$f":"IF(OFFSET(INDIRECT(ADDRESS(ROW(E4),COLUMN(E4),4,,\"2号(2)【入力】\")),0,$D$1,1,1)=\"\",\"\",OFFSET(INDIRECT(ADDRESS(ROW(E4),COLUMN(E4),4,,\"2号(2)【入力】\")),0,$D$1,1,1))","v":""},{"$f":"IF(OFFSET(INDIRECT(ADDRESS(ROW(F4),COLUMN(F4),4,,\"2号(2)【入力】\")),0,$D$1,1,1)=\"\",\"\",OFFSET(INDIRECT(ADDRESS(ROW(F4),COLUMN(F4),4,,\"2号(2)【入力】\")),0,$D$1,1,1))","v":""},"",{"$f":"IF(OFFSET(INDIRECT(ADDRESS(ROW(L4),COLUMN(L4),4,,\"2号(2)【入力】\")),0,$D$1,1,1)=\"\",\"\",OFFSET(INDIRECT(ADDRESS(ROW(L4),COLUMN(L4),4,,\"2号(2)【入力】\")),0,$D$1,1,1))","v":""},{"$f":"IF(OFFSET(INDIRECT(ADDRESS(ROW(M4),COLUMN(M4),4,,\"2号(2)【入力】\")),0,$D$1,1,1)=\"\",\"\",OFFSET(INDIRECT(ADDRESS(ROW(M4),COLUMN(M4),4,,\"2号(2)【入力】\")),0,$D$1,1,1))","v":""},{"$f":"IF(OFFSET(INDIRECT(ADDRESS(ROW(N4),COLUMN(N4),4,,\"2号(2)【入力】\")),0,$D$1,1,1)=\"\",\"\",OFFSET(INDIRECT(ADDRESS(ROW(N4),COLUMN(N4),4,,\"2号(2)【入力】\")),0,$D$1,1,1))","v":""},{"$f":"INDIRECT(ADDRESS(ROW(AN4),COLUMN(AN4),4,,\"2号(2)【入力】\"))","v":0}]
[2,0,0,0,{"$f":"IF(OFFSET(INDIRECT(ADDRESS(ROW(E5),COLUMN(E5),4,,\"2号(2)【入力】\")),0,$D$1,1,1)=\"\",\"\",OFFSET(INDIRECT(ADDRESS(ROW(E5),COLUMN(E5),4,,\"2号(2)【入力】\")),0,$D$1,1,1))","v":""},"","",{"$f":"IF(OFFSET(INDIRECT(ADDRESS(ROW(L5),COLUMN(L5),4,,\"2号(2)【入力】\")),0,$D$1,1,1)=\"\",\"\",OFFSET(INDIRECT(ADDRESS(ROW(L5),COLUMN(L5),4,,\"2号(2)【入力】\")),0,$D$1,1,1))","v":""},"","",0]
[3,0,0,0,{"$f":"IF(OFFSET(INDIRECT(ADDRESS(ROW(E6),COLUMN(E6),4,,\"2号(2)【入力】\")),0,$D$1,1,1)=\"\",\"\",OFFSET(INDIRECT(ADDRESS(ROW(E6),COLUMN(E6),4,,\"2号(2)【入力】\")),0,$D$1,1,1))","v":""},"","","","","",0]
[4,0,0,0,"","","","","","",0]
[5,0,0,0,"","","","","","",0]
[6,0,0,0,"","","","","","",0]
[7,0,0,0,"","","","","","",0]
[8,0,0,0,"","","","","","",0]
[9,0,0,0,"","","","","","",0]
[10,0,0,0,"","","","","","",0]
[11,0,0,0,"","","","","","",0]
[12,0,0,0,"","","","","","",0]
[13,0,0,0,"","","","","","",0]
[14,0,0,0,"","","","","","",0]
[15,0,0,0,"","","","","","",0]
[16,0,0,0,"","","","","","",0]
[17,0,0,0,"","","","","","",0]
[18,0,0,0,"","","","","","",0]
[19,0,0,0,"","","","","","",0]
[20,0,0,0,"","","","","","",0]
[{"$f":"INDIRECT(ADDRESS(ROW(A24),COLUMN(A24),4,,\"2号(2)【入力】\"))","v":21},0,0,0,{"$f":"IF(OFFSET(INDIRECT(ADDRESS(ROW(E24),COLUMN(E24),4,,\"2号(2)【入力】\")),0,$D$1,1,1)=\"\",\"\",OFFSET(INDIRECT(ADDRESS(ROW(E24),COLUMN(E24),4,,\"2号(2)【入力】\")),0,$D$1,1,1))","v":""},"","","","","",0]
[22,0,0,0,"","","","","","",0]
[23,0,0,0,"","","","","","",0]
[24,0,0,0,"","","","","","",0]
[25,0,0,0,"","","","","","",0]
[26,0,0,0,"","","","","","",0]
[27,0,0,0,"","","","","","",0]
[28,0,0,0,"","","","","","",0]
[29,0,0,0,"","","","","","",0]
[30,"頁　　計","　","　","","",0,"","",0,0]
[31,0,0,0,"","","","","","",0]
[32,0,0,0,"","","","","","",0]
[33,0,0,0,"","","",{"$f":"IF(OFFSET(INDIRECT(ADDRESS(ROW(L36),COLUMN(L36),4,,\"2号(2)【入力】\")),0,$D$1,1,1)=\"\",\"\",OFFSET(INDIRECT(ADDRESS(ROW(L36),COLUMN(L36),4,,\"2号(2)【入力】\")),0,$D$1,1,1))","v":""},{"$f":"IF(OFFSET(INDIRECT(ADDRESS(ROW(M36),COLUMN(M36),4,,\"2号(2)【入力】\")),0,$D$1,1,1)=\"\",\"\",OFFSET(INDIRECT(ADDRESS(ROW(M36),COLUMN(M36),4,,\"2号(2)【入力】\")),0,$D$1,1,1))","v":""},{"$f":"IF(OFFSET(INDIRECT(ADDRESS(ROW(N36),COLUMN(N36),4,,\"2号(2)【入力】\")),0,$D$1,1,1)=\"\",\"\",OFFSET(INDIRECT(ADDRESS(ROW(N36),COLUMN(N36),4,,\"2号(2)【入力】\")),0,$D$1,1,1))","v":""},{"$f":"INDIRECT(ADDRESS(ROW(AN36),COLUMN(AN36),4,,\"2号(2)【入力】\"))","v":0}]
[34,0,0,0,"","","","","","",0]
[35,0,0,0,"","","","","","",0]
[36,0,0,0,"","","","","","",0]
[37,0,0,0,"","","","","","",0]
[38,0,0,0,"","","","","","",0]
[39,0,0,0,"","","","","","",0]
[40,0,0,0,"","","","","","",0]
[{"$f":"INDIRECT(ADDRESS(ROW(A44),COLUMN(A44),4,,\"2号(2)【入力】\"))","v":41},0,0,0,{"$f":"IF(OFFSET(INDIRECT(ADDRESS(ROW(E44),COLUMN(E44),4,,\"2号(2)【入力】\")),0,$D$1,1,1)=\"\",\"\",OFFSET(INDIRECT(ADDRESS(ROW(E44),COLUMN(E44),4,,\"2号(2)【入力】\")),0,$D$1,1,1))","v":""},"","","","","",0]
[42,0,0,0,"","","","","","",0]
[43,0,0,0,"","","","","","",0]
[44,0,0,0,"","","","","","",0]
[45,0,0,0,"","","","","","",0]
[46,0,0,0,"","","","","","",0]
[47,0,0,0,"","","","","","",0]
[48,0,0,0,"","","","","","",0]
[49,0,0,0,"","","","","","",0]
[50,0,0,0,"","","","","","",0]
[51,0,0,0,"","","","","","",0]
[52,0,0,0,"","","","","","",0]
[53,0,0,0,"","","","","","",0]
[54,0,0,0,"","","","","","",0]
[55,0,0,0,"","","","","","",0]
[56,0,0,0,"","","","","","",0]
[57,0,0,0,"","","","","","",0]
[58,0,0,0,"","","","","","",0]
[59,0,0,0,"","","","","","",0]
[60,0,0,0,"","","","","","",0]
[{"$f":"INDIRECT(ADDRESS(ROW(A64),COLUMN(A64),4,,\"2号(2)【入力】\"))","v":61},0,0,0,{"$f":"IF(OFFSET(INDIRECT(ADDRESS(ROW(E64),COLUMN(E64),4,,\"2号(2)【入力】\")),0,$D$1,1,1)=\"\",\"\",OFFSET(INDIRECT(ADDRESS(ROW(E64),COLUMN(E64),4,,\"2号(2)【入力】\")),0,$D$1,1,1))","v":""},"","","","","",0]
[62,0,0,0,"","","","","","",0]
[63,0,0,0,"","","","","","",0]
[64,0,0,0,"","","","","","",0]
[65,0,0,0,"","","",{"$f":"IF(OFFSET(INDIRECT(ADDRESS(ROW(L68),COLUMN(L68),4,,\"2号(2)【入力】\")),0,$D$1,1,1)=\"\",\"\",OFFSET(INDIRECT(ADDRESS(ROW(L68),COLUMN(L68),4,,\"2号(2)【入力】\")),0,$D$1,1,1))","v":""},{"$f":"IF(OFFSET(INDIRECT(ADDRESS(ROW(M68),COLUMN(M68),4,,\"2号(2)【入力】\")),0,$D$1,1,1)=\"\",\"\",OFFSET(INDIRECT(ADDRESS(ROW(M68),COLUMN(M68),4,,\"2号(2)【入力】\")),0,$D$1,1,1))","v":""},{"$f":"IF(OFFSET(INDIRECT(ADDRESS(ROW(N68),COLUMN(N68),4,,\"2号(2)【入力】\")),0,$D$1,1,1)=\"\",\"\",OFFSET(INDIRECT(ADDRESS(ROW(N68),COLUMN(N68),4,,\"2号(2)【入力】\")),0,$D$1,1,1))","v":""},{"$f":"INDIRECT(ADDRESS(ROW(AN68),COLUMN(AN68),4,,\"2号(2)【入力】\"))","v":0}]
[66,0,0,0,"","","","","","",0]
[67,0,0,0,"","","","","","",0]
[68,0,0,0,"","","","","","",0]
[69,0,0,0,"","","","","","",0]
[70,0,0,0,"","","","","","",0]
[71,0,0,0,"","","","","","",0]
[72,0,0,0,"","","","","","",0]
[73,0,0,0,"","","","","","",0]
[74,0,0,0,"","","","","","",0]
[75,0,0,0,"","","","","","",0]
[76,0,0,0,"","","","","","",0]
[77,0,0,0,"","","","","","",0]
[78,0,0,0,"","","","","","",0]
[79,0,0,0,"","","","","","",0]
[80,0,0,0,"","","","","","",0]
[{"$f":"INDIRECT(ADDRESS(ROW(A84),COLUMN(A84),4,,\"2号(2)【入力】\"))","v":81},0,0,0,{"$f":"IF(OFFSET(INDIRECT(ADDRESS(ROW(E84),COLUMN(E84),4,,\"2号(2)【入力】\")),0,$D$1,1,1)=\"\",\"\",OFFSET(INDIRECT(ADDRESS(ROW(E84),COLUMN(E84),4,,\"2号(2)【入力】\")),0,$D$1,1,1))","v":""},"","","","","",0]
[82,0,0,0,"","","","","","",0]
[83,0,0,0,"","","","","","",0]
[84,0,0,0,"","","","","","",0]
[85,0,0,0,"","","","","","",0]
[86,0,0,0,"","","","","","",0]
[87,0,0,0,"","","","","","",0]
[88,0,0,0,"","","","","","",0]
[89,0,0,0,"","","","","","",0]
[90,0,0,0,"","","","","","",0]

{"sheet":"契約1号【印刷】","index":7,"n_rows":31,"n_cols":34,"rows_kept":31,"cut":false,"hidden":false,"merged":[[17,0,17,8],[10,0,11,8],[8,0,9,3],[12,9,12,15],[6,12,7,14],[6,0,7,3],[12,0,12,8],[15,0,15,8],[15,9,15,15],[10,9,11,15],[6,4,7,11],[5,3,5,4],[5,5,5,17],[2,3,2,8],[2,9,4,10],[13,9,13,15],[13,0,13,8],[2,0,4,0],[2,1,2,2],[3,1,4,8],[2,11,4,17],[10,16,11,16],[8,4,9,11],[12,28,12,33],[19,14,19,15],[20,9,20,12],[20,14,20,15],[14,28,14,33],[21,9,21,12],[21,14,21,15],[22,9,22,12],[22,14,22,15],[18,9,18,12],[13,28,13,33],[12,23,12,27],[14,17,14,18],[14,19,14,22],[16,28,16,33],[22,19,22,22],[30,17,30,18],[26,19,26,22],[24,19,24,22],[24,17,24,18],[17,17,17,18],[14,23,14,27],[13,19,13,22],[12,19,12,22],[13,17,13,18],[15,19,15,22],[16,17,16,18],[13,23,13,27],[24,23,24,27],[15,23,15,27],[29,23,29,27],[26,23,26,27],[25,17,25,18],[30,19,30,22],[27,23,27,27],[29,19,29,22],[29,9,29,15],[28,28,28,32],[26,28,26,32],[0,0,1,33],[5,1,5,2],[2,18,2,20],[14,9,14,15],[9,18,9,20],[16,9,16,15],[6,15,7,17],[23,17,23,18],[17,23,17,27],[17,9,17,12],[17,13,17,15],[18,14,18,15],[19,9,19,12],[16,0,16,8],[15,17,15,18],[15,28,15,33],[14,0,14,8],[12,17,12,18],[20,19,20,22],[21,19,21,22],[27,19,27,22],[26,9,26,15],[23,0,23,8],[24,0,24,8],[25,0,25,8],[24,28,24,33],[23,19,23,22],[28,0,28,8],[28,9,28,15],[27,0,27,8],[27,9,27,15],[24,9,24,15],[23,23,23,27],[30,28,30,32],[30,23,30,27],[25,23,25,27],[23,28,23,33],[16,19,16,22],[17,19,17,22],[25,19,25,22],[20,23,20,27],[21,23,21,27],[22,23,22,27],[17,28,17,33],[16,23,16,27],[18,23,18,27],[19,23,19,27],[18,19,18,22],[19,19,19,22],[29,0,29,8],[23,9,23,15],[29,28,29,32],[27,28,27,32],[28,23,28,27],[28,19,28,22],[25,28,25,33],[2,27,2,29],[2,31,2,32],[5,20,5,32],[6,20,6,32],[10,28,11,33],[7,20,7,32],[9,32,9,33],[9,29,9,31],[10,19,11,22],[9,21,9,28],[7,18,7,19],[6,18,6,19],[4,22,4,24],[5,18,5,19],[10,17,11,18],[10,23,11,27],[26,0,26,8]]}
["注文内訳書"]
[]
["工事名","工事コード",null,{"$f":"+'1号【入力】'!D6","v":0},null,null,null,null,null,"工事場所",null,{"$f":"+'1号【入力】'!B8","v":0},null,null,null,null,null,null,"建設業許可番号",null,null,{"$f":"+IF('1号【入力】'!AJ3=TRUE,\"■\",\"□\")","v":"■"},"特",{"$f":"+IF('1号【入力】'!AJ5=TRUE,\"■\",\"□\")","v":"□"},"般",{"$f":"+'1号【入力】'!Z3","v":0},"第",{"$f":"+'1号【入力】'!AB3","v":0},null,null,"号","取引先ｺｰﾄﾞ",null,{"$f":"+'1号【入力】'!AI3","v":0}]
[null,{"$f":"+'1号【入力】'!B7","v":0}]
[null,null,null,null,null,null,null,null,null,null,null,null,null,null,null,null,null,null,null,"　〒",{"$f":"+'1号【入力】'!U5","v":0},"-",{"$f":"+'1号【入力】'!W5","v":0}]
["工種コード",{"$f":"+'1号【入力】'!B16","v":0},null,"工種名",null,{"$f":"+'1号【入力】'!F16","v":0},null,null,null,null,null,null,null,null,null,null,null,null,"住　所",null,{"$f":"+'1号【入力】'!U6","v":0}]
[{"$f":"IF(X31=0,\"注文金額\",\"前回迄累計注文金額\")&\"（税込み）\"","v":"注文金額（税込み）"},null,null,null,{"$f":"IF(T30=\"\",\"\",T30)","v":""},null,null,null,null,null,null,null,"注文番号",null,null,{"$f":"請求3号!BK17&請求3号!BN17&請求3号!BQ17","v":""},null,null,"会社名",null,{"$f":"+'1号【入力】'!U7","v":0}]
[null,null,null,null,null,null,null,null,null,null,null,null,null,null,null,null,null,null,"代表者",null,{"$f":"+'1号【入力】'!U8","v":0}]
[{"$f":"IF(X31=0,\"\",\"変更後累計注文金額（税込み)\")","v":""},null,null,null,{"$f":"IF(X30=\"\",\"\",X30)","v":""}]
[null,null,null,null,null,null,null,null,null,null,null,null,null,null,null,null,null,null,"担当部課・氏名",null,null,{"$f":"+'1号【入力】'!V10","v":0},null,null,null,null,null,null,null,"電話番号",null,null,{"$f":"+'1号【入力】'!AG10","v":0}]
["名　　　　　　称",null,null,null,null,null,null,null,null,"規　格・摘　要",null,null,null,null,null,null,"単位","数量",null,{"$f":"IF('1号【入力】'!AH37=0,\"注　文　金　額\",IF('1号【入力】'!AL37=0,\"当初注文金額\",IF('1号【入力】'!AN37=0,'1号【入力】'!AH17,IF('1号【入力】'!AP37=0,'1号【入力】'!AL17,'1号【入力】'!AN17))))","v":"注　文　金　額"},null,null,null,{"$f":"IF('1号【入力】'!AH37=0,\"変更後注文金額\",IF('1号【入力】'!AL37=0,'1号【入力】'!AH17,IF('1号【入力】'!AN37=0,'1号【入力】'!AL17,IF('1号【入力】'!AP37=0,'1号【入力】'!AN17,'1号【入力】'!AP17))))","v":"変更後注文金額"},null,null,null,null,"備　　　考"]
[]
[{"$f":"'1号【入力】'!A19","v":0},null,null,null,null,null,null,null,null,{"$f":"'1号【入力】'!J19","v":0},null,null,null,null,null,null,{"$f":"'1号【入力】'!Q19","v":0},{"$f":"'1号【入力】'!R19","v":0},null,{"$f":"IF(OFFSET('1号【入力】'!X19,0,$Q$31,1,1)=\"\",\"\",OFFSET('1号【入力】'!X19,0,$Q$31,1,1))","v":0},null,null,null,{"$f":"IF(OFFSET('1号【入力】'!AH19,0,$R$31,1,1)=\"\",\"\",OFFSET('1号【入力】'!AH19,0,$R$31,1,1))","v":0},null,null,null,null,{"$f":"+'1号【入力】'!AQ19","v":0}]
[{"$f":"'1号【入力】'!A20","v":0},null,null,null,null,null,null,null,null,{"$f":"'1号【入力】'!J20","v":0},null,null,null,null,null,null,{"$f":"'1号【入力】'!Q20","v":0},{"$f":"'1号【入力】'!R20","v":0},null,{"$f":"IF(OFFSET('1号【入力】'!X20,0,$Q$31,1,1)=\"\",\"\",OFFSET('1号【入力】'!X20,0,$Q$31,1,1))","v":""},null,null,null,{"$f":"IF(OFFSET('1号【入力】'!AH20,0,$R$31,1,1)=\"\",\"\",OFFSET('1号【入力】'!AH20,0,$R$31,1,1))","v":""},null,null,null,null,{"$f":"+'1号【入力】'!AQ20","v":0}]
[{"$f":"'1号【入力】'!A21","v":"工事費　計"},null,null,null,null,null,null,null,null,{"$f":"'1号【入力】'!J21","v":0},null,null,null,null,null,null,{"$f":"'1号【入力】'!Q21","v":0},{"$f":"'1号【入力】'!R21","v":0},null,{"$f":"IF(OFFSET('1号【入力】'!X21,0,$Q$31,1,1)=\"\",\"\",OFFSET('1号【入力】'!X21,0,$Q$31,1,1))","v":0},null,null,null,{"$f":"IF(OFFSET('1号【入力】'!AH21,0,$R$31,1,1)=\"\",\"\",OFFSET('1号【入力】'!AH21,0,$R$31,1,1))","v":0},null,null,null,null,{"$f":"+'1号【入力】'!AQ21","v":0}]
[{"$f":"'1号【入力】'!A22","v":0},null,null,null,null,null,null,null,null,{"$f":"'1号【入力】'!J22","v":"⇒労務費総額"},null,null,null,null,null,null,{"$f":"'1号【入力】'!Q22","v":0},{"$f":"'1号【入力】'!R22","v":0},null,{"$f":"IF(OFFSET('1号【入力】'!X22,0,$Q$31,1,1)=\"\",\"\",OFFSET('1号【入力】'!X22,0,$Q$31,1,1))","v":""},null,null,null,{"$f":"IF(OFFSET('1号【入力】'!AH22,0,$R$31,1,1)=\"\",\"\",OFFSET('1号【入力】'!AH22,0,$R$31,1,1))","v":""},null,null,null,null,{"$f":"+'1号【入力】'!AQ22","v":0}]
[{"$f":"'1号【入力】'!A23","v":0},null,null,null,null,null,null,null,null,{"$f":"'1号【入力】'!J23","v":"労務比率"},null,null,null,null,null,null,{"$f":"'1号【入力】'!Q23","v":0},{"$f":"'1号【入力】'!R23","v":0},null,{"$f":"IF(OFFSET('1号【入力】'!X23,0,$Q$31,1,1)=\"\",\"\",OFFSET('1号【入力】'!X23,0,$Q$31,1,1))","v":0},null,null,null,{"$f":"IF(OFFSET('1号【入力】'!AH23,0,$R$31,1,1)=\"\",\"\",OFFSET('1号【入力】'!AH23,0,$R$31,1,1))","v":""},null,null,null,null,{"$f":"+'1号【入力】'!AQ23","v":0}]
[{"$f":"'1号【入力】'!A24","v":"事業主負担法定福利費"},null,null,null,null,null,null,null,null,{"$f":"'1号【入力】'!J24","v":"保険名称"},null,null,null,{"$f":"'1号【入力】'!N24","v":"料率"},null,null,{"$f":"'1号【入力】'!Q24","v":0},{"$f":"'1号【入力】'!R24","v":0},null,{"$f":"IF(OFFSET('1号【入力】'!X24,0,$Q$31,1,1)=\"\",\"\",OFFSET('1号【入力】'!X24,0,$Q$31,1,1))","v":""},null,null,null,{"$f":"IF(OFFSET('1号【入力】'!AH24,0,$R$31,1,1)=\"\",\"\",OFFSET('1号【入力】'!AH24,0,$R$31,1,1))","v":""},null,null,null,null,{"$f":"+'1号【入力】'!AQ24","v":0}]
[null,null,null,null,null,null,null,null,null,{"$f":"'1号【入力】'!J25","v":"a.健康保険料"},null,null,null,{"$f":"'1号【入力】'!N25","v":"×"},{"$f":"IF('1号【入力】'!O25>0,'1号【入力】'!O25,\"\")","v":4.6050000000000001E-2},null,null,null,null,{"$f":"IF(OFFSET('1号【入力】'!X25,0,$Q$31,1,1)=\"\",\"\",OFFSET('1号【入力】'!X25,0,$Q$31,1,1))","v":0},null,null,null,{"$f":"IF(OFFSET('1号【入力】'!AH25,0,$R$31,1,1)=\"\",\"\",OFFSET('1号【入力】'!AH25,0,$R$31,1,1))","v":0}]
[null,null,null,null,null,null,null,null,null,{"$f":"'1号【入力】'!J26","v":"b.介護保険料"},null,null,null,{"$f":"'1号【入力】'!N26","v":"×"},{"$f":"IF('1号【入力】'!O26>0,'1号【入力】'!O26,\"\")","v":4.0499999999999998E-3},null,null,null,null,{"$f":"IF(OFFSET('1号【入力】'!X26,0,$Q$31,1,1)=\"\",\"\",OFFSET('1号【入力】'!X26,0,$Q$31,1,1))","v":0},null,null,null,{"$f":"IF(OFFSET('1号【入力】'!AH26,0,$R$31,1,1)=\"\",\"\",OFFSET('1号【入力】'!AH26,0,$R$31,1,1))","v":0}]
[null,null,null,null,null,null,null,null,null,{"$f":"'1号【入力】'!J27","v":"c.厚生年金保険料"},null,null,null,{"$f":"'1号【入力】'!N27","v":"×"},{"$f":"IF('1号【入力】'!O27>0,'1号【入力】'!O27,\"\")","v":9.5100000000000004E-2},null,null,null,null,{"$f":"IF(OFFSET('1号【入力】'!X27,0,$Q$31,1,1)=\"\",\"\",OFFSET('1号【入力】'!X27,0,$Q$31,1,1))","v":0},null,null,null,{"$f":"IF(OFFSET('1号【入力】'!AH27,0,$R$31,1,1)=\"\",\"\",OFFSET('1号【入力】'!AH27,0,$R$31,1,1))","v":0}]
[null,null,null,null,null,null,null,null,null,{"$f":"'1号【入力】'!J28","v":"d.雇用保険料"},null,null,null,{"$f":"'1号【入力】'!N28","v":"×"},{"$f":"IF('1号【入力】'!O28>0,'1号【入力】'!O28,\"\")","v":1.0500000000000001E-2},null,null,null,null,{"$f":"IF(OFFSET('1号【入力】'!X28,0,$Q$31,1,1)=\"\",\"\",OFFSET('1号【入力】'!X28,0,$Q$31,1,1))","v":0},null,null,null,{"$f":"IF(OFFSET('1号【入力】'!AH28,0,$R$31,1,1)=\"\",\"\",OFFSET('1号【入力】'!AH28,0,$R$31,1,1))","v":0}]
[null,null,null,null,null,null,null,null,null,{"$f":"'1号【入力】'!J29","v":"e.子ども・子育て支援金"},null,null,null,{"$f":"'1号【入力】'!N29","v":"×"},{"$f":"IF('1号【入力】'!O29>0,'1号【入力】'!O29,\"\")","v":1.15E-3},null,null,null,null,{"$f":"IF(OFFSET('1号【入力】'!X29,0,$Q$31,1,1)=\"\",\"\",OFFSET('1号【入力】'!X29,0,$Q$31,1,1))","v":0},null,null,null,{"$f":"IF(OFFSET('1号【入力】'!AH29,0,$R$31,1,1)=\"\",\"\",OFFSET('1号【入力】'!AH29,0,$R$31,1,1))","v":0}]
[{"$f":"'1号【入力】'!A30","v":0},null,null,null,null,null,null,null,null,null,null,null,null,null,null,null,{"$f":"'1号【入力】'!Q30","v":0},{"$f":"'1号【入力】'!R30","v":0},null,{"$f":"IF(OFFSET('1号【入力】'!X30,0,$Q$31,1,1)=\"\",\"\",OFFSET('1号【入力】'!X30,0,$Q$31,1,1))","v":""},null,null,null,{"$f":"IF(OFFSET('1号【入力】'!AH30,0,$R$31,1,1)=\"\",\"\",OFFSET('1号【入力】'!AH30,0,$R$31,1,1))","v":""},null,null,null,null,{"$f":"+'1号【入力】'!AQ30","v":0}]
["法定福利費　計",null,null,null,null,null,null,null,null,{"$f":"'1号【入力】'!J31","v":"a～eの合計"},null,null,null,null,null,null,{"$f":"'1号【入力】'!Q24","v":0},{"$f":"'1号【入力】'!R24","v":0},null,{"$f":"IF(OFFSET('1号【入力】'!X31,0,$Q$31,1,1)=\"\",\"\",OFFSET('1号【入力】'!X31,0,$Q$31,1,1))","v":0},null,null,null,{"$f":"IF(OFFSET('1号【入力】'!AH31,0,$R$31,1,1)=\"\",\"\",OFFSET('1号【入力】'!AH31,0,$R$31,1,1))","v":0},null,null,null,null,{"$f":"IFERROR(T25/T16,)","v":0}]
["その他諸経費",null,null,null,null,null,null,null,null,null,null,null,null,null,null,null,{"$f":"'1号【入力】'!Q25","v":0},{"$f":"'1号【入力】'!R25","v":0},null,{"$f":"IF(OFFSET('1号【入力】'!X32,0,$Q$31,1,1)=\"\",\"\",OFFSET('1号【入力】'!X32,0,$Q$31,1,1))","v":""},null,null,null,{"$f":"IF(OFFSET('1号【入力】'!AH32,0,$R$31,1,1)=\"\",\"\",OFFSET('1号【入力】'!AH32,0,$R$31,1,1))","v":""},null,null,null,null,"↑法定保険料率"]
["税　抜　計",null,null,null,null,null,null,null,null,null,null,null,null,null,null,null,null,null,null,{"$f":"IF(OFFSET('1号【入力】'!X33,0,$Q$31,1,1)=\"\",\"\",OFFSET('1号【入力】'!X33,0,$Q$31,1,1))","v":""},null,null,null,{"$f":"IF(OFFSET('1号【入力】'!AH33,0,$R$31,1,1)=\"\",\"\",OFFSET('1号【入力】'!AH33,0,$R$31,1,1))","v":""},null,null,null,null,{"$f":"IF(X27=\"\",\"\",+X27-T27)","v":""},null,null,null,null,"←前回増減"]
["消 費 税 率",null,null,null,null,null,null,null,null,null,null,null,null,null,null,null,"％",null,null,{"$f":"IF(OFFSET('1号【入力】'!X34,0,$Q$31,1,1)=\"\",\"\",OFFSET('1号【入力】'!X34,0,$Q$31,1,1))","v":10},null,null,null,{"$f":"IF(OFFSET('1号【入力】'!AH34,0,$R$31,1,1)=\"\",\"\",OFFSET('1号【入力】'!AH34,0,$R$31,1,1))","v":10}]
["消　費　税",null,null,null,null,null,null,null,null,null,null,null,null,null,null,null,null,null,null,{"$f":"IF(OFFSET('1号【入力】'!X35,0,$Q$31,1,1)=\"\",\"\",OFFSET('1号【入力】'!X35,0,$Q$31,1,1))","v":0},null,null,null,{"$f":"IF(OFFSET('1号【入力】'!AH35,0,$R$31,1,1)=\"\",\"\",OFFSET('1号【入力】'!AH35,0,$R$31,1,1))","v":0},null,null,null,null,{"$f":"IF(X29=0,\"\",+X29-T29)","v":""}]
["合　　　計",null,null,null,null,null,null,null,null,null,null,null,null,null,null,null,null,null,null,{"$f":"IF(OFFSET('1号【入力】'!X36,0,$Q$31,1,1)=\"\",\"\",OFFSET('1号【入力】'!X36,0,$Q$31,1,1))","v":""},null,null,null,{"$f":"IF(OFFSET('1号【入力】'!AH36,0,$R$31,1,1)=\"\",\"\",OFFSET('1号【入力】'!AH36,0,$R$31,1,1))","v":""},null,null,null,null,{"$f":"IF(X30=\"\",\"\",+X30-T30)","v":""}]
[null,null,null,null,null,null,null,null,null,null,null,null,null,null,null,null,{"$f":"+IF(OR(T11=\"注　文　金　額\",T11=\"当初注文金額\")=TRUE,0,IF(T11='1号【入力】'!AH17,10,IF(T11='1号【入力】'!AL17,14,16)))","v":0},{"$f":"+IF(X11='1号【入力】'!AP17,8,IF(X11='1号【入力】'!AN17,6,IF(X11='1号【入力】'!AL17,4,0)))","v":0},null,{"$f":"T15+T25+T26","v":{"$error":"#VALUE!"}},null,null,null,{"$f":"SUM(X13:AB26)","v":0}]

{"sheet":"契約2号【印刷】","index":8,"n_rows":303,"n_cols":11,"rows_kept":303,"cut":false,"hidden":false,"merged":[[1,10,2,10],[1,1,1,2],[1,4,1,6],[1,7,1,9]]}
[null,null,null,{"$f":"+IF(E2=\"注　文　金　額\",0,IF(E2='2号【入力】'!O2,7,IF(E2='2号【入力】'!V2,14,21)))","v":0}]
["　","　項　　　　　目",null,null,{"$f":"+IF('2号【入力】'!X1=0,\"注　文　金　額\",IF('2号【入力】'!AE1=0,'2号【入力】'!O2,IF('2号【入力】'!AL1=0,'2号【入力】'!V2,'2号【入力】'!AC2)))","v":"注　文　金　額"},null,null,{"$f":"+IF('2号【入力】'!Q1=0,\"変更後注文金額\",IF('2号【入力】'!X1=0,'2号【入力】'!O2,IF('2号【入力】'!AE1=0,'2号【入力】'!V2,IF('2号【入力】'!AL1=0,'2号【入力】'!AC2,'2号【入力】'!AJ2))))","v":"変更後注文金額"},null,null,"備　　　考"]
["番号","名　　　　　称","規　　格　　・　摘　　要","単位","数　量","単　価","金　　額","数　量","単　価","金　　額"]
[{"$f":"INDIRECT(ADDRESS(ROW(A4),COLUMN(A4),4,,\"2号【入力】\"))","v":1},0,{"$f":"INDIRECT(ADDRESS(ROW(C4),COLUMN(C4),4,,\"2号【入力】\"))","v":0},{"$f":"INDIRECT(ADDRESS(ROW(D4),COLUMN(D4),4,,\"2号【入力】\"))","v":0},{"$f":"IF(OFFSET(INDIRECT(ADDRESS(ROW(H4),COLUMN(H4),4,,\"2号【入力】\")),0,$D$1,1,1)=\"\",\"\",OFFSET(INDIRECT(ADDRESS(ROW(H4),COLUMN(H4),4,,\"2号【入力】\")),0,$D$1,1,1))","v":""},{"$f":"IF(OFFSET(INDIRECT(ADDRESS(ROW(I4),COLUMN(I4),4,,\"2号【入力】\")),0,$D$1,1,1)=\"\",\"\",OFFSET(INDIRECT(ADDRESS(ROW(I4),COLUMN(I4),4,,\"2号【入力】\")),0,$D$1,1,1))","v":""},{"$f":"IF(OFFSET(INDIRECT(ADDRESS(ROW(J4),COLUMN(J4),4,,\"2号【入力】\")),0,$D$1,1,1)=\"\",\"\",OFFSET(INDIRECT(ADDRESS(ROW(J4),COLUMN(J4),4,,\"2号【入力】\")),0,$D$1,1,1))","v":""},{"$f":"IF(OFFSET(INDIRECT(ADDRESS(ROW(O4),COLUMN(O4),4,,\"2号【入力】\")),0,$D$1,1,1)=\"\",\"\",OFFSET(INDIRECT(ADDRESS(ROW(O4),COLUMN(O4),4,,\"2号【入力】\")),0,$D$1,1,1))","v":""},{"$f":"IF(OFFSET(INDIRECT(ADDRESS(ROW(P4),COLUMN(P4),4,,\"2号【入力】\")),0,$D$1,1,1)=\"\",\"\",OFFSET(INDIRECT(ADDRESS(ROW(P4),COLUMN(P4),4,,\"2号【入力】\")),0,$D$1,1,1))","v":""},{"$f":"IF(OFFSET(INDIRECT(ADDRESS(ROW(Q4),COLUMN(Q4),4,,\"2号【入力】\")),0,$D$1,1,1)=\"\",\"\",OFFSET(INDIRECT(ADDRESS(ROW(Q4),COLUMN(Q4),4,,\"2号【入力】\")),0,$D$1,1,1))","v":""},{"$f":"INDIRECT(ADDRESS(ROW(AN4),COLUMN(AN4),4,,\"2号【入力】\"))","v":0}]
[2,0,0,0,{"$f":"IF(OFFSET(INDIRECT(ADDRESS(ROW(H5),COLUMN(H5),4,,\"2号【入力】\")),0,$D$1,1,1)=\"\",\"\",OFFSET(INDIRECT(ADDRESS(ROW(H5),COLUMN(H5),4,,\"2号【入力】\")),0,$D$1,1,1))","v":""},{"$f":"IF(OFFSET(INDIRECT(ADDRESS(ROW(I5),COLUMN(I5),4,,\"2号【入力】\")),0,$D$1,1,1)=\"\",\"\",OFFSET(INDIRECT(ADDRESS(ROW(I5),COLUMN(I5),4,,\"2号【入力】\")),0,$D$1,1,1))","v":""},{"$f":"IF(OFFSET(INDIRECT(ADDRESS(ROW(J5),COLUMN(J5),4,,\"2号【入力】\")),0,$D$1,1,1)=\"\",\"\",OFFSET(INDIRECT(ADDRESS(ROW(J5),COLUMN(J5),4,,\"2号【入力】\")),0,$D$1,1,1))","v":""},{"$f":"IF(OFFSET(INDIRECT(ADDRESS(ROW(O5),COLUMN(O5),4,,\"2号【入力】\")),0,$D$1,1,1)=\"\",\"\",OFFSET(INDIRECT(ADDRESS(ROW(O5),COLUMN(O5),4,,\"2号【入力】\")),0,$D$1,1,1))","v":""},{"$f":"IF(OFFSET(INDIRECT(ADDRESS(ROW(P5),COLUMN(P5),4,,\"2号【入力】\")),0,$D$1,1,1)=\"\",\"\",OFFSET(INDIRECT(ADDRESS(ROW(P5),COLUMN(P5),4,,\"2号【入力】\")),0,$D$1,1,1))","v":""},{"$f":"IF(OFFSET(INDIRECT(ADDRESS(ROW(Q5),COLUMN(Q5),4,,\"2号【入力】\")),0,$D$1,1,1)=\"\",\"\",OFFSET(INDIRECT(ADDRESS(ROW(Q5),COLUMN(Q5),4,,\"2号【入力】\")),0,$D$1,1,1))","v":""},{"$f":"INDIRECT(ADDRESS(ROW(AN5),COLUMN(AN5),4,,\"2号【入力】\"))","v":0}]
[3,0,0,0,{"$f":"IF(OFFSET(INDIRECT(ADDRESS(ROW(H6),COLUMN(H6),4,,\"2号【入力】\")),0,$D$1,1,1)=\"\",\"\",OFFSET(INDIRECT(ADDRESS(ROW(H6),COLUMN(H6),4,,\"2号【入力】\")),0,$D$1,1,1))","v":""},"","","","","",0]
[4,0,0,0,{"$f":"IF(OFFSET(INDIRECT(ADDRESS(ROW(H7),COLUMN(H7),4,,\"2号【入力】\")),0,$D$1,1,1)=\"\",\"\",OFFSET(INDIRECT(ADDRESS(ROW(H7),COLUMN(H7),4,,\"2号【入力】\")),0,$D$1,1,1))","v":""},"","","","","",0]
[5,0,0,0,"","","","","","",0]
[6,0,0,0,"","","","","","",0]
[7,0,0,0,"","","","","","",0]
[8,0,0,0,"","","","","","",0]
[9,0,0,0,"","","","","","",0]
[10,0,0,0,"","","","","","",0]
[11,0,0,0,"","","","","","",0]
[12,0,0,0,"","","","","","",0]
[13,0,0,0,"","","","","","",0]
[14,0,0,0,"","",{"$f":"IF(OFFSET(INDIRECT(ADDRESS(ROW(J17),COLUMN(J17),4,,\"2号【入力】\")),0,$D$1,1,1)=\"\",\"\",OFFSET(INDIRECT(ADDRESS(ROW(J17),COLUMN(J17),4,,\"2号【入力】\")),0,$D$1,1,1))","v":""},"","","",0]
[15,0,0,0,"","","","","","",0]
[16,0,0,0,"","","","","","",0]
[{"$f":"INDIRECT(ADDRESS(ROW(A20),COLUMN(A20),4,,\"2号【入力】\"))","v":17},0,0,0,"","","","","","",0]
[18,0,0,0,"","","","","","",0]
[19,0,0,0,"","","","","","",0]
[20,0,0,0,"","","","","","",0]
[21,0,0,0,"","","","","","",0]
[22,0,0,0,"","","","","","",0]
[23,0,0,0,"","","","","","",0]
[24,0,0,0,"","","","","","",0]
[25,0,0,0,"","","","","","",0]
[26,0,0,0,"","","","","","",0]
[27,0,0,0,"","","","","","",0]
[28,0,0,0,"","","","","","",0]
[29,0,0,0,"","","","","","",0]
[30,"項計","　","　","","",0,"","",0,0]
[31,0,0,0,"","","","","","",0]
[32,0,0,0,"","","","","","",0]
[33,0,0,0,"","","","","","",0]
[34,0,0,0,"","","","","","",0]
[35,0,0,0,"","","","","","",0]
[36,0,0,0,"","","","","","",0]
[37,0,0,0,"","","","","","",0]
[38,0,0,0,"","","","","","",0]
[39,0,0,0,"","","","","","",0]
[40,0,0,0,"","","","","","",0]
[41,0,0,0,"","","","","","",0]
[42,0,0,0,"","","","","","",0]
[43,0,0,0,"","","","","","",0]
[44,0,0,0,"","","","","","",0]
[45,0,0,0,"","","","","","",0]
[46,0,0,0,"","","","","","",0]
[47,0,0,0,"","","","","","",0]
[48,0,0,0,"","","","","","",0]
[49,0,0,0,"","","","","","",0]
[50,0,0,0,"","","","","","",0]
[51,0,0,0,"","","","","","",0]
[52,0,0,0,"","","","","","",0]
[53,0,0,0,"","","","","","",0]
[54,0,0,0,"","","","","","",0]
[55,0,0,0,"","","","","","",0]
[56,0,0,0,"","","","","","",0]
[57,0,0,0,"","","","","","",0]
[58,0,0,0,"","","","","","",0]
[59,0,0,0,"","","","","","",0]
[60,0,0,0,"","","","","","",0]
[61,0,0,0,"","","","","","",0]
[62,0,0,0,"","","","","","",0]
[63,0,0,0,"","","","","","",0]
[64,0,0,0,"","","","","","",0]
[65,0,0,0,"","","","","","",0]
[66,0,0,0,{"$f":"IF(OFFSET(INDIRECT(ADDRESS(ROW(H69),COLUMN(H69),4,,\"2号【入力】\")),0,$D$1,1,1)=\"\",\"\",OFFSET(INDIRECT(ADDRESS(ROW(H69),COLUMN(H69),4,,\"2号【入力】\")),0,$D$1,1,1))","v":""},{"$f":"IF(OFFSET(INDIRECT(ADDRESS(ROW(I69),COLUMN(I69),4,,\"2号【入力】\")),0,$D$1,1,1)=\"\",\"\",OFFSET(INDIRECT(ADDRESS(ROW(I69),COLUMN(I69),4,,\"2号【入力】\")),0,$D$1,1,1))","v":""},{"$f":"IF(OFFSET(INDIRECT(ADDRESS(ROW(J69),COLUMN(J69),4,,\"2号【入力】\")),0,$D$1,1,1)=\"\",\"\",OFFSET(INDIRECT(ADDRESS(ROW(J69),COLUMN(J69),4,,\"2号【入力】\")),0,$D$1,1,1))","v":""},{"$f":"IF(OFFSET(INDIRECT(ADDRESS(ROW(O69),COLUMN(O69),4,,\"2号【入力】\")),0,$D$1,1,1)=\"\",\"\",OFFSET(INDIRECT(ADDRESS(ROW(O69),COLUMN(O69),4,,\"2号【入力】\")),0,$D$1,1,1))","v":""},{"$f":"IF(OFFSET(INDIRECT(ADDRESS(ROW(P69),COLUMN(P69),4,,\"2号【入力】\")),0,$D$1,1,1)=\"\",\"\",OFFSET(INDIRECT(ADDRESS(ROW(P69),COLUMN(P69),4,,\"2号【入力】\")),0,$D$1,1,1))","v":""},{"$f":"IF(OFFSET(INDIRECT(ADDRESS(ROW(Q69),COLUMN(Q69),4,,\"2号【入力】\")),0,$D$1,1,1)=\"\",\"\",OFFSET(INDIRECT(ADDRESS(ROW(Q69),COLUMN(Q69),4,,\"2号【入力】\")),0,$D$1,1,1))","v":""},{"$f":"INDIRECT(ADDRESS(ROW(AN69),COLUMN(AN69),4,,\"2号【入力】\"))","v":0}]
[67,0,0,0,"","","","","","",0]
[68,0,0,0,"","","","","","",0]
[69,0,0,0,"","","","","","",0]
[70,0,0,0,"","","","","","",0]
[71,0,0,0,"","","","","","",0]
[72,0,0,0,"","","","","","",0]
[73,0,0,0,"","","","","","",0]
[74,0,0,0,"","","","","","",0]
[75,0,0,0,"","","","","","",0]
[76,0,0,0,"","","","","","",0]
[77,0,0,0,"","","","","","",0]
[78,0,0,0,"","","","","","",0]
[79,0,0,0,"","","","","","",0]
[80,0,0,{"$f":"INDIRECT(ADDRESS(ROW(D83),COLUMN(D83),4,,\"2号【入力】\"))","v":0},"","","","","","",0]
[{"$f":"INDIRECT(ADDRESS(ROW(A84),COLUMN(A84),4,,\"2号【入力】\"))","v":81},0,0,0,"","","","","","",0]
[82,0,0,0,"","","","","","",0]
[83,0,0,0,"","","","","","",0]
[84,0,0,0,"","","","","","",0]
[85,0,0,0,"","","","","","",0]
[86,0,0,0,"","","","","","",0]
[87,0,0,0,"","","","","","",0]
[88,0,0,0,"","","","","","",0]
[89,0,0,0,"","","","","","",0]
[90,0,0,0,"","","","","","",0]
[91,0,0,0,"","","","","","",0]
[92,0,0,0,"","","","","","",0]
[93,0,0,0,"","","","","","",0]
[94,0,0,0,"","","","","","",0]
[95,0,0,0,"","","","","","",0]
[96,0,0,0,"","","","","","",0]
[97,0,0,0,"","","","","","",0]
[98,0,0,0,"","","","","","",0]
[99,0,0,0,"","","","","","",0]
[100,0,0,0,"","","","","","",0]
[101,0,0,0,"","","","","","",0]
[102,0,0,0,"","","","","","",0]
[103,0,0,0,"","","","","","",0]
[104,0,0,0,"","","","","","",0]
[105,0,0,0,"","","","","","",0]
[106,0,0,0,"","","","","","",0]
[107,0,0,0,"","","","","","",0]
[108,0,0,0,"","","","","","",0]
[109,0,0,0,"","","","","","",0]
[110,0,0,0,"","","","","","",0]
[111,0,0,0,"","","","","","",0]
[112,0,0,0,"","","","","","",0]
[113,0,0,0,"","","","","","",0]
[114,0,0,0,"","","","","","",0]
[115,0,0,0,"","","","","","",0]
[116,0,0,0,"","","","","","",0]
[117,0,0,0,"","","","","","",0]
[118,0,0,0,"","","","","","",0]
[119,0,0,0,"","","","","","",0]
[120,0,0,0,"","","","","","",0]
[121,0,0,0,"","","","","","",0]
[122,0,0,0,"","","","","","",0]
[123,0,0,0,"","","","","","",0]
[124,0,0,0,"","","","","","",0]
[125,0,0,0,"","","","","","",0]
[126,0,0,0,"","","","","","",0]
[127,0,0,0,"","","","","","",0]
[128,0,0,0,"","","","","","",0]
[129,0,0,0,"","","","","","",0]
[130,0,0,0,{"$f":"IF(OFFSET(INDIRECT(ADDRESS(ROW(H133),COLUMN(H133),4,,\"2号【入力】\")),0,$D$1,1,1)=\"\",\"\",OFFSET(INDIRECT(ADDRESS(ROW(H133),COLUMN(H133),4,,\"2号【入力】\")),0,$D$1,1,1))","v":""},{"$f":"IF(OFFSET(INDIRECT(ADDRESS(ROW(I133),COLUMN(I133),4,,\"2号【入力】\")),0,$D$1,1,1)=\"\",\"\",OFFSET(INDIRECT(ADDRESS(ROW(I133),COLUMN(I133),4,,\"2号【入力】\")),0,$D$1,1,1))","v":""},{"$f":"IF(OFFSET(INDIRECT(ADDRESS(ROW(J133),COLUMN(J133),4,,\"2号【入力】\")),0,$D$1,1,1)=\"\",\"\",OFFSET(INDIRECT(ADDRESS(ROW(J133),COLUMN(J133),4,,\"2号【入力】\")),0,$D$1,1,1))","v":""},{"$f":"IF(OFFSET(INDIRECT(ADDRESS(ROW(O133),COLUMN(O133),4,,\"2号【入力】\")),0,$D$1,1,1)=\"\",\"\",OFFSET(INDIRECT(ADDRESS(ROW(O133),COLUMN(O133),4,,\"2号【入力】\")),0,$D$1,1,1))","v":""},{"$f":"IF(OFFSET(INDIRECT(ADDRESS(ROW(P133),COLUMN(P133),4,,\"2号【入力】\")),0,$D$1,1,1)=\"\",\"\",OFFSET(INDIRECT(ADDRESS(ROW(P133),COLUMN(P133),4,,\"2号【入力】\")),0,$D$1,1,1))","v":""},{"$f":"IF(OFFSET(INDIRECT(ADDRESS(ROW(Q133),COLUMN(Q133),4,,\"2号【入力】\")),0,$D$1,1,1)=\"\",\"\",OFFSET(INDIRECT(ADDRESS(ROW(Q133),COLUMN(Q133),4,,\"2号【入力】\")),0,$D$1,1,1))","v":""},{"$f":"INDIRECT(ADDRESS(ROW(AN133),COLUMN(AN133),4,,\"2号【入力】\"))","v":0}]
[131,0,0,0,"","","","","","",0]
[132,0,0,0,"","","","","","",0]
[133,0,0,0,"","","","","","",0]
[134,0,0,0,"","","","","","",0]
[135,0,0,0,"","","","","","",0]
[136,0,0,0,"","","","","","",0]
[137,0,0,0,"","","","","","",0]
[138,0,0,0,"","","","","","",0]
[139,0,0,0,"","","","","","",0]
[140,0,0,0,"","","","","","",0]
[141,0,0,0,"","","","","","",0]
[142,0,0,0,"","","","","","",0]
[143,0,0,0,"","","","","","",0]
[144,0,0,0,"","","","","","",0]
[{"$f":"INDIRECT(ADDRESS(ROW(A148),COLUMN(A148),4,,\"2号【入力】\"))","v":145},0,0,0,"","","","","","",0]
[146,0,0,0,"","","","","","",0]
[147,0,0,0,"","","","","","",0]
[148,0,0,0,"","","","","","",0]
[149,0,0,0,"","","","","","",0]
[150,0,0,0,"","","","","","",0]
[151,0,0,0,"","","","","","",0]
[152,0,0,0,"","","","","","",0]
[153,0,0,0,"","","","","","",0]
[154,0,0,0,"","","","","","",0]
[155,0,0,0,"","","","","","",0]
[156,0,0,0,"","","","","","",0]
[157,0,0,0,"","","","","","",0]
[158,0,0,0,"","","","","","",0]
[159,0,0,0,"","","","","","",0]
[160,0,0,0,"","","","","","",0]
[161,0,0,0,"","","","","","",0]
[162,0,0,0,"","","","","","",0]
[163,0,0,0,"","","","","","",0]
[164,0,0,0,"","","","","","",0]
[165,0,0,0,"","","","","","",0]
[166,0,0,0,"","","","","","",0]
[167,0,0,0,"","","","","","",0]
[168,0,0,0,"","","","","","",0]
[169,0,0,0,"","","","","","",0]
[170,0,0,0,"","","","","","",0]
[171,0,0,0,"","","","","","",0]
[172,0,0,0,"","","","","","",0]
[173,0,0,0,"","","","","","",0]
[174,0,0,0,"","","","","","",0]
[175,0,0,0,"","","","","","",0]
[176,0,0,0,"","","","","","",0]
[177,0,0,0,"","","","","","",0]
[178,0,0,0,"","","","","","",0]
[179,0,0,0,"","","","","","",0]
[180,0,0,0,"","","","","","",0]
[181,0,0,0,"","","","","","",0]
[182,0,0,0,"","","","","","",0]
[183,0,0,0,"","","","","","",0]
[184,0,0,0,"","","","","","",0]
[185,0,0,0,"","","","","","",0]
[186,0,0,0,"","","","","","",0]
[187,0,0,0,"","","","","","",0]
[188,0,0,0,"","","","","","",0]
[189,0,0,0,"","","","","","",0]
[190,0,0,0,"","","","","","",0]
[191,0,0,0,"","","","","","",0]
[192,0,0,0,"","","","","","",0]
[193,0,0,0,"","","","","","",0]
[194,0,0,0,{"$f":"IF(OFFSET(INDIRECT(ADDRESS(ROW(H197),COLUMN(H197),4,,\"2号【入力】\")),0,$D$1,1,1)=\"\",\"\",OFFSET(INDIRECT(ADDRESS(ROW(H197),COLUMN(H197),4,,\"2号【入力】\")),0,$D$1,1,1))","v":""},{"$f":"IF(OFFSET(INDIRECT(ADDRESS(ROW(I197),COLUMN(I197),4,,\"2号【入力】\")),0,$D$1,1,1)=\"\",\"\",OFFSET(INDIRECT(ADDRESS(ROW(I197),COLUMN(I197),4,,\"2号【入力】\")),0,$D$1,1,1))","v":""},{"$f":"IF(OFFSET(INDIRECT(ADDRESS(ROW(J197),COLUMN(J197),4,,\"2号【入力】\")),0,$D$1,1,1)=\"\",\"\",OFFSET(INDIRECT(ADDRESS(ROW(J197),COLUMN(J197),4,,\"2号【入力】\")),0,$D$1,1,1))","v":""},{"$f":"IF(OFFSET(INDIRECT(ADDRESS(ROW(O197),COLUMN(O197),4,,\"2号【入力】\")),0,$D$1,1,1)=\"\",\"\",OFFSET(INDIRECT(ADDRESS(ROW(O197),COLUMN(O197),4,,\"2号【入力】\")),0,$D$1,1,1))","v":""},{"$f":"IF(OFFSET(INDIRECT(ADDRESS(ROW(P197),COLUMN(P197),4,,\"2号【入力】\")),0,$D$1,1,1)=\"\",\"\",OFFSET(INDIRECT(ADDRESS(ROW(P197),COLUMN(P197),4,,\"2号【入力】\")),0,$D$1,1,1))","v":""},{"$f":"IF(OFFSET(INDIRECT(ADDRESS(ROW(Q197),COLUMN(Q197),4,,\"2号【入力】\")),0,$D$1,1,1)=\"\",\"\",OFFSET(INDIRECT(ADDRESS(ROW(Q197),COLUMN(Q197),4,,\"2号【入力】\")),0,$D$1,1,1))","v":""},{"$f":"INDIRECT(ADDRESS(ROW(AN197),COLUMN(AN197),4,,\"2号【入力】\"))","v":0}]
[195,0,0,0,"","","","","","",0]
[196,0,0,0,"","","","","","",0]
[197,0,0,0,"","","","","","",0]
[198,0,0,0,"","","","","","",0]
[199,0,0,0,"","","","","","",0]
[200,0,0,0,"","","","","","",0]
[201,0,0,0,"","","","","","",0]
[202,0,0,0,"","","","","","",0]
[203,0,0,0,"","","","","","",0]
[204,0,0,0,"","","","","","",0]
[205,0,0,0,"","","","","","",0]
[206,0,0,0,"","","","","","",0]
[207,0,0,0,"","","","","","",0]
[208,0,0,{"$f":"INDIRECT(ADDRESS(ROW(D211),COLUMN(D211),4,,\"2号【入力】\"))","v":0},"","","","","","",0]
[{"$f":"INDIRECT(ADDRESS(ROW(A212),COLUMN(A212),4,,\"2号【入力】\"))","v":209},0,0,0,"","","","","","",0]
[210,0,0,0,"","","","","","",0]
[211,0,0,0,"","","","","","",0]
[212,0,0,0,"","","","","","",0]
[213,0,0,0,"","","","","","",0]
[214,0,0,0,"","","","","","",0]
[215,0,0,0,"","","","","","",0]
[216,0,0,0,"","","","","","",0]
[217,0,0,0,"","","","","","",0]
[218,0,0,0,"","","","","","",0]
[219,0,0,0,"","","","","","",0]
[220,0,0,0,"","","","","","",0]
[221,0,0,0,"","","","","","",0]
[222,0,0,0,"","","","","","",0]
[223,0,0,0,"","","","","","",0]
[224,0,0,0,"","","","","","",0]
[225,0,0,0,"","","","","","",0]
[226,0,0,0,"","","","","","",0]
[227,0,0,0,"","","","","","",0]
[228,0,0,0,"","","","","","",0]
[229,0,0,0,"","","","","","",0]
[230,0,0,0,"","","","","","",0]
[231,0,0,0,"","","","","","",0]
[232,0,0,0,"","","","","","",0]
[233,0,0,0,"","","","","","",0]
[234,0,0,0,"","","","","","",0]
[235,0,0,0,"","","","","","",0]
[236,0,0,0,"","","","","","",0]
[237,0,0,0,"","","","","","",0]
[238,0,0,0,"","","","","","",0]
[239,0,0,0,"","","","","","",0]
[240,0,0,0,"","","","","","",0]
[241,0,0,0,"","","","","","",0]
[242,0,0,0,"","","","","","",0]
[243,0,0,0,"","","","","","",0]
[244,0,0,0,"","","","","","",0]
[245,0,0,0,"","","","","","",0]
[246,0,0,0,"","","","","","",0]
[247,0,0,0,"","","","","","",0]
[248,0,0,0,"","","","","","",0]
[249,0,0,0,"","","","","","",0]
[250,0,0,0,"","","","","","",0]
[251,0,0,0,"","","","","","",0]
[252,0,0,0,"","","","","","",0]
[253,0,0,0,"","","","","","",0]
[254,0,0,0,"","","","","","",0]
[255,0,0,0,"","","","","","",0]
[256,0,0,0,"","","","","","",0]
[257,0,0,0,"","","","","","",0]
[258,0,0,0,{"$f":"IF(OFFSET(INDIRECT(ADDRESS(ROW(H261),COLUMN(H261),4,,\"2号【入力】\")),0,$D$1,1,1)=\"\",\"\",OFFSET(INDIRECT(ADDRESS(ROW(H261),COLUMN(H261),4,,\"2号【入力】\")),0,$D$1,1,1))","v":""},{"$f":"IF(OFFSET(INDIRECT(ADDRESS(ROW(I261),COLUMN(I261),4,,\"2号【入力】\")),0,$D$1,1,1)=\"\",\"\",OFFSET(INDIRECT(ADDRESS(ROW(I261),COLUMN(I261),4,,\"2号【入力】\")),0,$D$1,1,1))","v":""},{"$f":"IF(OFFSET(INDIRECT(ADDRESS(ROW(J261),COLUMN(J261),4,,\"2号【入力】\")),0,$D$1,1,1)=\"\",\"\",OFFSET(INDIRECT(ADDRESS(ROW(J261),COLUMN(J261),4,,\"2号【入力】\")),0,$D$1,1,1))","v":""},{"$f":"IF(OFFSET(INDIRECT(ADDRESS(ROW(O261),COLUMN(O261),4,,\"2号【入力】\")),0,$D$1,1,1)=\"\",\"\",OFFSET(INDIRECT(ADDRESS(ROW(O261),COLUMN(O261),4,,\"2号【入力】\")),0,$D$1,1,1))","v":""},{"$f":"IF(OFFSET(INDIRECT(ADDRESS(ROW(P261),COLUMN(P261),4,,\"2号【入力】\")),0,$D$1,1,1)=\"\",\"\",OFFSET(INDIRECT(ADDRESS(ROW(P261),COLUMN(P261),4,,\"2号【入力】\")),0,$D$1,1,1))","v":""},{"$f":"IF(OFFSET(INDIRECT(ADDRESS(ROW(Q261),COLUMN(Q261),4,,\"2号【入力】\")),0,$D$1,1,1)=\"\",\"\",OFFSET(INDIRECT(ADDRESS(ROW(Q261),COLUMN(Q261),4,,\"2号【入力】\")),0,$D$1,1,1))","v":""},{"$f":"INDIRECT(ADDRESS(ROW(AN261),COLUMN(AN261),4,,\"2号【入力】\"))","v":0}]
[259,0,0,0,"","","","","","",0]
[260,0,0,0,"","","","","","",0]
[261,0,0,0,"","","","","","",0]
[262,0,0,0,"","","","","","",0]
[263,0,0,0,"","","","","","",0]
[264,0,0,0,"","","","","","",0]
[265,0,0,0,"","","","","","",0]
[266,0,0,0,"","","","","","",0]
[267,0,0,0,"","","","","","",0]
[268,0,0,0,"","","","","","",0]
[269,0,0,0,"","","","","","",0]
[270,0,0,0,"","","","","","",0]
[271,0,0,0,"","","","","","",0]
[272,0,0,0,"","","","","","",0]
[{"$f":"INDIRECT(ADDRESS(ROW(A276),COLUMN(A276),4,,\"2号【入力】\"))","v":273},0,0,0,"","","","","","",0]
[274,0,0,0,"","","","","","",0]
[275,0,0,0,"","","","","","",0]
[276,0,0,0,"","","","","","",0]
[277,0,0,0,"","","","","","",0]
[278,0,0,0,"","","","","","",0]
[279,0,0,0,"","","","","","",0]
[280,0,0,0,"","","","","","",0]
[281,0,0,0,"","","","","","",0]
[282,0,0,0,"","","","","","",0]
[283,0,0,0,"","","","","","",0]
[284,0,0,0,"","","","","","",0]
[285,0,0,0,"","","","","","",0]
[286,0,0,0,"","","","","","",0]
[287,0,0,0,"","","","","","",0]
[288,0,0,0,"","","","","","",0]
[289,0,0,0,"","","","","","",0]
[290,0,0,0,"","","","","","",0]
[291,0,0,0,"","","","","","",0]
[292,0,0,0,"","","","","","",0]
[293,0,0,0,"","","","","","",0]
[294,0,0,0,"","","","","","",0]
[295,0,0,0,"","","","","","",0]
[296,0,0,0,"","","","","","",0]
[297,0,0,0,"","","","","","",0]
[298,0,0,0,"","","","","","",0]
[299,0,0,0,"","","","","","",0]
[300,0,0,0,"","","","","","",0]

{"sheet":"契約2号(2)【印刷】","index":9,"n_rows":93,"n_cols":11,"rows_kept":93,"cut":false,"hidden":false,"merged":[[1,10,2,10],[1,1,1,2],[1,4,1,6],[1,7,1,9]]}
[null,null,null,{"$f":"+IF(E2=\"注　文　金　額\",0,IF(E2='2号(2)【入力】'!O2,7,IF(E2='2号(2)【入力】'!V2,14,21)))","v":0}]
["　","　項　　　　　目",null,null,{"$f":"+IF('2号(2)【入力】'!X1=0,\"注　文　金　額\",IF('2号(2)【入力】'!AE1=0,'2号(2)【入力】'!O2,IF('2号(2)【入力】'!AL1=0,'2号(2)【入力】'!V2,'2号(2)【入力】'!AC2)))","v":"注　文　金　額"},null,null,{"$f":"+IF('2号(2)【入力】'!Q1=0,\"変更後注文金額\",IF('2号(2)【入力】'!X1=0,'2号(2)【入力】'!O2,IF('2号(2)【入力】'!AE1=0,'2号(2)【入力】'!V2,IF('2号(2)【入力】'!AL1=0,'2号(2)【入力】'!AC2,'2号(2)【入力】'!AJ2))))","v":"変更後注文金額"},null,null,"備　　　考"]
["番号","名　　　　　称","規　　格　　・　摘　　要","単位","数　量","単　価","金　　額","数　量","単　価","金　　額"]
[{"$f":"INDIRECT(ADDRESS(ROW(A4),COLUMN(A4),4,,\"2号(2)【入力】\"))","v":1},0,0,0,{"$f":"IF(OFFSET(INDIRECT(ADDRESS(ROW(H4),COLUMN(H4),4,,\"2号(2)【入力】\")),0,$D$1,1,1)=\"\",\"\",OFFSET(INDIRECT(ADDRESS(ROW(H4),COLUMN(H4),4,,\"2号(2)【入力】\")),0,$D$1,1,1))","v":""},{"$f":"IF(OFFSET(INDIRECT(ADDRESS(ROW(I4),COLUMN(I4),4,,\"2号(2)【入力】\")),0,$D$1,1,1)=\"\",\"\",OFFSET(INDIRECT(ADDRESS(ROW(I4),COLUMN(I4),4,,\"2号(2)【入力】\")),0,$D$1,1,1))","v":""},{"$f":"IF(OFFSET(INDIRECT(ADDRESS(ROW(J4),COLUMN(J4),4,,\"2号(2)【入力】\")),0,$D$1,1,1)=\"\",\"\",OFFSET(INDIRECT(ADDRESS(ROW(J4),COLUMN(J4),4,,\"2号(2)【入力】\")),0,$D$1,1,1))","v":""},{"$f":"IF(OFFSET(INDIRECT(ADDRESS(ROW(O4),COLUMN(O4),4,,\"2号(2)【入力】\")),0,$D$1,1,1)=\"\",\"\",OFFSET(INDIRECT(ADDRESS(ROW(O4),COLUMN(O4),4,,\"2号(2)【入力】\")),0,$D$1,1,1))","v":""},{"$f":"IF(OFFSET(INDIRECT(ADDRESS(ROW(P4),COLUMN(P4),4,,\"2号(2)【入力】\")),0,$D$1,1,1)=\"\",\"\",OFFSET(INDIRECT(ADDRESS(ROW(P4),COLUMN(P4),4,,\"2号(2)【入力】\")),0,$D$1,1,1))","v":""},{"$f":"IF(OFFSET(INDIRECT(ADDRESS(ROW(Q4),COLUMN(Q4),4,,\"2号(2)【入力】\")),0,$D$1,1,1)=\"\",\"\",OFFSET(INDIRECT(ADDRESS(ROW(Q4),COLUMN(Q4),4,,\"2号(2)【入力】\")),0,$D$1,1,1))","v":""},{"$f":"INDIRECT(ADDRESS(ROW(AN4),COLUMN(AN4),4,,\"2号(2)【入力】\"))","v":0}]
[2,0,0,0,"","","","","","",0]
[3,0,0,0,"","","","","","",0]
[4,0,0,0,"","","","","","",0]
[5,0,0,0,"","","","","","",0]
[6,0,0,0,"","","","","","",0]
[7,0,0,0,"","","","","","",0]
[8,0,0,0,"","","","","","",0]
[9,0,0,0,"","","","","","",0]
[10,0,0,0,"","","","","","",0]
[11,0,0,0,"","","","","","",0]
[12,0,0,0,"","","","","","",0]
[13,0,0,0,"","","","","","",0]
[14,0,0,0,"","","","","","",0]
[15,0,0,0,"","","","","","",0]
[16,0,0,0,"","","","","","",0]
[17,0,0,0,"","","","","","",0]
[18,0,0,0,"","","","","","",0]
[19,0,0,0,"","","","","","",0]
[20,0,0,0,"","","","","","",0]
[{"$f":"INDIRECT(ADDRESS(ROW(A24),COLUMN(A24),4,,\"2号(2)【入力】\"))","v":21},0,0,0,"","","","","","",0]
[22,0,0,0,"","","","","","",0]
[23,0,0,0,"","","","","","",0]
[24,0,0,0,"","","","","","",0]
[25,0,0,0,"","","","","","",0]
[26,0,0,0,"","","","","","",0]
[27,0,0,0,"","","","","","",0]
[28,0,0,0,"","","","","","",0]
[29,0,0,0,"","","","","","",0]
[30,"頁　　計","　","　","","",0,"","",0,0]
[31,0,0,0,"","","","","","",0]
[32,0,0,0,"","","","","","",0]
[33,0,0,0,{"$f":"IF(OFFSET(INDIRECT(ADDRESS(ROW(H36),COLUMN(H36),4,,\"2号(2)【入力】\")),0,$D$1,1,1)=\"\",\"\",OFFSET(INDIRECT(ADDRESS(ROW(H36),COLUMN(H36),4,,\"2号(2)【入力】\")),0,$D$1,1,1))","v":""},{"$f":"IF(OFFSET(INDIRECT(ADDRESS(ROW(I36),COLUMN(I36),4,,\"2号(2)【入力】\")),0,$D$1,1,1)=\"\",\"\",OFFSET(INDIRECT(ADDRESS(ROW(I36),COLUMN(I36),4,,\"2号(2)【入力】\")),0,$D$1,1,1))","v":""},{"$f":"IF(OFFSET(INDIRECT(ADDRESS(ROW(J36),COLUMN(J36),4,,\"2号(2)【入力】\")),0,$D$1,1,1)=\"\",\"\",OFFSET(INDIRECT(ADDRESS(ROW(J36),COLUMN(J36),4,,\"2号(2)【入力】\")),0,$D$1,1,1))","v":""},{"$f":"IF(OFFSET(INDIRECT(ADDRESS(ROW(O36),COLUMN(O36),4,,\"2号(2)【入力】\")),0,$D$1,1,1)=\"\",\"\",OFFSET(INDIRECT(ADDRESS(ROW(O36),COLUMN(O36),4,,\"2号(2)【入力】\")),0,$D$1,1,1))","v":""},{"$f":"IF(OFFSET(INDIRECT(ADDRESS(ROW(P36),COLUMN(P36),4,,\"2号(2)【入力】\")),0,$D$1,1,1)=\"\",\"\",OFFSET(INDIRECT(ADDRESS(ROW(P36),COLUMN(P36),4,,\"2号(2)【入力】\")),0,$D$1,1,1))","v":""},{"$f":"IF(OFFSET(INDIRECT(ADDRESS(ROW(Q36),COLUMN(Q36),4,,\"2号(2)【入力】\")),0,$D$1,1,1)=\"\",\"\",OFFSET(INDIRECT(ADDRESS(ROW(Q36),COLUMN(Q36),4,,\"2号(2)【入力】\")),0,$D$1,1,1))","v":""},{"$f":"INDIRECT(ADDRESS(ROW(AN36),COLUMN(AN36),4,,\"2号(2)【入力】\"))","v":0}]
[34,0,0,0,"","","","","","",0]
[35,0,0,0,"","","","","","",0]
[36,0,0,0,"","","","","","",0]
[37,0,0,0,"","","","","","",0]
[38,0,0,0,"","","","","","",0]
[39,0,0,0,"","","","","","",0]
[40,0,0,0,"","","","","","",0]
[{"$f":"INDIRECT(ADDRESS(ROW(A44),COLUMN(A44),4,,\"2号(2)【入力】\"))","v":41},0,0,0,"","","","","","",0]
[42,0,0,0,"","","","","","",0]
[43,0,0,0,"","","","","","",0]
[44,0,0,0,"","","","","","",0]
[45,0,0,0,"","","","","","",0]
[46,0,0,0,"","","","","","",0]
[47,0,0,0,"","","","","","",0]
[48,0,0,0,"","","","","","",0]
[49,0,0,0,"","","","","","",0]
[50,0,0,0,"","","","","","",0]
[51,0,0,0,"","","","","","",0]
[52,0,0,0,"","","","","","",0]
[53,0,0,0,"","","","","","",0]
[54,0,0,0,"","","","","","",0]
[55,0,0,0,"","","","","","",0]
[56,0,0,0,"","","","","","",0]
[57,0,0,0,"","","","","","",0]
[58,0,0,0,"","","","","","",0]
[59,0,0,0,"","","","","","",0]
[60,0,0,0,"","","","","","",0]
[{"$f":"INDIRECT(ADDRESS(ROW(A64),COLUMN(A64),4,,\"2号(2)【入力】\"))","v":61},0,0,0,"","","","","","",0]
[62,0,0,0,"","","","","","",0]
[63,0,0,0,"","","","","","",0]
[64,0,0,0,"","","","","","",0]
[65,0,0,0,{"$f":"IF(OFFSET(INDIRECT(ADDRESS(ROW(H68),COLUMN(H68),4,,\"2号(2)【入力】\")),0,$D$1,1,1)=\"\",\"\",OFFSET(INDIRECT(ADDRESS(ROW(H68),COLUMN(H68),4,,\"2号(2)【入力】\")),0,$D$1,1,1))","v":""},{"$f":"IF(OFFSET(INDIRECT(ADDRESS(ROW(I68),COLUMN(I68),4,,\"2号(2)【入力】\")),0,$D$1,1,1)=\"\",\"\",OFFSET(INDIRECT(ADDRESS(ROW(I68),COLUMN(I68),4,,\"2号(2)【入力】\")),0,$D$1,1,1))","v":""},{"$f":"IF(OFFSET(INDIRECT(ADDRESS(ROW(J68),COLUMN(J68),4,,\"2号(2)【入力】\")),0,$D$1,1,1)=\"\",\"\",OFFSET(INDIRECT(ADDRESS(ROW(J68),COLUMN(J68),4,,\"2号(2)【入力】\")),0,$D$1,1,1))","v":""},{"$f":"IF(OFFSET(INDIRECT(ADDRESS(ROW(O68),COLUMN(O68),4,,\"2号(2)【入力】\")),0,$D$1,1,1)=\"\",\"\",OFFSET(INDIRECT(ADDRESS(ROW(O68),COLUMN(O68),4,,\"2号(2)【入力】\")),0,$D$1,1,1))","v":""},{"$f":"IF(OFFSET(INDIRECT(ADDRESS(ROW(P68),COLUMN(P68),4,,\"2号(2)【入力】\")),0,$D$1,1,1)=\"\",\"\",OFFSET(INDIRECT(ADDRESS(ROW(P68),COLUMN(P68),4,,\"2号(2)【入力】\")),0,$D$1,1,1))","v":""},{"$f":"IF(OFFSET(INDIRECT(ADDRESS(ROW(Q68),COLUMN(Q68),4,,\"2号(2)【入力】\")),0,$D$1,1,1)=\"\",\"\",OFFSET(INDIRECT(ADDRESS(ROW(Q68),COLUMN(Q68),4,,\"2号(2)【入力】\")),0,$D$1,1,1))","v":""},{"$f":"INDIRECT(ADDRESS(ROW(AN68),COLUMN(AN68),4,,\"2号(2)【入力】\"))","v":0}]
[66,0,0,0,"","","","","","",0]
[67,0,0,0,"","","","","","",0]
[68,0,0,0,"","","","","","",0]
[69,0,0,0,"","","","","","",0]
[70,0,0,0,"","","","","","",0]
[71,0,0,0,"","","","","","",0]
[72,0,0,0,"","","","","","",0]
[73,0,0,0,"","","","","","",0]
[74,0,0,0,"","","","","","",0]
[75,0,0,0,"","","","","","",0]
[76,0,0,0,"","","","","","",0]
[77,0,0,0,"","","","","","",0]
[78,0,0,0,"","","","","","",0]
[79,0,0,0,"","","","","","",0]
[80,0,0,0,"","","","","","",0]
[{"$f":"INDIRECT(ADDRESS(ROW(A84),COLUMN(A84),4,,\"2号(2)【入力】\"))","v":81},0,0,0,"","","","","","",0]
[82,0,0,0,"","","","","","",0]
[83,0,0,0,"","","","","","",0]
[84,0,0,0,"","","","","","",0]
[85,0,0,0,"","","","","","",0]
[86,0,0,0,"","","","","","",0]
[87,0,0,0,"","","","","","",0]
[88,0,0,0,"","","","","","",0]
[89,0,0,0,"","","","","","",0]
[90,0,0,0,"","","","","","",0]

{"sheet":"出来高表紙","index":10,"n_rows":61,"n_cols":64,"rows_kept":61,"cut":false,"hidden":false,"merged":[[53,0,53,55],[58,18,59,19],[56,18,57,19],[54,18,55,19],[56,20,57,21],[54,20,55,21],[58,20,59,21],[56,15,57,17],[54,48,55,49],[54,42,55,45],[54,46,55,47],[54,15,55,17],[54,29,54,41],[58,15,59,17],[58,22,59,23],[56,22,57,23],[54,22,55,23],[56,45,57,55],[54,54,55,55],[55,29,55,41],[58,42,59,44],[58,45,59,55],[58,26,59,27],[58,24,59,25],[49,29,50,34],[49,35,50,40],[49,41,50,46],[49,47,50,48],[47,21,48,22],[47,23,48,28],[7,27,7,31],[4,35,4,55],[5,35,5,55],[6,35,6,55],[7,35,7,55],[31,49,32,55],[33,41,34,46],[33,47,34,48],[33,49,34,55],[49,21,50,22],[37,21,38,22],[37,23,38,28],[49,23,50,28],[47,49,48,55],[49,49,50,55],[45,47,46,48],[45,49,46,55],[45,21,46,22],[37,19,38,20],[45,12,46,18],[35,0,36,3],[17,4,18,11],[35,4,36,11],[39,0,40,3],[37,0,38,3],[19,4,20,11],[37,4,38,11],[39,4,40,11],[33,4,34,11],[31,0,32,3],[33,0,34,3],[25,4,26,11],[37,12,38,18],[39,12,40,18],[39,19,40,20],[35,19,36,20],[33,12,34,18],[35,12,36,18],[25,0,26,3],[25,12,26,18],[25,19,26,20],[17,0,18,3],[49,0,50,3],[41,0,42,3],[43,0,44,3],[49,12,50,18],[49,4,50,11],[41,4,42,11],[45,4,46,11],[47,4,48,11],[49,19,50,20],[43,19,44,20],[47,12,48,18],[47,19,48,20],[43,4,44,11],[45,0,46,3],[47,0,48,3],[45,19,46,20],[45,23,46,28],[43,12,44,18],[43,23,44,28],[41,19,42,20],[41,21,42,22],[41,23,42,28],[39,23,40,28],[39,21,40,22],[43,21,44,22],[41,12,42,18],[41,49,42,55],[35,41,36,46],[35,47,36,48],[35,49,36,55],[37,49,38,55],[43,49,44,55],[39,49,40,55],[35,35,36,40],[39,47,40,48],[47,47,48,48],[45,29,46,34],[45,35,46,40],[37,47,38,48],[47,29,48,34],[47,35,48,40],[47,41,48,46],[41,29,42,34],[41,35,42,40],[43,29,44,34],[43,35,44,40],[43,41,44,46],[43,47,44,48],[39,41,40,46],[39,29,40,34],[39,35,40,40],[41,47,42,48],[41,41,42,46],[37,29,38,34],[37,35,38,40],[37,41,38,46],[45,41,46,46],[35,23,36,28],[25,23,26,28],[27,23,28,28],[29,23,30,28],[17,35,18,40],[31,23,32,28],[17,47,18,48],[23,41,24,46],[23,47,24,48],[31,29,32,34],[33,29,34,34],[33,35,34,40],[31,35,32,40],[31,41,32,46],[31,47,32,48],[27,29,28,34],[27,35,28,40],[27,41,28,46],[27,47,28,48],[21,23,22,28],[21,29,22,34],[17,23,18,28],[33,23,34,28],[35,29,36,34],[27,49,28,55],[25,49,26,55],[29,47,30,48],[29,49,30,55],[29,29,30,34],[29,35,30,40],[29,41,30,46],[14,41,14,46],[21,49,22,55],[21,41,22,46],[17,41,18,46],[19,41,20,46],[14,47,14,48],[17,49,18,55],[17,29,18,34],[15,35,16,40],[15,29,16,34],[21,35,22,40],[15,49,16,55],[14,49,14,55],[15,41,16,46],[23,49,24,55],[19,49,20,55],[21,47,22,48],[0,21,1,35],[2,11,3,21],[2,38,3,38],[2,44,3,47],[2,37,3,37],[2,40,3,40],[2,43,3,43],[2,41,3,42],[10,4,10,5],[4,23,4,31],[6,27,6,31],[9,17,9,22],[6,18,6,22],[10,23,10,55],[10,17,10,22],[2,32,3,36],[5,7,5,16],[2,52,3,55],[2,49,3,51],[2,7,3,10],[8,27,8,29],[8,30,8,31],[9,23,9,55],[8,49,8,55],[12,23,12,55],[12,17,12,22],[13,47,13,48],[13,41,13,46],[13,19,13,20],[2,39,3,39],[2,48,3,48],[13,12,13,18],[11,0,11,3],[12,0,12,3],[9,0,10,3],[9,6,10,16],[5,17,5,31],[11,23,11,55],[13,35,13,40],[13,29,14,34],[9,4,9,5],[8,0,8,6],[4,8,4,22],[2,22,3,22],[2,3,3,6],[6,4,6,16],[5,4,5,6],[13,0,13,3],[25,21,26,22],[11,17,11,22],[11,14,11,16],[13,21,13,22],[19,21,20,22],[23,21,24,22],[21,21,22,22],[15,19,16,20],[19,12,20,18],[19,19,20,20],[17,21,18,22],[15,21,16,22],[17,12,18,18],[17,19,18,20],[15,12,16,18],[15,4,16,11],[23,0,24,3],[11,4,12,13],[12,14,12,16],[21,4,22,11],[23,4,24,11],[31,4,32,11],[21,12,22,18],[21,19,22,20],[23,12,24,18],[23,19,24,20],[54,52,55,53],[54,50,55,51],[56,42,57,44],[29,0,30,3],[29,4,30,11],[29,12,30,18],[29,19,30,20],[29,21,30,22],[27,0,28,3],[27,4,28,11],[27,12,28,18],[27,19,28,20],[27,21,28,22],[54,0,54,14],[56,0,56,14],[57,0,57,14],[54,26,55,27],[54,24,55,25],[56,24,57,25],[56,26,57,27],[35,21,36,22],[31,12,32,18],[31,19,32,20],[31,21,32,22],[13,49,13,55],[19,47,20,48],[23,23,24,28],[23,29,24,34],[23,35,24,40],[19,29,20,34],[13,23,13,28],[14,35,14,40],[19,35,20,40],[19,23,20,28],[5,0,6,3],[56,29,59,41],[25,29,26,34],[25,35,26,40],[25,41,26,46],[25,47,26,48],[15,47,16,48],[15,23,16,28],[19,0,20,3],[21,0,22,3],[7,0,7,6],[7,7,7,16],[8,7,8,16],[8,32,8,35],[8,36,8,44],[8,45,8,48],[7,17,7,26],[8,17,8,26],[59,0,59,14],[58,0,58,14],[15,0,16,3],[33,19,34,20],[33,21,34,22],[13,4,13,11]]}
[null,null,null,null,null,null,null,null,null,null,null,null,null,null,null,null,null,null,null,null,null,"出来高報告書"]
[]
[null,null,null,"株式会社",null,null,null,"福田組",null,null,null,"○○　□□",null,null,null,null,null,null,null,null,null,null,"様",null,null,null,null,null,null,null,null,null,"建設業許可番号",null,null,null,null,null,"特",null,"般",{"$f":"+'1号【入力】'!Z3","v":0},null,"第",{"$f":"+'1号【入力】'!AB3","v":0},null,null,null,"号","取引先ｺｰﾄﾞ",null,null,{"$f":"'1号【入力】'!AI3","v":0}]
[null,null,null,null,null,null,null,null,null,null,null,null,null,null,null,null,null,null,null,null,null,null,null,null,null,"出来高提出日"]
[null,null,null,null,null,null,null,null,null,null,null,null,null,null,null,null,null,null,null,null,null,null,null,null,null,null,null,null,null,null,null,null,"　〒",null,null,{"$f":"'1号【入力】'!U5&\" - \"&'1号【入力】'!W5","v":" - "}]
["工事名",null,null,null,"工事CD",null,null,{"$f":"+'1号【入力】'!D6","v":0},null,null,null,null,null,null,null,null,null,"協力会社施工期間",null,null,null,null,null,null,null,null,null,null,null,null,null,null,"　住所",null,null,{"$f":"'1号【入力】'!U6","v":0}]
[null,null,null,null,{"$f":"+'1号【入力】'!B7","v":0},null,null,null,null,null,null,null,null,null,null,null,null,"自",{"$f":"'1号【入力】'!K7","v":"00:00:00"},null,null,null,null,null,"～",null,"至",{"$f":"'1号【入力】'!P7","v":"00:00:00"},null,null,null,null,"　会社名",null,null,{"$f":"'1号【入力】'!U7","v":0}]
["工事場所",null,null,null,null,null,null,{"$f":"+'1号【入力】'!B8","v":0},null,null,null,null,null,null,null,null,null,null,null,null,null,null,null,null,null,null,null,"出来高保留率",null,null,null,null,"　代表者",null,null,{"$f":"'1号【入力】'!U8","v":0}]
["注文書番号",null,null,null,null,null,null,null,null,null,null,null,null,null,null,null,null,null,null,null,null,null,null,null,null,null,null,10,null,null,"％",null,"担当部課・氏名",null,null,null,{"$f":"'1号【入力】'!V10","v":0},null,null,null,null,null,null,null,null,"電話番号",null,null,null,{"$f":"'1号【入力】'!AG10","v":0},null,null,null,null,null,null,null,null,null,null,null,true,null,false]
["工 種 名",null,null,null,"ｺｰﾄﾞ",null,{"$f":"+'1号【入力】'!F16","v":0},null,null,null,null,null,null,null,null,null,null,"注　文　条　件"]
[null,null,null,null,{"$f":"+'1号【入力】'!B16","v":0}]
["注文金額",null,null,null,{"$f":"IF(契約1号【印刷】!$X$11=\"変更後注文金額\",+契約1号【印刷】!T30,契約1号【印刷】!X30)","v":""},null,null,null,null,null,null,null,null,null,"審 査 日",null,null,null,null,null,null,null,null,null,null,null,null,null,null,null,null,null,null,null,null,true]
["（税込み）",null,null,null,null,null,null,null,null,null,null,null,null,null,""]
["品目ｺｰﾄﾞ",null,null,null,"名　　　　　　称",null,null,null,null,null,null,null,"規　格・摘　要",null,null,null,null,null,null,"単位",null,"数量",null,"注 文 金 額",null,null,null,null,null,{"$f":"IF('1号【入力】'!AH37=0,\"変更後注文金額\",IF('1号【入力】'!AL37=0,'1号【入力】'!AH17,IF('1号【入力】'!AN37=0,'1号【入力】'!AL17,IF('1号【入力】'!AP37=0,'1号【入力】'!AN17,'1号【入力】'!AP17))))","v":"変更後注文金額"},null,null,null,null,null,"今回累計出来高金額",null,null,null,null,null,"先回累計出来高金額",null,null,null,null,null,null,null,"備　　　　考"]
[null,null,null,null,null,null,null,null,null,null,null,null,null,null,null,null,null,null,null,null,null,null,null,null,null,null,null,null,null,null,null,null,null,null,null,"(10月分)",null,null,null,null,null,"(9月分)",null,null,null,null,null,null,null,"メーカー・商社等"]
["",null,null,null,{"$f":"+契約1号【印刷】!A13","v":0},null,null,null,null,null,null,null,{"$f":"+契約1号【印刷】!J13","v":0},null,null,null,null,null,null,{"$f":"+契約1号【印刷】!Q13","v":0},null,{"$f":"+契約1号【印刷】!R13","v":0},null,{"$f":"+契約1号【印刷】!T13","v":0},null,null,null,null,null,{"$f":"+契約1号【印刷】!X13","v":0},null,null,null,null,null,{"$f":"+請求4号!I33","v":0}]
[]
[null,null,null,null,{"$f":"+契約1号【印刷】!A14","v":0},null,null,null,null,null,null,null,{"$f":"+契約1号【印刷】!J14","v":0},null,null,null,null,null,null,{"$f":"+契約1号【印刷】!Q14","v":0},null,{"$f":"+契約1号【印刷】!R14","v":0},null,{"$f":"+契約1号【印刷】!T14","v":""},null,null,null,null,null,{"$f":"+契約1号【印刷】!X14","v":""}]
[]
[null,null,null,null,{"$f":"+契約1号【印刷】!A15","v":"工事費　計"},null,null,null,null,null,null,null,{"$f":"+契約1号【印刷】!J15","v":0},null,null,null,null,null,null,{"$f":"+契約1号【印刷】!Q15","v":0},null,{"$f":"+契約1号【印刷】!R15","v":0},null,{"$f":"+契約1号【印刷】!T15","v":0},null,null,null,null,null,{"$f":"+契約1号【印刷】!X15","v":0},null,null,null,null,null,{"$f":"AJ16+AJ18","v":0},null,null,null,null,null,null,null,null,null,null,null,null,null,{"$f":"IF(AD20=0,ROUNDDOWN(AJ20/X20,3),ROUNDDOWN(AJ20/AD20,3))","v":{"$error":"#DIV/0!"}}]
[]
[null,null,null,null,null,null,null,null,null,null,null,null,{"$f":"+契約1号【印刷】!J16","v":"⇒労務費総額"},null,null,null,null,null,null,null,null,null,null,{"$f":"契約1号【印刷】!T16","v":""},null,null,null,null,null,{"$f":"契約1号【印刷】!X16","v":""},null,null,null,null,null,null,null,null,null,null,null,null,null,null,null,null,null,null,null,"↑今回累計出来高率"]
[]
[]
[]
[null,null,null,null,{"$f":"契約1号【印刷】!A18","v":"事業主負担法定福利費"}]
[]
[null,null,null,null,null,null,null,null,null,null,null,null,{"$f":"契約1号【印刷】!J19","v":"a.健康保険料"},null,null,null,null,null,null,null,null,null,null,{"$f":"契約1号【印刷】!T19","v":0},null,null,null,null,null,{"$f":"+契約1号【印刷】!X19","v":0},null,null,null,null,null,{"$f":"IFERROR(IF(AD28=0,ROUNDDOWN(AX20*X28,0),ROUNDDOWN(AD28*AX20,0)),)","v":0}]
[]
[null,null,null,null,null,null,null,null,null,null,null,null,{"$f":"契約1号【印刷】!J20","v":"b.介護保険料"},null,null,null,null,null,null,null,null,null,null,{"$f":"契約1号【印刷】!T20","v":0},null,null,null,null,null,{"$f":"+契約1号【印刷】!X20","v":0},null,null,null,null,null,{"$f":"IFERROR(IF(AD30=0,ROUNDDOWN(AX20*X30,0),ROUNDDOWN(AD30*AX20,0)),)","v":0}]
[]
[null,null,null,null,null,null,null,null,null,null,null,null,{"$f":"契約1号【印刷】!J21","v":"c.厚生年金保険料"},null,null,null,null,null,null,null,null,null,null,{"$f":"契約1号【印刷】!T21","v":0},null,null,null,null,null,{"$f":"+契約1号【印刷】!X21","v":0},null,null,null,null,null,{"$f":"IFERROR(IF(AD32=0,ROUNDDOWN(AX20*X32,0),ROUNDDOWN(AD32*AX20,0)),)","v":0}]
[]
[null,null,null,null,null,null,null,null,null,null,null,null,{"$f":"契約1号【印刷】!J22","v":"d.雇用保険料"},null,null,null,null,null,null,null,null,null,null,{"$f":"契約1号【印刷】!T22","v":0},null,null,null,null,null,{"$f":"+契約1号【印刷】!X22","v":0},null,null,null,null,null,{"$f":"IFERROR(IF(AD34=0,ROUNDDOWN(AX20*X34,0),ROUNDDOWN(AD34*AX20,0)),)","v":0}]
[]
[null,null,null,null,null,null,null,null,null,null,null,null,{"$f":"契約1号【印刷】!J23","v":"e.子ども・子育て支援金"},null,null,null,null,null,null,null,null,null,null,{"$f":"契約1号【印刷】!T23","v":0},null,null,null,null,null,{"$f":"+契約1号【印刷】!X23","v":0},null,null,null,null,null,{"$f":"IFERROR(IF(AD36=0,ROUNDDOWN(AX20*X36,0),ROUNDDOWN(AD36*AX20,0)),)","v":0}]
[]
[]
[]
[null,null,null,null,{"$f":"+契約1号【印刷】!A25","v":"法定福利費　計"},null,null,null,null,null,null,null,{"$f":"+契約1号【印刷】!J25","v":"a～eの合計"},null,null,null,null,null,null,{"$f":"+契約1号【印刷】!Q25","v":0},null,{"$f":"+契約1号【印刷】!R25","v":0},null,{"$f":"契約1号【印刷】!T25","v":0},null,null,null,null,null,{"$f":"+契約1号【印刷】!X25","v":0},null,null,null,null,null,{"$f":"AJ28+AJ30+AJ32+AJ34+AJ36","v":0}]
[]
[null,null,null,null,{"$f":"+契約1号【印刷】!A26","v":"その他諸経費"},null,null,null,null,null,null,null,{"$f":"+契約1号【印刷】!J26","v":0},null,null,null,null,null,null,{"$f":"+契約1号【印刷】!Q26","v":0},null,{"$f":"+契約1号【印刷】!R26","v":0},null,{"$f":"契約1号【印刷】!T26","v":""},null,null,null,null,null,{"$f":"+契約1号【印刷】!X26","v":""}]
[]
[null,null,null,null,{"$f":"+契約1号【印刷】!A27","v":"税　抜　計"},null,null,null,null,null,null,null,{"$f":"+契約1号【印刷】!J27","v":0},null,null,null,null,null,null,{"$f":"+契約1号【印刷】!Q27","v":0},null,{"$f":"+契約1号【印刷】!R27","v":0},null,{"$f":"+契約1号【印刷】!T27","v":""},null,null,null,null,null,{"$f":"+契約1号【印刷】!X27","v":""},null,null,null,null,null,{"$f":"AJ20+AJ40+AJ42","v":0},null,null,null,null,null,{"$f":"AP20+AP40+AP42","v":0},null,null,null,null,null,null,null,{"$f":"IF(出来高=0,\"\",\nIF(AD44=0,\nIF(X44=出来高,出来高-AP44,TRUNC(((出来高-AP44)*((100-出来高保留)/100))/10000)*10000),\nIF(AD44=出来高,出来高-AP44,TRUNC(((出来高-AP44)*((100-出来高保留)/100))/10000)*10000))\n)","v":""},null,null,null,null,null,null,"←　計算式：（今回累計出来高-先回累計出来高）*(100-出来高保留率)"]
[null,null,null,null,null,null,null,null,null,null,null,null,null,null,null,null,null,null,null,null,null,null,null,null,null,null,null,null,null,null,null,null,null,null,null,null,null,null,null,null,null,null,null,null,null,null,null,null,null,null,null,null,null,null,null,null,null,"で算出した概算の支払予定額です。"]
[null,null,null,null,{"$f":"+契約1号【印刷】!A28","v":"消 費 税 率"},null,null,null,null,null,null,null,null,null,null,null,null,null,null,null,null,null,null,10,null,null,null,null,null,10,null,null,null,null,null,10,null,null,null,null,null,10,null,null,null,null,null,null,null,null,null,null,null,null,null,null,null,"正確な支払額ではありませんのでご注意願います。"]
[]
[null,null,null,null,{"$f":"+契約1号【印刷】!A29","v":"消　費　税"},null,null,null,null,null,null,null,null,null,null,null,null,null,null,"％",null,null,null,{"$f":"+契約1号【印刷】!T29","v":0},null,null,null,null,null,{"$f":"+契約1号【印刷】!X29","v":0},null,null,null,null,null,{"$f":"ROUNDDOWN(AJ44*(AJ46/100),0)","v":0},null,null,null,null,null,{"$f":"ROUNDDOWN(AP44*(AP46/100),0)","v":0}]
[]
[null,null,null,null,"合　　　　計",null,null,null,null,null,null,null,null,null,null,null,null,null,null,null,null,null,null,{"$f":"+契約1号【印刷】!T30","v":""},null,null,null,null,null,{"$f":"+契約1号【印刷】!X30","v":""},null,null,null,null,null,{"$f":"+AJ44+AJ48","v":0},null,null,null,null,null,{"$f":"+AP44+AP48","v":0}]
[]
[]
[]
["工事完成（出来高１００％）時記入欄"]
["・工事目的物完成通知日　",null,null,null,null,null,null,null,null,null,null,null,null,null,null,null,null,null,"年",null,null,null,"月",null,null,null,"日",null,null,"・工事目的物引受日",null,null,null,null,null,null,null,null,null,null,null,null,null,null,null,null,"年",null,null,null,"月",null,null,null,"日"]
[null,null,null,null,null,null,null,null,null,null,null,null,null,null,null,null,null,null,null,null,null,null,null,null,null,null,null,null,null,"完成の確認後、引渡の申し出日より直ちに引受。",null,null,null,null,null,null,null,null,null,null,null,null,null,null,null,null,null,null,null,null,null,null,null,null,null,null,{"$f":"IF(出来高=0,\"\",IF(AD46=0,IF(X46=出来高,IF(引受年=\"\",\"←出来高100%です。入力して下さい\",\"\"),\"\"),IF(AD46=出来高,IF(引受年=\"\",\"←出来高100%です。入力して下さい\",\"\"),\"\")))","v":""}]
["・工事目的物完成検査日",null,null,null,null,null,null,null,null,null,null,null,null,null,null,null,null,null,"年",null,null,null,"月",null,null,null,"日",null,null,"・工事目的物引受者",null,null,null,null,null,null,null,null,null,null,null,null,"役　職"]
["完成通知日より20日以内でできる限り短い期間内に実施"]
["・工事目的物引渡申出日",null,null,null,null,null,null,null,null,null,null,null,null,null,null,null,null,null,"年",null,null,null,"月",null,null,null,"日",null,null,null,null,null,null,null,null,null,null,null,null,null,null,null,"氏　名"]
["完成検査結果に基づく補修等完了後申し出"]
["※工事目的物完成後、工事目的物完成通知日を記入の上、速やかに工事所長に提出してください。",null,null,null,null,null,null,null,null,null,null,null,null,null,null,null,null,null,null,null,null,null,null,null,null,null,null,null,null,"※引受者は、引渡を受けた後速やかに、各対応日を記入の上、協力業者に写しを渡してください。"]

{"sheet":"請求3号","index":11,"n_rows":188,"n_cols":69,"rows_kept":188,"cut":false,"hidden":false,"merged":[[0,64,0,67],[8,3,9,20],[9,22,9,24],[9,32,9,60],[6,3,7,20],[0,49,0,54],[0,55,0,57],[0,61,0,63],[103,40,103,52],[103,53,103,59],[95,17,95,27],[95,30,96,30],[95,38,95,51],[93,32,96,34],[93,38,93,51],[94,6,95,15],[94,36,94,53],[93,2,95,3],[81,52,81,68],[85,68,86,70],[82,11,82,17],[82,18,82,26],[80,37,80,68],[92,2,92,3],[104,53,104,59],[105,53,105,59],[107,2,107,15],[107,16,107,22],[107,23,107,24],[112,30,112,39],[0,68,0,69],[3,40,3,43],[16,38,17,40],[16,41,17,43],[16,44,17,46],[16,47,17,49],[1,1,1,71],[3,36,3,39],[3,44,3,47],[0,58,0,60],[5,32,5,33],[5,34,5,36],[5,37,5,38],[5,39,5,44],[17,3,17,9],[17,11,17,31],[105,23,105,24],[105,25,105,29],[105,30,105,39],[104,16,104,22],[104,40,104,52],[105,40,105,52],[104,60,104,70],[138,32,138,33],[98,54,98,69],[102,60,103,70],[97,70,98,70],[97,31,97,53],[97,54,97,69],[134,1,134,71],[121,30,121,39],[121,43,121,52],[121,60,121,70],[121,2,121,15],[121,16,121,22],[121,23,121,24],[121,25,121,29],[133,64,133,67],[133,68,133,69],[102,40,102,59],[117,30,117,39],[118,2,118,15],[139,3,140,20],[139,32,139,61],[140,32,141,60],[141,3,142,20],[142,22,142,24],[142,32,142,60],[100,2,101,15],[105,2,105,15],[105,16,105,22],[102,2,103,15],[102,16,103,22],[102,23,103,24],[102,25,103,29],[104,2,104,15],[107,30,107,39],[102,30,103,39],[117,2,117,15],[117,40,117,52],[118,40,118,52],[118,53,118,59],[120,2,120,15],[120,16,120,22],[120,23,120,24],[120,25,120,29],[91,2,91,3],[91,6,91,15],[91,17,91,27],[91,30,92,30],[91,38,91,51],[89,30,90,30],[89,32,92,34],[89,38,89,51],[90,2,90,3],[90,6,90,15],[90,17,90,27],[90,37,90,52],[92,41,92,44],[89,2,89,28],[7,32,8,60],[6,32,6,68],[19,2,19,70],[20,2,20,28],[20,30,21,30],[15,3,15,9],[26,70,27,70],[22,30,23,30],[27,54,27,69],[23,17,23,27],[22,2,22,3],[22,17,22,27],[20,32,23,34],[20,38,20,51],[24,2,26,3],[24,6,24,15],[24,18,24,21],[24,30,25,30],[25,6,26,15],[26,17,26,27],[26,30,27,30],[22,38,22,51],[23,2,23,3],[23,6,23,15],[22,6,22,15],[23,45,23,47],[28,7,28,9],[28,10,28,12],[28,13,28,15],[23,54,23,69],[24,38,24,51],[27,2,29,3],[25,36,25,53],[28,30,29,30],[29,4,29,16],[29,17,29,27],[29,31,29,53],[29,54,29,69],[27,4,27,28],[11,37,11,68],[13,3,13,9],[13,11,13,17],[13,18,13,26],[21,2,21,3],[21,6,21,15],[21,17,21,27],[21,54,21,69],[15,11,15,26],[16,56,17,58],[16,59,17,61],[16,62,17,64],[12,52,12,68],[59,25,60,32],[59,33,60,47],[39,16,39,22],[39,23,39,24],[33,30,34,39],[56,29,56,32],[33,60,34,70],[56,33,56,34],[56,35,56,38],[36,30,36,39],[35,30,35,39],[33,25,34,29],[35,25,35,29],[33,16,34,22],[35,23,35,24],[35,16,35,22],[59,20,59,23],[48,30,48,39],[42,60,42,70],[43,60,43,70],[60,15,60,18],[60,20,60,23],[44,60,44,70],[45,60,45,70],[38,2,38,15],[38,16,38,22],[38,23,38,24],[38,25,38,29],[41,25,41,29],[47,25,47,29],[39,25,39,29],[33,2,34,15],[35,2,35,15],[33,23,34,24],[36,16,36,22],[37,2,37,15],[37,16,37,22],[36,23,36,24],[45,25,45,29],[42,2,42,15],[44,2,44,15],[44,16,44,22],[44,23,44,24],[45,23,45,24],[40,2,40,15],[40,16,40,22],[40,23,40,24],[40,25,40,29],[60,9,60,11],[59,6,59,7],[59,9,59,11],[59,15,59,18],[50,16,50,22],[50,23,50,24],[48,2,48,15],[48,16,48,22],[48,23,48,24],[52,16,52,22],[56,3,56,8],[56,9,56,10],[56,11,56,14],[52,2,52,15],[52,23,52,24],[43,16,43,22],[43,23,43,24],[47,2,47,15],[47,16,47,22],[47,23,47,24],[46,16,46,22],[46,23,46,24],[45,2,45,15],[45,16,45,22],[50,53,50,59],[51,53,51,59],[46,60,46,70],[46,53,46,59],[49,2,49,15],[49,16,49,22],[49,23,49,24],[49,25,49,29],[47,53,47,59],[46,30,46,39],[49,60,49,70],[46,2,46,15],[48,60,48,70],[48,25,48,29],[51,60,51,70],[47,60,47,70],[48,53,48,59],[49,53,49,59],[46,25,46,29],[51,43,51,52],[41,2,41,15],[41,16,41,22],[41,23,41,24],[50,2,50,15],[44,25,44,29],[50,25,50,29],[43,25,43,29],[39,30,39,39],[39,40,39,52],[40,40,40,52],[49,30,49,39],[49,43,49,52],[44,30,44,39],[45,30,45,39],[50,30,50,39],[47,30,47,39],[48,40,48,52],[50,40,50,52],[41,30,41,39],[45,40,45,52],[46,40,46,52],[47,40,47,52],[40,30,40,39],[43,2,43,15],[52,25,52,29],[51,16,51,22],[51,23,51,24],[51,25,51,29],[51,30,51,39],[70,1,70,71],[72,36,72,39],[72,44,72,47],[63,3,66,4],[63,16,66,16],[63,25,66,26],[67,2,67,3],[67,14,67,15],[59,48,60,50],[59,51,60,52],[59,53,60,57],[72,48,72,51],[72,52,72,55],[72,56,72,59],[59,60,60,69],[69,61,69,63],[52,43,52,52],[59,3,60,4],[60,6,60,7],[107,25,107,29],[86,3,86,9],[86,11,86,31],[76,69,76,70],[77,3,78,20],[78,22,78,24],[78,32,78,60],[106,60,106,70],[72,40,72,43],[84,3,84,9],[84,11,84,26],[75,3,76,20],[75,32,75,61],[76,32,77,60],[82,3,82,9],[85,38,86,40],[85,41,86,43],[85,44,86,46],[85,47,86,49],[85,50,86,52],[85,53,86,55],[85,56,86,58],[92,6,92,15],[92,17,92,27],[97,13,97,15],[97,30,98,30],[98,4,98,16],[98,17,98,27],[98,31,98,53],[72,60,72,63],[92,54,92,69],[90,54,90,69],[96,4,96,28],[84,38,84,46],[106,23,106,24],[106,25,106,29],[106,30,106,39],[110,30,110,39],[79,32,79,68],[106,40,106,52],[69,64,69,67],[69,68,69,69],[91,70,92,70],[94,54,94,69],[96,54,96,69],[95,70,96,70],[105,60,105,70],[107,60,107,70],[88,2,88,70],[89,70,90,70],[92,45,92,47],[93,6,93,15],[93,18,93,21],[93,30,94,30],[96,2,98,3],[96,37,96,52],[97,7,97,9],[97,10,97,12],[119,2,119,15],[117,16,117,22],[117,23,117,24],[117,25,117,29],[119,16,119,22],[119,23,119,24],[119,25,119,29],[119,30,119,39],[31,2,32,15],[111,2,111,15],[111,16,111,22],[111,23,111,24],[111,25,111,29],[111,30,111,39],[104,23,104,24],[104,25,104,29],[104,30,104,39],[51,2,51,15],[52,30,52,39],[74,32,74,33],[74,34,74,36],[74,37,74,38],[74,39,74,44],[36,2,36,15],[118,23,118,24],[118,25,118,29],[118,30,118,39],[116,23,116,24],[116,25,116,29],[115,2,115,15],[115,16,115,22],[110,2,110,15],[116,2,116,15],[116,16,116,22],[110,16,110,22],[110,23,110,24],[110,25,110,29],[115,23,115,24],[115,25,115,29],[112,2,112,15],[112,16,112,22],[112,23,112,24],[112,25,112,29],[113,23,113,24],[113,25,113,29],[113,2,113,15],[113,16,113,22],[118,16,118,22],[114,23,114,24],[114,25,114,29],[148,11,148,26],[146,3,146,9],[146,11,146,17],[146,18,146,26],[143,32,143,68],[144,37,144,68],[148,3,148,9],[115,40,115,52],[116,40,116,52],[119,53,119,59],[120,53,120,59],[121,53,121,59],[133,49,133,54],[133,55,133,57],[133,58,133,60],[133,61,133,63],[120,40,120,52],[136,60,136,63],[114,2,114,15],[114,16,114,22],[145,52,145,68],[136,56,136,59],[150,3,150,9],[150,11,150,31],[148,38,148,48],[149,65,150,67],[149,68,150,70],[155,70,156,70],[156,2,156,3],[156,6,156,15],[156,17,156,27],[156,54,156,69],[155,2,155,3],[155,6,155,15],[155,17,155,27],[155,30,156,30],[156,45,156,47],[153,70,154,70],[154,2,154,3],[154,6,154,15],[154,17,154,27],[154,37,154,52],[154,54,154,69],[153,2,153,28],[153,30,154,30],[153,32,156,34],[159,70,160,70],[160,2,162,3],[160,37,160,52],[160,54,160,69],[161,7,161,9],[161,10,161,12],[161,13,161,15],[161,30,162,30],[161,31,161,53],[161,54,161,69],[161,70,162,70],[153,38,153,51],[155,38,155,51],[162,4,162,16],[162,17,162,27],[162,31,162,53],[162,54,162,69],[158,6,159,15],[158,36,158,53],[157,2,159,3],[157,6,157,15],[157,18,157,21],[157,30,158,30],[158,54,158,69],[159,17,159,27],[159,30,160,30],[159,38,159,51],[157,32,160,34],[157,38,157,51],[160,4,160,28],[156,41,156,44],[164,2,165,15],[166,30,167,39],[166,60,167,70],[166,2,167,15],[166,16,167,22],[166,23,167,24],[166,25,167,29],[167,40,167,52],[167,53,167,59],[166,40,166,59],[168,30,168,39],[168,43,168,52],[168,60,168,70],[168,2,168,15],[168,16,168,22],[168,23,168,24],[168,25,168,29],[169,30,169,39],[169,43,169,52],[169,60,169,70],[169,2,169,15],[169,16,169,22],[169,23,169,24],[169,25,169,29],[168,53,168,59],[169,53,169,59],[175,30,175,39],[175,43,175,52],[175,60,175,70],[175,2,175,15],[175,16,175,22],[175,23,175,24],[175,25,175,29],[176,30,176,39],[176,43,176,52],[176,60,176,70],[176,2,176,15],[176,16,176,22],[176,23,176,24],[176,25,176,29],[180,25,180,29],[177,30,177,39],[177,43,177,52],[177,60,177,70],[177,2,177,15],[177,16,177,22],[177,23,177,24],[177,25,177,29],[178,30,178,39],[178,43,178,52],[178,60,178,70],[178,2,178,15],[178,16,178,22],[178,23,178,24],[178,25,178,29],[179,60,179,70],[180,60,180,70],[185,2,185,15],[185,16,185,22],[185,23,185,24],[185,25,185,29],[185,30,185,39],[185,43,185,52],[184,30,184,39],[184,43,184,52],[184,2,184,15],[184,16,184,22],[184,23,184,24],[184,25,184,29],[183,16,183,22],[182,43,182,52],[182,60,182,70],[181,60,181,70],[110,60,110,70],[39,2,39,15],[183,30,183,39],[183,43,183,52],[183,2,183,15],[183,23,183,24],[183,25,183,29],[182,2,182,15],[182,16,182,22],[182,23,182,24],[174,2,174,15],[174,16,174,22],[174,23,174,24],[174,25,174,29],[174,30,174,39],[174,43,174,52],[170,30,170,39],[182,25,182,29],[181,30,181,39],[181,43,181,52],[171,43,171,52],[171,60,171,70],[171,2,171,15],[171,16,171,22],[170,53,170,59],[171,53,171,59],[171,23,171,24],[171,25,171,29],[182,30,182,39],[181,2,181,15],[181,16,181,22],[181,23,181,24],[181,25,181,29],[179,30,179,39],[179,43,179,52],[179,2,179,15],[179,16,179,22],[179,23,179,24],[179,25,179,29],[180,30,180,39],[180,43,180,52],[180,2,180,15],[180,16,180,22],[180,23,180,24],[35,60,35,70],[36,60,36,70],[37,60,37,70],[38,60,38,70],[42,16,42,22],[42,23,42,24],[42,25,42,29],[42,30,42,39],[39,60,39,70],[35,53,35,59],[36,53,36,59],[40,60,40,70],[41,60,41,70],[41,40,41,52],[36,40,36,52],[37,40,37,52],[38,40,38,52],[36,25,36,29],[37,23,37,24],[35,40,35,52],[37,25,37,29],[38,30,38,39],[37,30,37,39],[42,40,42,52],[34,53,34,59],[3,56,3,59],[3,60,3,63],[3,48,3,51],[3,52,3,55],[26,38,26,51],[27,37,27,52],[16,50,17,52],[16,53,17,55],[25,54,25,69],[28,31,28,53],[28,54,28,69],[24,32,27,34],[33,40,33,59],[15,38,15,46],[21,37,21,52],[7,69,7,70],[34,40,34,52],[20,70,21,70],[16,65,17,67],[16,68,17,70],[28,70,29,70],[22,70,23,70],[10,32,10,68],[106,2,106,15],[106,16,106,22],[106,53,106,59],[52,53,52,59],[37,53,37,59],[38,53,38,59],[39,53,39,59],[40,53,40,59],[41,53,41,59],[42,53,42,59],[43,53,43,59],[44,53,44,59],[45,53,45,59],[69,49,69,54],[69,55,69,57],[69,58,69,60],[52,60,52,70],[85,59,86,61],[85,62,86,64],[50,60,50,70],[43,30,43,39],[43,40,43,52],[44,40,44,52],[85,65,86,67],[111,60,111,70],[107,40,107,52],[110,40,110,52],[111,40,111,52],[112,40,112,52],[113,40,113,52],[114,40,114,52],[107,53,107,59],[110,53,110,59],[111,53,111,59],[112,53,112,59],[113,53,113,59],[114,53,114,59],[112,60,112,70],[136,48,136,51],[136,52,136,55],[138,39,138,44],[115,30,115,39],[116,30,116,39],[113,30,113,39],[114,30,114,39],[113,60,113,70],[115,60,115,70],[114,60,114,70],[120,60,120,70],[119,60,119,70],[118,60,118,70],[117,60,117,70],[116,60,116,70],[115,53,115,59],[116,53,116,59],[117,53,117,59],[119,40,119,52],[120,30,120,39],[140,69,140,70],[138,34,138,36],[138,37,138,38],[192,53,193,57],[192,60,193,69],[128,53,129,57],[128,60,129,69],[183,53,183,59],[184,53,184,59],[185,53,185,59],[174,53,174,59],[175,53,175,59],[176,53,176,59],[177,53,177,59],[178,53,178,59],[179,53,179,59],[180,53,180,59],[181,53,181,59],[182,53,182,59],[149,38,150,40],[149,41,150,43],[174,60,174,70],[185,60,185,70],[184,60,184,70],[183,60,183,70],[152,2,152,70],[136,40,136,43],[136,36,136,39],[136,44,136,47],[149,44,150,46],[149,47,150,49],[149,50,150,52],[149,53,150,55],[149,56,150,58],[149,59,150,61],[149,62,150,64],[170,43,170,52],[170,60,170,70],[170,2,170,15],[170,16,170,22],[170,23,170,24],[170,25,170,29],[171,30,171,39],[172,2,172,15],[172,16,172,22],[172,23,172,24],[172,25,172,29],[172,30,172,39],[108,2,108,15],[108,16,108,22],[108,30,108,39],[108,40,108,52],[108,53,108,59],[109,2,109,15],[109,16,109,22],[109,30,109,39],[109,40,109,52],[109,53,109,59],[172,43,172,52],[172,53,172,59],[172,60,172,70],[173,2,173,15],[173,16,173,22],[173,23,173,24],[173,25,173,29],[173,30,173,39],[173,43,173,52],[173,53,173,59],[173,60,173,70]]}
[null,null,"<本支店提出用>",null,null,null,null,null,null,null,null,null,null,null,null,null,null,null,null,null,null,null,null,null,null,null,null,null,null,null,null,null,null,null,null,null,null,null,null,null,null,null,null,null,null,null,null,null,null,null,null,null,null,null,null,"年",null,null,null,null,null,"月",null,null,null,null,null,null,"日"]
[null,"請　求　書　（工事請負）"]
[null,null,"株式会社　福田組　御 中"]
[null,null,null,null,null,null,null,null,null,null,null,null,null,null,null,null,null,null,null,null,null,null,null,null,null,null,null,null,"取引先コード",null,null,null,null,null,null,null,{"$f":"IF(AO4=\"\",,IF(LEN('1号【入力】'!AI3)<7,\"0\",(LEFT(+RIGHT('1号【入力】'!AI3,7),1))))","v":0},null,null,null,{"$f":"LEFT(+RIGHT('1号【入力】'!AI3,6),1)","v":""},null,null,null,{"$f":"LEFT(+RIGHT('1号【入力】'!AI3,5),1)","v":""},null,null,null,{"$f":"LEFT(+RIGHT('1号【入力】'!AI3,4),1)","v":""},null,null,null,{"$f":"LEFT(+RIGHT('1号【入力】'!AI3,3),1)","v":""},null,null,null,{"$f":"LEFT(+RIGHT('1号【入力】'!AI3,2),1)","v":""},null,null,null,{"$f":"LEFT(+RIGHT('1号【入力】'!AI3,1),1)","v":""}]
[null,null,null,null,null,null,null,null,null,null,null,null,null,null,null,null,null,null,null,null,null,null,null,null,null,null,null,null,null,null,null,null,null,null,null,null,null,null,null,null,null,null,null,0]
[null,null,null,null,null,null,null,null,null,null,null,null,null,null,null,null,null,null,null,null,null,null,null,null,null,null,null,null,null,null,null,null,"〒",null,{"$f":"+'1号【入力】'!U5","v":0},null,null,"-",null,{"$f":"+'1号【入力】'!W5","v":0}]
["=AK4+AO4+AS4+AW4+BA4+BE4+BI4+AM17+AP17+AS17+AV17+AY17+BB17+BE17+BH17+BK17+BN17+BQ17+BC30",null,null,"下記の金額を請求します。",null,null,null,null,null,null,null,null,null,null,null,null,null,null,null,null,null,null,null,null,null,null,null,null,"住所",null,null,null,{"$f":"+'1号【入力】'!U6","v":0}]
[null,null,null,null,null,null,null,null,null,null,null,null,null,null,null,null,null,null,null,null,null,null,null,null,null,null,null,null,null,null,null,null,{"$f":"+'1号【入力】'!U7","v":0}]
[null,null,null,{"$f":"+BC30","v":0},null,null,null,null,null,null,null,null,null,null,null,null,null,null,null,null,null,null,null,null,null,null,null,null,"氏名"]
[null,null,null,null,null,null,null,null,null,null,null,null,null,null,null,null,null,null,null,null,null,null,null,null,null,null,null,null,null,null,null,null,{"$f":"+'1号【入力】'!U8","v":0},null,null,null,null,null,null,null,null,null,null,null,null,null,null,null,null,null,null,null,null,null,null,null,null,null,null,null,null,null,null,null,"印"]
[null,null,null,null,null,null,null,null,null,null,null,null,null,null,null,null,null,null,null,null,null,null,null,null,null,null,null,null,"電話",null,null,null,{"$f":"+'1号【入力】'!AG10","v":0}]
[null,null,null,null,null,null,null,null,null,null,null,null,null,null,null,null,null,null,null,null,null,null,null,null,null,null,null,null,null,null,null,null,"担当者",null,null,null,null,{"$f":"+'1号【入力】'!V10","v":0}]
[null,null,null,null,null,null,null,null,null,null,null,null,null,null,null,null,null,null,null,null,null,null,null,null,null,null,null,null,null,null,null,null,{"$f":"IF(AND(AK4<>\"\",AO4<>\"\",AS4<>\"\",AW4<>\"\",BA4<>\"\",BE4<>\"\",BI4<>\"\"),\"\",\"　 適格請求書発行事業者登録番号\")","v":"　 適格請求書発行事業者登録番号"},null,null,null,null,null,null,null,null,null,null,null,null,null,null,null,null,null,null,null,{"$f":"IF(AND(AK4<>\"\",AO4<>\"\",AS4<>\"\",AW4<>\"\",BA4<>\"\",BE4<>\"\",BI4<>\"\"),\"\",IF('1号【入力】'!AB9:AB9<>\"\",\"T\"&'1号【入力】'!AB9:AB9,\"未登録\"))","v":"未登録"}]
[null,null,null,"工事名",null,null,null,null,null,null,null,{"$f":"+'1号【入力】'!D6","v":0},null,null,null,null,null,null,{"$f":"+'1号【入力】'!B7","v":0}]
[]
[null,null,null,"工事内容",null,null,null,null,null,null,null,{"$f":"+'1号【入力】'!F16","v":0},null,null,null,null,null,null,null,null,null,null,null,null,null,null,null,null,null,null,null,null,null,null,null,null,null,null,"注文書番号"]
[]
[null,null,null,"工事場所",null,null,null,null,null,null,null,{"$f":"+'1号【入力】'!B8","v":0}]
[]
[null,null,"今　　回　　請　　求　　額　　算　　定　　内　　訳"]
[null,null,"上 記 契 約 コ ー ド の 契 約 累 計 金 額",null,null,null,null,null,null,null,null,null,null,null,null,null,null,null,null,null,null,null,null,null,null,null,null,null,null,null,"Ｆ",null,"前回\nまで\n累計",null,null,null,null,null,"請求額（税抜）"]
[null,null,"A",null,"工 　  事　   価    格",null,"工事価格",null,null,null,null,null,null,null,null,null,null,{"$f":"+AE50","v":""},null,null,null,null,null,null,null,null,null,null,null,null,null,null,null,null,null,null,null,"（前回のＥの欄を転記）"]
[null,null,"B",null,null,null,{"$f":"\"消費税等（A×\"&AE51&\"％）\"","v":"消費税等（A×10％）"},null,null,null,null,null,null,null,null,null,null,{"$f":"+AE52","v":0},null,null,null,null,null,null,null,null,null,null,null,null,"Ｇ",null,null,null,null,null,null,null,"消費税額等"]
[null,null,"C",null,"  ",null,"契約額    ( A + B )",null,null,null,null,null,null,null,null,null,null,{"$f":"IF(R22=\"\",\"\",R22+R23)","v":""},null,null,null,null,null,null,null,null,null,null,null,null,null,null,null,null,null,null,null,null,null,null,null,"（Ｆ×",null,null,null,10,null,null,"％）",null,{"$f":"TRUNC(AY22*8/100)","v":0},null,null,null,{"$f":"TRUNC(BC22*10/100)","v":0}]
[null,null,"Ｄ",null,null,null,"出来高査定日",null,null,null,null,null,null,null,null,null,null,null,null,null,null,null,"年",null,"月末",null,null,null,null,null,"Ｈ","　　","今回　",null,null,null,null,null,"請求額（税抜）"]
[null,null,null,null,null,null,"累計出来高(税抜)\n(請求内訳欄より転記)",null,null,null,null,null,null,null,null,null,null,null,null,null,null,null,null,null,null,null,null,null,null,null,null,null,null,null,null,null,"Ｅ　-　Ｆ",null,null,null,null,null,null,null,null,null,null,null,null,null,null,null,null,null,{"$f":"+R30-BC22","v":0}]
[null,null,null,null,null,null,null,null,null,null,null,null,null,null,null,null,null,{"$f":"+AR50","v":0},null,null,null,null,null,null,null,null,null,null,null,null,"Ｉ",null,null,null,null,null,null,null,"消費税額等"]
[null,null,"E",null,"出来高保留後金額 ",null,null,null,null,null,null,null,null,null,null,null,null,null,null,null,null,null,null,null,null,null,null,null,null,null,null,null,null,null,null,null,null,{"$f":"IF(AE51=AT24,\"（出来高払はH×Bの税率）\",\"（Ｅ×Ｂの消費税率-Ｇ）\")","v":"（出来高払はH×Bの税率）"},null,null,null,null,null,null,null,null,null,null,null,null,null,null,null,null,{"$f":"IF(ISERROR(ROUNDDOWN(R30*AT24/100-BC24,0)),R30*AE51/100-BC24,ROUNDDOWN(R30*AT24/100-BC24,0))","v":0}]
[null,null,null,null,null,null,"Ｄ","×",null,null,90,null,null,"％",null,null,null,null,null,null,null,null,null,null,null,null,null,null,null,null,"Ｊ","今　回　税　込　請　求　額"]
[null,null,null,null,"(原則90%万単位未満切り捨て）",null,null,null,null,null,null,null,null,null,null,null,null,{"$f":"IF(R27=R22,R22,ROUNDDOWN(R27*K29/100,-4))","v":0},null,null,null,null,null,null,null,null,null,null,null,null,null,"Ｈ　+　Ｉ",null,null,null,null,null,null,null,null,null,null,null,null,null,null,null,null,null,null,null,null,null,null,{"$f":"IF(BC28=\"\",\"\",+BC26+BC28)","v":0}]
[]
[null,null,"【請求内訳欄】"]
[]
[null,null,"名　　称",null,null,null,null,null,null,null,null,null,null,null,null,null,"規格・摘要",null,null,null,null,null,null,"単位",null,"数量",null,null,null,null,"注 文 金 額",null,null,null,null,null,null,null,null,null,{"$f":"+\"出来高金額(\"&X25&\"/末〆)\"","v":"出来高金額(/末〆)"},null,null,null,null,null,null,null,null,null,null,null,null,null,null,null,null,null,null,null,"備　　　考"]
[null,null,null,null,null,null,null,null,null,null,null,null,null,null,null,null,null,null,null,null,null,null,null,null,null,null,null,null,null,null,null,null,null,null,null,null,null,null,null,null,"金　　額",null,null,null,null,null,null,null,null,null,null,null,null,"率"]
[null,null,{"$f":"+契約1号【印刷】!A13","v":0},null,null,null,null,null,null,null,null,null,null,null,null,null,{"$f":"+契約1号【印刷】!J13","v":0},null,null,null,null,null,null,{"$f":"+契約1号【印刷】!Q13","v":0},null,{"$f":"+契約1号【印刷】!R13","v":0},null,null,null,null,{"$f":"IF(契約1号【印刷】!$X$11=\"変更後注文金額\",+契約1号【印刷】!T13,契約1号【印刷】!X13)","v":0},null,null,null,null,null,null,null,null,null,{"$f":"+出来高表紙!AJ16","v":0},null,null,null,null,null,null,null,null,null,null,null,null,{"$f":"IFERROR(+IF(OR(AE36=\"\",AO36=\"\"),\"\",AO36/AE36),)","v":0}]
[null,null,{"$f":"+契約1号【印刷】!A14","v":0},null,null,null,null,null,null,null,null,null,null,null,null,null,{"$f":"+契約1号【印刷】!J14","v":0},null,null,null,null,null,null,{"$f":"+契約1号【印刷】!Q14","v":0},null,{"$f":"+契約1号【印刷】!R14","v":0},null,null,null,null,{"$f":"IF(契約1号【印刷】!$X$11=\"変更後注文金額\",+契約1号【印刷】!T14,契約1号【印刷】!X14)","v":""},null,null,null,null,null,null,null,null,null,null,null,null,null,null,null,null,null,null,null,null,null,null,{"$f":"+IF(OR(AE37=\"\",AO37=\"\"),\"\",AO37/AE37)","v":""}]
[null,null,{"$f":"+契約1号【印刷】!A15","v":"工事費　計"},null,null,null,null,null,null,null,null,null,null,null,null,null,{"$f":"+契約1号【印刷】!J15","v":0},null,null,null,null,null,null,{"$f":"+契約1号【印刷】!Q15","v":0},null,{"$f":"+契約1号【印刷】!R15","v":0},null,null,null,null,{"$f":"IF(契約1号【印刷】!$X$11=\"変更後注文金額\",+契約1号【印刷】!T15,契約1号【印刷】!X15)","v":0},null,null,null,null,null,null,null,null,null,{"$f":"+出来高表紙!AJ20","v":0},null,null,null,null,null,null,null,null,null,null,null,null,{"$f":"IFERROR(+IF(OR(AE38=\"\",AO38=\"\"),\"\",AO38/AE38),)","v":0}]
[null,null,{"$f":"+契約1号【印刷】!A16","v":0},null,null,null,null,null,null,null,null,null,null,null,null,null,{"$f":"+契約1号【印刷】!J16","v":"⇒労務費総額"},null,null,null,null,null,null,{"$f":"+契約1号【印刷】!Q16","v":0},null,{"$f":"+契約1号【印刷】!R16","v":0},null,null,null,null,{"$f":"IF(契約1号【印刷】!$X$11=\"変更後注文金額\",+契約1号【印刷】!T16,契約1号【印刷】!X16)","v":""},null,null,null,null,null,null,null,null,null,null,null,null,null,null,null,null,null,null,null,null,null,null,{"$f":"+IF(OR(AE39=\"\",AR39=\"\"),\"\",AR39/AE39)","v":""}]
[null,null,{"$f":"+契約1号【印刷】!A17","v":0},null,null,null,null,null,null,null,null,null,null,null,null,null,{"$f":"+契約1号【印刷】!J17","v":"労務比率"},null,null,null,null,null,null,{"$f":"+契約1号【印刷】!Q17","v":0},null,{"$f":"+契約1号【印刷】!R17","v":0},null,null,null,null,{"$f":"IF(契約1号【印刷】!$X$11=\"変更後注文金額\",+契約1号【印刷】!T17,契約1号【印刷】!X17)","v":0},null,null,null,null,null,null,null,null,null,null,null,null,null,null,null,null,null,null,null,null,null,null,{"$f":"+IF(OR(AE40=\"\",AR40=\"\"),\"\",AR40/AE40)","v":""}]
[null,null,{"$f":"+契約1号【印刷】!A18","v":"事業主負担法定福利費"},null,null,null,null,null,null,null,null,null,null,null,null,null,{"$f":"+契約1号【印刷】!J18","v":"保険名称"},null,null,null,null,null,null,{"$f":"+契約1号【印刷】!Q18","v":0},null,{"$f":"+契約1号【印刷】!R18","v":0},null,null,null,null,{"$f":"IF(契約1号【印刷】!$X$11=\"変更後注文金額\",+契約1号【印刷】!T18,契約1号【印刷】!X18)","v":""},null,null,null,null,null,null,null,null,null,null,null,null,null,null,null,null,null,null,null,null,null,null,{"$f":"+IF(OR(AE41=\"\",AR41=\"\"),\"\",AR41/AE41)","v":""}]
[null,null,null,null,null,null,null,null,null,null,null,null,null,null,null,null,{"$f":"+契約1号【印刷】!J19","v":"a.健康保険料"},null,null,null,null,null,null,null,null,null,null,null,null,null,{"$f":"IF(契約1号【印刷】!$X$11=\"変更後注文金額\",+契約1号【印刷】!T19,契約1号【印刷】!X19)","v":0},null,null,null,null,null,null,null,null,null,{"$f":"出来高表紙!AJ28","v":0},null,null,null,null,null,null,null,null,null,null,null,null,{"$f":"IFERROR(+IF(OR(AE42=\"\",AO42=\"\"),\"\",AO42/AE42),)","v":0}]
[null,null,null,null,null,null,null,null,null,null,null,null,null,null,null,null,{"$f":"+契約1号【印刷】!J20","v":"b.介護保険料"},null,null,null,null,null,null,null,null,null,null,null,null,null,{"$f":"IF(契約1号【印刷】!$X$11=\"変更後注文金額\",+契約1号【印刷】!T20,契約1号【印刷】!X20)","v":0},null,null,null,null,null,null,null,null,null,{"$f":"出来高表紙!AJ30","v":0},null,null,null,null,null,null,null,null,null,null,null,null,{"$f":"IFERROR(+IF(OR(AE43=\"\",AO43=\"\"),\"\",AO43/AE43),)","v":0}]
[null,null,null,null,null,null,null,null,null,null,null,null,null,null,null,null,{"$f":"+契約1号【印刷】!J21","v":"c.厚生年金保険料"},null,null,null,null,null,null,null,null,null,null,null,null,null,{"$f":"IF(契約1号【印刷】!$X$11=\"変更後注文金額\",+契約1号【印刷】!T21,契約1号【印刷】!X21)","v":0},null,null,null,null,null,null,null,null,null,{"$f":"出来高表紙!AJ32","v":0},null,null,null,null,null,null,null,null,null,null,null,null,{"$f":"IFERROR(+IF(OR(AE44=\"\",AO44=\"\"),\"\",AO44/AE44),)","v":0}]
[null,null,null,null,null,null,null,null,null,null,null,null,null,null,null,null,{"$f":"+契約1号【印刷】!J22","v":"d.雇用保険料"},null,null,null,null,null,null,null,null,null,null,null,null,null,{"$f":"IF(契約1号【印刷】!$X$11=\"変更後注文金額\",+契約1号【印刷】!T22,契約1号【印刷】!X22)","v":0},null,null,null,null,null,null,null,null,null,{"$f":"出来高表紙!AJ34","v":0},null,null,null,null,null,null,null,null,null,null,null,null,{"$f":"IFERROR(+IF(OR(AE45=\"\",AO45=\"\"),\"\",AO45/AE45),)","v":0}]
[null,null,null,null,null,null,null,null,null,null,null,null,null,null,null,null,{"$f":"+契約1号【印刷】!J23","v":"e.子ども・子育て支援金"},null,null,null,null,null,null,null,null,null,null,null,null,null,{"$f":"IF(契約1号【印刷】!$X$11=\"変更後注文金額\",+契約1号【印刷】!T23,契約1号【印刷】!X23)","v":0},null,null,null,null,null,null,null,null,null,null,null,null,null,null,null,null,null,null,null,null,null,null,{"$f":"+IF(OR(AE46=\"\",AO46=\"\"),\"\",AO46/AE46)","v":""}]
[null,null,{"$f":"+契約1号【印刷】!A24","v":0},null,null,null,null,null,null,null,null,null,null,null,null,null,{"$f":"+契約1号【印刷】!J24","v":0},null,null,null,null,null,null,{"$f":"+契約1号【印刷】!Q24","v":0},null,{"$f":"+契約1号【印刷】!R24","v":0},null,null,null,null,{"$f":"IF(契約1号【印刷】!$X$11=\"変更後注文金額\",+契約1号【印刷】!T24,契約1号【印刷】!X24)","v":""},null,null,null,null,null,null,null,null,null,null,null,null,null,null,null,null,null,null,null,null,null,null,{"$f":"+IF(OR(AE47=\"\",AO47=\"\"),\"\",AO47/AE47)","v":""}]
[null,null,"法定福利費　計",null,null,null,null,null,null,null,null,null,null,null,null,null,{"$f":"+契約1号【印刷】!J25","v":"a～eの合計"},null,null,null,null,null,null,{"$f":"+契約1号【印刷】!Q25","v":0},null,{"$f":"+契約1号【印刷】!R25","v":0},null,null,null,null,{"$f":"IF(契約1号【印刷】!$X$11=\"変更後注文金額\",+契約1号【印刷】!T25,契約1号【印刷】!X25)","v":0},null,null,null,null,null,null,null,null,null,{"$f":"出来高表紙!AJ40","v":0},null,null,null,null,null,null,null,null,null,null,null,null,{"$f":"IFERROR(+IF(OR(AE48=\"\",AO48=\"\"),\"\",AO48/AE48),)","v":0}]
[null,null,"その他諸経費",null,null,null,null,null,null,null,null,null,null,null,null,null,{"$f":"+契約1号【印刷】!J26","v":0},null,null,null,null,null,null,{"$f":"+契約1号【印刷】!Q26","v":0},null,{"$f":"+契約1号【印刷】!R26","v":0},null,null,null,null,{"$f":"IF(契約1号【印刷】!$X$11=\"変更後注文金額\",+契約1号【印刷】!T26,契約1号【印刷】!X26)","v":""},null,null,null,null,null,null,null,null,null,{"$f":"出来高表紙!AJ42","v":0},null,null,null,null,null,null,null,null,null,null,null,null,{"$f":"+IF(OR(AE49=\"\",AO49=\"\"),\"\",AO49/AE49)","v":""}]
[null,null,"税　抜　計",null,null,null,null,null,null,null,null,null,null,null,null,null,{"$f":"+契約1号【印刷】!J27","v":0},null,null,null,null,null,null,{"$f":"+契約1号【印刷】!Q27","v":0},null,{"$f":"+契約1号【印刷】!R27","v":0},null,null,null,null,{"$f":"IF(契約1号【印刷】!$X$11=\"変更後注文金額\",+契約1号【印刷】!T27,契約1号【印刷】!X27)","v":""},null,null,null,null,null,null,null,null,null,null,null,null,{"$f":"出来高表紙!AJ44","v":0},null,null,null,null,null,null,null,null,null,{"$f":"+IF(ISERROR(AR50/AE50),\"\",AR50/AE50)","v":""}]
[null,null,"消 費 税 率",null,null,null,null,null,null,null,null,null,null,null,null,null,{"$f":"+契約1号【印刷】!J28","v":0},null,null,null,null,null,null,{"$f":"+契約1号【印刷】!Q28","v":"％"},null,{"$f":"+契約1号【印刷】!R28","v":0},null,null,null,null,{"$f":"IF(契約1号【印刷】!$X$11=\"変更後注文金額\",+契約1号【印刷】!T28,契約1号【印刷】!X28)","v":10},null,null,null,null,null,null,null,null,null,{"$f":"AE51","v":10}]
[null,null,"消　費　税",null,null,null,null,null,null,null,null,null,null,null,null,null,{"$f":"+契約1号【印刷】!J29","v":0},null,null,null,null,null,null,{"$f":"+契約1号【印刷】!Q29","v":0},null,{"$f":"+契約1号【印刷】!R29","v":0},null,null,null,null,{"$f":"IF(契約1号【印刷】!$X$11=\"変更後注文金額\",+契約1号【印刷】!T29,契約1号【印刷】!X29)","v":0},null,null,null,null,null,null,null,null,null,null,null,null,{"$f":"TRUNC(AR50*AO51/100)","v":0}]
[null,null,"合　　　計",null,null,null,null,null,null,null,null,null,null,null,null,null,{"$f":"+契約1号【印刷】!J30","v":0},null,null,null,null,null,null,{"$f":"+契約1号【印刷】!Q30","v":0},null,{"$f":"+契約1号【印刷】!R30","v":0},null,null,null,null,{"$f":"IF(契約1号【印刷】!$X$11=\"変更後注文金額\",+契約1号【印刷】!T30,契約1号【印刷】!X30)","v":""},null,null,null,null,null,null,null,null,null,null,null,null,{"$f":"+AR50+AR52","v":0}]
[]
[null,null,null,"福田組使用欄"]
[]
[]
[]
[]
[]
[]
[]
[null,null,null,"<　検印欄　>"]
[null,null,null,"支　払",null,null,null,null,null,null,null,null,null,null,null,null,"所　管",null,null,null,null,null,null,null,null,"作業所",null,null,"工　　事",null,null,null,null,null,null,null,null,null,null,null,null,null,null,null,null,null,null,null,null,null,null,null,null,null,null,null,null,null,null,null,"　　事　務"]
[]
[]
[]
[]
[]
[null,null,"<現場保管用>",null,null,null,null,null,null,null,null,null,null,null,null,null,null,null,null,null,null,null,null,null,null,null,null,null,null,null,null,null,null,null,null,null,null,null,null,null,null,null,null,null,null,null,null,null,null,{"$f":"+AX1","v":0},null,null,null,null,null,"年",null,null,{"$f":"+BG1","v":0},null,null,"月",null,null,{"$f":"+BM1","v":0},null,null,null,"日"]
[null,"請　求　書　（工事請負）"]
[null,null,"株式会社　福田組　御 中"]
[null,null,null,null,null,null,null,null,null,null,null,null,null,null,null,null,null,null,null,null,null,null,null,null,null,null,null,null,"取引先コード",null,null,null,null,null,null,null,{"$f":"+AK4","v":0},null,null,null,{"$f":"+AO4","v":""},null,null,null,{"$f":"+AS4","v":""},null,null,null,{"$f":"+AW4","v":""},null,null,null,{"$f":"+BA4","v":""},null,null,null,{"$f":"+BE4","v":""},null,null,null,{"$f":"+BI4","v":""}]
[]
[null,null,null,null,null,null,null,null,null,null,null,null,null,null,null,null,null,null,null,null,null,null,null,null,null,null,null,null,null,null,null,null,"〒",null,{"$f":"+AI6","v":0},null,null,"-",null,{"$f":"+AN6","v":0}]
[null,null,null,"下記の金額を請求します。",null,null,null,null,null,null,null,null,null,null,null,null,null,null,null,null,null,null,null,null,null,null,null,null,"住所",null,null,null,{"$f":"+AG7","v":0}]
[null,null,null,null,null,null,null,null,null,null,null,null,null,null,null,null,null,null,null,null,null,null,null,null,null,null,null,null,null,null,null,null,{"$f":"+AG8","v":0}]
[null,null,null,{"$f":"+BC99","v":0},null,null,null,null,null,null,null,null,null,null,null,null,null,null,null,null,null,null,null,null,null,null,null,null,"氏名"]
[null,null,null,null,null,null,null,null,null,null,null,null,null,null,null,null,null,null,null,null,null,null,null,null,null,null,null,null,null,null,null,null,{"$f":"+AG10","v":0}]
[null,null,null,null,null,null,null,null,null,null,null,null,null,null,null,null,null,null,null,null,null,null,null,null,null,null,null,null,"電話",null,null,null,{"$f":"+AG11","v":0}]
[null,null,null,null,null,null,null,null,null,null,null,null,null,null,null,null,null,null,null,null,null,null,null,null,null,null,null,null,null,null,null,null,"担当者",null,null,null,null,{"$f":"AL12","v":0}]
[null,null,null,null,null,null,null,null,null,null,null,null,null,null,null,null,null,null,null,null,null,null,null,null,null,null,null,null,null,null,null,null,{"$f":"AG13","v":"　 適格請求書発行事業者登録番号"},null,null,null,null,null,null,null,null,null,null,null,null,null,null,null,null,null,null,null,{"$f":"BA13","v":"未登録"}]
[null,null,null,"工事コード",null,null,null,null,null,null,null,{"$f":"+L14","v":0},null,null,null,null,null,null,{"$f":"+S14","v":0}]
[]
[null,null,null,"工種名",null,null,null,null,null,null,null,{"$f":"+L16","v":0},null,null,null,null,null,null,null,null,null,null,null,null,null,null,null,null,null,null,null,null,null,null,null,null,null,null,"注文書番号"]
[null,null,null,null,null,null,null,null,null,null,null,null,null,null,null,null,null,null,null,null,null,null,null,null,null,null,null,null,null,null,null,null,null,null,null,null,null,null,{"$f":"+AM17","v":0},null,null,{"$f":"+AP17","v":0},null,null,{"$f":"+AS17","v":0},null,null,{"$f":"+AV17","v":0},null,null,{"$f":"+AY17","v":0},null,null,{"$f":"+BB17","v":0},null,null,{"$f":"+BE17","v":0},null,null,{"$f":"+BH17","v":0},null,null,{"$f":"+BK17","v":0},null,null,{"$f":"+BN17","v":0},null,null,{"$f":"+BQ17","v":0}]
[null,null,null,"工事場所",null,null,null,null,null,null,null,{"$f":"+L18","v":0}]
[]
[null,null,"今　　回　　請　　求　　額　　算　　定　　内　　訳"]
[null,null,"上 記 契 約 コ ー ド の 契 約 累 計 金 額",null,null,null,null,null,null,null,null,null,null,null,null,null,null,null,null,null,null,null,null,null,null,null,null,null,null,null,"Ｆ",null,"前回\nまで\n累計",null,null,null,null,null,"請求額（税抜）"]
[null,null,"A",null,"工 　  事　   価    格",null,"工事価格",null,null,null,null,null,null,null,null,null,null,{"$f":"+R22","v":""},null,null,null,null,null,null,null,null,null,null,null,null,null,null,null,null,null,null,null,"（前回のＥの欄を転記）",null,null,null,null,null,null,null,null,null,null,null,null,null,null,null,null,{"$f":"+BC22","v":0}]
[null,null,"B",null,null,null,{"$f":"G23","v":"消費税等（A×10％）"},null,null,null,null,null,null,null,null,null,null,{"$f":"+R23","v":0},null,null,null,null,null,null,null,null,null,null,null,null,"Ｇ",null,null,null,null,null,null,null,"消費税額等"]
[null,null,"C",null,"  ",null,"契約額    ( A + B )",null,null,null,null,null,null,null,null,null,null,{"$f":"IF(R91=\"\",\"\",R91+R92)","v":""},null,null,null,null,null,null,null,null,null,null,null,null,null,null,null,null,null,null,null,null,null,null,null,{"$f":"AP24","v":"（Ｆ×"},null,null,null,{"$f":"AT24","v":10},null,null,{"$f":"AW24","v":"％）"},null,null,null,null,null,{"$f":"+BC24","v":0}]
[null,null,"Ｄ",null,null,null,"出来高査定日",null,null,null,null,null,null,null,null,null,null,null,{"$f":"+S25","v":0},null,null,null,"年",{"$f":"+X25","v":0},"月末",null,null,null,null,null,"Ｈ","　　","今回　",null,null,null,null,null,"請求額（税抜）"]
[null,null,null,null,null,null,"累計出来高(税抜)\n(別紙内訳書より転記)",null,null,null,null,null,null,null,null,null,null,null,null,null,null,null,null,null,null,null,null,null,null,null,null,null,null,null,null,null,"Ｅ　-　Ｆ",null,null,null,null,null,null,null,null,null,null,null,null,null,null,null,null,null,{"$f":"+BC26","v":0}]
[null,null,null,null,null,null,null,null,null,null,null,null,null,null,null,null,null,{"$f":"+R27","v":0},null,null,null,null,null,null,null,null,null,null,null,null,"Ｉ",null,null,null,null,null,null,null,"消費税額等"]
[null,null,"E",null,"出来高保留後金額 ",null,null,null,null,null,null,null,null,null,null,null,null,null,null,null,null,null,null,null,null,null,null,null,null,null,null,null,null,null,null,null,null,"（Ｅ×Ｂの消費税率-Ｇ）",null,null,null,null,null,null,null,null,null,null,null,null,null,null,null,null,{"$f":"+BC28","v":0}]
[null,null,null,null,null,null,"Ｄ","×",null,null,{"$f":"+K29","v":90},null,null,"％",null,null,null,null,null,null,null,null,null,null,null,null,null,null,null,null,"Ｊ","今　回　税　込　請　求　額"]
[null,null,null,null,"(原則90%万単位未満切り捨て）",null,null,null,null,null,null,null,null,null,null,null,null,{"$f":"+R30","v":0},null,null,null,null,null,null,null,null,null,null,null,null,null,"Ｈ　+　Ｉ",null,null,null,null,null,null,null,null,null,null,null,null,null,null,null,null,null,null,null,null,null,null,{"$f":"+BC30","v":0}]
[]
[null,null,"【請求内訳欄】"]
[]
[null,null,"名　　称",null,null,null,null,null,null,null,null,null,null,null,null,null,"規格・摘要",null,null,null,null,null,null,"単位",null,"数量",null,null,null,null,"注 文 金 額",null,null,null,null,null,null,null,null,null,{"$f":"+AO34","v":"出来高金額(/末〆)"},null,null,null,null,null,null,null,null,null,null,null,null,null,null,null,null,null,null,null,"備　　　考"]
[null,null,null,null,null,null,null,null,null,null,null,null,null,null,null,null,null,null,null,null,null,null,null,null,null,null,null,null,null,null,null,null,null,null,null,null,null,null,null,null,"金　　額",null,null,null,null,null,null,null,null,null,null,null,null,"率"]
[null,null,{"$f":"IF(C36=\"\",\"\",C36)","v":0},null,null,null,null,null,null,null,null,null,null,null,null,null,{"$f":"+IF(Q36=\"\",\"\",Q36)","v":0},null,null,null,null,null,null,{"$f":"IF(X36=\"\",\"\",X36)","v":0},null,{"$f":"IF(Z36=\"\",\"\",Z36)","v":0},null,null,null,null,{"$f":"IF(AE36=\"\",\"\",AE36)","v":0},null,null,null,null,null,null,null,null,null,{"$f":"IF(AO36=\"\",\"\",AO36)","v":0},null,null,null,null,null,null,null,null,null,null,null,null,{"$f":"IF(BB36=\"\",\"\",BB36)","v":0},null,null,null,null,null,null,{"$f":"IF(BI36=\"\",\"\",BI36)","v":""}]
[null,null,{"$f":"IF(C37=\"\",\"\",C37)","v":0},null,null,null,null,null,null,null,null,null,null,null,null,null,{"$f":"+IF(Q37=\"\",\"\",Q37)","v":0},null,null,null,null,null,null,{"$f":"IF(X37=\"\",\"\",X37)","v":0},null,{"$f":"IF(Z37=\"\",\"\",Z37)","v":0},null,null,null,null,{"$f":"IF(AE37=\"\",\"\",AE37)","v":""},null,null,null,null,null,null,null,null,null,{"$f":"IF(AR37=\"\",\"\",AR37)","v":""},null,null,null,null,null,null,null,null,null,null,null,null,"",null,null,null,null,null,null,{"$f":"IF(BI37=\"\",\"\",BI37)","v":""}]
[null,null,{"$f":"IF(C38=\"\",\"\",C38)","v":"工事費　計"},null,null,null,null,null,null,null,null,null,null,null,null,null,{"$f":"+IF(Q38=\"\",\"\",Q38)","v":0},null,null,null,null,null,null,{"$f":"IF(X38=\"\",\"\",X38)","v":0},null,{"$f":"IF(Z38=\"\",\"\",Z38)","v":0},null,null,null,null,{"$f":"IF(AE38=\"\",\"\",AE38)","v":0},null,null,null,null,null,null,null,null,null,{"$f":"IF(AO38=\"\",\"\",AO38)","v":0},null,null,null,null,null,null,null,null,null,null,null,null,0,null,null,null,null,null,null,{"$f":"IF(BI38=\"\",\"\",BI38)","v":""}]
[null,null,{"$f":"IF(C39=\"\",\"\",C39)","v":0},null,null,null,null,null,null,null,null,null,null,null,null,null,{"$f":"+IF(Q39=\"\",\"\",Q39)","v":"⇒労務費総額"},null,null,null,null,null,null,{"$f":"IF(X39=\"\",\"\",X39)","v":0},null,{"$f":"IF(Z39=\"\",\"\",Z39)","v":0},null,null,null,null,{"$f":"IF(AE39=\"\",\"\",AE39)","v":""},null,null,null,null,null,null,null,null,null,{"$f":"IF(AR39=\"\",\"\",AR39)","v":""},null,null,null,null,null,null,null,null,null,null,null,null,"",null,null,null,null,null,null,{"$f":"IF(BI39=\"\",\"\",BI39)","v":""}]
[null,null,0,null,null,null,null,null,null,null,null,null,null,null,null,null,{"$f":"+IF(Q40=\"\",\"\",Q40)","v":"労務比率"},null,null,null,null,null,null,null,null,null,null,null,null,null,{"$f":"IF(AE40=\"\",\"\",AE40)","v":0},null,null,null,null,null,null,null,null,null,{"$f":"IF(AR40=\"\",\"\",AR40)","v":""},null,null,null,null,null,null,null,null,null,null,null,null,""]
[null,null,{"$f":"IF(C41=\"\",\"\",C41)","v":"事業主負担法定福利費"},null,null,null,null,null,null,null,null,null,null,null,null,null,"保険名称",null,null,null,null,null,null,null,null,null,null,null,null,null,"",null,null,null,null,null,null,null,null,null,"",null,null,null,null,null,null,null,null,null,null,null,null,""]
[null,null,"",null,null,null,null,null,null,null,null,null,null,null,null,null,{"$f":"+IF(Q42=\"\",\"\",Q42)","v":"a.健康保険料"},null,null,null,null,null,null,{"$f":"IF(X42=\"\",\"\",X42)","v":""},null,{"$f":"IF(Z42=\"\",\"\",Z42)","v":""},null,null,null,null,{"$f":"IF(AE42=\"\",\"\",AE42)","v":0},null,null,null,null,null,null,null,null,null,{"$f":"IF(AO42=\"\",\"\",AO42)","v":0},null,null,null,null,null,null,null,null,null,null,null,null,0,null,null,null,null,null,null,{"$f":"IF(BI42=\"\",\"\",BI42)","v":""}]
[null,null,"",null,null,null,null,null,null,null,null,null,null,null,null,null,"b.介護保険料",null,null,null,null,null,null,"",null,"",null,null,null,null,0,null,null,null,null,null,null,null,null,null,{"$f":"IF(AO43=\"\",\"\",AO43)","v":0},null,null,null,null,null,null,null,null,null,null,null,null,0,null,null,null,null,null,null,""]
[null,null,"",null,null,null,null,null,null,null,null,null,null,null,null,null,"c.厚生年金保険料",null,null,null,null,null,null,"",null,"",null,null,null,null,0,null,null,null,null,null,null,null,null,null,{"$f":"IF(AO44=\"\",\"\",AO44)","v":0},null,null,null,null,null,null,null,null,null,null,null,null,0,null,null,null,null,null,null,""]
[null,null,"",null,null,null,null,null,null,null,null,null,null,null,null,null,"d.雇用保険料",null,null,null,null,null,null,"",null,"",null,null,null,null,0,null,null,null,null,null,null,null,null,null,{"$f":"IF(AO45=\"\",\"\",AO45)","v":0},null,null,null,null,null,null,null,null,null,null,null,null,0,null,null,null,null,null,null,""]
[null,null,"",null,null,null,null,null,null,null,null,null,null,null,null,null,"e.子ども・子育て支援金",null,null,null,null,null,null,"",null,"",null,null,null,null,0,null,null,null,null,null,null,null,null,null,{"$f":"IF(AR46=\"\",\"\",AR46)","v":""},null,null,null,null,null,null,null,null,null,null,null,null,"",null,null,null,null,null,null,""]
[null,null,0,null,null,null,null,null,null,null,null,null,null,null,null,null,0,null,null,null,null,null,null,0,null,0,null,null,null,null,"",null,null,null,null,null,null,null,null,null,{"$f":"IF(AR47=\"\",\"\",AR47)","v":""},null,null,null,null,null,null,null,null,null,null,null,null,"",null,null,null,null,null,null,""]
[null,null,"法定福利費　計",null,null,null,null,null,null,null,null,null,null,null,null,null,"a～eの合計",null,null,null,null,null,null,0,null,0,null,null,null,null,0,null,null,null,null,null,null,null,null,null,{"$f":"IF(AO48=\"\",\"\",AO48)","v":0},null,null,null,null,null,null,null,null,null,null,null,null,0,null,null,null,null,null,null,""]
[null,null,"その他諸経費",null,null,null,null,null,null,null,null,null,null,null,null,null,0,null,null,null,null,null,null,0,null,0,null,null,null,null,"",null,null,null,null,null,null,null,null,null,{"$f":"IF(AO49=\"\",\"\",AO49)","v":0},null,null,null,null,null,null,null,null,null,null,null,null,"",null,null,null,null,null,null,""]
[null,null,"税　抜　計",null,null,null,null,null,null,null,null,null,null,null,null,null,0,null,null,null,null,null,null,0,null,0,null,null,null,null,"",null,null,null,null,null,null,null,null,null,{"$f":"IF(AR50=\"\",\"\",AR50)","v":0},null,null,null,null,null,null,null,null,null,null,null,null,"",null,null,null,null,null,null,""]
[null,null,"消 費 税 率",null,null,null,null,null,null,null,null,null,null,null,null,null,0,null,null,null,null,null,null,"％",null,0,null,null,null,null,10,null,null,null,null,null,null,null,null,null,{"$f":"IF(AO51=\"\",\"\",AO51)","v":10},null,null,null,null,null,null,null,null,null,null,null,null,"",null,null,null,null,null,null,""]
[null,null,"消　費　税",null,null,null,null,null,null,null,null,null,null,null,null,null,0,null,null,null,null,null,null,0,null,0,null,null,null,null,0,null,null,null,null,null,null,null,null,null,{"$f":"IF(AR52=\"\",\"\",AR52)","v":0},null,null,null,null,null,null,null,null,null,null,null,null,null,null,null,null,null,null,null,""]
[null,null,"合　　　計",null,null,null,null,null,null,null,null,null,null,null,null,null,0,null,null,null,null,null,null,0,null,0,null,null,null,null,"",null,null,null,null,null,null,null,null,null,null,null,null,{"$f":"IF(AR53=\"\",\"\",AR53)","v":0},null,null,null,null,null,null,null,null,null,null,null,null,null,null,null,null,""]
[]
[null,null,null,"福田組使用欄"]
[]
[]
[]
[]
[]
[]
[]
[]
[]
[null,null,"<支店保管用>",null,null,null,null,null,null,null,null,null,null,null,null,null,null,null,null,null,null,null,null,null,null,null,null,null,null,null,null,null,null,null,null,null,null,null,null,null,null,null,null,null,null,null,null,null,null,{"$f":"+AX70","v":0},null,null,null,null,null,"年",null,null,{"$f":"+BG70","v":0},null,null,"月",null,null,{"$f":"+BM70","v":0},null,null,null,"日"]
[null,"請　求　書　（工事請負）"]
[null,null,"株式会社　福田組　御 中"]
[null,null,null,null,null,null,null,null,null,null,null,null,null,null,null,null,null,null,null,null,null,null,null,null,null,null,null,null,"取引先コード",null,null,null,null,null,null,null,{"$f":"+AK73","v":0},null,null,null,{"$f":"+AO73","v":""},null,null,null,{"$f":"+AS73","v":""},null,null,null,{"$f":"+AW73","v":""},null,null,null,{"$f":"+BA73","v":""},null,null,null,{"$f":"+BE73","v":""},null,null,null,{"$f":"+BI73","v":""}]
[]
[null,null,null,null,null,null,null,null,null,null,null,null,null,null,null,null,null,null,null,null,null,null,null,null,null,null,null,null,null,null,null,null,"〒",null,{"$f":"+AI75","v":0},null,null,"-",null,{"$f":"+AN75","v":0}]
[null,null,null,"下記の金額を請求します。",null,null,null,null,null,null,null,null,null,null,null,null,null,null,null,null,null,null,null,null,null,null,null,null,"住所",null,null,null,{"$f":"+AG76","v":0}]
[null,null,null,null,null,null,null,null,null,null,null,null,null,null,null,null,null,null,null,null,null,null,null,null,null,null,null,null,null,null,null,null,{"$f":"+AG77","v":0}]
[null,null,null,{"$f":"+BC163","v":0},null,null,null,null,null,null,null,null,null,null,null,null,null,null,null,null,null,null,null,null,null,null,null,null,"氏名"]
[null,null,null,null,null,null,null,null,null,null,null,null,null,null,null,null,null,null,null,null,null,null,null,null,null,null,null,null,null,null,null,null,{"$f":"+AG79","v":0}]
[null,null,null,null,null,null,null,null,null,null,null,null,null,null,null,null,null,null,null,null,null,null,null,null,null,null,null,null,"電話",null,null,null,{"$f":"+AG80","v":0}]
[null,null,null,null,null,null,null,null,null,null,null,null,null,null,null,null,null,null,null,null,null,null,null,null,null,null,null,null,null,null,null,null,"担当者",null,null,null,null,{"$f":"AL81","v":0}]
[null,null,null,null,null,null,null,null,null,null,null,null,null,null,null,null,null,null,null,null,null,null,null,null,null,null,null,null,null,null,null,null,{"$f":"AG82","v":"　 適格請求書発行事業者登録番号"},null,null,null,null,null,null,null,null,null,null,null,null,null,null,null,null,null,null,null,{"$f":"BA82","v":"未登録"}]
[null,null,null,"工事コード",null,null,null,null,null,null,null,{"$f":"+L83","v":0},null,null,null,null,null,null,{"$f":"+S83","v":0}]
[]
[null,null,null,"工種名",null,null,null,null,null,null,null,{"$f":"+L85","v":0},null,null,null,null,null,null,null,null,null,null,null,null,null,null,null,null,null,null,null,null,null,null,null,null,null,null,"注文書番号"]
[null,null,null,null,null,null,null,null,null,null,null,null,null,null,null,null,null,null,null,null,null,null,null,null,null,null,null,null,null,null,null,null,null,null,null,null,null,null,{"$f":"+AM86","v":0},null,null,{"$f":"+AP86","v":0},null,null,{"$f":"+AS86","v":0},null,null,{"$f":"+AV86","v":0},null,null,{"$f":"+AY86","v":0},null,null,{"$f":"+BB86","v":0},null,null,{"$f":"+BE86","v":0},null,null,{"$f":"+BH86","v":0},null,null,{"$f":"+BK86","v":0},null,null,{"$f":"+BN86","v":0},null,null,{"$f":"+BQ86","v":0}]
[null,null,null,"工事場所",null,null,null,null,null,null,null,{"$f":"+L87","v":0}]
[]
[null,null,"今　　回　　請　　求　　額　　算　　定　　内　　訳"]
[null,null,"上 記 契 約 コ ー ド の 契 約 累 計 金 額",null,null,null,null,null,null,null,null,null,null,null,null,null,null,null,null,null,null,null,null,null,null,null,null,null,null,null,"Ｆ",null,"前回\nまで\n累計",null,null,null,null,null,"請求額（税抜）"]
[null,null,"A",null,"工 　  事　   価    格",null,"工事価格",null,null,null,null,null,null,null,null,null,null,{"$f":"+R91","v":""},null,null,null,null,null,null,null,null,null,null,null,null,null,null,null,null,null,null,null,"（前回のＥの欄を転記）",null,null,null,null,null,null,null,null,null,null,null,null,null,null,null,null,{"$f":"+BC91","v":0}]
[null,null,"B",null,null,null,{"$f":"G23","v":"消費税等（A×10％）"},null,null,null,null,null,null,null,null,null,null,{"$f":"+R92","v":0},null,null,null,null,null,null,null,null,null,null,null,null,"Ｇ",null,null,null,null,null,null,null,"消費税額等"]
[null,null,"C",null,"  ",null,"契約額    ( A + B )",null,null,null,null,null,null,null,null,null,null,{"$f":"IF(R155=\"\",\"\",R155+R156)","v":""},null,null,null,null,null,null,null,null,null,null,null,null,null,null,null,null,null,null,null,null,null,null,null,{"$f":"AP24","v":"（Ｆ×"},null,null,null,{"$f":"AT24","v":10},null,null,{"$f":"AW24","v":"％）"},null,null,null,null,null,{"$f":"+BC24","v":0}]
[null,null,"Ｄ",null,null,null,"出来高査定日",null,null,null,null,null,null,null,null,null,null,null,{"$f":"+S94","v":0},null,null,null,"年",{"$f":"+X94","v":0},"月末",null,null,null,null,null,"Ｈ","　　","今回　",null,null,null,null,null,"請求額（税抜）"]
[null,null,null,null,null,null,"累計出来高(税抜)\n(別紙内訳書より転記)",null,null,null,null,null,null,null,null,null,null,null,null,null,null,null,null,null,null,null,null,null,null,null,null,null,null,null,null,null,"Ｅ　-　Ｆ",null,null,null,null,null,null,null,null,null,null,null,null,null,null,null,null,null,{"$f":"+R163-BC155","v":0}]
[null,null,null,null,null,null,null,null,null,null,null,null,null,null,null,null,null,{"$f":"+R96","v":0},null,null,null,null,null,null,null,null,null,null,null,null,"Ｉ",null,null,null,null,null,null,null,"消費税額等"]
[null,null,"E",null,"出来高保留後金額 ",null,null,null,null,null,null,null,null,null,null,null,null,null,null,null,null,null,null,null,null,null,null,null,null,null,null,null,null,null,null,null,null,"（Ｅ×Ｂの消費税率-Ｇ）",null,null,null,null,null,null,null,null,null,null,null,null,null,null,null,null,{"$f":"+BC28","v":0}]
[null,null,null,null,null,null,"Ｄ","×",null,null,{"$f":"+K98","v":90},null,null,"％",null,null,null,null,null,null,null,null,null,null,null,null,null,null,null,null,"Ｊ","今　回　税　込　請　求　額"]
[null,null,null,null,"(原則90%万単位未満切り捨て）",null,null,null,null,null,null,null,null,null,null,null,null,{"$f":"+R99","v":0},null,null,null,null,null,null,null,null,null,null,null,null,null,"Ｈ　+　Ｉ",null,null,null,null,null,null,null,null,null,null,null,null,null,null,null,null,null,null,null,null,null,null,{"$f":"+BC30","v":0}]
[]
[null,null,"【請求内訳欄】"]
[]
[null,null,"名　　称",null,null,null,null,null,null,null,null,null,null,null,null,null,"規格・摘要",null,null,null,null,null,null,"単位",null,"数量",null,null,null,null,"注 文 金 額",null,null,null,null,null,null,null,null,null,{"$f":"+AO103","v":"出来高金額(/末〆)"},null,null,null,null,null,null,null,null,null,null,null,null,null,null,null,null,null,null,null,"備　　　考"]
[null,null,null,null,null,null,null,null,null,null,null,null,null,null,null,null,null,null,null,null,null,null,null,null,null,null,null,null,null,null,null,null,null,null,null,null,null,null,null,null,"金　　額",null,null,null,null,null,null,null,null,null,null,null,null,"率"]
[null,null,{"$f":"IF(C105=\"\",\"\",C105)","v":0},null,null,null,null,null,null,null,null,null,null,null,null,null,{"$f":"+IF(Q105=\"\",\"\",Q105)","v":0},null,null,null,null,null,null,{"$f":"IF(X105=\"\",\"\",X105)","v":0},null,{"$f":"IF(Z105=\"\",\"\",Z105)","v":0},null,null,null,null,{"$f":"IF(AE105=\"\",\"\",AE105)","v":0},null,null,null,null,null,null,null,null,null,null,null,null,{"$f":"IF(AO105=\"\",\"\",AO105)","v":0},null,null,null,null,null,null,null,null,null,{"$f":"IF(BB105=\"\",\"\",BB105)","v":0},null,null,null,null,null,null,{"$f":"IF(BI105=\"\",\"\",BI105)","v":""}]
[null,null,{"$f":"IF(C106=\"\",\"\",C106)","v":0},null,null,null,null,null,null,null,null,null,null,null,null,null,{"$f":"+IF(Q106=\"\",\"\",Q106)","v":0},null,null,null,null,null,null,{"$f":"IF(X106=\"\",\"\",X106)","v":0},null,{"$f":"IF(Z106=\"\",\"\",Z106)","v":0},null,null,null,null,{"$f":"IF(AE106=\"\",\"\",AE106)","v":""},null,null,null,null,null,null,null,null,null,null,null,null,{"$f":"IF(AO106=\"\",\"\",AO106)","v":""},null,null,null,null,null,null,null,null,null,{"$f":"IF(BB106=\"\",\"\",BB106)","v":""},null,null,null,null,null,null,{"$f":"IF(BI106=\"\",\"\",BI106)","v":""}]
[null,null,{"$f":"IF(C107=\"\",\"\",C107)","v":"工事費　計"},null,null,null,null,null,null,null,null,null,null,null,null,null,{"$f":"+IF(Q107=\"\",\"\",Q107)","v":0},null,null,null,null,null,null,{"$f":"IF(X107=\"\",\"\",X107)","v":0},null,{"$f":"IF(Z107=\"\",\"\",Z107)","v":0},null,null,null,null,{"$f":"IF(AE107=\"\",\"\",AE107)","v":0},null,null,null,null,null,null,null,null,null,null,null,null,{"$f":"IF(AO107=\"\",\"\",AO107)","v":0},null,null,null,null,null,null,null,null,null,{"$f":"IF(BB107=\"\",\"\",BB107)","v":0},null,null,null,null,null,null,{"$f":"IF(BI107=\"\",\"\",BI107)","v":""}]
[null,null,{"$f":"IF(C108=\"\",\"\",C108)","v":0},null,null,null,null,null,null,null,null,null,null,null,null,null,{"$f":"+IF(Q108=\"\",\"\",Q108)","v":"⇒労務費総額"},null,null,null,null,null,null,{"$f":"IF(X108=\"\",\"\",X108)","v":0},null,{"$f":"IF(Z108=\"\",\"\",Z108)","v":0},null,null,null,null,{"$f":"IF(AE108=\"\",\"\",AE108)","v":""},null,null,null,null,null,null,null,null,null,null,null,null,{"$f":"IF(AO108=\"\",\"\",AO108)","v":""},null,null,null,null,null,null,null,null,null,{"$f":"IF(BB108=\"\",\"\",BB108)","v":""},null,null,null,null,null,null,{"$f":"IF(BI108=\"\",\"\",BI108)","v":""}]
[null,null,{"$f":"IF(C109=\"\",\"\",C109)","v":0},null,null,null,null,null,null,null,null,null,null,null,null,null,{"$f":"+IF(Q109=\"\",\"\",Q109)","v":"労務比率"},null,null,null,null,null,null,{"$f":"IF(X109=\"\",\"\",X109)","v":""},null,{"$f":"IF(Z109=\"\",\"\",Z109)","v":""},null,null,null,null,{"$f":"IF(AE109=\"\",\"\",AE109)","v":0},null,null,null,null,null,null,null,null,null,null,null,null,{"$f":"IF(AO109=\"\",\"\",AO109)","v":""},null,null,null,null,null,null,null,null,null,{"$f":"IF(BB109=\"\",\"\",BB109)","v":""},null,null,null,null,null,null,{"$f":"IF(BI109=\"\",\"\",BI109)","v":""}]
[null,null,"事業主負担法定福利費",null,null,null,null,null,null,null,null,null,null,null,null,null,"保険名称",null,null,null,null,null,null,"",null,"",null,null,null,null,"",null,null,null,null,null,null,null,null,null,null,null,null,"",null,null,null,null,null,null,null,null,null,"",null,null,null,null,null,null,""]
[null,null,{"$f":"IF(C111=\"\",\"\",C111)","v":""},null,null,null,null,null,null,null,null,null,null,null,null,null,{"$f":"+IF(Q111=\"\",\"\",Q111)","v":"a.健康保険料"},null,null,null,null,null,null,{"$f":"IF(X111=\"\",\"\",X111)","v":""},null,{"$f":"IF(Z111=\"\",\"\",Z111)","v":""},null,null,null,null,{"$f":"IF(AE111=\"\",\"\",AE111)","v":0},null,null,null,null,null,null,null,null,null,null,null,null,{"$f":"IF(AO111=\"\",\"\",AO111)","v":0},null,null,null,null,null,null,null,null,null,{"$f":"IF(BB111=\"\",\"\",BB111)","v":0},null,null,null,null,null,null,{"$f":"IF(BI111=\"\",\"\",BI111)","v":""}]
[null,null,"",null,null,null,null,null,null,null,null,null,null,null,null,null,"b.介護保険料",null,null,null,null,null,null,"",null,"",null,null,null,null,0,null,null,null,null,null,null,null,null,null,null,null,null,0,null,null,null,null,null,null,null,null,null,0,null,null,null,null,null,null,""]
[null,null,"",null,null,null,null,null,null,null,null,null,null,null,null,null,"c.厚生年金保険料",null,null,null,null,null,null,{"$f":"IF(X113=\"\",\"\",X113)","v":""},null,{"$f":"IF(Z113=\"\",\"\",Z113)","v":""},null,null,null,null,{"$f":"IF(AE113=\"\",\"\",AE113)","v":0},null,null,null,null,null,null,null,null,null,null,null,null,0,null,null,null,null,null,null,null,null,null,{"$f":"IF(BB113=\"\",\"\",BB113)","v":0},null,null,null,null,null,null,{"$f":"IF(BI113=\"\",\"\",BI113)","v":""}]
[null,null,"",null,null,null,null,null,null,null,null,null,null,null,null,null,"d.雇用保険料",null,null,null,null,null,null,"",null,"",null,null,null,null,0,null,null,null,null,null,null,null,null,null,null,null,null,0,null,null,null,null,null,null,null,null,null,0,null,null,null,null,null,null,""]
[null,null,"",null,null,null,null,null,null,null,null,null,null,null,null,null,"e.子ども・子育て支援金",null,null,null,null,null,null,"",null,"",null,null,null,null,0,null,null,null,null,null,null,null,null,null,null,null,null,"",null,null,null,null,null,null,null,null,null,"",null,null,null,null,null,null,""]
[null,null,0,null,null,null,null,null,null,null,null,null,null,null,null,null,0,null,null,null,null,null,null,0,null,0,null,null,null,null,"",null,null,null,null,null,null,null,null,null,null,null,null,"",null,null,null,null,null,null,null,null,null,"",null,null,null,null,null,null,""]
[null,null,"法定福利費　計",null,null,null,null,null,null,null,null,null,null,null,null,null,"a～eの合計",null,null,null,null,null,null,0,null,0,null,null,null,null,0,null,null,null,null,null,null,null,null,null,null,null,null,0,null,null,null,null,null,null,null,null,null,0,null,null,null,null,null,null,""]
[null,null,"その他諸経費",null,null,null,null,null,null,null,null,null,null,null,null,null,0,null,null,null,null,null,null,0,null,0,null,null,null,null,"",null,null,null,null,null,null,null,null,null,null,null,null,0,null,null,null,null,null,null,null,null,null,"",null,null,null,null,null,null,""]
[null,null,"税　抜　計",null,null,null,null,null,null,null,null,null,null,null,null,null,0,null,null,null,null,null,null,0,null,0,null,null,null,null,"",null,null,null,null,null,null,null,null,null,null,null,null,0,null,null,null,null,null,null,null,null,null,"",null,null,null,null,null,null,""]
[null,null,"消 費 税 率",null,null,null,null,null,null,null,null,null,null,null,null,null,0,null,null,null,null,null,null,"％",null,0,null,null,null,null,10,null,null,null,null,null,null,null,null,null,null,null,null,10,null,null,null,null,null,null,null,null,null,"",null,null,null,null,null,null,""]
[null,null,"消　費　税",null,null,null,null,null,null,null,null,null,null,null,null,null,0,null,null,null,null,null,null,0,null,0,null,null,null,null,0,null,null,null,null,null,null,null,null,null,null,null,null,0,null,null,null,null,null,null,null,null,null,null,null,null,null,null,null,null,""]
[null,null,"合　　　計",null,null,null,null,null,null,null,null,null,null,null,null,null,0,null,null,null,null,null,null,0,null,0,null,null,null,null,"",null,null,null,null,null,null,null,null,null,null,null,null,{"$f":"IF(AR122=\"\",\"\",AR122)","v":0},null,null,null,null,null,null,null,null,null,null,null,null,null,null,null,null,""]
[]
[null,null,null,"福田組使用欄"]

{"sheet":"請求4号","index":12,"n_rows":303,"n_cols":11,"rows_kept":303,"cut":false,"hidden":false,"merged":[[1,7,1,9],[1,10,2,10],[1,0,2,0],[1,3,2,3],[1,1,1,2],[1,4,1,6]]}
[]
["番号","　項　　　　　目",null,"単位","注文金額（税抜）",null,null,{"$f":"出来高表紙!AJ14&出来高表紙!AJ15","v":"今回累計出来高金額(10月分)"},null,null,"備　考"]
[null,"名　　　　　称","規　　格　　・　摘　　要",null,"数　量","単　価","金　　額","数　量","金　　額","率"]
[{"$f":"契約2号【印刷】!A4","v":1},{"$f":"契約2号【印刷】!B4","v":0},{"$f":"契約2号【印刷】!C4","v":0},{"$f":"契約2号【印刷】!D4","v":0},{"$f":"IF(契約2号【印刷】!$H$2=\"変更後注文金額\",契約2号【印刷】!E4,契約2号【印刷】!H4)","v":""},{"$f":"IF(契約2号【印刷】!$H$2=\"変更後注文金額\",契約2号【印刷】!F4,契約2号【印刷】!I4)","v":""},{"$f":"IF(契約2号【印刷】!$H$2=\"変更後注文金額\",契約2号【印刷】!G4,契約2号【印刷】!J4)","v":""},null,{"$f":"IF(OR(F4=\"\",H4=\"\"),\"\",ROUNDDOWN(F4*H4,0))","v":""},{"$f":"IF(OR(G4=\"\",I4=\"\"),\"\",I4/G4)","v":""}]
[{"$f":"契約2号【印刷】!A5","v":2},{"$f":"契約2号【印刷】!B5","v":0},{"$f":"契約2号【印刷】!C5","v":0},{"$f":"契約2号【印刷】!D5","v":0},{"$f":"IF(契約2号【印刷】!$H$2=\"変更後注文金額\",契約2号【印刷】!E5,契約2号【印刷】!H5)","v":""},{"$f":"IF(契約2号【印刷】!$H$2=\"変更後注文金額\",契約2号【印刷】!F5,契約2号【印刷】!I5)","v":""},{"$f":"IF(契約2号【印刷】!$H$2=\"変更後注文金額\",契約2号【印刷】!G5,契約2号【印刷】!J5)","v":""},null,{"$f":"IF(OR(F5=\"\",H5=\"\"),\"\",ROUNDDOWN(F5*H5,0))","v":""},""]
[{"$f":"契約2号【印刷】!A6","v":3},{"$f":"契約2号【印刷】!B6","v":0},{"$f":"契約2号【印刷】!C6","v":0},{"$f":"契約2号【印刷】!D6","v":0},{"$f":"IF(契約2号【印刷】!$H$2=\"変更後注文金額\",契約2号【印刷】!E6,契約2号【印刷】!H6)","v":""},{"$f":"IF(契約2号【印刷】!$H$2=\"変更後注文金額\",契約2号【印刷】!F6,契約2号【印刷】!I6)","v":""},{"$f":"IF(契約2号【印刷】!$H$2=\"変更後注文金額\",契約2号【印刷】!G6,契約2号【印刷】!J6)","v":""},null,{"$f":"IF(OR(F6=\"\",H6=\"\"),\"\",ROUNDDOWN(F6*H6,0))","v":""},""]
[{"$f":"契約2号【印刷】!A7","v":4},{"$f":"契約2号【印刷】!B7","v":0},{"$f":"契約2号【印刷】!C7","v":0},{"$f":"契約2号【印刷】!D7","v":0},{"$f":"IF(契約2号【印刷】!$H$2=\"変更後注文金額\",契約2号【印刷】!E7,契約2号【印刷】!H7)","v":""},{"$f":"IF(契約2号【印刷】!$H$2=\"変更後注文金額\",契約2号【印刷】!F7,契約2号【印刷】!I7)","v":""},{"$f":"IF(契約2号【印刷】!$H$2=\"変更後注文金額\",契約2号【印刷】!G7,契約2号【印刷】!J7)","v":""},null,"",""]
[{"$f":"契約2号【印刷】!A8","v":5},{"$f":"契約2号【印刷】!B8","v":0},{"$f":"契約2号【印刷】!C8","v":0},{"$f":"契約2号【印刷】!D8","v":0},{"$f":"IF(契約2号【印刷】!$H$2=\"変更後注文金額\",契約2号【印刷】!E8,契約2号【印刷】!H8)","v":""},{"$f":"IF(契約2号【印刷】!$H$2=\"変更後注文金額\",契約2号【印刷】!F8,契約2号【印刷】!I8)","v":""},{"$f":"IF(契約2号【印刷】!$H$2=\"変更後注文金額\",契約2号【印刷】!G8,契約2号【印刷】!J8)","v":""},null,"",""]
[{"$f":"契約2号【印刷】!A9","v":6},{"$f":"契約2号【印刷】!B9","v":0},{"$f":"契約2号【印刷】!C9","v":0},{"$f":"契約2号【印刷】!D9","v":0},{"$f":"IF(契約2号【印刷】!$H$2=\"変更後注文金額\",契約2号【印刷】!E9,契約2号【印刷】!H9)","v":""},{"$f":"IF(契約2号【印刷】!$H$2=\"変更後注文金額\",契約2号【印刷】!F9,契約2号【印刷】!I9)","v":""},{"$f":"IF(契約2号【印刷】!$H$2=\"変更後注文金額\",契約2号【印刷】!G9,契約2号【印刷】!J9)","v":""},null,"",""]
[{"$f":"契約2号【印刷】!A10","v":7},{"$f":"契約2号【印刷】!B10","v":0},{"$f":"契約2号【印刷】!C10","v":0},{"$f":"契約2号【印刷】!D10","v":0},{"$f":"IF(契約2号【印刷】!$H$2=\"変更後注文金額\",契約2号【印刷】!E10,契約2号【印刷】!H10)","v":""},{"$f":"IF(契約2号【印刷】!$H$2=\"変更後注文金額\",契約2号【印刷】!F10,契約2号【印刷】!I10)","v":""},{"$f":"IF(契約2号【印刷】!$H$2=\"変更後注文金額\",契約2号【印刷】!G10,契約2号【印刷】!J10)","v":""},null,"",""]
[{"$f":"契約2号【印刷】!A11","v":8},{"$f":"契約2号【印刷】!B11","v":0},{"$f":"契約2号【印刷】!C11","v":0},{"$f":"契約2号【印刷】!D11","v":0},{"$f":"IF(契約2号【印刷】!$H$2=\"変更後注文金額\",契約2号【印刷】!E11,契約2号【印刷】!H11)","v":""},{"$f":"IF(契約2号【印刷】!$H$2=\"変更後注文金額\",契約2号【印刷】!F11,契約2号【印刷】!I11)","v":""},{"$f":"IF(契約2号【印刷】!$H$2=\"変更後注文金額\",契約2号【印刷】!G11,契約2号【印刷】!J11)","v":""},null,"",""]
[{"$f":"契約2号【印刷】!A12","v":9},{"$f":"契約2号【印刷】!B12","v":0},{"$f":"契約2号【印刷】!C12","v":0},{"$f":"契約2号【印刷】!D12","v":0},{"$f":"IF(契約2号【印刷】!$H$2=\"変更後注文金額\",契約2号【印刷】!E12,契約2号【印刷】!H12)","v":""},{"$f":"IF(契約2号【印刷】!$H$2=\"変更後注文金額\",契約2号【印刷】!F12,契約2号【印刷】!I12)","v":""},{"$f":"IF(契約2号【印刷】!$H$2=\"変更後注文金額\",契約2号【印刷】!G12,契約2号【印刷】!J12)","v":""},null,"",""]
[{"$f":"契約2号【印刷】!A13","v":10},{"$f":"契約2号【印刷】!B13","v":0},{"$f":"契約2号【印刷】!C13","v":0},{"$f":"契約2号【印刷】!D13","v":0},{"$f":"IF(契約2号【印刷】!$H$2=\"変更後注文金額\",契約2号【印刷】!E13,契約2号【印刷】!H13)","v":""},{"$f":"IF(契約2号【印刷】!$H$2=\"変更後注文金額\",契約2号【印刷】!F13,契約2号【印刷】!I13)","v":""},{"$f":"IF(契約2号【印刷】!$H$2=\"変更後注文金額\",契約2号【印刷】!G13,契約2号【印刷】!J13)","v":""},null,"",""]
[{"$f":"契約2号【印刷】!A14","v":11},{"$f":"契約2号【印刷】!B14","v":0},{"$f":"契約2号【印刷】!C14","v":0},{"$f":"契約2号【印刷】!D14","v":0},{"$f":"IF(契約2号【印刷】!$H$2=\"変更後注文金額\",契約2号【印刷】!E14,契約2号【印刷】!H14)","v":""},{"$f":"IF(契約2号【印刷】!$H$2=\"変更後注文金額\",契約2号【印刷】!F14,契約2号【印刷】!I14)","v":""},{"$f":"IF(契約2号【印刷】!$H$2=\"変更後注文金額\",契約2号【印刷】!G14,契約2号【印刷】!J14)","v":""},null,"",""]
[{"$f":"契約2号【印刷】!A15","v":12},{"$f":"契約2号【印刷】!B15","v":0},{"$f":"契約2号【印刷】!C15","v":0},{"$f":"契約2号【印刷】!D15","v":0},{"$f":"IF(契約2号【印刷】!$H$2=\"変更後注文金額\",契約2号【印刷】!E15,契約2号【印刷】!H15)","v":""},{"$f":"IF(契約2号【印刷】!$H$2=\"変更後注文金額\",契約2号【印刷】!F15,契約2号【印刷】!I15)","v":""},{"$f":"IF(契約2号【印刷】!$H$2=\"変更後注文金額\",契約2号【印刷】!G15,契約2号【印刷】!J15)","v":""},null,"",""]
[{"$f":"契約2号【印刷】!A16","v":13},{"$f":"契約2号【印刷】!B16","v":0},{"$f":"契約2号【印刷】!C16","v":0},{"$f":"契約2号【印刷】!D16","v":0},{"$f":"IF(契約2号【印刷】!$H$2=\"変更後注文金額\",契約2号【印刷】!E16,契約2号【印刷】!H16)","v":""},{"$f":"IF(契約2号【印刷】!$H$2=\"変更後注文金額\",契約2号【印刷】!F16,契約2号【印刷】!I16)","v":""},{"$f":"IF(契約2号【印刷】!$H$2=\"変更後注文金額\",契約2号【印刷】!G16,契約2号【印刷】!J16)","v":""},null,"",""]
[{"$f":"契約2号【印刷】!A17","v":14},{"$f":"契約2号【印刷】!B17","v":0},{"$f":"契約2号【印刷】!C17","v":0},{"$f":"契約2号【印刷】!D17","v":0},{"$f":"IF(契約2号【印刷】!$H$2=\"変更後注文金額\",契約2号【印刷】!E17,契約2号【印刷】!H17)","v":""},{"$f":"IF(契約2号【印刷】!$H$2=\"変更後注文金額\",契約2号【印刷】!F17,契約2号【印刷】!I17)","v":""},{"$f":"IF(契約2号【印刷】!$H$2=\"変更後注文金額\",契約2号【印刷】!G17,契約2号【印刷】!J17)","v":""},null,"",""]
[{"$f":"契約2号【印刷】!A18","v":15},{"$f":"契約2号【印刷】!B18","v":0},{"$f":"契約2号【印刷】!C18","v":0},{"$f":"契約2号【印刷】!D18","v":0},{"$f":"IF(契約2号【印刷】!$H$2=\"変更後注文金額\",契約2号【印刷】!E18,契約2号【印刷】!H18)","v":""},{"$f":"IF(契約2号【印刷】!$H$2=\"変更後注文金額\",契約2号【印刷】!F18,契約2号【印刷】!I18)","v":""},{"$f":"IF(契約2号【印刷】!$H$2=\"変更後注文金額\",契約2号【印刷】!G18,契約2号【印刷】!J18)","v":""},null,"",""]
[{"$f":"契約2号【印刷】!A19","v":16},{"$f":"契約2号【印刷】!B19","v":0},{"$f":"契約2号【印刷】!C19","v":0},{"$f":"契約2号【印刷】!D19","v":0},{"$f":"IF(契約2号【印刷】!$H$2=\"変更後注文金額\",契約2号【印刷】!E19,契約2号【印刷】!H19)","v":""},{"$f":"IF(契約2号【印刷】!$H$2=\"変更後注文金額\",契約2号【印刷】!F19,契約2号【印刷】!I19)","v":""},{"$f":"IF(契約2号【印刷】!$H$2=\"変更後注文金額\",契約2号【印刷】!G19,契約2号【印刷】!J19)","v":""},null,{"$f":"IF(OR(F19=\"\",H19=\"\"),\"\",ROUNDDOWN(F19*H19,0))","v":""},{"$f":"IF(OR(G19=\"\",I19=\"\"),\"\",I19/G19)","v":""}]
[{"$f":"契約2号【印刷】!A20","v":17},{"$f":"契約2号【印刷】!B20","v":0},{"$f":"契約2号【印刷】!C20","v":0},{"$f":"契約2号【印刷】!D20","v":0},{"$f":"IF(契約2号【印刷】!$H$2=\"変更後注文金額\",契約2号【印刷】!E20,契約2号【印刷】!H20)","v":""},{"$f":"IF(契約2号【印刷】!$H$2=\"変更後注文金額\",契約2号【印刷】!F20,契約2号【印刷】!I20)","v":""},{"$f":"IF(契約2号【印刷】!$H$2=\"変更後注文金額\",契約2号【印刷】!G20,契約2号【印刷】!J20)","v":""},null,"",""]
[{"$f":"契約2号【印刷】!A21","v":18},{"$f":"契約2号【印刷】!B21","v":0},{"$f":"契約2号【印刷】!C21","v":0},{"$f":"契約2号【印刷】!D21","v":0},{"$f":"IF(契約2号【印刷】!$H$2=\"変更後注文金額\",契約2号【印刷】!E21,契約2号【印刷】!H21)","v":""},{"$f":"IF(契約2号【印刷】!$H$2=\"変更後注文金額\",契約2号【印刷】!F21,契約2号【印刷】!I21)","v":""},{"$f":"IF(契約2号【印刷】!$H$2=\"変更後注文金額\",契約2号【印刷】!G21,契約2号【印刷】!J21)","v":""},null,"",""]
[{"$f":"契約2号【印刷】!A22","v":19},{"$f":"契約2号【印刷】!B22","v":0},{"$f":"契約2号【印刷】!C22","v":0},{"$f":"契約2号【印刷】!D22","v":0},{"$f":"IF(契約2号【印刷】!$H$2=\"変更後注文金額\",契約2号【印刷】!E22,契約2号【印刷】!H22)","v":""},{"$f":"IF(契約2号【印刷】!$H$2=\"変更後注文金額\",契約2号【印刷】!F22,契約2号【印刷】!I22)","v":""},{"$f":"IF(契約2号【印刷】!$H$2=\"変更後注文金額\",契約2号【印刷】!G22,契約2号【印刷】!J22)","v":""},null,"",""]
[{"$f":"契約2号【印刷】!A23","v":20},{"$f":"契約2号【印刷】!B23","v":0},{"$f":"契約2号【印刷】!C23","v":0},{"$f":"契約2号【印刷】!D23","v":0},{"$f":"IF(契約2号【印刷】!$H$2=\"変更後注文金額\",契約2号【印刷】!E23,契約2号【印刷】!H23)","v":""},{"$f":"IF(契約2号【印刷】!$H$2=\"変更後注文金額\",契約2号【印刷】!F23,契約2号【印刷】!I23)","v":""},{"$f":"IF(契約2号【印刷】!$H$2=\"変更後注文金額\",契約2号【印刷】!G23,契約2号【印刷】!J23)","v":""},null,"",""]
[{"$f":"契約2号【印刷】!A24","v":21},{"$f":"契約2号【印刷】!B24","v":0},{"$f":"契約2号【印刷】!C24","v":0},{"$f":"契約2号【印刷】!D24","v":0},{"$f":"IF(契約2号【印刷】!$H$2=\"変更後注文金額\",契約2号【印刷】!E24,契約2号【印刷】!H24)","v":""},{"$f":"IF(契約2号【印刷】!$H$2=\"変更後注文金額\",契約2号【印刷】!F24,契約2号【印刷】!I24)","v":""},{"$f":"IF(契約2号【印刷】!$H$2=\"変更後注文金額\",契約2号【印刷】!G24,契約2号【印刷】!J24)","v":""},null,"",""]
[{"$f":"契約2号【印刷】!A25","v":22},{"$f":"契約2号【印刷】!B25","v":0},{"$f":"契約2号【印刷】!C25","v":0},{"$f":"契約2号【印刷】!D25","v":0},{"$f":"IF(契約2号【印刷】!$H$2=\"変更後注文金額\",契約2号【印刷】!E25,契約2号【印刷】!H25)","v":""},{"$f":"IF(契約2号【印刷】!$H$2=\"変更後注文金額\",契約2号【印刷】!F25,契約2号【印刷】!I25)","v":""},{"$f":"IF(契約2号【印刷】!$H$2=\"変更後注文金額\",契約2号【印刷】!G25,契約2号【印刷】!J25)","v":""},null,"",""]
[{"$f":"契約2号【印刷】!A26","v":23},{"$f":"契約2号【印刷】!B26","v":0},{"$f":"契約2号【印刷】!C26","v":0},{"$f":"契約2号【印刷】!D26","v":0},{"$f":"IF(契約2号【印刷】!$H$2=\"変更後注文金額\",契約2号【印刷】!E26,契約2号【印刷】!H26)","v":""},{"$f":"IF(契約2号【印刷】!$H$2=\"変更後注文金額\",契約2号【印刷】!F26,契約2号【印刷】!I26)","v":""},{"$f":"IF(契約2号【印刷】!$H$2=\"変更後注文金額\",契約2号【印刷】!G26,契約2号【印刷】!J26)","v":""},null,"",""]
[{"$f":"契約2号【印刷】!A27","v":24},{"$f":"契約2号【印刷】!B27","v":0},{"$f":"契約2号【印刷】!C27","v":0},{"$f":"契約2号【印刷】!D27","v":0},{"$f":"IF(契約2号【印刷】!$H$2=\"変更後注文金額\",契約2号【印刷】!E27,契約2号【印刷】!H27)","v":""},{"$f":"IF(契約2号【印刷】!$H$2=\"変更後注文金額\",契約2号【印刷】!F27,契約2号【印刷】!I27)","v":""},{"$f":"IF(契約2号【印刷】!$H$2=\"変更後注文金額\",契約2号【印刷】!G27,契約2号【印刷】!J27)","v":""},null,"",""]
[{"$f":"契約2号【印刷】!A28","v":25},{"$f":"契約2号【印刷】!B28","v":0},{"$f":"契約2号【印刷】!C28","v":0},{"$f":"契約2号【印刷】!D28","v":0},{"$f":"IF(契約2号【印刷】!$H$2=\"変更後注文金額\",契約2号【印刷】!E28,契約2号【印刷】!H28)","v":""},{"$f":"IF(契約2号【印刷】!$H$2=\"変更後注文金額\",契約2号【印刷】!F28,契約2号【印刷】!I28)","v":""},{"$f":"IF(契約2号【印刷】!$H$2=\"変更後注文金額\",契約2号【印刷】!G28,契約2号【印刷】!J28)","v":""},null,"",""]
[{"$f":"契約2号【印刷】!A29","v":26},{"$f":"契約2号【印刷】!B29","v":0},{"$f":"契約2号【印刷】!C29","v":0},{"$f":"契約2号【印刷】!D29","v":0},{"$f":"IF(契約2号【印刷】!$H$2=\"変更後注文金額\",契約2号【印刷】!E29,契約2号【印刷】!H29)","v":""},{"$f":"IF(契約2号【印刷】!$H$2=\"変更後注文金額\",契約2号【印刷】!F29,契約2号【印刷】!I29)","v":""},{"$f":"IF(契約2号【印刷】!$H$2=\"変更後注文金額\",契約2号【印刷】!G29,契約2号【印刷】!J29)","v":""},null,"",""]
[{"$f":"契約2号【印刷】!A30","v":27},{"$f":"契約2号【印刷】!B30","v":0},{"$f":"契約2号【印刷】!C30","v":0},{"$f":"契約2号【印刷】!D30","v":0},{"$f":"IF(契約2号【印刷】!$H$2=\"変更後注文金額\",契約2号【印刷】!E30,契約2号【印刷】!H30)","v":""},{"$f":"IF(契約2号【印刷】!$H$2=\"変更後注文金額\",契約2号【印刷】!F30,契約2号【印刷】!I30)","v":""},{"$f":"IF(契約2号【印刷】!$H$2=\"変更後注文金額\",契約2号【印刷】!G30,契約2号【印刷】!J30)","v":""},null,"",""]
[{"$f":"契約2号【印刷】!A31","v":28},{"$f":"契約2号【印刷】!B31","v":0},{"$f":"契約2号【印刷】!C31","v":0},{"$f":"契約2号【印刷】!D31","v":0},{"$f":"IF(契約2号【印刷】!$H$2=\"変更後注文金額\",契約2号【印刷】!E31,契約2号【印刷】!H31)","v":""},{"$f":"IF(契約2号【印刷】!$H$2=\"変更後注文金額\",契約2号【印刷】!F31,契約2号【印刷】!I31)","v":""},{"$f":"IF(契約2号【印刷】!$H$2=\"変更後注文金額\",契約2号【印刷】!G31,契約2号【印刷】!J31)","v":""},null,"",""]
[{"$f":"契約2号【印刷】!A32","v":29},{"$f":"契約2号【印刷】!B32","v":0},{"$f":"契約2号【印刷】!C32","v":0},{"$f":"契約2号【印刷】!D32","v":0},{"$f":"IF(契約2号【印刷】!$H$2=\"変更後注文金額\",契約2号【印刷】!E32,契約2号【印刷】!H32)","v":""},{"$f":"IF(契約2号【印刷】!$H$2=\"変更後注文金額\",契約2号【印刷】!F32,契約2号【印刷】!I32)","v":""},{"$f":"IF(契約2号【印刷】!$H$2=\"変更後注文金額\",契約2号【印刷】!G32,契約2号【印刷】!J32)","v":""},null,"",""]
[{"$f":"契約2号【印刷】!A33","v":30},{"$f":"契約2号【印刷】!B33","v":"項計"},{"$f":"契約2号【印刷】!C33","v":"　"},{"$f":"契約2号【印刷】!D33","v":"　"},{"$f":"IF(契約2号【印刷】!$H$2=\"変更後注文金額\",契約2号【印刷】!E33,契約2号【印刷】!H33)","v":""},{"$f":"IF(契約2号【印刷】!$H$2=\"変更後注文金額\",契約2号【印刷】!F33,契約2号【印刷】!I33)","v":""},{"$f":"IF(契約2号【印刷】!$H$2=\"変更後注文金額\",契約2号【印刷】!G33,契約2号【印刷】!J33)","v":0},null,{"$f":"SUM(I4:I32)","v":0},{"$f":"IFERROR(IF(OR(G33=\"\",I33=\"\"),\"\",I33/G33),)","v":0},"①"]
[{"$f":"契約2号【印刷】!A34","v":31},{"$f":"契約2号【印刷】!B34","v":0},{"$f":"契約2号【印刷】!C34","v":0},{"$f":"契約2号【印刷】!D34","v":0},{"$f":"IF(契約2号【印刷】!$H$2=\"変更後注文金額\",契約2号【印刷】!E34,契約2号【印刷】!H34)","v":""},{"$f":"IF(契約2号【印刷】!$H$2=\"変更後注文金額\",契約2号【印刷】!F34,契約2号【印刷】!I34)","v":""},{"$f":"IF(契約2号【印刷】!$H$2=\"変更後注文金額\",契約2号【印刷】!G34,契約2号【印刷】!J34)","v":""},null,{"$f":"IF(OR(F34=\"\",H34=\"\"),\"\",ROUNDDOWN(F34*H34,0))","v":""},{"$f":"IF(OR(G34=\"\",I34=\"\"),\"\",I34/G34)","v":""}]
[{"$f":"契約2号【印刷】!A35","v":32},{"$f":"契約2号【印刷】!B35","v":0},{"$f":"契約2号【印刷】!C35","v":0},{"$f":"契約2号【印刷】!D35","v":0},{"$f":"IF(契約2号【印刷】!$H$2=\"変更後注文金額\",契約2号【印刷】!E35,契約2号【印刷】!H35)","v":""},{"$f":"IF(契約2号【印刷】!$H$2=\"変更後注文金額\",契約2号【印刷】!F35,契約2号【印刷】!I35)","v":""},{"$f":"IF(契約2号【印刷】!$H$2=\"変更後注文金額\",契約2号【印刷】!G35,契約2号【印刷】!J35)","v":""},null,"",""]
[{"$f":"契約2号【印刷】!A36","v":33},{"$f":"契約2号【印刷】!B36","v":0},{"$f":"契約2号【印刷】!C36","v":0},{"$f":"契約2号【印刷】!D36","v":0},{"$f":"IF(契約2号【印刷】!$H$2=\"変更後注文金額\",契約2号【印刷】!E36,契約2号【印刷】!H36)","v":""},{"$f":"IF(契約2号【印刷】!$H$2=\"変更後注文金額\",契約2号【印刷】!F36,契約2号【印刷】!I36)","v":""},{"$f":"IF(契約2号【印刷】!$H$2=\"変更後注文金額\",契約2号【印刷】!G36,契約2号【印刷】!J36)","v":""},null,"",""]
[{"$f":"契約2号【印刷】!A37","v":34},{"$f":"契約2号【印刷】!B37","v":0},{"$f":"契約2号【印刷】!C37","v":0},{"$f":"契約2号【印刷】!D37","v":0},{"$f":"IF(契約2号【印刷】!$H$2=\"変更後注文金額\",契約2号【印刷】!E37,契約2号【印刷】!H37)","v":""},{"$f":"IF(契約2号【印刷】!$H$2=\"変更後注文金額\",契約2号【印刷】!F37,契約2号【印刷】!I37)","v":""},{"$f":"IF(契約2号【印刷】!$H$2=\"変更後注文金額\",契約2号【印刷】!G37,契約2号【印刷】!J37)","v":""},null,"",""]
[{"$f":"契約2号【印刷】!A38","v":35},{"$f":"契約2号【印刷】!B38","v":0},{"$f":"契約2号【印刷】!C38","v":0},{"$f":"契約2号【印刷】!D38","v":0},{"$f":"IF(契約2号【印刷】!$H$2=\"変更後注文金額\",契約2号【印刷】!E38,契約2号【印刷】!H38)","v":""},{"$f":"IF(契約2号【印刷】!$H$2=\"変更後注文金額\",契約2号【印刷】!F38,契約2号【印刷】!I38)","v":""},{"$f":"IF(契約2号【印刷】!$H$2=\"変更後注文金額\",契約2号【印刷】!G38,契約2号【印刷】!J38)","v":""},null,"",""]
[{"$f":"契約2号【印刷】!A39","v":36},{"$f":"契約2号【印刷】!B39","v":0},{"$f":"契約2号【印刷】!C39","v":0},{"$f":"契約2号【印刷】!D39","v":0},{"$f":"IF(契約2号【印刷】!$H$2=\"変更後注文金額\",契約2号【印刷】!E39,契約2号【印刷】!H39)","v":""},{"$f":"IF(契約2号【印刷】!$H$2=\"変更後注文金額\",契約2号【印刷】!F39,契約2号【印刷】!I39)","v":""},{"$f":"IF(契約2号【印刷】!$H$2=\"変更後注文金額\",契約2号【印刷】!G39,契約2号【印刷】!J39)","v":""},null,"",""]
[{"$f":"契約2号【印刷】!A40","v":37},{"$f":"契約2号【印刷】!B40","v":0},{"$f":"契約2号【印刷】!C40","v":0},{"$f":"契約2号【印刷】!D40","v":0},{"$f":"IF(契約2号【印刷】!$H$2=\"変更後注文金額\",契約2号【印刷】!E40,契約2号【印刷】!H40)","v":""},{"$f":"IF(契約2号【印刷】!$H$2=\"変更後注文金額\",契約2号【印刷】!F40,契約2号【印刷】!I40)","v":""},{"$f":"IF(契約2号【印刷】!$H$2=\"変更後注文金額\",契約2号【印刷】!G40,契約2号【印刷】!J40)","v":""},null,"",""]
[{"$f":"契約2号【印刷】!A41","v":38},{"$f":"契約2号【印刷】!B41","v":0},{"$f":"契約2号【印刷】!C41","v":0},{"$f":"契約2号【印刷】!D41","v":0},{"$f":"IF(契約2号【印刷】!$H$2=\"変更後注文金額\",契約2号【印刷】!E41,契約2号【印刷】!H41)","v":""},{"$f":"IF(契約2号【印刷】!$H$2=\"変更後注文金額\",契約2号【印刷】!F41,契約2号【印刷】!I41)","v":""},{"$f":"IF(契約2号【印刷】!$H$2=\"変更後注文金額\",契約2号【印刷】!G41,契約2号【印刷】!J41)","v":""},null,"",""]
[{"$f":"契約2号【印刷】!A42","v":39},{"$f":"契約2号【印刷】!B42","v":0},{"$f":"契約2号【印刷】!C42","v":0},{"$f":"契約2号【印刷】!D42","v":0},{"$f":"IF(契約2号【印刷】!$H$2=\"変更後注文金額\",契約2号【印刷】!E42,契約2号【印刷】!H42)","v":""},{"$f":"IF(契約2号【印刷】!$H$2=\"変更後注文金額\",契約2号【印刷】!F42,契約2号【印刷】!I42)","v":""},{"$f":"IF(契約2号【印刷】!$H$2=\"変更後注文金額\",契約2号【印刷】!G42,契約2号【印刷】!J42)","v":""},null,"",""]
[{"$f":"契約2号【印刷】!A43","v":40},{"$f":"契約2号【印刷】!B43","v":0},{"$f":"契約2号【印刷】!C43","v":0},{"$f":"契約2号【印刷】!D43","v":0},{"$f":"IF(契約2号【印刷】!$H$2=\"変更後注文金額\",契約2号【印刷】!E43,契約2号【印刷】!H43)","v":""},{"$f":"IF(契約2号【印刷】!$H$2=\"変更後注文金額\",契約2号【印刷】!F43,契約2号【印刷】!I43)","v":""},{"$f":"IF(契約2号【印刷】!$H$2=\"変更後注文金額\",契約2号【印刷】!G43,契約2号【印刷】!J43)","v":""},null,"",""]
[{"$f":"契約2号【印刷】!A44","v":41},{"$f":"契約2号【印刷】!B44","v":0},{"$f":"契約2号【印刷】!C44","v":0},{"$f":"契約2号【印刷】!D44","v":0},{"$f":"IF(契約2号【印刷】!$H$2=\"変更後注文金額\",契約2号【印刷】!E44,契約2号【印刷】!H44)","v":""},{"$f":"IF(契約2号【印刷】!$H$2=\"変更後注文金額\",契約2号【印刷】!F44,契約2号【印刷】!I44)","v":""},{"$f":"IF(契約2号【印刷】!$H$2=\"変更後注文金額\",契約2号【印刷】!G44,契約2号【印刷】!J44)","v":""},null,"",""]
[{"$f":"契約2号【印刷】!A45","v":42},{"$f":"契約2号【印刷】!B45","v":0},{"$f":"契約2号【印刷】!C45","v":0},{"$f":"契約2号【印刷】!D45","v":0},{"$f":"IF(契約2号【印刷】!$H$2=\"変更後注文金額\",契約2号【印刷】!E45,契約2号【印刷】!H45)","v":""},{"$f":"IF(契約2号【印刷】!$H$2=\"変更後注文金額\",契約2号【印刷】!F45,契約2号【印刷】!I45)","v":""},{"$f":"IF(契約2号【印刷】!$H$2=\"変更後注文金額\",契約2号【印刷】!G45,契約2号【印刷】!J45)","v":""},null,"",""]
[{"$f":"契約2号【印刷】!A46","v":43},{"$f":"契約2号【印刷】!B46","v":0},{"$f":"契約2号【印刷】!C46","v":0},{"$f":"契約2号【印刷】!D46","v":0},{"$f":"IF(契約2号【印刷】!$H$2=\"変更後注文金額\",契約2号【印刷】!E46,契約2号【印刷】!H46)","v":""},{"$f":"IF(契約2号【印刷】!$H$2=\"変更後注文金額\",契約2号【印刷】!F46,契約2号【印刷】!I46)","v":""},{"$f":"IF(契約2号【印刷】!$H$2=\"変更後注文金額\",契約2号【印刷】!G46,契約2号【印刷】!J46)","v":""},null,"",""]
[{"$f":"契約2号【印刷】!A47","v":44},{"$f":"契約2号【印刷】!B47","v":0},{"$f":"契約2号【印刷】!C47","v":0},{"$f":"契約2号【印刷】!D47","v":0},{"$f":"IF(契約2号【印刷】!$H$2=\"変更後注文金額\",契約2号【印刷】!E47,契約2号【印刷】!H47)","v":""},{"$f":"IF(契約2号【印刷】!$H$2=\"変更後注文金額\",契約2号【印刷】!F47,契約2号【印刷】!I47)","v":""},{"$f":"IF(契約2号【印刷】!$H$2=\"変更後注文金額\",契約2号【印刷】!G47,契約2号【印刷】!J47)","v":""},null,"",""]
[{"$f":"契約2号【印刷】!A48","v":45},{"$f":"契約2号【印刷】!B48","v":0},{"$f":"契約2号【印刷】!C48","v":0},{"$f":"契約2号【印刷】!D48","v":0},{"$f":"IF(契約2号【印刷】!$H$2=\"変更後注文金額\",契約2号【印刷】!E48,契約2号【印刷】!H48)","v":""},{"$f":"IF(契約2号【印刷】!$H$2=\"変更後注文金額\",契約2号【印刷】!F48,契約2号【印刷】!I48)","v":""},{"$f":"IF(契約2号【印刷】!$H$2=\"変更後注文金額\",契約2号【印刷】!G48,契約2号【印刷】!J48)","v":""},null,"",""]
[{"$f":"契約2号【印刷】!A49","v":46},{"$f":"契約2号【印刷】!B49","v":0},{"$f":"契約2号【印刷】!C49","v":0},{"$f":"契約2号【印刷】!D49","v":0},{"$f":"IF(契約2号【印刷】!$H$2=\"変更後注文金額\",契約2号【印刷】!E49,契約2号【印刷】!H49)","v":""},{"$f":"IF(契約2号【印刷】!$H$2=\"変更後注文金額\",契約2号【印刷】!F49,契約2号【印刷】!I49)","v":""},{"$f":"IF(契約2号【印刷】!$H$2=\"変更後注文金額\",契約2号【印刷】!G49,契約2号【印刷】!J49)","v":""},null,"",""]
[{"$f":"契約2号【印刷】!A50","v":47},{"$f":"契約2号【印刷】!B50","v":0},{"$f":"契約2号【印刷】!C50","v":0},{"$f":"契約2号【印刷】!D50","v":0},{"$f":"IF(契約2号【印刷】!$H$2=\"変更後注文金額\",契約2号【印刷】!E50,契約2号【印刷】!H50)","v":""},{"$f":"IF(契約2号【印刷】!$H$2=\"変更後注文金額\",契約2号【印刷】!F50,契約2号【印刷】!I50)","v":""},{"$f":"IF(契約2号【印刷】!$H$2=\"変更後注文金額\",契約2号【印刷】!G50,契約2号【印刷】!J50)","v":""},null,"",""]
[{"$f":"契約2号【印刷】!A51","v":48},{"$f":"契約2号【印刷】!B51","v":0},{"$f":"契約2号【印刷】!C51","v":0},{"$f":"契約2号【印刷】!D51","v":0},{"$f":"IF(契約2号【印刷】!$H$2=\"変更後注文金額\",契約2号【印刷】!E51,契約2号【印刷】!H51)","v":""},{"$f":"IF(契約2号【印刷】!$H$2=\"変更後注文金額\",契約2号【印刷】!F51,契約2号【印刷】!I51)","v":""},{"$f":"IF(契約2号【印刷】!$H$2=\"変更後注文金額\",契約2号【印刷】!G51,契約2号【印刷】!J51)","v":""},null,"",""]
[{"$f":"契約2号【印刷】!A52","v":49},{"$f":"契約2号【印刷】!B52","v":0},{"$f":"契約2号【印刷】!C52","v":0},{"$f":"契約2号【印刷】!D52","v":0},{"$f":"IF(契約2号【印刷】!$H$2=\"変更後注文金額\",契約2号【印刷】!E52,契約2号【印刷】!H52)","v":""},{"$f":"IF(契約2号【印刷】!$H$2=\"変更後注文金額\",契約2号【印刷】!F52,契約2号【印刷】!I52)","v":""},{"$f":"IF(契約2号【印刷】!$H$2=\"変更後注文金額\",契約2号【印刷】!G52,契約2号【印刷】!J52)","v":""},null,"",""]
[{"$f":"契約2号【印刷】!A53","v":50},{"$f":"契約2号【印刷】!B53","v":0},{"$f":"契約2号【印刷】!C53","v":0},{"$f":"契約2号【印刷】!D53","v":0},{"$f":"IF(契約2号【印刷】!$H$2=\"変更後注文金額\",契約2号【印刷】!E53,契約2号【印刷】!H53)","v":""},{"$f":"IF(契約2号【印刷】!$H$2=\"変更後注文金額\",契約2号【印刷】!F53,契約2号【印刷】!I53)","v":""},{"$f":"IF(契約2号【印刷】!$H$2=\"変更後注文金額\",契約2号【印刷】!G53,契約2号【印刷】!J53)","v":""},null,"",""]
[{"$f":"契約2号【印刷】!A54","v":51},{"$f":"契約2号【印刷】!B54","v":0},{"$f":"契約2号【印刷】!C54","v":0},{"$f":"契約2号【印刷】!D54","v":0},{"$f":"IF(契約2号【印刷】!$H$2=\"変更後注文金額\",契約2号【印刷】!E54,契約2号【印刷】!H54)","v":""},{"$f":"IF(契約2号【印刷】!$H$2=\"変更後注文金額\",契約2号【印刷】!F54,契約2号【印刷】!I54)","v":""},{"$f":"IF(契約2号【印刷】!$H$2=\"変更後注文金額\",契約2号【印刷】!G54,契約2号【印刷】!J54)","v":""},null,"",""]
[{"$f":"契約2号【印刷】!A55","v":52},{"$f":"契約2号【印刷】!B55","v":0},{"$f":"契約2号【印刷】!C55","v":0},{"$f":"契約2号【印刷】!D55","v":0},{"$f":"IF(契約2号【印刷】!$H$2=\"変更後注文金額\",契約2号【印刷】!E55,契約2号【印刷】!H55)","v":""},{"$f":"IF(契約2号【印刷】!$H$2=\"変更後注文金額\",契約2号【印刷】!F55,契約2号【印刷】!I55)","v":""},{"$f":"IF(契約2号【印刷】!$H$2=\"変更後注文金額\",契約2号【印刷】!G55,契約2号【印刷】!J55)","v":""},null,"",""]
[{"$f":"契約2号【印刷】!A56","v":53},{"$f":"契約2号【印刷】!B56","v":0},{"$f":"契約2号【印刷】!C56","v":0},{"$f":"契約2号【印刷】!D56","v":0},{"$f":"IF(契約2号【印刷】!$H$2=\"変更後注文金額\",契約2号【印刷】!E56,契約2号【印刷】!H56)","v":""},{"$f":"IF(契約2号【印刷】!$H$2=\"変更後注文金額\",契約2号【印刷】!F56,契約2号【印刷】!I56)","v":""},{"$f":"IF(契約2号【印刷】!$H$2=\"変更後注文金額\",契約2号【印刷】!G56,契約2号【印刷】!J56)","v":""},null,"",""]
[{"$f":"契約2号【印刷】!A57","v":54},{"$f":"契約2号【印刷】!B57","v":0},{"$f":"契約2号【印刷】!C57","v":0},{"$f":"契約2号【印刷】!D57","v":0},{"$f":"IF(契約2号【印刷】!$H$2=\"変更後注文金額\",契約2号【印刷】!E57,契約2号【印刷】!H57)","v":""},{"$f":"IF(契約2号【印刷】!$H$2=\"変更後注文金額\",契約2号【印刷】!F57,契約2号【印刷】!I57)","v":""},{"$f":"IF(契約2号【印刷】!$H$2=\"変更後注文金額\",契約2号【印刷】!G57,契約2号【印刷】!J57)","v":""},null,"",""]
[{"$f":"契約2号【印刷】!A58","v":55},{"$f":"契約2号【印刷】!B58","v":0},{"$f":"契約2号【印刷】!C58","v":0},{"$f":"契約2号【印刷】!D58","v":0},{"$f":"IF(契約2号【印刷】!$H$2=\"変更後注文金額\",契約2号【印刷】!E58,契約2号【印刷】!H58)","v":""},{"$f":"IF(契約2号【印刷】!$H$2=\"変更後注文金額\",契約2号【印刷】!F58,契約2号【印刷】!I58)","v":""},{"$f":"IF(契約2号【印刷】!$H$2=\"変更後注文金額\",契約2号【印刷】!G58,契約2号【印刷】!J58)","v":""},null,"",""]
[{"$f":"契約2号【印刷】!A59","v":56},{"$f":"契約2号【印刷】!B59","v":0},{"$f":"契約2号【印刷】!C59","v":0},{"$f":"契約2号【印刷】!D59","v":0},{"$f":"IF(契約2号【印刷】!$H$2=\"変更後注文金額\",契約2号【印刷】!E59,契約2号【印刷】!H59)","v":""},{"$f":"IF(契約2号【印刷】!$H$2=\"変更後注文金額\",契約2号【印刷】!F59,契約2号【印刷】!I59)","v":""},{"$f":"IF(契約2号【印刷】!$H$2=\"変更後注文金額\",契約2号【印刷】!G59,契約2号【印刷】!J59)","v":""},null,"",""]
[{"$f":"契約2号【印刷】!A60","v":57},{"$f":"契約2号【印刷】!B60","v":0},{"$f":"契約2号【印刷】!C60","v":0},{"$f":"契約2号【印刷】!D60","v":0},{"$f":"IF(契約2号【印刷】!$H$2=\"変更後注文金額\",契約2号【印刷】!E60,契約2号【印刷】!H60)","v":""},{"$f":"IF(契約2号【印刷】!$H$2=\"変更後注文金額\",契約2号【印刷】!F60,契約2号【印刷】!I60)","v":""},{"$f":"IF(契約2号【印刷】!$H$2=\"変更後注文金額\",契約2号【印刷】!G60,契約2号【印刷】!J60)","v":""},null,"",""]
[{"$f":"契約2号【印刷】!A61","v":58},{"$f":"契約2号【印刷】!B61","v":0},{"$f":"契約2号【印刷】!C61","v":0},{"$f":"契約2号【印刷】!D61","v":0},{"$f":"IF(契約2号【印刷】!$H$2=\"変更後注文金額\",契約2号【印刷】!E61,契約2号【印刷】!H61)","v":""},{"$f":"IF(契約2号【印刷】!$H$2=\"変更後注文金額\",契約2号【印刷】!F61,契約2号【印刷】!I61)","v":""},{"$f":"IF(契約2号【印刷】!$H$2=\"変更後注文金額\",契約2号【印刷】!G61,契約2号【印刷】!J61)","v":""},null,"",""]
[{"$f":"契約2号【印刷】!A62","v":59},{"$f":"契約2号【印刷】!B62","v":0},{"$f":"契約2号【印刷】!C62","v":0},{"$f":"契約2号【印刷】!D62","v":0},{"$f":"IF(契約2号【印刷】!$H$2=\"変更後注文金額\",契約2号【印刷】!E62,契約2号【印刷】!H62)","v":""},{"$f":"IF(契約2号【印刷】!$H$2=\"変更後注文金額\",契約2号【印刷】!F62,契約2号【印刷】!I62)","v":""},{"$f":"IF(契約2号【印刷】!$H$2=\"変更後注文金額\",契約2号【印刷】!G62,契約2号【印刷】!J62)","v":""},null,"",""]
[{"$f":"契約2号【印刷】!A63","v":60},{"$f":"契約2号【印刷】!B63","v":0},{"$f":"契約2号【印刷】!C63","v":0},{"$f":"契約2号【印刷】!D63","v":0},{"$f":"IF(契約2号【印刷】!$H$2=\"変更後注文金額\",契約2号【印刷】!E63,契約2号【印刷】!H63)","v":""},{"$f":"IF(契約2号【印刷】!$H$2=\"変更後注文金額\",契約2号【印刷】!F63,契約2号【印刷】!I63)","v":""},{"$f":"IF(契約2号【印刷】!$H$2=\"変更後注文金額\",契約2号【印刷】!G63,契約2号【印刷】!J63)","v":""},null,"","","②"]
[{"$f":"契約2号【印刷】!A64","v":61},{"$f":"契約2号【印刷】!B64","v":0},{"$f":"契約2号【印刷】!C64","v":0},{"$f":"契約2号【印刷】!D64","v":0},{"$f":"IF(契約2号【印刷】!$H$2=\"変更後注文金額\",契約2号【印刷】!E64,契約2号【印刷】!H64)","v":""},{"$f":"IF(契約2号【印刷】!$H$2=\"変更後注文金額\",契約2号【印刷】!F64,契約2号【印刷】!I64)","v":""},{"$f":"IF(契約2号【印刷】!$H$2=\"変更後注文金額\",契約2号【印刷】!G64,契約2号【印刷】!J64)","v":""},null,"",""]
[{"$f":"契約2号【印刷】!A65","v":62},{"$f":"契約2号【印刷】!B65","v":0},{"$f":"契約2号【印刷】!C65","v":0},{"$f":"契約2号【印刷】!D65","v":0},{"$f":"IF(契約2号【印刷】!$H$2=\"変更後注文金額\",契約2号【印刷】!E65,契約2号【印刷】!H65)","v":""},{"$f":"IF(契約2号【印刷】!$H$2=\"変更後注文金額\",契約2号【印刷】!F65,契約2号【印刷】!I65)","v":""},{"$f":"IF(契約2号【印刷】!$H$2=\"変更後注文金額\",契約2号【印刷】!G65,契約2号【印刷】!J65)","v":""},null,"",""]
[{"$f":"契約2号【印刷】!A66","v":63},{"$f":"契約2号【印刷】!B66","v":0},{"$f":"契約2号【印刷】!C66","v":0},{"$f":"契約2号【印刷】!D66","v":0},{"$f":"IF(契約2号【印刷】!$H$2=\"変更後注文金額\",契約2号【印刷】!E66,契約2号【印刷】!H66)","v":""},{"$f":"IF(契約2号【印刷】!$H$2=\"変更後注文金額\",契約2号【印刷】!F66,契約2号【印刷】!I66)","v":""},{"$f":"IF(契約2号【印刷】!$H$2=\"変更後注文金額\",契約2号【印刷】!G66,契約2号【印刷】!J66)","v":""},null,"",""]
[{"$f":"契約2号【印刷】!A67","v":64},{"$f":"契約2号【印刷】!B67","v":0},{"$f":"契約2号【印刷】!C67","v":0},{"$f":"契約2号【印刷】!D67","v":0},{"$f":"IF(契約2号【印刷】!$H$2=\"変更後注文金額\",契約2号【印刷】!E67,契約2号【印刷】!H67)","v":""},{"$f":"IF(契約2号【印刷】!$H$2=\"変更後注文金額\",契約2号【印刷】!F67,契約2号【印刷】!I67)","v":""},{"$f":"IF(契約2号【印刷】!$H$2=\"変更後注文金額\",契約2号【印刷】!G67,契約2号【印刷】!J67)","v":""},null,"",""]
[{"$f":"契約2号【印刷】!A68","v":65},{"$f":"契約2号【印刷】!B68","v":0},{"$f":"契約2号【印刷】!C68","v":0},{"$f":"契約2号【印刷】!D68","v":0},{"$f":"IF(契約2号【印刷】!$H$2=\"変更後注文金額\",契約2号【印刷】!E68,契約2号【印刷】!H68)","v":""},{"$f":"IF(契約2号【印刷】!$H$2=\"変更後注文金額\",契約2号【印刷】!F68,契約2号【印刷】!I68)","v":""},{"$f":"IF(契約2号【印刷】!$H$2=\"変更後注文金額\",契約2号【印刷】!G68,契約2号【印刷】!J68)","v":""},null,"",""]
[{"$f":"契約2号【印刷】!A69","v":66},{"$f":"契約2号【印刷】!B69","v":0},{"$f":"契約2号【印刷】!C69","v":0},{"$f":"契約2号【印刷】!D69","v":0},{"$f":"IF(契約2号【印刷】!$H$2=\"変更後注文金額\",契約2号【印刷】!E69,契約2号【印刷】!H69)","v":""},{"$f":"IF(契約2号【印刷】!$H$2=\"変更後注文金額\",契約2号【印刷】!F69,契約2号【印刷】!I69)","v":""},{"$f":"IF(契約2号【印刷】!$H$2=\"変更後注文金額\",契約2号【印刷】!G69,契約2号【印刷】!J69)","v":""},null,"",""]
[{"$f":"契約2号【印刷】!A70","v":67},{"$f":"契約2号【印刷】!B70","v":0},{"$f":"契約2号【印刷】!C70","v":0},{"$f":"契約2号【印刷】!D70","v":0},{"$f":"IF(契約2号【印刷】!$H$2=\"変更後注文金額\",契約2号【印刷】!E70,契約2号【印刷】!H70)","v":""},{"$f":"IF(契約2号【印刷】!$H$2=\"変更後注文金額\",契約2号【印刷】!F70,契約2号【印刷】!I70)","v":""},{"$f":"IF(契約2号【印刷】!$H$2=\"変更後注文金額\",契約2号【印刷】!G70,契約2号【印刷】!J70)","v":""},null,"",""]
[{"$f":"契約2号【印刷】!A71","v":68},{"$f":"契約2号【印刷】!B71","v":0},{"$f":"契約2号【印刷】!C71","v":0},{"$f":"契約2号【印刷】!D71","v":0},{"$f":"IF(契約2号【印刷】!$H$2=\"変更後注文金額\",契約2号【印刷】!E71,契約2号【印刷】!H71)","v":""},{"$f":"IF(契約2号【印刷】!$H$2=\"変更後注文金額\",契約2号【印刷】!F71,契約2号【印刷】!I71)","v":""},{"$f":"IF(契約2号【印刷】!$H$2=\"変更後注文金額\",契約2号【印刷】!G71,契約2号【印刷】!J71)","v":""},null,"",""]
[{"$f":"契約2号【印刷】!A72","v":69},{"$f":"契約2号【印刷】!B72","v":0},{"$f":"契約2号【印刷】!C72","v":0},{"$f":"契約2号【印刷】!D72","v":0},{"$f":"IF(契約2号【印刷】!$H$2=\"変更後注文金額\",契約2号【印刷】!E72,契約2号【印刷】!H72)","v":""},{"$f":"IF(契約2号【印刷】!$H$2=\"変更後注文金額\",契約2号【印刷】!F72,契約2号【印刷】!I72)","v":""},{"$f":"IF(契約2号【印刷】!$H$2=\"変更後注文金額\",契約2号【印刷】!G72,契約2号【印刷】!J72)","v":""},null,"",""]
[{"$f":"契約2号【印刷】!A73","v":70},{"$f":"契約2号【印刷】!B73","v":0},{"$f":"契約2号【印刷】!C73","v":0},{"$f":"契約2号【印刷】!D73","v":0},{"$f":"IF(契約2号【印刷】!$H$2=\"変更後注文金額\",契約2号【印刷】!E73,契約2号【印刷】!H73)","v":""},{"$f":"IF(契約2号【印刷】!$H$2=\"変更後注文金額\",契約2号【印刷】!F73,契約2号【印刷】!I73)","v":""},{"$f":"IF(契約2号【印刷】!$H$2=\"変更後注文金額\",契約2号【印刷】!G73,契約2号【印刷】!J73)","v":""},null,"",""]
[{"$f":"契約2号【印刷】!A74","v":71},{"$f":"契約2号【印刷】!B74","v":0},{"$f":"契約2号【印刷】!C74","v":0},{"$f":"契約2号【印刷】!D74","v":0},{"$f":"IF(契約2号【印刷】!$H$2=\"変更後注文金額\",契約2号【印刷】!E74,契約2号【印刷】!H74)","v":""},{"$f":"IF(契約2号【印刷】!$H$2=\"変更後注文金額\",契約2号【印刷】!F74,契約2号【印刷】!I74)","v":""},{"$f":"IF(契約2号【印刷】!$H$2=\"変更後注文金額\",契約2号【印刷】!G74,契約2号【印刷】!J74)","v":""},null,"",""]
[{"$f":"契約2号【印刷】!A75","v":72},{"$f":"契約2号【印刷】!B75","v":0},{"$f":"契約2号【印刷】!C75","v":0},{"$f":"契約2号【印刷】!D75","v":0},{"$f":"IF(契約2号【印刷】!$H$2=\"変更後注文金額\",契約2号【印刷】!E75,契約2号【印刷】!H75)","v":""},{"$f":"IF(契約2号【印刷】!$H$2=\"変更後注文金額\",契約2号【印刷】!F75,契約2号【印刷】!I75)","v":""},{"$f":"IF(契約2号【印刷】!$H$2=\"変更後注文金額\",契約2号【印刷】!G75,契約2号【印刷】!J75)","v":""},null,"",""]
[{"$f":"契約2号【印刷】!A76","v":73},{"$f":"契約2号【印刷】!B76","v":0},{"$f":"契約2号【印刷】!C76","v":0},{"$f":"契約2号【印刷】!D76","v":0},{"$f":"IF(契約2号【印刷】!$H$2=\"変更後注文金額\",契約2号【印刷】!E76,契約2号【印刷】!H76)","v":""},{"$f":"IF(契約2号【印刷】!$H$2=\"変更後注文金額\",契約2号【印刷】!F76,契約2号【印刷】!I76)","v":""},{"$f":"IF(契約2号【印刷】!$H$2=\"変更後注文金額\",契約2号【印刷】!G76,契約2号【印刷】!J76)","v":""},null,"",""]
[{"$f":"契約2号【印刷】!A77","v":74},{"$f":"契約2号【印刷】!B77","v":0},{"$f":"契約2号【印刷】!C77","v":0},{"$f":"契約2号【印刷】!D77","v":0},{"$f":"IF(契約2号【印刷】!$H$2=\"変更後注文金額\",契約2号【印刷】!E77,契約2号【印刷】!H77)","v":""},{"$f":"IF(契約2号【印刷】!$H$2=\"変更後注文金額\",契約2号【印刷】!F77,契約2号【印刷】!I77)","v":""},{"$f":"IF(契約2号【印刷】!$H$2=\"変更後注文金額\",契約2号【印刷】!G77,契約2号【印刷】!J77)","v":""},null,"",""]
[{"$f":"契約2号【印刷】!A78","v":75},{"$f":"契約2号【印刷】!B78","v":0},{"$f":"契約2号【印刷】!C78","v":0},{"$f":"契約2号【印刷】!D78","v":0},{"$f":"IF(契約2号【印刷】!$H$2=\"変更後注文金額\",契約2号【印刷】!E78,契約2号【印刷】!H78)","v":""},{"$f":"IF(契約2号【印刷】!$H$2=\"変更後注文金額\",契約2号【印刷】!F78,契約2号【印刷】!I78)","v":""},{"$f":"IF(契約2号【印刷】!$H$2=\"変更後注文金額\",契約2号【印刷】!G78,契約2号【印刷】!J78)","v":""},null,"",""]
[{"$f":"契約2号【印刷】!A79","v":76},{"$f":"契約2号【印刷】!B79","v":0},{"$f":"契約2号【印刷】!C79","v":0},{"$f":"契約2号【印刷】!D79","v":0},{"$f":"IF(契約2号【印刷】!$H$2=\"変更後注文金額\",契約2号【印刷】!E79,契約2号【印刷】!H79)","v":""},{"$f":"IF(契約2号【印刷】!$H$2=\"変更後注文金額\",契約2号【印刷】!F79,契約2号【印刷】!I79)","v":""},{"$f":"IF(契約2号【印刷】!$H$2=\"変更後注文金額\",契約2号【印刷】!G79,契約2号【印刷】!J79)","v":""},null,"",""]
[{"$f":"契約2号【印刷】!A80","v":77},{"$f":"契約2号【印刷】!B80","v":0},{"$f":"契約2号【印刷】!C80","v":0},{"$f":"契約2号【印刷】!D80","v":0},{"$f":"IF(契約2号【印刷】!$H$2=\"変更後注文金額\",契約2号【印刷】!E80,契約2号【印刷】!H80)","v":""},{"$f":"IF(契約2号【印刷】!$H$2=\"変更後注文金額\",契約2号【印刷】!F80,契約2号【印刷】!I80)","v":""},{"$f":"IF(契約2号【印刷】!$H$2=\"変更後注文金額\",契約2号【印刷】!G80,契約2号【印刷】!J80)","v":""},null,"",""]
[{"$f":"契約2号【印刷】!A81","v":78},{"$f":"契約2号【印刷】!B81","v":0},{"$f":"契約2号【印刷】!C81","v":0},{"$f":"契約2号【印刷】!D81","v":0},{"$f":"IF(契約2号【印刷】!$H$2=\"変更後注文金額\",契約2号【印刷】!E81,契約2号【印刷】!H81)","v":""},{"$f":"IF(契約2号【印刷】!$H$2=\"変更後注文金額\",契約2号【印刷】!F81,契約2号【印刷】!I81)","v":""},{"$f":"IF(契約2号【印刷】!$H$2=\"変更後注文金額\",契約2号【印刷】!G81,契約2号【印刷】!J81)","v":""},null,"",""]
[{"$f":"契約2号【印刷】!A82","v":79},{"$f":"契約2号【印刷】!B82","v":0},{"$f":"契約2号【印刷】!C82","v":0},{"$f":"契約2号【印刷】!D82","v":0},{"$f":"IF(契約2号【印刷】!$H$2=\"変更後注文金額\",契約2号【印刷】!E82,契約2号【印刷】!H82)","v":""},{"$f":"IF(契約2号【印刷】!$H$2=\"変更後注文金額\",契約2号【印刷】!F82,契約2号【印刷】!I82)","v":""},{"$f":"IF(契約2号【印刷】!$H$2=\"変更後注文金額\",契約2号【印刷】!G82,契約2号【印刷】!J82)","v":""},null,"",""]
[{"$f":"契約2号【印刷】!A83","v":80},{"$f":"契約2号【印刷】!B83","v":0},{"$f":"契約2号【印刷】!C83","v":0},{"$f":"契約2号【印刷】!D83","v":0},{"$f":"IF(契約2号【印刷】!$H$2=\"変更後注文金額\",契約2号【印刷】!E83,契約2号【印刷】!H83)","v":""},{"$f":"IF(契約2号【印刷】!$H$2=\"変更後注文金額\",契約2号【印刷】!F83,契約2号【印刷】!I83)","v":""},{"$f":"IF(契約2号【印刷】!$H$2=\"変更後注文金額\",契約2号【印刷】!G83,契約2号【印刷】!J83)","v":""},null,"",""]
[{"$f":"契約2号【印刷】!A84","v":81},{"$f":"契約2号【印刷】!B84","v":0},{"$f":"契約2号【印刷】!C84","v":0},{"$f":"契約2号【印刷】!D84","v":0},{"$f":"IF(契約2号【印刷】!$H$2=\"変更後注文金額\",契約2号【印刷】!E84,契約2号【印刷】!H84)","v":""},{"$f":"IF(契約2号【印刷】!$H$2=\"変更後注文金額\",契約2号【印刷】!F84,契約2号【印刷】!I84)","v":""},{"$f":"IF(契約2号【印刷】!$H$2=\"変更後注文金額\",契約2号【印刷】!G84,契約2号【印刷】!J84)","v":""},null,"",""]
[{"$f":"契約2号【印刷】!A85","v":82},{"$f":"契約2号【印刷】!B85","v":0},{"$f":"契約2号【印刷】!C85","v":0},{"$f":"契約2号【印刷】!D85","v":0},{"$f":"IF(契約2号【印刷】!$H$2=\"変更後注文金額\",契約2号【印刷】!E85,契約2号【印刷】!H85)","v":""},{"$f":"IF(契約2号【印刷】!$H$2=\"変更後注文金額\",契約2号【印刷】!F85,契約2号【印刷】!I85)","v":""},{"$f":"IF(契約2号【印刷】!$H$2=\"変更後注文金額\",契約2号【印刷】!G85,契約2号【印刷】!J85)","v":""},null,"",""]
[{"$f":"契約2号【印刷】!A86","v":83},{"$f":"契約2号【印刷】!B86","v":0},{"$f":"契約2号【印刷】!C86","v":0},{"$f":"契約2号【印刷】!D86","v":0},{"$f":"IF(契約2号【印刷】!$H$2=\"変更後注文金額\",契約2号【印刷】!E86,契約2号【印刷】!H86)","v":""},{"$f":"IF(契約2号【印刷】!$H$2=\"変更後注文金額\",契約2号【印刷】!F86,契約2号【印刷】!I86)","v":""},{"$f":"IF(契約2号【印刷】!$H$2=\"変更後注文金額\",契約2号【印刷】!G86,契約2号【印刷】!J86)","v":""},null,"",""]
[{"$f":"契約2号【印刷】!A87","v":84},{"$f":"契約2号【印刷】!B87","v":0},{"$f":"契約2号【印刷】!C87","v":0},{"$f":"契約2号【印刷】!D87","v":0},{"$f":"IF(契約2号【印刷】!$H$2=\"変更後注文金額\",契約2号【印刷】!E87,契約2号【印刷】!H87)","v":""},{"$f":"IF(契約2号【印刷】!$H$2=\"変更後注文金額\",契約2号【印刷】!F87,契約2号【印刷】!I87)","v":""},{"$f":"IF(契約2号【印刷】!$H$2=\"変更後注文金額\",契約2号【印刷】!G87,契約2号【印刷】!J87)","v":""},null,"",""]
[{"$f":"契約2号【印刷】!A88","v":85},{"$f":"契約2号【印刷】!B88","v":0},{"$f":"契約2号【印刷】!C88","v":0},{"$f":"契約2号【印刷】!D88","v":0},{"$f":"IF(契約2号【印刷】!$H$2=\"変更後注文金額\",契約2号【印刷】!E88,契約2号【印刷】!H88)","v":""},{"$f":"IF(契約2号【印刷】!$H$2=\"変更後注文金額\",契約2号【印刷】!F88,契約2号【印刷】!I88)","v":""},{"$f":"IF(契約2号【印刷】!$H$2=\"変更後注文金額\",契約2号【印刷】!G88,契約2号【印刷】!J88)","v":""},null,"",""]
[{"$f":"契約2号【印刷】!A89","v":86},{"$f":"契約2号【印刷】!B89","v":0},{"$f":"契約2号【印刷】!C89","v":0},{"$f":"契約2号【印刷】!D89","v":0},{"$f":"IF(契約2号【印刷】!$H$2=\"変更後注文金額\",契約2号【印刷】!E89,契約2号【印刷】!H89)","v":""},{"$f":"IF(契約2号【印刷】!$H$2=\"変更後注文金額\",契約2号【印刷】!F89,契約2号【印刷】!I89)","v":""},{"$f":"IF(契約2号【印刷】!$H$2=\"変更後注文金額\",契約2号【印刷】!G89,契約2号【印刷】!J89)","v":""},null,"",""]
[{"$f":"契約2号【印刷】!A90","v":87},{"$f":"契約2号【印刷】!B90","v":0},{"$f":"契約2号【印刷】!C90","v":0},{"$f":"契約2号【印刷】!D90","v":0},{"$f":"IF(契約2号【印刷】!$H$2=\"変更後注文金額\",契約2号【印刷】!E90,契約2号【印刷】!H90)","v":""},{"$f":"IF(契約2号【印刷】!$H$2=\"変更後注文金額\",契約2号【印刷】!F90,契約2号【印刷】!I90)","v":""},{"$f":"IF(契約2号【印刷】!$H$2=\"変更後注文金額\",契約2号【印刷】!G90,契約2号【印刷】!J90)","v":""},null,"",""]
[{"$f":"契約2号【印刷】!A91","v":88},{"$f":"契約2号【印刷】!B91","v":0},{"$f":"契約2号【印刷】!C91","v":0},{"$f":"契約2号【印刷】!D91","v":0},{"$f":"IF(契約2号【印刷】!$H$2=\"変更後注文金額\",契約2号【印刷】!E91,契約2号【印刷】!H91)","v":""},{"$f":"IF(契約2号【印刷】!$H$2=\"変更後注文金額\",契約2号【印刷】!F91,契約2号【印刷】!I91)","v":""},{"$f":"IF(契約2号【印刷】!$H$2=\"変更後注文金額\",契約2号【印刷】!G91,契約2号【印刷】!J91)","v":""},null,"",""]
[{"$f":"契約2号【印刷】!A92","v":89},{"$f":"契約2号【印刷】!B92","v":0},{"$f":"契約2号【印刷】!C92","v":0},{"$f":"契約2号【印刷】!D92","v":0},{"$f":"IF(契約2号【印刷】!$H$2=\"変更後注文金額\",契約2号【印刷】!E92,契約2号【印刷】!H92)","v":""},{"$f":"IF(契約2号【印刷】!$H$2=\"変更後注文金額\",契約2号【印刷】!F92,契約2号【印刷】!I92)","v":""},{"$f":"IF(契約2号【印刷】!$H$2=\"変更後注文金額\",契約2号【印刷】!G92,契約2号【印刷】!J92)","v":""},null,"",""]
[{"$f":"契約2号【印刷】!A93","v":90},{"$f":"契約2号【印刷】!B93","v":0},{"$f":"契約2号【印刷】!C93","v":0},{"$f":"契約2号【印刷】!D93","v":0},{"$f":"IF(契約2号【印刷】!$H$2=\"変更後注文金額\",契約2号【印刷】!E93,契約2号【印刷】!H93)","v":""},{"$f":"IF(契約2号【印刷】!$H$2=\"変更後注文金額\",契約2号【印刷】!F93,契約2号【印刷】!I93)","v":""},{"$f":"IF(契約2号【印刷】!$H$2=\"変更後注文金額\",契約2号【印刷】!G93,契約2号【印刷】!J93)","v":""},null,"","","③"]
[{"$f":"契約2号【印刷】!A94","v":91},{"$f":"契約2号【印刷】!B94","v":0},{"$f":"契約2号【印刷】!C94","v":0},{"$f":"契約2号【印刷】!D94","v":0},{"$f":"IF(契約2号【印刷】!$H$2=\"変更後注文金額\",契約2号【印刷】!E94,契約2号【印刷】!H94)","v":""},{"$f":"IF(契約2号【印刷】!$H$2=\"変更後注文金額\",契約2号【印刷】!F94,契約2号【印刷】!I94)","v":""},{"$f":"IF(契約2号【印刷】!$H$2=\"変更後注文金額\",契約2号【印刷】!G94,契約2号【印刷】!J94)","v":""},null,"",""]
[{"$f":"契約2号【印刷】!A95","v":92},{"$f":"契約2号【印刷】!B95","v":0},{"$f":"契約2号【印刷】!C95","v":0},{"$f":"契約2号【印刷】!D95","v":0},{"$f":"IF(契約2号【印刷】!$H$2=\"変更後注文金額\",契約2号【印刷】!E95,契約2号【印刷】!H95)","v":""},{"$f":"IF(契約2号【印刷】!$H$2=\"変更後注文金額\",契約2号【印刷】!F95,契約2号【印刷】!I95)","v":""},{"$f":"IF(契約2号【印刷】!$H$2=\"変更後注文金額\",契約2号【印刷】!G95,契約2号【印刷】!J95)","v":""},null,"",""]
[{"$f":"契約2号【印刷】!A96","v":93},{"$f":"契約2号【印刷】!B96","v":0},{"$f":"契約2号【印刷】!C96","v":0},{"$f":"契約2号【印刷】!D96","v":0},{"$f":"IF(契約2号【印刷】!$H$2=\"変更後注文金額\",契約2号【印刷】!E96,契約2号【印刷】!H96)","v":""},{"$f":"IF(契約2号【印刷】!$H$2=\"変更後注文金額\",契約2号【印刷】!F96,契約2号【印刷】!I96)","v":""},{"$f":"IF(契約2号【印刷】!$H$2=\"変更後注文金額\",契約2号【印刷】!G96,契約2号【印刷】!J96)","v":""},null,"",""]
[{"$f":"契約2号【印刷】!A97","v":94},{"$f":"契約2号【印刷】!B97","v":0},{"$f":"契約2号【印刷】!C97","v":0},{"$f":"契約2号【印刷】!D97","v":0},{"$f":"IF(契約2号【印刷】!$H$2=\"変更後注文金額\",契約2号【印刷】!E97,契約2号【印刷】!H97)","v":""},{"$f":"IF(契約2号【印刷】!$H$2=\"変更後注文金額\",契約2号【印刷】!F97,契約2号【印刷】!I97)","v":""},{"$f":"IF(契約2号【印刷】!$H$2=\"変更後注文金額\",契約2号【印刷】!G97,契約2号【印刷】!J97)","v":""},null,"",""]
[{"$f":"契約2号【印刷】!A98","v":95},{"$f":"契約2号【印刷】!B98","v":0},{"$f":"契約2号【印刷】!C98","v":0},{"$f":"契約2号【印刷】!D98","v":0},{"$f":"IF(契約2号【印刷】!$H$2=\"変更後注文金額\",契約2号【印刷】!E98,契約2号【印刷】!H98)","v":""},{"$f":"IF(契約2号【印刷】!$H$2=\"変更後注文金額\",契約2号【印刷】!F98,契約2号【印刷】!I98)","v":""},{"$f":"IF(契約2号【印刷】!$H$2=\"変更後注文金額\",契約2号【印刷】!G98,契約2号【印刷】!J98)","v":""},null,{"$f":"IF(OR(F98=\"\",H98=\"\"),\"\",ROUNDDOWN(F98*H98,0))","v":""},{"$f":"IF(OR(G98=\"\",I98=\"\"),\"\",I98/G98)","v":""}]
[{"$f":"契約2号【印刷】!A99","v":96},{"$f":"契約2号【印刷】!B99","v":0},{"$f":"契約2号【印刷】!C99","v":0},{"$f":"契約2号【印刷】!D99","v":0},{"$f":"IF(契約2号【印刷】!$H$2=\"変更後注文金額\",契約2号【印刷】!E99,契約2号【印刷】!H99)","v":""},{"$f":"IF(契約2号【印刷】!$H$2=\"変更後注文金額\",契約2号【印刷】!F99,契約2号【印刷】!I99)","v":""},{"$f":"IF(契約2号【印刷】!$H$2=\"変更後注文金額\",契約2号【印刷】!G99,契約2号【印刷】!J99)","v":""},null,"",""]
[{"$f":"契約2号【印刷】!A100","v":97},{"$f":"契約2号【印刷】!B100","v":0},{"$f":"契約2号【印刷】!C100","v":0},{"$f":"契約2号【印刷】!D100","v":0},{"$f":"IF(契約2号【印刷】!$H$2=\"変更後注文金額\",契約2号【印刷】!E100,契約2号【印刷】!H100)","v":""},{"$f":"IF(契約2号【印刷】!$H$2=\"変更後注文金額\",契約2号【印刷】!F100,契約2号【印刷】!I100)","v":""},{"$f":"IF(契約2号【印刷】!$H$2=\"変更後注文金額\",契約2号【印刷】!G100,契約2号【印刷】!J100)","v":""},null,"",""]
[{"$f":"契約2号【印刷】!A101","v":98},{"$f":"契約2号【印刷】!B101","v":0},{"$f":"契約2号【印刷】!C101","v":0},{"$f":"契約2号【印刷】!D101","v":0},{"$f":"IF(契約2号【印刷】!$H$2=\"変更後注文金額\",契約2号【印刷】!E101,契約2号【印刷】!H101)","v":""},{"$f":"IF(契約2号【印刷】!$H$2=\"変更後注文金額\",契約2号【印刷】!F101,契約2号【印刷】!I101)","v":""},{"$f":"IF(契約2号【印刷】!$H$2=\"変更後注文金額\",契約2号【印刷】!G101,契約2号【印刷】!J101)","v":""},null,"",""]
[{"$f":"契約2号【印刷】!A102","v":99},{"$f":"契約2号【印刷】!B102","v":0},{"$f":"契約2号【印刷】!C102","v":0},{"$f":"契約2号【印刷】!D102","v":0},{"$f":"IF(契約2号【印刷】!$H$2=\"変更後注文金額\",契約2号【印刷】!E102,契約2号【印刷】!H102)","v":""},{"$f":"IF(契約2号【印刷】!$H$2=\"変更後注文金額\",契約2号【印刷】!F102,契約2号【印刷】!I102)","v":""},{"$f":"IF(契約2号【印刷】!$H$2=\"変更後注文金額\",契約2号【印刷】!G102,契約2号【印刷】!J102)","v":""},null,"",""]
[{"$f":"契約2号【印刷】!A103","v":100},{"$f":"契約2号【印刷】!B103","v":0},{"$f":"契約2号【印刷】!C103","v":0},{"$f":"契約2号【印刷】!D103","v":0},{"$f":"IF(契約2号【印刷】!$H$2=\"変更後注文金額\",契約2号【印刷】!E103,契約2号【印刷】!H103)","v":""},{"$f":"IF(契約2号【印刷】!$H$2=\"変更後注文金額\",契約2号【印刷】!F103,契約2号【印刷】!I103)","v":""},{"$f":"IF(契約2号【印刷】!$H$2=\"変更後注文金額\",契約2号【印刷】!G103,契約2号【印刷】!J103)","v":""},null,"",""]
[{"$f":"契約2号【印刷】!A104","v":101},{"$f":"契約2号【印刷】!B104","v":0},{"$f":"契約2号【印刷】!C104","v":0},{"$f":"契約2号【印刷】!D104","v":0},{"$f":"IF(契約2号【印刷】!$H$2=\"変更後注文金額\",契約2号【印刷】!E104,契約2号【印刷】!H104)","v":""},{"$f":"IF(契約2号【印刷】!$H$2=\"変更後注文金額\",契約2号【印刷】!F104,契約2号【印刷】!I104)","v":""},{"$f":"IF(契約2号【印刷】!$H$2=\"変更後注文金額\",契約2号【印刷】!G104,契約2号【印刷】!J104)","v":""},null,"",""]
[{"$f":"契約2号【印刷】!A105","v":102},{"$f":"契約2号【印刷】!B105","v":0},{"$f":"契約2号【印刷】!C105","v":0},{"$f":"契約2号【印刷】!D105","v":0},{"$f":"IF(契約2号【印刷】!$H$2=\"変更後注文金額\",契約2号【印刷】!E105,契約2号【印刷】!H105)","v":""},{"$f":"IF(契約2号【印刷】!$H$2=\"変更後注文金額\",契約2号【印刷】!F105,契約2号【印刷】!I105)","v":""},{"$f":"IF(契約2号【印刷】!$H$2=\"変更後注文金額\",契約2号【印刷】!G105,契約2号【印刷】!J105)","v":""},null,"",""]
[{"$f":"契約2号【印刷】!A106","v":103},{"$f":"契約2号【印刷】!B106","v":0},{"$f":"契約2号【印刷】!C106","v":0},{"$f":"契約2号【印刷】!D106","v":0},{"$f":"IF(契約2号【印刷】!$H$2=\"変更後注文金額\",契約2号【印刷】!E106,契約2号【印刷】!H106)","v":""},{"$f":"IF(契約2号【印刷】!$H$2=\"変更後注文金額\",契約2号【印刷】!F106,契約2号【印刷】!I106)","v":""},{"$f":"IF(契約2号【印刷】!$H$2=\"変更後注文金額\",契約2号【印刷】!G106,契約2号【印刷】!J106)","v":""},null,"",""]
[{"$f":"契約2号【印刷】!A107","v":104},{"$f":"契約2号【印刷】!B107","v":0},{"$f":"契約2号【印刷】!C107","v":0},{"$f":"契約2号【印刷】!D107","v":0},{"$f":"IF(契約2号【印刷】!$H$2=\"変更後注文金額\",契約2号【印刷】!E107,契約2号【印刷】!H107)","v":""},{"$f":"IF(契約2号【印刷】!$H$2=\"変更後注文金額\",契約2号【印刷】!F107,契約2号【印刷】!I107)","v":""},{"$f":"IF(契約2号【印刷】!$H$2=\"変更後注文金額\",契約2号【印刷】!G107,契約2号【印刷】!J107)","v":""},null,"",""]
[{"$f":"契約2号【印刷】!A108","v":105},{"$f":"契約2号【印刷】!B108","v":0},{"$f":"契約2号【印刷】!C108","v":0},{"$f":"契約2号【印刷】!D108","v":0},{"$f":"IF(契約2号【印刷】!$H$2=\"変更後注文金額\",契約2号【印刷】!E108,契約2号【印刷】!H108)","v":""},{"$f":"IF(契約2号【印刷】!$H$2=\"変更後注文金額\",契約2号【印刷】!F108,契約2号【印刷】!I108)","v":""},{"$f":"IF(契約2号【印刷】!$H$2=\"変更後注文金額\",契約2号【印刷】!G108,契約2号【印刷】!J108)","v":""},null,"",""]
[{"$f":"契約2号【印刷】!A109","v":106},{"$f":"契約2号【印刷】!B109","v":0},{"$f":"契約2号【印刷】!C109","v":0},{"$f":"契約2号【印刷】!D109","v":0},{"$f":"IF(契約2号【印刷】!$H$2=\"変更後注文金額\",契約2号【印刷】!E109,契約2号【印刷】!H109)","v":""},{"$f":"IF(契約2号【印刷】!$H$2=\"変更後注文金額\",契約2号【印刷】!F109,契約2号【印刷】!I109)","v":""},{"$f":"IF(契約2号【印刷】!$H$2=\"変更後注文金額\",契約2号【印刷】!G109,契約2号【印刷】!J109)","v":""},null,"",""]
[{"$f":"契約2号【印刷】!A110","v":107},{"$f":"契約2号【印刷】!B110","v":0},{"$f":"契約2号【印刷】!C110","v":0},{"$f":"契約2号【印刷】!D110","v":0},{"$f":"IF(契約2号【印刷】!$H$2=\"変更後注文金額\",契約2号【印刷】!E110,契約2号【印刷】!H110)","v":""},{"$f":"IF(契約2号【印刷】!$H$2=\"変更後注文金額\",契約2号【印刷】!F110,契約2号【印刷】!I110)","v":""},{"$f":"IF(契約2号【印刷】!$H$2=\"変更後注文金額\",契約2号【印刷】!G110,契約2号【印刷】!J110)","v":""},null,"",""]
[{"$f":"契約2号【印刷】!A111","v":108},{"$f":"契約2号【印刷】!B111","v":0},{"$f":"契約2号【印刷】!C111","v":0},{"$f":"契約2号【印刷】!D111","v":0},{"$f":"IF(契約2号【印刷】!$H$2=\"変更後注文金額\",契約2号【印刷】!E111,契約2号【印刷】!H111)","v":""},{"$f":"IF(契約2号【印刷】!$H$2=\"変更後注文金額\",契約2号【印刷】!F111,契約2号【印刷】!I111)","v":""},{"$f":"IF(契約2号【印刷】!$H$2=\"変更後注文金額\",契約2号【印刷】!G111,契約2号【印刷】!J111)","v":""},null,"",""]
[{"$f":"契約2号【印刷】!A112","v":109},{"$f":"契約2号【印刷】!B112","v":0},{"$f":"契約2号【印刷】!C112","v":0},{"$f":"契約2号【印刷】!D112","v":0},{"$f":"IF(契約2号【印刷】!$H$2=\"変更後注文金額\",契約2号【印刷】!E112,契約2号【印刷】!H112)","v":""},{"$f":"IF(契約2号【印刷】!$H$2=\"変更後注文金額\",契約2号【印刷】!F112,契約2号【印刷】!I112)","v":""},{"$f":"IF(契約2号【印刷】!$H$2=\"変更後注文金額\",契約2号【印刷】!G112,契約2号【印刷】!J112)","v":""},null,"",""]
[{"$f":"契約2号【印刷】!A113","v":110},{"$f":"契約2号【印刷】!B113","v":0},{"$f":"契約2号【印刷】!C113","v":0},{"$f":"契約2号【印刷】!D113","v":0},{"$f":"IF(契約2号【印刷】!$H$2=\"変更後注文金額\",契約2号【印刷】!E113,契約2号【印刷】!H113)","v":""},{"$f":"IF(契約2号【印刷】!$H$2=\"変更後注文金額\",契約2号【印刷】!F113,契約2号【印刷】!I113)","v":""},{"$f":"IF(契約2号【印刷】!$H$2=\"変更後注文金額\",契約2号【印刷】!G113,契約2号【印刷】!J113)","v":""},null,"",""]
[{"$f":"契約2号【印刷】!A114","v":111},{"$f":"契約2号【印刷】!B114","v":0},{"$f":"契約2号【印刷】!C114","v":0},{"$f":"契約2号【印刷】!D114","v":0},{"$f":"IF(契約2号【印刷】!$H$2=\"変更後注文金額\",契約2号【印刷】!E114,契約2号【印刷】!H114)","v":""},{"$f":"IF(契約2号【印刷】!$H$2=\"変更後注文金額\",契約2号【印刷】!F114,契約2号【印刷】!I114)","v":""},{"$f":"IF(契約2号【印刷】!$H$2=\"変更後注文金額\",契約2号【印刷】!G114,契約2号【印刷】!J114)","v":""},null,"",""]
[{"$f":"契約2号【印刷】!A115","v":112},{"$f":"契約2号【印刷】!B115","v":0},{"$f":"契約2号【印刷】!C115","v":0},{"$f":"契約2号【印刷】!D115","v":0},{"$f":"IF(契約2号【印刷】!$H$2=\"変更後注文金額\",契約2号【印刷】!E115,契約2号【印刷】!H115)","v":""},{"$f":"IF(契約2号【印刷】!$H$2=\"変更後注文金額\",契約2号【印刷】!F115,契約2号【印刷】!I115)","v":""},{"$f":"IF(契約2号【印刷】!$H$2=\"変更後注文金額\",契約2号【印刷】!G115,契約2号【印刷】!J115)","v":""},null,"",""]
[{"$f":"契約2号【印刷】!A116","v":113},{"$f":"契約2号【印刷】!B116","v":0},{"$f":"契約2号【印刷】!C116","v":0},{"$f":"契約2号【印刷】!D116","v":0},{"$f":"IF(契約2号【印刷】!$H$2=\"変更後注文金額\",契約2号【印刷】!E116,契約2号【印刷】!H116)","v":""},{"$f":"IF(契約2号【印刷】!$H$2=\"変更後注文金額\",契約2号【印刷】!F116,契約2号【印刷】!I116)","v":""},{"$f":"IF(契約2号【印刷】!$H$2=\"変更後注文金額\",契約2号【印刷】!G116,契約2号【印刷】!J116)","v":""},null,"",""]
[{"$f":"契約2号【印刷】!A117","v":114},{"$f":"契約2号【印刷】!B117","v":0},{"$f":"契約2号【印刷】!C117","v":0},{"$f":"契約2号【印刷】!D117","v":0},{"$f":"IF(契約2号【印刷】!$H$2=\"変更後注文金額\",契約2号【印刷】!E117,契約2号【印刷】!H117)","v":""},{"$f":"IF(契約2号【印刷】!$H$2=\"変更後注文金額\",契約2号【印刷】!F117,契約2号【印刷】!I117)","v":""},{"$f":"IF(契約2号【印刷】!$H$2=\"変更後注文金額\",契約2号【印刷】!G117,契約2号【印刷】!J117)","v":""},null,"",""]
[{"$f":"契約2号【印刷】!A118","v":115},{"$f":"契約2号【印刷】!B118","v":0},{"$f":"契約2号【印刷】!C118","v":0},{"$f":"契約2号【印刷】!D118","v":0},{"$f":"IF(契約2号【印刷】!$H$2=\"変更後注文金額\",契約2号【印刷】!E118,契約2号【印刷】!H118)","v":""},{"$f":"IF(契約2号【印刷】!$H$2=\"変更後注文金額\",契約2号【印刷】!F118,契約2号【印刷】!I118)","v":""},{"$f":"IF(契約2号【印刷】!$H$2=\"変更後注文金額\",契約2号【印刷】!G118,契約2号【印刷】!J118)","v":""},null,"",""]
[{"$f":"契約2号【印刷】!A119","v":116},{"$f":"契約2号【印刷】!B119","v":0},{"$f":"契約2号【印刷】!C119","v":0},{"$f":"契約2号【印刷】!D119","v":0},{"$f":"IF(契約2号【印刷】!$H$2=\"変更後注文金額\",契約2号【印刷】!E119,契約2号【印刷】!H119)","v":""},{"$f":"IF(契約2号【印刷】!$H$2=\"変更後注文金額\",契約2号【印刷】!F119,契約2号【印刷】!I119)","v":""},{"$f":"IF(契約2号【印刷】!$H$2=\"変更後注文金額\",契約2号【印刷】!G119,契約2号【印刷】!J119)","v":""},null,"",""]
[{"$f":"契約2号【印刷】!A120","v":117},{"$f":"契約2号【印刷】!B120","v":0},{"$f":"契約2号【印刷】!C120","v":0},{"$f":"契約2号【印刷】!D120","v":0},{"$f":"IF(契約2号【印刷】!$H$2=\"変更後注文金額\",契約2号【印刷】!E120,契約2号【印刷】!H120)","v":""},{"$f":"IF(契約2号【印刷】!$H$2=\"変更後注文金額\",契約2号【印刷】!F120,契約2号【印刷】!I120)","v":""},{"$f":"IF(契約2号【印刷】!$H$2=\"変更後注文金額\",契約2号【印刷】!G120,契約2号【印刷】!J120)","v":""},null,"",""]
[{"$f":"契約2号【印刷】!A121","v":118},{"$f":"契約2号【印刷】!B121","v":0},{"$f":"契約2号【印刷】!C121","v":0},{"$f":"契約2号【印刷】!D121","v":0},{"$f":"IF(契約2号【印刷】!$H$2=\"変更後注文金額\",契約2号【印刷】!E121,契約2号【印刷】!H121)","v":""},{"$f":"IF(契約2号【印刷】!$H$2=\"変更後注文金額\",契約2号【印刷】!F121,契約2号【印刷】!I121)","v":""},{"$f":"IF(契約2号【印刷】!$H$2=\"変更後注文金額\",契約2号【印刷】!G121,契約2号【印刷】!J121)","v":""},null,"",""]
[{"$f":"契約2号【印刷】!A122","v":119},{"$f":"契約2号【印刷】!B122","v":0},{"$f":"契約2号【印刷】!C122","v":0},{"$f":"契約2号【印刷】!D122","v":0},{"$f":"IF(契約2号【印刷】!$H$2=\"変更後注文金額\",契約2号【印刷】!E122,契約2号【印刷】!H122)","v":""},{"$f":"IF(契約2号【印刷】!$H$2=\"変更後注文金額\",契約2号【印刷】!F122,契約2号【印刷】!I122)","v":""},{"$f":"IF(契約2号【印刷】!$H$2=\"変更後注文金額\",契約2号【印刷】!G122,契約2号【印刷】!J122)","v":""},null,"",""]
[{"$f":"契約2号【印刷】!A123","v":120},{"$f":"契約2号【印刷】!B123","v":0},{"$f":"契約2号【印刷】!C123","v":0},{"$f":"契約2号【印刷】!D123","v":0},{"$f":"IF(契約2号【印刷】!$H$2=\"変更後注文金額\",契約2号【印刷】!E123,契約2号【印刷】!H123)","v":""},{"$f":"IF(契約2号【印刷】!$H$2=\"変更後注文金額\",契約2号【印刷】!F123,契約2号【印刷】!I123)","v":""},{"$f":"IF(契約2号【印刷】!$H$2=\"変更後注文金額\",契約2号【印刷】!G123,契約2号【印刷】!J123)","v":""},null,"","","④"]
[{"$f":"契約2号【印刷】!A124","v":121},{"$f":"契約2号【印刷】!B124","v":0},{"$f":"契約2号【印刷】!C124","v":0},{"$f":"契約2号【印刷】!D124","v":0},{"$f":"IF(契約2号【印刷】!$H$2=\"変更後注文金額\",契約2号【印刷】!E124,契約2号【印刷】!H124)","v":""},{"$f":"IF(契約2号【印刷】!$H$2=\"変更後注文金額\",契約2号【印刷】!F124,契約2号【印刷】!I124)","v":""},{"$f":"IF(契約2号【印刷】!$H$2=\"変更後注文金額\",契約2号【印刷】!G124,契約2号【印刷】!J124)","v":""},null,"",""]
[{"$f":"契約2号【印刷】!A125","v":122},{"$f":"契約2号【印刷】!B125","v":0},{"$f":"契約2号【印刷】!C125","v":0},{"$f":"契約2号【印刷】!D125","v":0},{"$f":"IF(契約2号【印刷】!$H$2=\"変更後注文金額\",契約2号【印刷】!E125,契約2号【印刷】!H125)","v":""},{"$f":"IF(契約2号【印刷】!$H$2=\"変更後注文金額\",契約2号【印刷】!F125,契約2号【印刷】!I125)","v":""},{"$f":"IF(契約2号【印刷】!$H$2=\"変更後注文金額\",契約2号【印刷】!G125,契約2号【印刷】!J125)","v":""},null,"",""]
[{"$f":"契約2号【印刷】!A126","v":123},{"$f":"契約2号【印刷】!B126","v":0},{"$f":"契約2号【印刷】!C126","v":0},{"$f":"契約2号【印刷】!D126","v":0},{"$f":"IF(契約2号【印刷】!$H$2=\"変更後注文金額\",契約2号【印刷】!E126,契約2号【印刷】!H126)","v":""},{"$f":"IF(契約2号【印刷】!$H$2=\"変更後注文金額\",契約2号【印刷】!F126,契約2号【印刷】!I126)","v":""},{"$f":"IF(契約2号【印刷】!$H$2=\"変更後注文金額\",契約2号【印刷】!G126,契約2号【印刷】!J126)","v":""},null,"",""]
[{"$f":"契約2号【印刷】!A127","v":124},{"$f":"契約2号【印刷】!B127","v":0},{"$f":"契約2号【印刷】!C127","v":0},{"$f":"契約2号【印刷】!D127","v":0},{"$f":"IF(契約2号【印刷】!$H$2=\"変更後注文金額\",契約2号【印刷】!E127,契約2号【印刷】!H127)","v":""},{"$f":"IF(契約2号【印刷】!$H$2=\"変更後注文金額\",契約2号【印刷】!F127,契約2号【印刷】!I127)","v":""},{"$f":"IF(契約2号【印刷】!$H$2=\"変更後注文金額\",契約2号【印刷】!G127,契約2号【印刷】!J127)","v":""},null,"",""]
[{"$f":"契約2号【印刷】!A128","v":125},{"$f":"契約2号【印刷】!B128","v":0},{"$f":"契約2号【印刷】!C128","v":0},{"$f":"契約2号【印刷】!D128","v":0},{"$f":"IF(契約2号【印刷】!$H$2=\"変更後注文金額\",契約2号【印刷】!E128,契約2号【印刷】!H128)","v":""},{"$f":"IF(契約2号【印刷】!$H$2=\"変更後注文金額\",契約2号【印刷】!F128,契約2号【印刷】!I128)","v":""},{"$f":"IF(契約2号【印刷】!$H$2=\"変更後注文金額\",契約2号【印刷】!G128,契約2号【印刷】!J128)","v":""},null,"",""]
[{"$f":"契約2号【印刷】!A129","v":126},{"$f":"契約2号【印刷】!B129","v":0},{"$f":"契約2号【印刷】!C129","v":0},{"$f":"契約2号【印刷】!D129","v":0},{"$f":"IF(契約2号【印刷】!$H$2=\"変更後注文金額\",契約2号【印刷】!E129,契約2号【印刷】!H129)","v":""},{"$f":"IF(契約2号【印刷】!$H$2=\"変更後注文金額\",契約2号【印刷】!F129,契約2号【印刷】!I129)","v":""},{"$f":"IF(契約2号【印刷】!$H$2=\"変更後注文金額\",契約2号【印刷】!G129,契約2号【印刷】!J129)","v":""},null,"",""]
[{"$f":"契約2号【印刷】!A130","v":127},{"$f":"契約2号【印刷】!B130","v":0},{"$f":"契約2号【印刷】!C130","v":0},{"$f":"契約2号【印刷】!D130","v":0},{"$f":"IF(契約2号【印刷】!$H$2=\"変更後注文金額\",契約2号【印刷】!E130,契約2号【印刷】!H130)","v":""},{"$f":"IF(契約2号【印刷】!$H$2=\"変更後注文金額\",契約2号【印刷】!F130,契約2号【印刷】!I130)","v":""},{"$f":"IF(契約2号【印刷】!$H$2=\"変更後注文金額\",契約2号【印刷】!G130,契約2号【印刷】!J130)","v":""},null,"",""]
[{"$f":"契約2号【印刷】!A131","v":128},{"$f":"契約2号【印刷】!B131","v":0},{"$f":"契約2号【印刷】!C131","v":0},{"$f":"契約2号【印刷】!D131","v":0},{"$f":"IF(契約2号【印刷】!$H$2=\"変更後注文金額\",契約2号【印刷】!E131,契約2号【印刷】!H131)","v":""},{"$f":"IF(契約2号【印刷】!$H$2=\"変更後注文金額\",契約2号【印刷】!F131,契約2号【印刷】!I131)","v":""},{"$f":"IF(契約2号【印刷】!$H$2=\"変更後注文金額\",契約2号【印刷】!G131,契約2号【印刷】!J131)","v":""},null,"",""]
[{"$f":"契約2号【印刷】!A132","v":129},{"$f":"契約2号【印刷】!B132","v":0},{"$f":"契約2号【印刷】!C132","v":0},{"$f":"契約2号【印刷】!D132","v":0},{"$f":"IF(契約2号【印刷】!$H$2=\"変更後注文金額\",契約2号【印刷】!E132,契約2号【印刷】!H132)","v":""},{"$f":"IF(契約2号【印刷】!$H$2=\"変更後注文金額\",契約2号【印刷】!F132,契約2号【印刷】!I132)","v":""},{"$f":"IF(契約2号【印刷】!$H$2=\"変更後注文金額\",契約2号【印刷】!G132,契約2号【印刷】!J132)","v":""},null,"",""]
[{"$f":"契約2号【印刷】!A133","v":130},{"$f":"契約2号【印刷】!B133","v":0},{"$f":"契約2号【印刷】!C133","v":0},{"$f":"契約2号【印刷】!D133","v":0},{"$f":"IF(契約2号【印刷】!$H$2=\"変更後注文金額\",契約2号【印刷】!E133,契約2号【印刷】!H133)","v":""},{"$f":"IF(契約2号【印刷】!$H$2=\"変更後注文金額\",契約2号【印刷】!F133,契約2号【印刷】!I133)","v":""},{"$f":"IF(契約2号【印刷】!$H$2=\"変更後注文金額\",契約2号【印刷】!G133,契約2号【印刷】!J133)","v":""},null,"",""]
[{"$f":"契約2号【印刷】!A134","v":131},{"$f":"契約2号【印刷】!B134","v":0},{"$f":"契約2号【印刷】!C134","v":0},{"$f":"契約2号【印刷】!D134","v":0},{"$f":"IF(契約2号【印刷】!$H$2=\"変更後注文金額\",契約2号【印刷】!E134,契約2号【印刷】!H134)","v":""},{"$f":"IF(契約2号【印刷】!$H$2=\"変更後注文金額\",契約2号【印刷】!F134,契約2号【印刷】!I134)","v":""},{"$f":"IF(契約2号【印刷】!$H$2=\"変更後注文金額\",契約2号【印刷】!G134,契約2号【印刷】!J134)","v":""},null,"",""]
[{"$f":"契約2号【印刷】!A135","v":132},{"$f":"契約2号【印刷】!B135","v":0},{"$f":"契約2号【印刷】!C135","v":0},{"$f":"契約2号【印刷】!D135","v":0},{"$f":"IF(契約2号【印刷】!$H$2=\"変更後注文金額\",契約2号【印刷】!E135,契約2号【印刷】!H135)","v":""},{"$f":"IF(契約2号【印刷】!$H$2=\"変更後注文金額\",契約2号【印刷】!F135,契約2号【印刷】!I135)","v":""},{"$f":"IF(契約2号【印刷】!$H$2=\"変更後注文金額\",契約2号【印刷】!G135,契約2号【印刷】!J135)","v":""},null,"",""]
[{"$f":"契約2号【印刷】!A136","v":133},{"$f":"契約2号【印刷】!B136","v":0},{"$f":"契約2号【印刷】!C136","v":0},{"$f":"契約2号【印刷】!D136","v":0},{"$f":"IF(契約2号【印刷】!$H$2=\"変更後注文金額\",契約2号【印刷】!E136,契約2号【印刷】!H136)","v":""},{"$f":"IF(契約2号【印刷】!$H$2=\"変更後注文金額\",契約2号【印刷】!F136,契約2号【印刷】!I136)","v":""},{"$f":"IF(契約2号【印刷】!$H$2=\"変更後注文金額\",契約2号【印刷】!G136,契約2号【印刷】!J136)","v":""},null,"",""]
[{"$f":"契約2号【印刷】!A137","v":134},{"$f":"契約2号【印刷】!B137","v":0},{"$f":"契約2号【印刷】!C137","v":0},{"$f":"契約2号【印刷】!D137","v":0},{"$f":"IF(契約2号【印刷】!$H$2=\"変更後注文金額\",契約2号【印刷】!E137,契約2号【印刷】!H137)","v":""},{"$f":"IF(契約2号【印刷】!$H$2=\"変更後注文金額\",契約2号【印刷】!F137,契約2号【印刷】!I137)","v":""},{"$f":"IF(契約2号【印刷】!$H$2=\"変更後注文金額\",契約2号【印刷】!G137,契約2号【印刷】!J137)","v":""},null,"",""]
[{"$f":"契約2号【印刷】!A138","v":135},{"$f":"契約2号【印刷】!B138","v":0},{"$f":"契約2号【印刷】!C138","v":0},{"$f":"契約2号【印刷】!D138","v":0},{"$f":"IF(契約2号【印刷】!$H$2=\"変更後注文金額\",契約2号【印刷】!E138,契約2号【印刷】!H138)","v":""},{"$f":"IF(契約2号【印刷】!$H$2=\"変更後注文金額\",契約2号【印刷】!F138,契約2号【印刷】!I138)","v":""},{"$f":"IF(契約2号【印刷】!$H$2=\"変更後注文金額\",契約2号【印刷】!G138,契約2号【印刷】!J138)","v":""},null,"",""]
[{"$f":"契約2号【印刷】!A139","v":136},{"$f":"契約2号【印刷】!B139","v":0},{"$f":"契約2号【印刷】!C139","v":0},{"$f":"契約2号【印刷】!D139","v":0},{"$f":"IF(契約2号【印刷】!$H$2=\"変更後注文金額\",契約2号【印刷】!E139,契約2号【印刷】!H139)","v":""},{"$f":"IF(契約2号【印刷】!$H$2=\"変更後注文金額\",契約2号【印刷】!F139,契約2号【印刷】!I139)","v":""},{"$f":"IF(契約2号【印刷】!$H$2=\"変更後注文金額\",契約2号【印刷】!G139,契約2号【印刷】!J139)","v":""},null,"",""]
[{"$f":"契約2号【印刷】!A140","v":137},{"$f":"契約2号【印刷】!B140","v":0},{"$f":"契約2号【印刷】!C140","v":0},{"$f":"契約2号【印刷】!D140","v":0},{"$f":"IF(契約2号【印刷】!$H$2=\"変更後注文金額\",契約2号【印刷】!E140,契約2号【印刷】!H140)","v":""},{"$f":"IF(契約2号【印刷】!$H$2=\"変更後注文金額\",契約2号【印刷】!F140,契約2号【印刷】!I140)","v":""},{"$f":"IF(契約2号【印刷】!$H$2=\"変更後注文金額\",契約2号【印刷】!G140,契約2号【印刷】!J140)","v":""},null,"",""]
[{"$f":"契約2号【印刷】!A141","v":138},{"$f":"契約2号【印刷】!B141","v":0},{"$f":"契約2号【印刷】!C141","v":0},{"$f":"契約2号【印刷】!D141","v":0},{"$f":"IF(契約2号【印刷】!$H$2=\"変更後注文金額\",契約2号【印刷】!E141,契約2号【印刷】!H141)","v":""},{"$f":"IF(契約2号【印刷】!$H$2=\"変更後注文金額\",契約2号【印刷】!F141,契約2号【印刷】!I141)","v":""},{"$f":"IF(契約2号【印刷】!$H$2=\"変更後注文金額\",契約2号【印刷】!G141,契約2号【印刷】!J141)","v":""},null,"",""]
[{"$f":"契約2号【印刷】!A142","v":139},{"$f":"契約2号【印刷】!B142","v":0},{"$f":"契約2号【印刷】!C142","v":0},{"$f":"契約2号【印刷】!D142","v":0},{"$f":"IF(契約2号【印刷】!$H$2=\"変更後注文金額\",契約2号【印刷】!E142,契約2号【印刷】!H142)","v":""},{"$f":"IF(契約2号【印刷】!$H$2=\"変更後注文金額\",契約2号【印刷】!F142,契約2号【印刷】!I142)","v":""},{"$f":"IF(契約2号【印刷】!$H$2=\"変更後注文金額\",契約2号【印刷】!G142,契約2号【印刷】!J142)","v":""},null,"",""]
[{"$f":"契約2号【印刷】!A143","v":140},{"$f":"契約2号【印刷】!B143","v":0},{"$f":"契約2号【印刷】!C143","v":0},{"$f":"契約2号【印刷】!D143","v":0},{"$f":"IF(契約2号【印刷】!$H$2=\"変更後注文金額\",契約2号【印刷】!E143,契約2号【印刷】!H143)","v":""},{"$f":"IF(契約2号【印刷】!$H$2=\"変更後注文金額\",契約2号【印刷】!F143,契約2号【印刷】!I143)","v":""},{"$f":"IF(契約2号【印刷】!$H$2=\"変更後注文金額\",契約2号【印刷】!G143,契約2号【印刷】!J143)","v":""},null,"",""]
[{"$f":"契約2号【印刷】!A144","v":141},{"$f":"契約2号【印刷】!B144","v":0},{"$f":"契約2号【印刷】!C144","v":0},{"$f":"契約2号【印刷】!D144","v":0},{"$f":"IF(契約2号【印刷】!$H$2=\"変更後注文金額\",契約2号【印刷】!E144,契約2号【印刷】!H144)","v":""},{"$f":"IF(契約2号【印刷】!$H$2=\"変更後注文金額\",契約2号【印刷】!F144,契約2号【印刷】!I144)","v":""},{"$f":"IF(契約2号【印刷】!$H$2=\"変更後注文金額\",契約2号【印刷】!G144,契約2号【印刷】!J144)","v":""},null,"",""]
[{"$f":"契約2号【印刷】!A145","v":142},{"$f":"契約2号【印刷】!B145","v":0},{"$f":"契約2号【印刷】!C145","v":0},{"$f":"契約2号【印刷】!D145","v":0},{"$f":"IF(契約2号【印刷】!$H$2=\"変更後注文金額\",契約2号【印刷】!E145,契約2号【印刷】!H145)","v":""},{"$f":"IF(契約2号【印刷】!$H$2=\"変更後注文金額\",契約2号【印刷】!F145,契約2号【印刷】!I145)","v":""},{"$f":"IF(契約2号【印刷】!$H$2=\"変更後注文金額\",契約2号【印刷】!G145,契約2号【印刷】!J145)","v":""},null,"",""]
[{"$f":"契約2号【印刷】!A146","v":143},{"$f":"契約2号【印刷】!B146","v":0},{"$f":"契約2号【印刷】!C146","v":0},{"$f":"契約2号【印刷】!D146","v":0},{"$f":"IF(契約2号【印刷】!$H$2=\"変更後注文金額\",契約2号【印刷】!E146,契約2号【印刷】!H146)","v":""},{"$f":"IF(契約2号【印刷】!$H$2=\"変更後注文金額\",契約2号【印刷】!F146,契約2号【印刷】!I146)","v":""},{"$f":"IF(契約2号【印刷】!$H$2=\"変更後注文金額\",契約2号【印刷】!G146,契約2号【印刷】!J146)","v":""},null,"",""]
[{"$f":"契約2号【印刷】!A147","v":144},{"$f":"契約2号【印刷】!B147","v":0},{"$f":"契約2号【印刷】!C147","v":0},{"$f":"契約2号【印刷】!D147","v":0},{"$f":"IF(契約2号【印刷】!$H$2=\"変更後注文金額\",契約2号【印刷】!E147,契約2号【印刷】!H147)","v":""},{"$f":"IF(契約2号【印刷】!$H$2=\"変更後注文金額\",契約2号【印刷】!F147,契約2号【印刷】!I147)","v":""},{"$f":"IF(契約2号【印刷】!$H$2=\"変更後注文金額\",契約2号【印刷】!G147,契約2号【印刷】!J147)","v":""},null,"",""]
[{"$f":"契約2号【印刷】!A148","v":145},{"$f":"契約2号【印刷】!B148","v":0},{"$f":"契約2号【印刷】!C148","v":0},{"$f":"契約2号【印刷】!D148","v":0},{"$f":"IF(契約2号【印刷】!$H$2=\"変更後注文金額\",契約2号【印刷】!E148,契約2号【印刷】!H148)","v":""},{"$f":"IF(契約2号【印刷】!$H$2=\"変更後注文金額\",契約2号【印刷】!F148,契約2号【印刷】!I148)","v":""},{"$f":"IF(契約2号【印刷】!$H$2=\"変更後注文金額\",契約2号【印刷】!G148,契約2号【印刷】!J148)","v":""},null,"",""]
[{"$f":"契約2号【印刷】!A149","v":146},{"$f":"契約2号【印刷】!B149","v":0},{"$f":"契約2号【印刷】!C149","v":0},{"$f":"契約2号【印刷】!D149","v":0},{"$f":"IF(契約2号【印刷】!$H$2=\"変更後注文金額\",契約2号【印刷】!E149,契約2号【印刷】!H149)","v":""},{"$f":"IF(契約2号【印刷】!$H$2=\"変更後注文金額\",契約2号【印刷】!F149,契約2号【印刷】!I149)","v":""},{"$f":"IF(契約2号【印刷】!$H$2=\"変更後注文金額\",契約2号【印刷】!G149,契約2号【印刷】!J149)","v":""},null,"",""]
[{"$f":"契約2号【印刷】!A150","v":147},{"$f":"契約2号【印刷】!B150","v":0},{"$f":"契約2号【印刷】!C150","v":0},{"$f":"契約2号【印刷】!D150","v":0},{"$f":"IF(契約2号【印刷】!$H$2=\"変更後注文金額\",契約2号【印刷】!E150,契約2号【印刷】!H150)","v":""},{"$f":"IF(契約2号【印刷】!$H$2=\"変更後注文金額\",契約2号【印刷】!F150,契約2号【印刷】!I150)","v":""},{"$f":"IF(契約2号【印刷】!$H$2=\"変更後注文金額\",契約2号【印刷】!G150,契約2号【印刷】!J150)","v":""},null,"",""]
[{"$f":"契約2号【印刷】!A151","v":148},{"$f":"契約2号【印刷】!B151","v":0},{"$f":"契約2号【印刷】!C151","v":0},{"$f":"契約2号【印刷】!D151","v":0},{"$f":"IF(契約2号【印刷】!$H$2=\"変更後注文金額\",契約2号【印刷】!E151,契約2号【印刷】!H151)","v":""},{"$f":"IF(契約2号【印刷】!$H$2=\"変更後注文金額\",契約2号【印刷】!F151,契約2号【印刷】!I151)","v":""},{"$f":"IF(契約2号【印刷】!$H$2=\"変更後注文金額\",契約2号【印刷】!G151,契約2号【印刷】!J151)","v":""},null,"",""]
[{"$f":"契約2号【印刷】!A152","v":149},{"$f":"契約2号【印刷】!B152","v":0},{"$f":"契約2号【印刷】!C152","v":0},{"$f":"契約2号【印刷】!D152","v":0},{"$f":"IF(契約2号【印刷】!$H$2=\"変更後注文金額\",契約2号【印刷】!E152,契約2号【印刷】!H152)","v":""},{"$f":"IF(契約2号【印刷】!$H$2=\"変更後注文金額\",契約2号【印刷】!F152,契約2号【印刷】!I152)","v":""},{"$f":"IF(契約2号【印刷】!$H$2=\"変更後注文金額\",契約2号【印刷】!G152,契約2号【印刷】!J152)","v":""},null,"",""]
[{"$f":"契約2号【印刷】!A153","v":150},{"$f":"契約2号【印刷】!B153","v":0},{"$f":"契約2号【印刷】!C153","v":0},{"$f":"契約2号【印刷】!D153","v":0},{"$f":"IF(契約2号【印刷】!$H$2=\"変更後注文金額\",契約2号【印刷】!E153,契約2号【印刷】!H153)","v":""},{"$f":"IF(契約2号【印刷】!$H$2=\"変更後注文金額\",契約2号【印刷】!F153,契約2号【印刷】!I153)","v":""},{"$f":"IF(契約2号【印刷】!$H$2=\"変更後注文金額\",契約2号【印刷】!G153,契約2号【印刷】!J153)","v":""},null,"","","⑤"]
[{"$f":"契約2号【印刷】!A154","v":151},{"$f":"契約2号【印刷】!B154","v":0},{"$f":"契約2号【印刷】!C154","v":0},{"$f":"契約2号【印刷】!D154","v":0},{"$f":"IF(契約2号【印刷】!$H$2=\"変更後注文金額\",契約2号【印刷】!E154,契約2号【印刷】!H154)","v":""},{"$f":"IF(契約2号【印刷】!$H$2=\"変更後注文金額\",契約2号【印刷】!F154,契約2号【印刷】!I154)","v":""},{"$f":"IF(契約2号【印刷】!$H$2=\"変更後注文金額\",契約2号【印刷】!G154,契約2号【印刷】!J154)","v":""},null,"",""]
[{"$f":"契約2号【印刷】!A155","v":152},{"$f":"契約2号【印刷】!B155","v":0},{"$f":"契約2号【印刷】!C155","v":0},{"$f":"契約2号【印刷】!D155","v":0},{"$f":"IF(契約2号【印刷】!$H$2=\"変更後注文金額\",契約2号【印刷】!E155,契約2号【印刷】!H155)","v":""},{"$f":"IF(契約2号【印刷】!$H$2=\"変更後注文金額\",契約2号【印刷】!F155,契約2号【印刷】!I155)","v":""},{"$f":"IF(契約2号【印刷】!$H$2=\"変更後注文金額\",契約2号【印刷】!G155,契約2号【印刷】!J155)","v":""},null,"",""]
[{"$f":"契約2号【印刷】!A156","v":153},{"$f":"契約2号【印刷】!B156","v":0},{"$f":"契約2号【印刷】!C156","v":0},{"$f":"契約2号【印刷】!D156","v":0},{"$f":"IF(契約2号【印刷】!$H$2=\"変更後注文金額\",契約2号【印刷】!E156,契約2号【印刷】!H156)","v":""},{"$f":"IF(契約2号【印刷】!$H$2=\"変更後注文金額\",契約2号【印刷】!F156,契約2号【印刷】!I156)","v":""},{"$f":"IF(契約2号【印刷】!$H$2=\"変更後注文金額\",契約2号【印刷】!G156,契約2号【印刷】!J156)","v":""},null,"",""]
[{"$f":"契約2号【印刷】!A157","v":154},{"$f":"契約2号【印刷】!B157","v":0},{"$f":"契約2号【印刷】!C157","v":0},{"$f":"契約2号【印刷】!D157","v":0},{"$f":"IF(契約2号【印刷】!$H$2=\"変更後注文金額\",契約2号【印刷】!E157,契約2号【印刷】!H157)","v":""},{"$f":"IF(契約2号【印刷】!$H$2=\"変更後注文金額\",契約2号【印刷】!F157,契約2号【印刷】!I157)","v":""},{"$f":"IF(契約2号【印刷】!$H$2=\"変更後注文金額\",契約2号【印刷】!G157,契約2号【印刷】!J157)","v":""},null,"",""]
[{"$f":"契約2号【印刷】!A158","v":155},{"$f":"契約2号【印刷】!B158","v":0},{"$f":"契約2号【印刷】!C158","v":0},{"$f":"契約2号【印刷】!D158","v":0},{"$f":"IF(契約2号【印刷】!$H$2=\"変更後注文金額\",契約2号【印刷】!E158,契約2号【印刷】!H158)","v":""},{"$f":"IF(契約2号【印刷】!$H$2=\"変更後注文金額\",契約2号【印刷】!F158,契約2号【印刷】!I158)","v":""},{"$f":"IF(契約2号【印刷】!$H$2=\"変更後注文金額\",契約2号【印刷】!G158,契約2号【印刷】!J158)","v":""},null,"",""]
[{"$f":"契約2号【印刷】!A159","v":156},{"$f":"契約2号【印刷】!B159","v":0},{"$f":"契約2号【印刷】!C159","v":0},{"$f":"契約2号【印刷】!D159","v":0},{"$f":"IF(契約2号【印刷】!$H$2=\"変更後注文金額\",契約2号【印刷】!E159,契約2号【印刷】!H159)","v":""},{"$f":"IF(契約2号【印刷】!$H$2=\"変更後注文金額\",契約2号【印刷】!F159,契約2号【印刷】!I159)","v":""},{"$f":"IF(契約2号【印刷】!$H$2=\"変更後注文金額\",契約2号【印刷】!G159,契約2号【印刷】!J159)","v":""},null,"",""]
[{"$f":"契約2号【印刷】!A160","v":157},{"$f":"契約2号【印刷】!B160","v":0},{"$f":"契約2号【印刷】!C160","v":0},{"$f":"契約2号【印刷】!D160","v":0},{"$f":"IF(契約2号【印刷】!$H$2=\"変更後注文金額\",契約2号【印刷】!E160,契約2号【印刷】!H160)","v":""},{"$f":"IF(契約2号【印刷】!$H$2=\"変更後注文金額\",契約2号【印刷】!F160,契約2号【印刷】!I160)","v":""},{"$f":"IF(契約2号【印刷】!$H$2=\"変更後注文金額\",契約2号【印刷】!G160,契約2号【印刷】!J160)","v":""},null,"",""]
[{"$f":"契約2号【印刷】!A161","v":158},{"$f":"契約2号【印刷】!B161","v":0},{"$f":"契約2号【印刷】!C161","v":0},{"$f":"契約2号【印刷】!D161","v":0},{"$f":"IF(契約2号【印刷】!$H$2=\"変更後注文金額\",契約2号【印刷】!E161,契約2号【印刷】!H161)","v":""},{"$f":"IF(契約2号【印刷】!$H$2=\"変更後注文金額\",契約2号【印刷】!F161,契約2号【印刷】!I161)","v":""},{"$f":"IF(契約2号【印刷】!$H$2=\"変更後注文金額\",契約2号【印刷】!G161,契約2号【印刷】!J161)","v":""},null,"",""]
[{"$f":"契約2号【印刷】!A162","v":159},{"$f":"契約2号【印刷】!B162","v":0},{"$f":"契約2号【印刷】!C162","v":0},{"$f":"契約2号【印刷】!D162","v":0},{"$f":"IF(契約2号【印刷】!$H$2=\"変更後注文金額\",契約2号【印刷】!E162,契約2号【印刷】!H162)","v":""},{"$f":"IF(契約2号【印刷】!$H$2=\"変更後注文金額\",契約2号【印刷】!F162,契約2号【印刷】!I162)","v":""},{"$f":"IF(契約2号【印刷】!$H$2=\"変更後注文金額\",契約2号【印刷】!G162,契約2号【印刷】!J162)","v":""},null,{"$f":"IF(OR(F162=\"\",H162=\"\"),\"\",ROUNDDOWN(F162*H162,0))","v":""},{"$f":"IF(OR(G162=\"\",I162=\"\"),\"\",I162/G162)","v":""}]
[{"$f":"契約2号【印刷】!A163","v":160},{"$f":"契約2号【印刷】!B163","v":0},{"$f":"契約2号【印刷】!C163","v":0},{"$f":"契約2号【印刷】!D163","v":0},{"$f":"IF(契約2号【印刷】!$H$2=\"変更後注文金額\",契約2号【印刷】!E163,契約2号【印刷】!H163)","v":""},{"$f":"IF(契約2号【印刷】!$H$2=\"変更後注文金額\",契約2号【印刷】!F163,契約2号【印刷】!I163)","v":""},{"$f":"IF(契約2号【印刷】!$H$2=\"変更後注文金額\",契約2号【印刷】!G163,契約2号【印刷】!J163)","v":""},null,"",""]
[{"$f":"契約2号【印刷】!A164","v":161},{"$f":"契約2号【印刷】!B164","v":0},{"$f":"契約2号【印刷】!C164","v":0},{"$f":"契約2号【印刷】!D164","v":0},{"$f":"IF(契約2号【印刷】!$H$2=\"変更後注文金額\",契約2号【印刷】!E164,契約2号【印刷】!H164)","v":""},{"$f":"IF(契約2号【印刷】!$H$2=\"変更後注文金額\",契約2号【印刷】!F164,契約2号【印刷】!I164)","v":""},{"$f":"IF(契約2号【印刷】!$H$2=\"変更後注文金額\",契約2号【印刷】!G164,契約2号【印刷】!J164)","v":""},null,"",""]
[{"$f":"契約2号【印刷】!A165","v":162},{"$f":"契約2号【印刷】!B165","v":0},{"$f":"契約2号【印刷】!C165","v":0},{"$f":"契約2号【印刷】!D165","v":0},{"$f":"IF(契約2号【印刷】!$H$2=\"変更後注文金額\",契約2号【印刷】!E165,契約2号【印刷】!H165)","v":""},{"$f":"IF(契約2号【印刷】!$H$2=\"変更後注文金額\",契約2号【印刷】!F165,契約2号【印刷】!I165)","v":""},{"$f":"IF(契約2号【印刷】!$H$2=\"変更後注文金額\",契約2号【印刷】!G165,契約2号【印刷】!J165)","v":""},null,"",""]
[{"$f":"契約2号【印刷】!A166","v":163},{"$f":"契約2号【印刷】!B166","v":0},{"$f":"契約2号【印刷】!C166","v":0},{"$f":"契約2号【印刷】!D166","v":0},{"$f":"IF(契約2号【印刷】!$H$2=\"変更後注文金額\",契約2号【印刷】!E166,契約2号【印刷】!H166)","v":""},{"$f":"IF(契約2号【印刷】!$H$2=\"変更後注文金額\",契約2号【印刷】!F166,契約2号【印刷】!I166)","v":""},{"$f":"IF(契約2号【印刷】!$H$2=\"変更後注文金額\",契約2号【印刷】!G166,契約2号【印刷】!J166)","v":""},null,"",""]
[{"$f":"契約2号【印刷】!A167","v":164},{"$f":"契約2号【印刷】!B167","v":0},{"$f":"契約2号【印刷】!C167","v":0},{"$f":"契約2号【印刷】!D167","v":0},{"$f":"IF(契約2号【印刷】!$H$2=\"変更後注文金額\",契約2号【印刷】!E167,契約2号【印刷】!H167)","v":""},{"$f":"IF(契約2号【印刷】!$H$2=\"変更後注文金額\",契約2号【印刷】!F167,契約2号【印刷】!I167)","v":""},{"$f":"IF(契約2号【印刷】!$H$2=\"変更後注文金額\",契約2号【印刷】!G167,契約2号【印刷】!J167)","v":""},null,"",""]
[{"$f":"契約2号【印刷】!A168","v":165},{"$f":"契約2号【印刷】!B168","v":0},{"$f":"契約2号【印刷】!C168","v":0},{"$f":"契約2号【印刷】!D168","v":0},{"$f":"IF(契約2号【印刷】!$H$2=\"変更後注文金額\",契約2号【印刷】!E168,契約2号【印刷】!H168)","v":""},{"$f":"IF(契約2号【印刷】!$H$2=\"変更後注文金額\",契約2号【印刷】!F168,契約2号【印刷】!I168)","v":""},{"$f":"IF(契約2号【印刷】!$H$2=\"変更後注文金額\",契約2号【印刷】!G168,契約2号【印刷】!J168)","v":""},null,"",""]
[{"$f":"契約2号【印刷】!A169","v":166},{"$f":"契約2号【印刷】!B169","v":0},{"$f":"契約2号【印刷】!C169","v":0},{"$f":"契約2号【印刷】!D169","v":0},{"$f":"IF(契約2号【印刷】!$H$2=\"変更後注文金額\",契約2号【印刷】!E169,契約2号【印刷】!H169)","v":""},{"$f":"IF(契約2号【印刷】!$H$2=\"変更後注文金額\",契約2号【印刷】!F169,契約2号【印刷】!I169)","v":""},{"$f":"IF(契約2号【印刷】!$H$2=\"変更後注文金額\",契約2号【印刷】!G169,契約2号【印刷】!J169)","v":""},null,"",""]
[{"$f":"契約2号【印刷】!A170","v":167},{"$f":"契約2号【印刷】!B170","v":0},{"$f":"契約2号【印刷】!C170","v":0},{"$f":"契約2号【印刷】!D170","v":0},{"$f":"IF(契約2号【印刷】!$H$2=\"変更後注文金額\",契約2号【印刷】!E170,契約2号【印刷】!H170)","v":""},{"$f":"IF(契約2号【印刷】!$H$2=\"変更後注文金額\",契約2号【印刷】!F170,契約2号【印刷】!I170)","v":""},{"$f":"IF(契約2号【印刷】!$H$2=\"変更後注文金額\",契約2号【印刷】!G170,契約2号【印刷】!J170)","v":""},null,"",""]
[{"$f":"契約2号【印刷】!A171","v":168},{"$f":"契約2号【印刷】!B171","v":0},{"$f":"契約2号【印刷】!C171","v":0},{"$f":"契約2号【印刷】!D171","v":0},{"$f":"IF(契約2号【印刷】!$H$2=\"変更後注文金額\",契約2号【印刷】!E171,契約2号【印刷】!H171)","v":""},{"$f":"IF(契約2号【印刷】!$H$2=\"変更後注文金額\",契約2号【印刷】!F171,契約2号【印刷】!I171)","v":""},{"$f":"IF(契約2号【印刷】!$H$2=\"変更後注文金額\",契約2号【印刷】!G171,契約2号【印刷】!J171)","v":""},null,"",""]
[{"$f":"契約2号【印刷】!A172","v":169},{"$f":"契約2号【印刷】!B172","v":0},{"$f":"契約2号【印刷】!C172","v":0},{"$f":"契約2号【印刷】!D172","v":0},{"$f":"IF(契約2号【印刷】!$H$2=\"変更後注文金額\",契約2号【印刷】!E172,契約2号【印刷】!H172)","v":""},{"$f":"IF(契約2号【印刷】!$H$2=\"変更後注文金額\",契約2号【印刷】!F172,契約2号【印刷】!I172)","v":""},{"$f":"IF(契約2号【印刷】!$H$2=\"変更後注文金額\",契約2号【印刷】!G172,契約2号【印刷】!J172)","v":""},null,"",""]
[{"$f":"契約2号【印刷】!A173","v":170},{"$f":"契約2号【印刷】!B173","v":0},{"$f":"契約2号【印刷】!C173","v":0},{"$f":"契約2号【印刷】!D173","v":0},{"$f":"IF(契約2号【印刷】!$H$2=\"変更後注文金額\",契約2号【印刷】!E173,契約2号【印刷】!H173)","v":""},{"$f":"IF(契約2号【印刷】!$H$2=\"変更後注文金額\",契約2号【印刷】!F173,契約2号【印刷】!I173)","v":""},{"$f":"IF(契約2号【印刷】!$H$2=\"変更後注文金額\",契約2号【印刷】!G173,契約2号【印刷】!J173)","v":""},null,"",""]
[{"$f":"契約2号【印刷】!A174","v":171},{"$f":"契約2号【印刷】!B174","v":0},{"$f":"契約2号【印刷】!C174","v":0},{"$f":"契約2号【印刷】!D174","v":0},{"$f":"IF(契約2号【印刷】!$H$2=\"変更後注文金額\",契約2号【印刷】!E174,契約2号【印刷】!H174)","v":""},{"$f":"IF(契約2号【印刷】!$H$2=\"変更後注文金額\",契約2号【印刷】!F174,契約2号【印刷】!I174)","v":""},{"$f":"IF(契約2号【印刷】!$H$2=\"変更後注文金額\",契約2号【印刷】!G174,契約2号【印刷】!J174)","v":""},null,"",""]
[{"$f":"契約2号【印刷】!A175","v":172},{"$f":"契約2号【印刷】!B175","v":0},{"$f":"契約2号【印刷】!C175","v":0},{"$f":"契約2号【印刷】!D175","v":0},{"$f":"IF(契約2号【印刷】!$H$2=\"変更後注文金額\",契約2号【印刷】!E175,契約2号【印刷】!H175)","v":""},{"$f":"IF(契約2号【印刷】!$H$2=\"変更後注文金額\",契約2号【印刷】!F175,契約2号【印刷】!I175)","v":""},{"$f":"IF(契約2号【印刷】!$H$2=\"変更後注文金額\",契約2号【印刷】!G175,契約2号【印刷】!J175)","v":""},null,"",""]
[{"$f":"契約2号【印刷】!A176","v":173},{"$f":"契約2号【印刷】!B176","v":0},{"$f":"契約2号【印刷】!C176","v":0},{"$f":"契約2号【印刷】!D176","v":0},{"$f":"IF(契約2号【印刷】!$H$2=\"変更後注文金額\",契約2号【印刷】!E176,契約2号【印刷】!H176)","v":""},{"$f":"IF(契約2号【印刷】!$H$2=\"変更後注文金額\",契約2号【印刷】!F176,契約2号【印刷】!I176)","v":""},{"$f":"IF(契約2号【印刷】!$H$2=\"変更後注文金額\",契約2号【印刷】!G176,契約2号【印刷】!J176)","v":""},null,"",""]
[{"$f":"契約2号【印刷】!A177","v":174},{"$f":"契約2号【印刷】!B177","v":0},{"$f":"契約2号【印刷】!C177","v":0},{"$f":"契約2号【印刷】!D177","v":0},{"$f":"IF(契約2号【印刷】!$H$2=\"変更後注文金額\",契約2号【印刷】!E177,契約2号【印刷】!H177)","v":""},{"$f":"IF(契約2号【印刷】!$H$2=\"変更後注文金額\",契約2号【印刷】!F177,契約2号【印刷】!I177)","v":""},{"$f":"IF(契約2号【印刷】!$H$2=\"変更後注文金額\",契約2号【印刷】!G177,契約2号【印刷】!J177)","v":""},null,"",""]
[{"$f":"契約2号【印刷】!A178","v":175},{"$f":"契約2号【印刷】!B178","v":0},{"$f":"契約2号【印刷】!C178","v":0},{"$f":"契約2号【印刷】!D178","v":0},{"$f":"IF(契約2号【印刷】!$H$2=\"変更後注文金額\",契約2号【印刷】!E178,契約2号【印刷】!H178)","v":""},{"$f":"IF(契約2号【印刷】!$H$2=\"変更後注文金額\",契約2号【印刷】!F178,契約2号【印刷】!I178)","v":""},{"$f":"IF(契約2号【印刷】!$H$2=\"変更後注文金額\",契約2号【印刷】!G178,契約2号【印刷】!J178)","v":""},null,"",""]
[{"$f":"契約2号【印刷】!A179","v":176},{"$f":"契約2号【印刷】!B179","v":0},{"$f":"契約2号【印刷】!C179","v":0},{"$f":"契約2号【印刷】!D179","v":0},{"$f":"IF(契約2号【印刷】!$H$2=\"変更後注文金額\",契約2号【印刷】!E179,契約2号【印刷】!H179)","v":""},{"$f":"IF(契約2号【印刷】!$H$2=\"変更後注文金額\",契約2号【印刷】!F179,契約2号【印刷】!I179)","v":""},{"$f":"IF(契約2号【印刷】!$H$2=\"変更後注文金額\",契約2号【印刷】!G179,契約2号【印刷】!J179)","v":""},null,"",""]
[{"$f":"契約2号【印刷】!A180","v":177},{"$f":"契約2号【印刷】!B180","v":0},{"$f":"契約2号【印刷】!C180","v":0},{"$f":"契約2号【印刷】!D180","v":0},{"$f":"IF(契約2号【印刷】!$H$2=\"変更後注文金額\",契約2号【印刷】!E180,契約2号【印刷】!H180)","v":""},{"$f":"IF(契約2号【印刷】!$H$2=\"変更後注文金額\",契約2号【印刷】!F180,契約2号【印刷】!I180)","v":""},{"$f":"IF(契約2号【印刷】!$H$2=\"変更後注文金額\",契約2号【印刷】!G180,契約2号【印刷】!J180)","v":""},null,"",""]
[{"$f":"契約2号【印刷】!A181","v":178},{"$f":"契約2号【印刷】!B181","v":0},{"$f":"契約2号【印刷】!C181","v":0},{"$f":"契約2号【印刷】!D181","v":0},{"$f":"IF(契約2号【印刷】!$H$2=\"変更後注文金額\",契約2号【印刷】!E181,契約2号【印刷】!H181)","v":""},{"$f":"IF(契約2号【印刷】!$H$2=\"変更後注文金額\",契約2号【印刷】!F181,契約2号【印刷】!I181)","v":""},{"$f":"IF(契約2号【印刷】!$H$2=\"変更後注文金額\",契約2号【印刷】!G181,契約2号【印刷】!J181)","v":""},null,"",""]
[{"$f":"契約2号【印刷】!A182","v":179},{"$f":"契約2号【印刷】!B182","v":0},{"$f":"契約2号【印刷】!C182","v":0},{"$f":"契約2号【印刷】!D182","v":0},{"$f":"IF(契約2号【印刷】!$H$2=\"変更後注文金額\",契約2号【印刷】!E182,契約2号【印刷】!H182)","v":""},{"$f":"IF(契約2号【印刷】!$H$2=\"変更後注文金額\",契約2号【印刷】!F182,契約2号【印刷】!I182)","v":""},{"$f":"IF(契約2号【印刷】!$H$2=\"変更後注文金額\",契約2号【印刷】!G182,契約2号【印刷】!J182)","v":""},null,"",""]
[{"$f":"契約2号【印刷】!A183","v":180},{"$f":"契約2号【印刷】!B183","v":0},{"$f":"契約2号【印刷】!C183","v":0},{"$f":"契約2号【印刷】!D183","v":0},{"$f":"IF(契約2号【印刷】!$H$2=\"変更後注文金額\",契約2号【印刷】!E183,契約2号【印刷】!H183)","v":""},{"$f":"IF(契約2号【印刷】!$H$2=\"変更後注文金額\",契約2号【印刷】!F183,契約2号【印刷】!I183)","v":""},{"$f":"IF(契約2号【印刷】!$H$2=\"変更後注文金額\",契約2号【印刷】!G183,契約2号【印刷】!J183)","v":""},null,"","","⑥"]
[{"$f":"契約2号【印刷】!A184","v":181},{"$f":"契約2号【印刷】!B184","v":0},{"$f":"契約2号【印刷】!C184","v":0},{"$f":"契約2号【印刷】!D184","v":0},{"$f":"IF(契約2号【印刷】!$H$2=\"変更後注文金額\",契約2号【印刷】!E184,契約2号【印刷】!H184)","v":""},{"$f":"IF(契約2号【印刷】!$H$2=\"変更後注文金額\",契約2号【印刷】!F184,契約2号【印刷】!I184)","v":""},{"$f":"IF(契約2号【印刷】!$H$2=\"変更後注文金額\",契約2号【印刷】!G184,契約2号【印刷】!J184)","v":""},null,"",""]
[{"$f":"契約2号【印刷】!A185","v":182},{"$f":"契約2号【印刷】!B185","v":0},{"$f":"契約2号【印刷】!C185","v":0},{"$f":"契約2号【印刷】!D185","v":0},{"$f":"IF(契約2号【印刷】!$H$2=\"変更後注文金額\",契約2号【印刷】!E185,契約2号【印刷】!H185)","v":""},{"$f":"IF(契約2号【印刷】!$H$2=\"変更後注文金額\",契約2号【印刷】!F185,契約2号【印刷】!I185)","v":""},{"$f":"IF(契約2号【印刷】!$H$2=\"変更後注文金額\",契約2号【印刷】!G185,契約2号【印刷】!J185)","v":""},null,"",""]
[{"$f":"契約2号【印刷】!A186","v":183},{"$f":"契約2号【印刷】!B186","v":0},{"$f":"契約2号【印刷】!C186","v":0},{"$f":"契約2号【印刷】!D186","v":0},{"$f":"IF(契約2号【印刷】!$H$2=\"変更後注文金額\",契約2号【印刷】!E186,契約2号【印刷】!H186)","v":""},{"$f":"IF(契約2号【印刷】!$H$2=\"変更後注文金額\",契約2号【印刷】!F186,契約2号【印刷】!I186)","v":""},{"$f":"IF(契約2号【印刷】!$H$2=\"変更後注文金額\",契約2号【印刷】!G186,契約2号【印刷】!J186)","v":""},null,"",""]
[{"$f":"契約2号【印刷】!A187","v":184},{"$f":"契約2号【印刷】!B187","v":0},{"$f":"契約2号【印刷】!C187","v":0},{"$f":"契約2号【印刷】!D187","v":0},{"$f":"IF(契約2号【印刷】!$H$2=\"変更後注文金額\",契約2号【印刷】!E187,契約2号【印刷】!H187)","v":""},{"$f":"IF(契約2号【印刷】!$H$2=\"変更後注文金額\",契約2号【印刷】!F187,契約2号【印刷】!I187)","v":""},{"$f":"IF(契約2号【印刷】!$H$2=\"変更後注文金額\",契約2号【印刷】!G187,契約2号【印刷】!J187)","v":""},null,"",""]
[{"$f":"契約2号【印刷】!A188","v":185},{"$f":"契約2号【印刷】!B188","v":0},{"$f":"契約2号【印刷】!C188","v":0},{"$f":"契約2号【印刷】!D188","v":0},{"$f":"IF(契約2号【印刷】!$H$2=\"変更後注文金額\",契約2号【印刷】!E188,契約2号【印刷】!H188)","v":""},{"$f":"IF(契約2号【印刷】!$H$2=\"変更後注文金額\",契約2号【印刷】!F188,契約2号【印刷】!I188)","v":""},{"$f":"IF(契約2号【印刷】!$H$2=\"変更後注文金額\",契約2号【印刷】!G188,契約2号【印刷】!J188)","v":""},null,"",""]
[{"$f":"契約2号【印刷】!A189","v":186},{"$f":"契約2号【印刷】!B189","v":0},{"$f":"契約2号【印刷】!C189","v":0},{"$f":"契約2号【印刷】!D189","v":0},{"$f":"IF(契約2号【印刷】!$H$2=\"変更後注文金額\",契約2号【印刷】!E189,契約2号【印刷】!H189)","v":""},{"$f":"IF(契約2号【印刷】!$H$2=\"変更後注文金額\",契約2号【印刷】!F189,契約2号【印刷】!I189)","v":""},{"$f":"IF(契約2号【印刷】!$H$2=\"変更後注文金額\",契約2号【印刷】!G189,契約2号【印刷】!J189)","v":""},null,"",""]
[{"$f":"契約2号【印刷】!A190","v":187},{"$f":"契約2号【印刷】!B190","v":0},{"$f":"契約2号【印刷】!C190","v":0},{"$f":"契約2号【印刷】!D190","v":0},{"$f":"IF(契約2号【印刷】!$H$2=\"変更後注文金額\",契約2号【印刷】!E190,契約2号【印刷】!H190)","v":""},{"$f":"IF(契約2号【印刷】!$H$2=\"変更後注文金額\",契約2号【印刷】!F190,契約2号【印刷】!I190)","v":""},{"$f":"IF(契約2号【印刷】!$H$2=\"変更後注文金額\",契約2号【印刷】!G190,契約2号【印刷】!J190)","v":""},null,"",""]
[{"$f":"契約2号【印刷】!A191","v":188},{"$f":"契約2号【印刷】!B191","v":0},{"$f":"契約2号【印刷】!C191","v":0},{"$f":"契約2号【印刷】!D191","v":0},{"$f":"IF(契約2号【印刷】!$H$2=\"変更後注文金額\",契約2号【印刷】!E191,契約2号【印刷】!H191)","v":""},{"$f":"IF(契約2号【印刷】!$H$2=\"変更後注文金額\",契約2号【印刷】!F191,契約2号【印刷】!I191)","v":""},{"$f":"IF(契約2号【印刷】!$H$2=\"変更後注文金額\",契約2号【印刷】!G191,契約2号【印刷】!J191)","v":""},null,"",""]
[{"$f":"契約2号【印刷】!A192","v":189},{"$f":"契約2号【印刷】!B192","v":0},{"$f":"契約2号【印刷】!C192","v":0},{"$f":"契約2号【印刷】!D192","v":0},{"$f":"IF(契約2号【印刷】!$H$2=\"変更後注文金額\",契約2号【印刷】!E192,契約2号【印刷】!H192)","v":""},{"$f":"IF(契約2号【印刷】!$H$2=\"変更後注文金額\",契約2号【印刷】!F192,契約2号【印刷】!I192)","v":""},{"$f":"IF(契約2号【印刷】!$H$2=\"変更後注文金額\",契約2号【印刷】!G192,契約2号【印刷】!J192)","v":""},null,"",""]
[{"$f":"契約2号【印刷】!A193","v":190},{"$f":"契約2号【印刷】!B193","v":0},{"$f":"契約2号【印刷】!C193","v":0},{"$f":"契約2号【印刷】!D193","v":0},{"$f":"IF(契約2号【印刷】!$H$2=\"変更後注文金額\",契約2号【印刷】!E193,契約2号【印刷】!H193)","v":""},{"$f":"IF(契約2号【印刷】!$H$2=\"変更後注文金額\",契約2号【印刷】!F193,契約2号【印刷】!I193)","v":""},{"$f":"IF(契約2号【印刷】!$H$2=\"変更後注文金額\",契約2号【印刷】!G193,契約2号【印刷】!J193)","v":""},null,"",""]
[{"$f":"契約2号【印刷】!A194","v":191},{"$f":"契約2号【印刷】!B194","v":0},{"$f":"契約2号【印刷】!C194","v":0},{"$f":"契約2号【印刷】!D194","v":0},{"$f":"IF(契約2号【印刷】!$H$2=\"変更後注文金額\",契約2号【印刷】!E194,契約2号【印刷】!H194)","v":""},{"$f":"IF(契約2号【印刷】!$H$2=\"変更後注文金額\",契約2号【印刷】!F194,契約2号【印刷】!I194)","v":""},{"$f":"IF(契約2号【印刷】!$H$2=\"変更後注文金額\",契約2号【印刷】!G194,契約2号【印刷】!J194)","v":""},null,"",""]
[{"$f":"契約2号【印刷】!A195","v":192},{"$f":"契約2号【印刷】!B195","v":0},{"$f":"契約2号【印刷】!C195","v":0},{"$f":"契約2号【印刷】!D195","v":0},{"$f":"IF(契約2号【印刷】!$H$2=\"変更後注文金額\",契約2号【印刷】!E195,契約2号【印刷】!H195)","v":""},{"$f":"IF(契約2号【印刷】!$H$2=\"変更後注文金額\",契約2号【印刷】!F195,契約2号【印刷】!I195)","v":""},{"$f":"IF(契約2号【印刷】!$H$2=\"変更後注文金額\",契約2号【印刷】!G195,契約2号【印刷】!J195)","v":""},null,"",""]
[{"$f":"契約2号【印刷】!A196","v":193},{"$f":"契約2号【印刷】!B196","v":0},{"$f":"契約2号【印刷】!C196","v":0},{"$f":"契約2号【印刷】!D196","v":0},{"$f":"IF(契約2号【印刷】!$H$2=\"変更後注文金額\",契約2号【印刷】!E196,契約2号【印刷】!H196)","v":""},{"$f":"IF(契約2号【印刷】!$H$2=\"変更後注文金額\",契約2号【印刷】!F196,契約2号【印刷】!I196)","v":""},{"$f":"IF(契約2号【印刷】!$H$2=\"変更後注文金額\",契約2号【印刷】!G196,契約2号【印刷】!J196)","v":""},null,"",""]
[{"$f":"契約2号【印刷】!A197","v":194},{"$f":"契約2号【印刷】!B197","v":0},{"$f":"契約2号【印刷】!C197","v":0},{"$f":"契約2号【印刷】!D197","v":0},{"$f":"IF(契約2号【印刷】!$H$2=\"変更後注文金額\",契約2号【印刷】!E197,契約2号【印刷】!H197)","v":""},{"$f":"IF(契約2号【印刷】!$H$2=\"変更後注文金額\",契約2号【印刷】!F197,契約2号【印刷】!I197)","v":""},{"$f":"IF(契約2号【印刷】!$H$2=\"変更後注文金額\",契約2号【印刷】!G197,契約2号【印刷】!J197)","v":""},null,"",""]
[{"$f":"契約2号【印刷】!A198","v":195},{"$f":"契約2号【印刷】!B198","v":0},{"$f":"契約2号【印刷】!C198","v":0},{"$f":"契約2号【印刷】!D198","v":0},{"$f":"IF(契約2号【印刷】!$H$2=\"変更後注文金額\",契約2号【印刷】!E198,契約2号【印刷】!H198)","v":""},{"$f":"IF(契約2号【印刷】!$H$2=\"変更後注文金額\",契約2号【印刷】!F198,契約2号【印刷】!I198)","v":""},{"$f":"IF(契約2号【印刷】!$H$2=\"変更後注文金額\",契約2号【印刷】!G198,契約2号【印刷】!J198)","v":""},null,"",""]
[{"$f":"契約2号【印刷】!A199","v":196},{"$f":"契約2号【印刷】!B199","v":0},{"$f":"契約2号【印刷】!C199","v":0},{"$f":"契約2号【印刷】!D199","v":0},{"$f":"IF(契約2号【印刷】!$H$2=\"変更後注文金額\",契約2号【印刷】!E199,契約2号【印刷】!H199)","v":""},{"$f":"IF(契約2号【印刷】!$H$2=\"変更後注文金額\",契約2号【印刷】!F199,契約2号【印刷】!I199)","v":""},{"$f":"IF(契約2号【印刷】!$H$2=\"変更後注文金額\",契約2号【印刷】!G199,契約2号【印刷】!J199)","v":""},null,"",""]
[{"$f":"契約2号【印刷】!A200","v":197},{"$f":"契約2号【印刷】!B200","v":0},{"$f":"契約2号【印刷】!C200","v":0},{"$f":"契約2号【印刷】!D200","v":0},{"$f":"IF(契約2号【印刷】!$H$2=\"変更後注文金額\",契約2号【印刷】!E200,契約2号【印刷】!H200)","v":""},{"$f":"IF(契約2号【印刷】!$H$2=\"変更後注文金額\",契約2号【印刷】!F200,契約2号【印刷】!I200)","v":""},{"$f":"IF(契約2号【印刷】!$H$2=\"変更後注文金額\",契約2号【印刷】!G200,契約2号【印刷】!J200)","v":""},null,"",""]
[{"$f":"契約2号【印刷】!A201","v":198},{"$f":"契約2号【印刷】!B201","v":0},{"$f":"契約2号【印刷】!C201","v":0},{"$f":"契約2号【印刷】!D201","v":0},{"$f":"IF(契約2号【印刷】!$H$2=\"変更後注文金額\",契約2号【印刷】!E201,契約2号【印刷】!H201)","v":""},{"$f":"IF(契約2号【印刷】!$H$2=\"変更後注文金額\",契約2号【印刷】!F201,契約2号【印刷】!I201)","v":""},{"$f":"IF(契約2号【印刷】!$H$2=\"変更後注文金額\",契約2号【印刷】!G201,契約2号【印刷】!J201)","v":""},null,"",""]
[{"$f":"契約2号【印刷】!A202","v":199},{"$f":"契約2号【印刷】!B202","v":0},{"$f":"契約2号【印刷】!C202","v":0},{"$f":"契約2号【印刷】!D202","v":0},{"$f":"IF(契約2号【印刷】!$H$2=\"変更後注文金額\",契約2号【印刷】!E202,契約2号【印刷】!H202)","v":""},{"$f":"IF(契約2号【印刷】!$H$2=\"変更後注文金額\",契約2号【印刷】!F202,契約2号【印刷】!I202)","v":""},{"$f":"IF(契約2号【印刷】!$H$2=\"変更後注文金額\",契約2号【印刷】!G202,契約2号【印刷】!J202)","v":""},null,"",""]
[{"$f":"契約2号【印刷】!A203","v":200},{"$f":"契約2号【印刷】!B203","v":0},{"$f":"契約2号【印刷】!C203","v":0},{"$f":"契約2号【印刷】!D203","v":0},{"$f":"IF(契約2号【印刷】!$H$2=\"変更後注文金額\",契約2号【印刷】!E203,契約2号【印刷】!H203)","v":""},{"$f":"IF(契約2号【印刷】!$H$2=\"変更後注文金額\",契約2号【印刷】!F203,契約2号【印刷】!I203)","v":""},{"$f":"IF(契約2号【印刷】!$H$2=\"変更後注文金額\",契約2号【印刷】!G203,契約2号【印刷】!J203)","v":""},null,"",""]
[{"$f":"契約2号【印刷】!A204","v":201},{"$f":"契約2号【印刷】!B204","v":0},{"$f":"契約2号【印刷】!C204","v":0},{"$f":"契約2号【印刷】!D204","v":0},{"$f":"IF(契約2号【印刷】!$H$2=\"変更後注文金額\",契約2号【印刷】!E204,契約2号【印刷】!H204)","v":""},{"$f":"IF(契約2号【印刷】!$H$2=\"変更後注文金額\",契約2号【印刷】!F204,契約2号【印刷】!I204)","v":""},{"$f":"IF(契約2号【印刷】!$H$2=\"変更後注文金額\",契約2号【印刷】!G204,契約2号【印刷】!J204)","v":""},null,"",""]
[{"$f":"契約2号【印刷】!A205","v":202},{"$f":"契約2号【印刷】!B205","v":0},{"$f":"契約2号【印刷】!C205","v":0},{"$f":"契約2号【印刷】!D205","v":0},{"$f":"IF(契約2号【印刷】!$H$2=\"変更後注文金額\",契約2号【印刷】!E205,契約2号【印刷】!H205)","v":""},{"$f":"IF(契約2号【印刷】!$H$2=\"変更後注文金額\",契約2号【印刷】!F205,契約2号【印刷】!I205)","v":""},{"$f":"IF(契約2号【印刷】!$H$2=\"変更後注文金額\",契約2号【印刷】!G205,契約2号【印刷】!J205)","v":""},null,"",""]
[{"$f":"契約2号【印刷】!A206","v":203},{"$f":"契約2号【印刷】!B206","v":0},{"$f":"契約2号【印刷】!C206","v":0},{"$f":"契約2号【印刷】!D206","v":0},{"$f":"IF(契約2号【印刷】!$H$2=\"変更後注文金額\",契約2号【印刷】!E206,契約2号【印刷】!H206)","v":""},{"$f":"IF(契約2号【印刷】!$H$2=\"変更後注文金額\",契約2号【印刷】!F206,契約2号【印刷】!I206)","v":""},{"$f":"IF(契約2号【印刷】!$H$2=\"変更後注文金額\",契約2号【印刷】!G206,契約2号【印刷】!J206)","v":""},null,"",""]
[{"$f":"契約2号【印刷】!A207","v":204},{"$f":"契約2号【印刷】!B207","v":0},{"$f":"契約2号【印刷】!C207","v":0},{"$f":"契約2号【印刷】!D207","v":0},{"$f":"IF(契約2号【印刷】!$H$2=\"変更後注文金額\",契約2号【印刷】!E207,契約2号【印刷】!H207)","v":""},{"$f":"IF(契約2号【印刷】!$H$2=\"変更後注文金額\",契約2号【印刷】!F207,契約2号【印刷】!I207)","v":""},{"$f":"IF(契約2号【印刷】!$H$2=\"変更後注文金額\",契約2号【印刷】!G207,契約2号【印刷】!J207)","v":""},null,"",""]
[{"$f":"契約2号【印刷】!A208","v":205},{"$f":"契約2号【印刷】!B208","v":0},{"$f":"契約2号【印刷】!C208","v":0},{"$f":"契約2号【印刷】!D208","v":0},{"$f":"IF(契約2号【印刷】!$H$2=\"変更後注文金額\",契約2号【印刷】!E208,契約2号【印刷】!H208)","v":""},{"$f":"IF(契約2号【印刷】!$H$2=\"変更後注文金額\",契約2号【印刷】!F208,契約2号【印刷】!I208)","v":""},{"$f":"IF(契約2号【印刷】!$H$2=\"変更後注文金額\",契約2号【印刷】!G208,契約2号【印刷】!J208)","v":""},null,"",""]
[{"$f":"契約2号【印刷】!A209","v":206},{"$f":"契約2号【印刷】!B209","v":0},{"$f":"契約2号【印刷】!C209","v":0},{"$f":"契約2号【印刷】!D209","v":0},{"$f":"IF(契約2号【印刷】!$H$2=\"変更後注文金額\",契約2号【印刷】!E209,契約2号【印刷】!H209)","v":""},{"$f":"IF(契約2号【印刷】!$H$2=\"変更後注文金額\",契約2号【印刷】!F209,契約2号【印刷】!I209)","v":""},{"$f":"IF(契約2号【印刷】!$H$2=\"変更後注文金額\",契約2号【印刷】!G209,契約2号【印刷】!J209)","v":""},null,"",""]
[{"$f":"契約2号【印刷】!A210","v":207},{"$f":"契約2号【印刷】!B210","v":0},{"$f":"契約2号【印刷】!C210","v":0},{"$f":"契約2号【印刷】!D210","v":0},{"$f":"IF(契約2号【印刷】!$H$2=\"変更後注文金額\",契約2号【印刷】!E210,契約2号【印刷】!H210)","v":""},{"$f":"IF(契約2号【印刷】!$H$2=\"変更後注文金額\",契約2号【印刷】!F210,契約2号【印刷】!I210)","v":""},{"$f":"IF(契約2号【印刷】!$H$2=\"変更後注文金額\",契約2号【印刷】!G210,契約2号【印刷】!J210)","v":""},null,"",""]
[{"$f":"契約2号【印刷】!A211","v":208},{"$f":"契約2号【印刷】!B211","v":0},{"$f":"契約2号【印刷】!C211","v":0},{"$f":"契約2号【印刷】!D211","v":0},{"$f":"IF(契約2号【印刷】!$H$2=\"変更後注文金額\",契約2号【印刷】!E211,契約2号【印刷】!H211)","v":""},{"$f":"IF(契約2号【印刷】!$H$2=\"変更後注文金額\",契約2号【印刷】!F211,契約2号【印刷】!I211)","v":""},{"$f":"IF(契約2号【印刷】!$H$2=\"変更後注文金額\",契約2号【印刷】!G211,契約2号【印刷】!J211)","v":""},null,"",""]
[{"$f":"契約2号【印刷】!A212","v":209},{"$f":"契約2号【印刷】!B212","v":0},{"$f":"契約2号【印刷】!C212","v":0},{"$f":"契約2号【印刷】!D212","v":0},{"$f":"IF(契約2号【印刷】!$H$2=\"変更後注文金額\",契約2号【印刷】!E212,契約2号【印刷】!H212)","v":""},{"$f":"IF(契約2号【印刷】!$H$2=\"変更後注文金額\",契約2号【印刷】!F212,契約2号【印刷】!I212)","v":""},{"$f":"IF(契約2号【印刷】!$H$2=\"変更後注文金額\",契約2号【印刷】!G212,契約2号【印刷】!J212)","v":""},null,"",""]
[{"$f":"契約2号【印刷】!A213","v":210},{"$f":"契約2号【印刷】!B213","v":0},{"$f":"契約2号【印刷】!C213","v":0},{"$f":"契約2号【印刷】!D213","v":0},{"$f":"IF(契約2号【印刷】!$H$2=\"変更後注文金額\",契約2号【印刷】!E213,契約2号【印刷】!H213)","v":""},{"$f":"IF(契約2号【印刷】!$H$2=\"変更後注文金額\",契約2号【印刷】!F213,契約2号【印刷】!I213)","v":""},{"$f":"IF(契約2号【印刷】!$H$2=\"変更後注文金額\",契約2号【印刷】!G213,契約2号【印刷】!J213)","v":""},null,"","","⑦"]
[{"$f":"契約2号【印刷】!A214","v":211},{"$f":"契約2号【印刷】!B214","v":0},{"$f":"契約2号【印刷】!C214","v":0},{"$f":"契約2号【印刷】!D214","v":0},{"$f":"IF(契約2号【印刷】!$H$2=\"変更後注文金額\",契約2号【印刷】!E214,契約2号【印刷】!H214)","v":""},{"$f":"IF(契約2号【印刷】!$H$2=\"変更後注文金額\",契約2号【印刷】!F214,契約2号【印刷】!I214)","v":""},{"$f":"IF(契約2号【印刷】!$H$2=\"変更後注文金額\",契約2号【印刷】!G214,契約2号【印刷】!J214)","v":""},null,"",""]
[{"$f":"契約2号【印刷】!A215","v":212},{"$f":"契約2号【印刷】!B215","v":0},{"$f":"契約2号【印刷】!C215","v":0},{"$f":"契約2号【印刷】!D215","v":0},{"$f":"IF(契約2号【印刷】!$H$2=\"変更後注文金額\",契約2号【印刷】!E215,契約2号【印刷】!H215)","v":""},{"$f":"IF(契約2号【印刷】!$H$2=\"変更後注文金額\",契約2号【印刷】!F215,契約2号【印刷】!I215)","v":""},{"$f":"IF(契約2号【印刷】!$H$2=\"変更後注文金額\",契約2号【印刷】!G215,契約2号【印刷】!J215)","v":""},null,"",""]
[{"$f":"契約2号【印刷】!A216","v":213},{"$f":"契約2号【印刷】!B216","v":0},{"$f":"契約2号【印刷】!C216","v":0},{"$f":"契約2号【印刷】!D216","v":0},{"$f":"IF(契約2号【印刷】!$H$2=\"変更後注文金額\",契約2号【印刷】!E216,契約2号【印刷】!H216)","v":""},{"$f":"IF(契約2号【印刷】!$H$2=\"変更後注文金額\",契約2号【印刷】!F216,契約2号【印刷】!I216)","v":""},{"$f":"IF(契約2号【印刷】!$H$2=\"変更後注文金額\",契約2号【印刷】!G216,契約2号【印刷】!J216)","v":""},null,"",""]
[{"$f":"契約2号【印刷】!A217","v":214},{"$f":"契約2号【印刷】!B217","v":0},{"$f":"契約2号【印刷】!C217","v":0},{"$f":"契約2号【印刷】!D217","v":0},{"$f":"IF(契約2号【印刷】!$H$2=\"変更後注文金額\",契約2号【印刷】!E217,契約2号【印刷】!H217)","v":""},{"$f":"IF(契約2号【印刷】!$H$2=\"変更後注文金額\",契約2号【印刷】!F217,契約2号【印刷】!I217)","v":""},{"$f":"IF(契約2号【印刷】!$H$2=\"変更後注文金額\",契約2号【印刷】!G217,契約2号【印刷】!J217)","v":""},null,"",""]
[{"$f":"契約2号【印刷】!A218","v":215},{"$f":"契約2号【印刷】!B218","v":0},{"$f":"契約2号【印刷】!C218","v":0},{"$f":"契約2号【印刷】!D218","v":0},{"$f":"IF(契約2号【印刷】!$H$2=\"変更後注文金額\",契約2号【印刷】!E218,契約2号【印刷】!H218)","v":""},{"$f":"IF(契約2号【印刷】!$H$2=\"変更後注文金額\",契約2号【印刷】!F218,契約2号【印刷】!I218)","v":""},{"$f":"IF(契約2号【印刷】!$H$2=\"変更後注文金額\",契約2号【印刷】!G218,契約2号【印刷】!J218)","v":""},null,"",""]
[{"$f":"契約2号【印刷】!A219","v":216},{"$f":"契約2号【印刷】!B219","v":0},{"$f":"契約2号【印刷】!C219","v":0},{"$f":"契約2号【印刷】!D219","v":0},{"$f":"IF(契約2号【印刷】!$H$2=\"変更後注文金額\",契約2号【印刷】!E219,契約2号【印刷】!H219)","v":""},{"$f":"IF(契約2号【印刷】!$H$2=\"変更後注文金額\",契約2号【印刷】!F219,契約2号【印刷】!I219)","v":""},{"$f":"IF(契約2号【印刷】!$H$2=\"変更後注文金額\",契約2号【印刷】!G219,契約2号【印刷】!J219)","v":""},null,"",""]
[{"$f":"契約2号【印刷】!A220","v":217},{"$f":"契約2号【印刷】!B220","v":0},{"$f":"契約2号【印刷】!C220","v":0},{"$f":"契約2号【印刷】!D220","v":0},{"$f":"IF(契約2号【印刷】!$H$2=\"変更後注文金額\",契約2号【印刷】!E220,契約2号【印刷】!H220)","v":""},{"$f":"IF(契約2号【印刷】!$H$2=\"変更後注文金額\",契約2号【印刷】!F220,契約2号【印刷】!I220)","v":""},{"$f":"IF(契約2号【印刷】!$H$2=\"変更後注文金額\",契約2号【印刷】!G220,契約2号【印刷】!J220)","v":""},null,"",""]
[{"$f":"契約2号【印刷】!A221","v":218},{"$f":"契約2号【印刷】!B221","v":0},{"$f":"契約2号【印刷】!C221","v":0},{"$f":"契約2号【印刷】!D221","v":0},{"$f":"IF(契約2号【印刷】!$H$2=\"変更後注文金額\",契約2号【印刷】!E221,契約2号【印刷】!H221)","v":""},{"$f":"IF(契約2号【印刷】!$H$2=\"変更後注文金額\",契約2号【印刷】!F221,契約2号【印刷】!I221)","v":""},{"$f":"IF(契約2号【印刷】!$H$2=\"変更後注文金額\",契約2号【印刷】!G221,契約2号【印刷】!J221)","v":""},null,"",""]
[{"$f":"契約2号【印刷】!A222","v":219},{"$f":"契約2号【印刷】!B222","v":0},{"$f":"契約2号【印刷】!C222","v":0},{"$f":"契約2号【印刷】!D222","v":0},{"$f":"IF(契約2号【印刷】!$H$2=\"変更後注文金額\",契約2号【印刷】!E222,契約2号【印刷】!H222)","v":""},{"$f":"IF(契約2号【印刷】!$H$2=\"変更後注文金額\",契約2号【印刷】!F222,契約2号【印刷】!I222)","v":""},{"$f":"IF(契約2号【印刷】!$H$2=\"変更後注文金額\",契約2号【印刷】!G222,契約2号【印刷】!J222)","v":""},null,"",""]
[{"$f":"契約2号【印刷】!A223","v":220},{"$f":"契約2号【印刷】!B223","v":0},{"$f":"契約2号【印刷】!C223","v":0},{"$f":"契約2号【印刷】!D223","v":0},{"$f":"IF(契約2号【印刷】!$H$2=\"変更後注文金額\",契約2号【印刷】!E223,契約2号【印刷】!H223)","v":""},{"$f":"IF(契約2号【印刷】!$H$2=\"変更後注文金額\",契約2号【印刷】!F223,契約2号【印刷】!I223)","v":""},{"$f":"IF(契約2号【印刷】!$H$2=\"変更後注文金額\",契約2号【印刷】!G223,契約2号【印刷】!J223)","v":""},null,"",""]
[{"$f":"契約2号【印刷】!A224","v":221},{"$f":"契約2号【印刷】!B224","v":0},{"$f":"契約2号【印刷】!C224","v":0},{"$f":"契約2号【印刷】!D224","v":0},{"$f":"IF(契約2号【印刷】!$H$2=\"変更後注文金額\",契約2号【印刷】!E224,契約2号【印刷】!H224)","v":""},{"$f":"IF(契約2号【印刷】!$H$2=\"変更後注文金額\",契約2号【印刷】!F224,契約2号【印刷】!I224)","v":""},{"$f":"IF(契約2号【印刷】!$H$2=\"変更後注文金額\",契約2号【印刷】!G224,契約2号【印刷】!J224)","v":""},null,"",""]
[{"$f":"契約2号【印刷】!A225","v":222},{"$f":"契約2号【印刷】!B225","v":0},{"$f":"契約2号【印刷】!C225","v":0},{"$f":"契約2号【印刷】!D225","v":0},{"$f":"IF(契約2号【印刷】!$H$2=\"変更後注文金額\",契約2号【印刷】!E225,契約2号【印刷】!H225)","v":""},{"$f":"IF(契約2号【印刷】!$H$2=\"変更後注文金額\",契約2号【印刷】!F225,契約2号【印刷】!I225)","v":""},{"$f":"IF(契約2号【印刷】!$H$2=\"変更後注文金額\",契約2号【印刷】!G225,契約2号【印刷】!J225)","v":""},null,"",""]
[{"$f":"契約2号【印刷】!A226","v":223},{"$f":"契約2号【印刷】!B226","v":0},{"$f":"契約2号【印刷】!C226","v":0},{"$f":"契約2号【印刷】!D226","v":0},{"$f":"IF(契約2号【印刷】!$H$2=\"変更後注文金額\",契約2号【印刷】!E226,契約2号【印刷】!H226)","v":""},{"$f":"IF(契約2号【印刷】!$H$2=\"変更後注文金額\",契約2号【印刷】!F226,契約2号【印刷】!I226)","v":""},{"$f":"IF(契約2号【印刷】!$H$2=\"変更後注文金額\",契約2号【印刷】!G226,契約2号【印刷】!J226)","v":""},null,{"$f":"IF(OR(F226=\"\",H226=\"\"),\"\",ROUNDDOWN(F226*H226,0))","v":""},{"$f":"IF(OR(G226=\"\",I226=\"\"),\"\",I226/G226)","v":""}]
[{"$f":"契約2号【印刷】!A227","v":224},{"$f":"契約2号【印刷】!B227","v":0},{"$f":"契約2号【印刷】!C227","v":0},{"$f":"契約2号【印刷】!D227","v":0},{"$f":"IF(契約2号【印刷】!$H$2=\"変更後注文金額\",契約2号【印刷】!E227,契約2号【印刷】!H227)","v":""},{"$f":"IF(契約2号【印刷】!$H$2=\"変更後注文金額\",契約2号【印刷】!F227,契約2号【印刷】!I227)","v":""},{"$f":"IF(契約2号【印刷】!$H$2=\"変更後注文金額\",契約2号【印刷】!G227,契約2号【印刷】!J227)","v":""},null,"",""]
[{"$f":"契約2号【印刷】!A228","v":225},{"$f":"契約2号【印刷】!B228","v":0},{"$f":"契約2号【印刷】!C228","v":0},{"$f":"契約2号【印刷】!D228","v":0},{"$f":"IF(契約2号【印刷】!$H$2=\"変更後注文金額\",契約2号【印刷】!E228,契約2号【印刷】!H228)","v":""},{"$f":"IF(契約2号【印刷】!$H$2=\"変更後注文金額\",契約2号【印刷】!F228,契約2号【印刷】!I228)","v":""},{"$f":"IF(契約2号【印刷】!$H$2=\"変更後注文金額\",契約2号【印刷】!G228,契約2号【印刷】!J228)","v":""},null,"",""]
[{"$f":"契約2号【印刷】!A229","v":226},{"$f":"契約2号【印刷】!B229","v":0},{"$f":"契約2号【印刷】!C229","v":0},{"$f":"契約2号【印刷】!D229","v":0},{"$f":"IF(契約2号【印刷】!$H$2=\"変更後注文金額\",契約2号【印刷】!E229,契約2号【印刷】!H229)","v":""},{"$f":"IF(契約2号【印刷】!$H$2=\"変更後注文金額\",契約2号【印刷】!F229,契約2号【印刷】!I229)","v":""},{"$f":"IF(契約2号【印刷】!$H$2=\"変更後注文金額\",契約2号【印刷】!G229,契約2号【印刷】!J229)","v":""},null,"",""]
[{"$f":"契約2号【印刷】!A230","v":227},{"$f":"契約2号【印刷】!B230","v":0},{"$f":"契約2号【印刷】!C230","v":0},{"$f":"契約2号【印刷】!D230","v":0},{"$f":"IF(契約2号【印刷】!$H$2=\"変更後注文金額\",契約2号【印刷】!E230,契約2号【印刷】!H230)","v":""},{"$f":"IF(契約2号【印刷】!$H$2=\"変更後注文金額\",契約2号【印刷】!F230,契約2号【印刷】!I230)","v":""},{"$f":"IF(契約2号【印刷】!$H$2=\"変更後注文金額\",契約2号【印刷】!G230,契約2号【印刷】!J230)","v":""},null,"",""]
[{"$f":"契約2号【印刷】!A231","v":228},{"$f":"契約2号【印刷】!B231","v":0},{"$f":"契約2号【印刷】!C231","v":0},{"$f":"契約2号【印刷】!D231","v":0},{"$f":"IF(契約2号【印刷】!$H$2=\"変更後注文金額\",契約2号【印刷】!E231,契約2号【印刷】!H231)","v":""},{"$f":"IF(契約2号【印刷】!$H$2=\"変更後注文金額\",契約2号【印刷】!F231,契約2号【印刷】!I231)","v":""},{"$f":"IF(契約2号【印刷】!$H$2=\"変更後注文金額\",契約2号【印刷】!G231,契約2号【印刷】!J231)","v":""},null,"",""]
[{"$f":"契約2号【印刷】!A232","v":229},{"$f":"契約2号【印刷】!B232","v":0},{"$f":"契約2号【印刷】!C232","v":0},{"$f":"契約2号【印刷】!D232","v":0},{"$f":"IF(契約2号【印刷】!$H$2=\"変更後注文金額\",契約2号【印刷】!E232,契約2号【印刷】!H232)","v":""},{"$f":"IF(契約2号【印刷】!$H$2=\"変更後注文金額\",契約2号【印刷】!F232,契約2号【印刷】!I232)","v":""},{"$f":"IF(契約2号【印刷】!$H$2=\"変更後注文金額\",契約2号【印刷】!G232,契約2号【印刷】!J232)","v":""},null,"",""]
[{"$f":"契約2号【印刷】!A233","v":230},{"$f":"契約2号【印刷】!B233","v":0},{"$f":"契約2号【印刷】!C233","v":0},{"$f":"契約2号【印刷】!D233","v":0},{"$f":"IF(契約2号【印刷】!$H$2=\"変更後注文金額\",契約2号【印刷】!E233,契約2号【印刷】!H233)","v":""},{"$f":"IF(契約2号【印刷】!$H$2=\"変更後注文金額\",契約2号【印刷】!F233,契約2号【印刷】!I233)","v":""},{"$f":"IF(契約2号【印刷】!$H$2=\"変更後注文金額\",契約2号【印刷】!G233,契約2号【印刷】!J233)","v":""},null,"",""]
[{"$f":"契約2号【印刷】!A234","v":231},{"$f":"契約2号【印刷】!B234","v":0},{"$f":"契約2号【印刷】!C234","v":0},{"$f":"契約2号【印刷】!D234","v":0},{"$f":"IF(契約2号【印刷】!$H$2=\"変更後注文金額\",契約2号【印刷】!E234,契約2号【印刷】!H234)","v":""},{"$f":"IF(契約2号【印刷】!$H$2=\"変更後注文金額\",契約2号【印刷】!F234,契約2号【印刷】!I234)","v":""},{"$f":"IF(契約2号【印刷】!$H$2=\"変更後注文金額\",契約2号【印刷】!G234,契約2号【印刷】!J234)","v":""},null,"",""]
[{"$f":"契約2号【印刷】!A235","v":232},{"$f":"契約2号【印刷】!B235","v":0},{"$f":"契約2号【印刷】!C235","v":0},{"$f":"契約2号【印刷】!D235","v":0},{"$f":"IF(契約2号【印刷】!$H$2=\"変更後注文金額\",契約2号【印刷】!E235,契約2号【印刷】!H235)","v":""},{"$f":"IF(契約2号【印刷】!$H$2=\"変更後注文金額\",契約2号【印刷】!F235,契約2号【印刷】!I235)","v":""},{"$f":"IF(契約2号【印刷】!$H$2=\"変更後注文金額\",契約2号【印刷】!G235,契約2号【印刷】!J235)","v":""},null,"",""]
[{"$f":"契約2号【印刷】!A236","v":233},{"$f":"契約2号【印刷】!B236","v":0},{"$f":"契約2号【印刷】!C236","v":0},{"$f":"契約2号【印刷】!D236","v":0},{"$f":"IF(契約2号【印刷】!$H$2=\"変更後注文金額\",契約2号【印刷】!E236,契約2号【印刷】!H236)","v":""},{"$f":"IF(契約2号【印刷】!$H$2=\"変更後注文金額\",契約2号【印刷】!F236,契約2号【印刷】!I236)","v":""},{"$f":"IF(契約2号【印刷】!$H$2=\"変更後注文金額\",契約2号【印刷】!G236,契約2号【印刷】!J236)","v":""},null,"",""]
[{"$f":"契約2号【印刷】!A237","v":234},{"$f":"契約2号【印刷】!B237","v":0},{"$f":"契約2号【印刷】!C237","v":0},{"$f":"契約2号【印刷】!D237","v":0},{"$f":"IF(契約2号【印刷】!$H$2=\"変更後注文金額\",契約2号【印刷】!E237,契約2号【印刷】!H237)","v":""},{"$f":"IF(契約2号【印刷】!$H$2=\"変更後注文金額\",契約2号【印刷】!F237,契約2号【印刷】!I237)","v":""},{"$f":"IF(契約2号【印刷】!$H$2=\"変更後注文金額\",契約2号【印刷】!G237,契約2号【印刷】!J237)","v":""},null,"",""]
[{"$f":"契約2号【印刷】!A238","v":235},{"$f":"契約2号【印刷】!B238","v":0},{"$f":"契約2号【印刷】!C238","v":0},{"$f":"契約2号【印刷】!D238","v":0},{"$f":"IF(契約2号【印刷】!$H$2=\"変更後注文金額\",契約2号【印刷】!E238,契約2号【印刷】!H238)","v":""},{"$f":"IF(契約2号【印刷】!$H$2=\"変更後注文金額\",契約2号【印刷】!F238,契約2号【印刷】!I238)","v":""},{"$f":"IF(契約2号【印刷】!$H$2=\"変更後注文金額\",契約2号【印刷】!G238,契約2号【印刷】!J238)","v":""},null,"",""]
[{"$f":"契約2号【印刷】!A239","v":236},{"$f":"契約2号【印刷】!B239","v":0},{"$f":"契約2号【印刷】!C239","v":0},{"$f":"契約2号【印刷】!D239","v":0},{"$f":"IF(契約2号【印刷】!$H$2=\"変更後注文金額\",契約2号【印刷】!E239,契約2号【印刷】!H239)","v":""},{"$f":"IF(契約2号【印刷】!$H$2=\"変更後注文金額\",契約2号【印刷】!F239,契約2号【印刷】!I239)","v":""},{"$f":"IF(契約2号【印刷】!$H$2=\"変更後注文金額\",契約2号【印刷】!G239,契約2号【印刷】!J239)","v":""},null,"",""]
[{"$f":"契約2号【印刷】!A240","v":237},{"$f":"契約2号【印刷】!B240","v":0},{"$f":"契約2号【印刷】!C240","v":0},{"$f":"契約2号【印刷】!D240","v":0},{"$f":"IF(契約2号【印刷】!$H$2=\"変更後注文金額\",契約2号【印刷】!E240,契約2号【印刷】!H240)","v":""},{"$f":"IF(契約2号【印刷】!$H$2=\"変更後注文金額\",契約2号【印刷】!F240,契約2号【印刷】!I240)","v":""},{"$f":"IF(契約2号【印刷】!$H$2=\"変更後注文金額\",契約2号【印刷】!G240,契約2号【印刷】!J240)","v":""},null,"",""]
[{"$f":"契約2号【印刷】!A241","v":238},{"$f":"契約2号【印刷】!B241","v":0},{"$f":"契約2号【印刷】!C241","v":0},{"$f":"契約2号【印刷】!D241","v":0},{"$f":"IF(契約2号【印刷】!$H$2=\"変更後注文金額\",契約2号【印刷】!E241,契約2号【印刷】!H241)","v":""},{"$f":"IF(契約2号【印刷】!$H$2=\"変更後注文金額\",契約2号【印刷】!F241,契約2号【印刷】!I241)","v":""},{"$f":"IF(契約2号【印刷】!$H$2=\"変更後注文金額\",契約2号【印刷】!G241,契約2号【印刷】!J241)","v":""},null,"",""]
[{"$f":"契約2号【印刷】!A242","v":239},{"$f":"契約2号【印刷】!B242","v":0},{"$f":"契約2号【印刷】!C242","v":0},{"$f":"契約2号【印刷】!D242","v":0},{"$f":"IF(契約2号【印刷】!$H$2=\"変更後注文金額\",契約2号【印刷】!E242,契約2号【印刷】!H242)","v":""},{"$f":"IF(契約2号【印刷】!$H$2=\"変更後注文金額\",契約2号【印刷】!F242,契約2号【印刷】!I242)","v":""},{"$f":"IF(契約2号【印刷】!$H$2=\"変更後注文金額\",契約2号【印刷】!G242,契約2号【印刷】!J242)","v":""},null,"",""]
[{"$f":"契約2号【印刷】!A243","v":240},{"$f":"契約2号【印刷】!B243","v":0},{"$f":"契約2号【印刷】!C243","v":0},{"$f":"契約2号【印刷】!D243","v":0},{"$f":"IF(契約2号【印刷】!$H$2=\"変更後注文金額\",契約2号【印刷】!E243,契約2号【印刷】!H243)","v":""},{"$f":"IF(契約2号【印刷】!$H$2=\"変更後注文金額\",契約2号【印刷】!F243,契約2号【印刷】!I243)","v":""},{"$f":"IF(契約2号【印刷】!$H$2=\"変更後注文金額\",契約2号【印刷】!G243,契約2号【印刷】!J243)","v":""},null,"","","⑧"]
[{"$f":"契約2号【印刷】!A244","v":241},{"$f":"契約2号【印刷】!B244","v":0},{"$f":"契約2号【印刷】!C244","v":0},{"$f":"契約2号【印刷】!D244","v":0},{"$f":"IF(契約2号【印刷】!$H$2=\"変更後注文金額\",契約2号【印刷】!E244,契約2号【印刷】!H244)","v":""},{"$f":"IF(契約2号【印刷】!$H$2=\"変更後注文金額\",契約2号【印刷】!F244,契約2号【印刷】!I244)","v":""},{"$f":"IF(契約2号【印刷】!$H$2=\"変更後注文金額\",契約2号【印刷】!G244,契約2号【印刷】!J244)","v":""},null,"",""]
[{"$f":"契約2号【印刷】!A245","v":242},{"$f":"契約2号【印刷】!B245","v":0},{"$f":"契約2号【印刷】!C245","v":0},{"$f":"契約2号【印刷】!D245","v":0},{"$f":"IF(契約2号【印刷】!$H$2=\"変更後注文金額\",契約2号【印刷】!E245,契約2号【印刷】!H245)","v":""},{"$f":"IF(契約2号【印刷】!$H$2=\"変更後注文金額\",契約2号【印刷】!F245,契約2号【印刷】!I245)","v":""},{"$f":"IF(契約2号【印刷】!$H$2=\"変更後注文金額\",契約2号【印刷】!G245,契約2号【印刷】!J245)","v":""},null,"",""]
[{"$f":"契約2号【印刷】!A246","v":243},{"$f":"契約2号【印刷】!B246","v":0},{"$f":"契約2号【印刷】!C246","v":0},{"$f":"契約2号【印刷】!D246","v":0},{"$f":"IF(契約2号【印刷】!$H$2=\"変更後注文金額\",契約2号【印刷】!E246,契約2号【印刷】!H246)","v":""},{"$f":"IF(契約2号【印刷】!$H$2=\"変更後注文金額\",契約2号【印刷】!F246,契約2号【印刷】!I246)","v":""},{"$f":"IF(契約2号【印刷】!$H$2=\"変更後注文金額\",契約2号【印刷】!G246,契約2号【印刷】!J246)","v":""},null,"",""]
[{"$f":"契約2号【印刷】!A247","v":244},{"$f":"契約2号【印刷】!B247","v":0},{"$f":"契約2号【印刷】!C247","v":0},{"$f":"契約2号【印刷】!D247","v":0},{"$f":"IF(契約2号【印刷】!$H$2=\"変更後注文金額\",契約2号【印刷】!E247,契約2号【印刷】!H247)","v":""},{"$f":"IF(契約2号【印刷】!$H$2=\"変更後注文金額\",契約2号【印刷】!F247,契約2号【印刷】!I247)","v":""},{"$f":"IF(契約2号【印刷】!$H$2=\"変更後注文金額\",契約2号【印刷】!G247,契約2号【印刷】!J247)","v":""},null,"",""]
[{"$f":"契約2号【印刷】!A248","v":245},{"$f":"契約2号【印刷】!B248","v":0},{"$f":"契約2号【印刷】!C248","v":0},{"$f":"契約2号【印刷】!D248","v":0},{"$f":"IF(契約2号【印刷】!$H$2=\"変更後注文金額\",契約2号【印刷】!E248,契約2号【印刷】!H248)","v":""},{"$f":"IF(契約2号【印刷】!$H$2=\"変更後注文金額\",契約2号【印刷】!F248,契約2号【印刷】!I248)","v":""},{"$f":"IF(契約2号【印刷】!$H$2=\"変更後注文金額\",契約2号【印刷】!G248,契約2号【印刷】!J248)","v":""},null,"",""]
[{"$f":"契約2号【印刷】!A249","v":246},{"$f":"契約2号【印刷】!B249","v":0},{"$f":"契約2号【印刷】!C249","v":0},{"$f":"契約2号【印刷】!D249","v":0},{"$f":"IF(契約2号【印刷】!$H$2=\"変更後注文金額\",契約2号【印刷】!E249,契約2号【印刷】!H249)","v":""},{"$f":"IF(契約2号【印刷】!$H$2=\"変更後注文金額\",契約2号【印刷】!F249,契約2号【印刷】!I249)","v":""},{"$f":"IF(契約2号【印刷】!$H$2=\"変更後注文金額\",契約2号【印刷】!G249,契約2号【印刷】!J249)","v":""},null,"",""]
[{"$f":"契約2号【印刷】!A250","v":247},{"$f":"契約2号【印刷】!B250","v":0},{"$f":"契約2号【印刷】!C250","v":0},{"$f":"契約2号【印刷】!D250","v":0},{"$f":"IF(契約2号【印刷】!$H$2=\"変更後注文金額\",契約2号【印刷】!E250,契約2号【印刷】!H250)","v":""},{"$f":"IF(契約2号【印刷】!$H$2=\"変更後注文金額\",契約2号【印刷】!F250,契約2号【印刷】!I250)","v":""},{"$f":"IF(契約2号【印刷】!$H$2=\"変更後注文金額\",契約2号【印刷】!G250,契約2号【印刷】!J250)","v":""},null,"",""]
[{"$f":"契約2号【印刷】!A251","v":248},{"$f":"契約2号【印刷】!B251","v":0},{"$f":"契約2号【印刷】!C251","v":0},{"$f":"契約2号【印刷】!D251","v":0},{"$f":"IF(契約2号【印刷】!$H$2=\"変更後注文金額\",契約2号【印刷】!E251,契約2号【印刷】!H251)","v":""},{"$f":"IF(契約2号【印刷】!$H$2=\"変更後注文金額\",契約2号【印刷】!F251,契約2号【印刷】!I251)","v":""},{"$f":"IF(契約2号【印刷】!$H$2=\"変更後注文金額\",契約2号【印刷】!G251,契約2号【印刷】!J251)","v":""},null,"",""]
[{"$f":"契約2号【印刷】!A252","v":249},{"$f":"契約2号【印刷】!B252","v":0},{"$f":"契約2号【印刷】!C252","v":0},{"$f":"契約2号【印刷】!D252","v":0},{"$f":"IF(契約2号【印刷】!$H$2=\"変更後注文金額\",契約2号【印刷】!E252,契約2号【印刷】!H252)","v":""},{"$f":"IF(契約2号【印刷】!$H$2=\"変更後注文金額\",契約2号【印刷】!F252,契約2号【印刷】!I252)","v":""},{"$f":"IF(契約2号【印刷】!$H$2=\"変更後注文金額\",契約2号【印刷】!G252,契約2号【印刷】!J252)","v":""},null,"",""]
[{"$f":"契約2号【印刷】!A253","v":250},{"$f":"契約2号【印刷】!B253","v":0},{"$f":"契約2号【印刷】!C253","v":0},{"$f":"契約2号【印刷】!D253","v":0},{"$f":"IF(契約2号【印刷】!$H$2=\"変更後注文金額\",契約2号【印刷】!E253,契約2号【印刷】!H253)","v":""},{"$f":"IF(契約2号【印刷】!$H$2=\"変更後注文金額\",契約2号【印刷】!F253,契約2号【印刷】!I253)","v":""},{"$f":"IF(契約2号【印刷】!$H$2=\"変更後注文金額\",契約2号【印刷】!G253,契約2号【印刷】!J253)","v":""},null,"",""]
[{"$f":"契約2号【印刷】!A254","v":251},{"$f":"契約2号【印刷】!B254","v":0},{"$f":"契約2号【印刷】!C254","v":0},{"$f":"契約2号【印刷】!D254","v":0},{"$f":"IF(契約2号【印刷】!$H$2=\"変更後注文金額\",契約2号【印刷】!E254,契約2号【印刷】!H254)","v":""},{"$f":"IF(契約2号【印刷】!$H$2=\"変更後注文金額\",契約2号【印刷】!F254,契約2号【印刷】!I254)","v":""},{"$f":"IF(契約2号【印刷】!$H$2=\"変更後注文金額\",契約2号【印刷】!G254,契約2号【印刷】!J254)","v":""},null,"",""]
[{"$f":"契約2号【印刷】!A255","v":252},{"$f":"契約2号【印刷】!B255","v":0},{"$f":"契約2号【印刷】!C255","v":0},{"$f":"契約2号【印刷】!D255","v":0},{"$f":"IF(契約2号【印刷】!$H$2=\"変更後注文金額\",契約2号【印刷】!E255,契約2号【印刷】!H255)","v":""},{"$f":"IF(契約2号【印刷】!$H$2=\"変更後注文金額\",契約2号【印刷】!F255,契約2号【印刷】!I255)","v":""},{"$f":"IF(契約2号【印刷】!$H$2=\"変更後注文金額\",契約2号【印刷】!G255,契約2号【印刷】!J255)","v":""},null,"",""]
[{"$f":"契約2号【印刷】!A256","v":253},{"$f":"契約2号【印刷】!B256","v":0},{"$f":"契約2号【印刷】!C256","v":0},{"$f":"契約2号【印刷】!D256","v":0},{"$f":"IF(契約2号【印刷】!$H$2=\"変更後注文金額\",契約2号【印刷】!E256,契約2号【印刷】!H256)","v":""},{"$f":"IF(契約2号【印刷】!$H$2=\"変更後注文金額\",契約2号【印刷】!F256,契約2号【印刷】!I256)","v":""},{"$f":"IF(契約2号【印刷】!$H$2=\"変更後注文金額\",契約2号【印刷】!G256,契約2号【印刷】!J256)","v":""},null,"",""]
[{"$f":"契約2号【印刷】!A257","v":254},{"$f":"契約2号【印刷】!B257","v":0},{"$f":"契約2号【印刷】!C257","v":0},{"$f":"契約2号【印刷】!D257","v":0},{"$f":"IF(契約2号【印刷】!$H$2=\"変更後注文金額\",契約2号【印刷】!E257,契約2号【印刷】!H257)","v":""},{"$f":"IF(契約2号【印刷】!$H$2=\"変更後注文金額\",契約2号【印刷】!F257,契約2号【印刷】!I257)","v":""},{"$f":"IF(契約2号【印刷】!$H$2=\"変更後注文金額\",契約2号【印刷】!G257,契約2号【印刷】!J257)","v":""},null,"",""]
[{"$f":"契約2号【印刷】!A258","v":255},{"$f":"契約2号【印刷】!B258","v":0},{"$f":"契約2号【印刷】!C258","v":0},{"$f":"契約2号【印刷】!D258","v":0},{"$f":"IF(契約2号【印刷】!$H$2=\"変更後注文金額\",契約2号【印刷】!E258,契約2号【印刷】!H258)","v":""},{"$f":"IF(契約2号【印刷】!$H$2=\"変更後注文金額\",契約2号【印刷】!F258,契約2号【印刷】!I258)","v":""},{"$f":"IF(契約2号【印刷】!$H$2=\"変更後注文金額\",契約2号【印刷】!G258,契約2号【印刷】!J258)","v":""},null,"",""]
[{"$f":"契約2号【印刷】!A259","v":256},{"$f":"契約2号【印刷】!B259","v":0},{"$f":"契約2号【印刷】!C259","v":0},{"$f":"契約2号【印刷】!D259","v":0},{"$f":"IF(契約2号【印刷】!$H$2=\"変更後注文金額\",契約2号【印刷】!E259,契約2号【印刷】!H259)","v":""},{"$f":"IF(契約2号【印刷】!$H$2=\"変更後注文金額\",契約2号【印刷】!F259,契約2号【印刷】!I259)","v":""},{"$f":"IF(契約2号【印刷】!$H$2=\"変更後注文金額\",契約2号【印刷】!G259,契約2号【印刷】!J259)","v":""},null,"",""]
[{"$f":"契約2号【印刷】!A260","v":257},{"$f":"契約2号【印刷】!B260","v":0},{"$f":"契約2号【印刷】!C260","v":0},{"$f":"契約2号【印刷】!D260","v":0},{"$f":"IF(契約2号【印刷】!$H$2=\"変更後注文金額\",契約2号【印刷】!E260,契約2号【印刷】!H260)","v":""},{"$f":"IF(契約2号【印刷】!$H$2=\"変更後注文金額\",契約2号【印刷】!F260,契約2号【印刷】!I260)","v":""},{"$f":"IF(契約2号【印刷】!$H$2=\"変更後注文金額\",契約2号【印刷】!G260,契約2号【印刷】!J260)","v":""},null,"",""]
[{"$f":"契約2号【印刷】!A261","v":258},{"$f":"契約2号【印刷】!B261","v":0},{"$f":"契約2号【印刷】!C261","v":0},{"$f":"契約2号【印刷】!D261","v":0},{"$f":"IF(契約2号【印刷】!$H$2=\"変更後注文金額\",契約2号【印刷】!E261,契約2号【印刷】!H261)","v":""},{"$f":"IF(契約2号【印刷】!$H$2=\"変更後注文金額\",契約2号【印刷】!F261,契約2号【印刷】!I261)","v":""},{"$f":"IF(契約2号【印刷】!$H$2=\"変更後注文金額\",契約2号【印刷】!G261,契約2号【印刷】!J261)","v":""},null,"",""]
[{"$f":"契約2号【印刷】!A262","v":259},{"$f":"契約2号【印刷】!B262","v":0},{"$f":"契約2号【印刷】!C262","v":0},{"$f":"契約2号【印刷】!D262","v":0},{"$f":"IF(契約2号【印刷】!$H$2=\"変更後注文金額\",契約2号【印刷】!E262,契約2号【印刷】!H262)","v":""},{"$f":"IF(契約2号【印刷】!$H$2=\"変更後注文金額\",契約2号【印刷】!F262,契約2号【印刷】!I262)","v":""},{"$f":"IF(契約2号【印刷】!$H$2=\"変更後注文金額\",契約2号【印刷】!G262,契約2号【印刷】!J262)","v":""},null,"",""]
[{"$f":"契約2号【印刷】!A263","v":260},{"$f":"契約2号【印刷】!B263","v":0},{"$f":"契約2号【印刷】!C263","v":0},{"$f":"契約2号【印刷】!D263","v":0},{"$f":"IF(契約2号【印刷】!$H$2=\"変更後注文金額\",契約2号【印刷】!E263,契約2号【印刷】!H263)","v":""},{"$f":"IF(契約2号【印刷】!$H$2=\"変更後注文金額\",契約2号【印刷】!F263,契約2号【印刷】!I263)","v":""},{"$f":"IF(契約2号【印刷】!$H$2=\"変更後注文金額\",契約2号【印刷】!G263,契約2号【印刷】!J263)","v":""},null,"",""]
[{"$f":"契約2号【印刷】!A264","v":261},{"$f":"契約2号【印刷】!B264","v":0},{"$f":"契約2号【印刷】!C264","v":0},{"$f":"契約2号【印刷】!D264","v":0},{"$f":"IF(契約2号【印刷】!$H$2=\"変更後注文金額\",契約2号【印刷】!E264,契約2号【印刷】!H264)","v":""},{"$f":"IF(契約2号【印刷】!$H$2=\"変更後注文金額\",契約2号【印刷】!F264,契約2号【印刷】!I264)","v":""},{"$f":"IF(契約2号【印刷】!$H$2=\"変更後注文金額\",契約2号【印刷】!G264,契約2号【印刷】!J264)","v":""},null,"",""]
[{"$f":"契約2号【印刷】!A265","v":262},{"$f":"契約2号【印刷】!B265","v":0},{"$f":"契約2号【印刷】!C265","v":0},{"$f":"契約2号【印刷】!D265","v":0},{"$f":"IF(契約2号【印刷】!$H$2=\"変更後注文金額\",契約2号【印刷】!E265,契約2号【印刷】!H265)","v":""},{"$f":"IF(契約2号【印刷】!$H$2=\"変更後注文金額\",契約2号【印刷】!F265,契約2号【印刷】!I265)","v":""},{"$f":"IF(契約2号【印刷】!$H$2=\"変更後注文金額\",契約2号【印刷】!G265,契約2号【印刷】!J265)","v":""},null,"",""]
[{"$f":"契約2号【印刷】!A266","v":263},{"$f":"契約2号【印刷】!B266","v":0},{"$f":"契約2号【印刷】!C266","v":0},{"$f":"契約2号【印刷】!D266","v":0},{"$f":"IF(契約2号【印刷】!$H$2=\"変更後注文金額\",契約2号【印刷】!E266,契約2号【印刷】!H266)","v":""},{"$f":"IF(契約2号【印刷】!$H$2=\"変更後注文金額\",契約2号【印刷】!F266,契約2号【印刷】!I266)","v":""},{"$f":"IF(契約2号【印刷】!$H$2=\"変更後注文金額\",契約2号【印刷】!G266,契約2号【印刷】!J266)","v":""},null,"",""]
[{"$f":"契約2号【印刷】!A267","v":264},{"$f":"契約2号【印刷】!B267","v":0},{"$f":"契約2号【印刷】!C267","v":0},{"$f":"契約2号【印刷】!D267","v":0},{"$f":"IF(契約2号【印刷】!$H$2=\"変更後注文金額\",契約2号【印刷】!E267,契約2号【印刷】!H267)","v":""},{"$f":"IF(契約2号【印刷】!$H$2=\"変更後注文金額\",契約2号【印刷】!F267,契約2号【印刷】!I267)","v":""},{"$f":"IF(契約2号【印刷】!$H$2=\"変更後注文金額\",契約2号【印刷】!G267,契約2号【印刷】!J267)","v":""},null,"",""]
[{"$f":"契約2号【印刷】!A268","v":265},{"$f":"契約2号【印刷】!B268","v":0},{"$f":"契約2号【印刷】!C268","v":0},{"$f":"契約2号【印刷】!D268","v":0},{"$f":"IF(契約2号【印刷】!$H$2=\"変更後注文金額\",契約2号【印刷】!E268,契約2号【印刷】!H268)","v":""},{"$f":"IF(契約2号【印刷】!$H$2=\"変更後注文金額\",契約2号【印刷】!F268,契約2号【印刷】!I268)","v":""},{"$f":"IF(契約2号【印刷】!$H$2=\"変更後注文金額\",契約2号【印刷】!G268,契約2号【印刷】!J268)","v":""},null,"",""]
[{"$f":"契約2号【印刷】!A269","v":266},{"$f":"契約2号【印刷】!B269","v":0},{"$f":"契約2号【印刷】!C269","v":0},{"$f":"契約2号【印刷】!D269","v":0},{"$f":"IF(契約2号【印刷】!$H$2=\"変更後注文金額\",契約2号【印刷】!E269,契約2号【印刷】!H269)","v":""},{"$f":"IF(契約2号【印刷】!$H$2=\"変更後注文金額\",契約2号【印刷】!F269,契約2号【印刷】!I269)","v":""},{"$f":"IF(契約2号【印刷】!$H$2=\"変更後注文金額\",契約2号【印刷】!G269,契約2号【印刷】!J269)","v":""},null,"",""]
[{"$f":"契約2号【印刷】!A270","v":267},{"$f":"契約2号【印刷】!B270","v":0},{"$f":"契約2号【印刷】!C270","v":0},{"$f":"契約2号【印刷】!D270","v":0},{"$f":"IF(契約2号【印刷】!$H$2=\"変更後注文金額\",契約2号【印刷】!E270,契約2号【印刷】!H270)","v":""},{"$f":"IF(契約2号【印刷】!$H$2=\"変更後注文金額\",契約2号【印刷】!F270,契約2号【印刷】!I270)","v":""},{"$f":"IF(契約2号【印刷】!$H$2=\"変更後注文金額\",契約2号【印刷】!G270,契約2号【印刷】!J270)","v":""},null,"",""]
[{"$f":"契約2号【印刷】!A271","v":268},{"$f":"契約2号【印刷】!B271","v":0},{"$f":"契約2号【印刷】!C271","v":0},{"$f":"契約2号【印刷】!D271","v":0},{"$f":"IF(契約2号【印刷】!$H$2=\"変更後注文金額\",契約2号【印刷】!E271,契約2号【印刷】!H271)","v":""},{"$f":"IF(契約2号【印刷】!$H$2=\"変更後注文金額\",契約2号【印刷】!F271,契約2号【印刷】!I271)","v":""},{"$f":"IF(契約2号【印刷】!$H$2=\"変更後注文金額\",契約2号【印刷】!G271,契約2号【印刷】!J271)","v":""},null,"",""]
[{"$f":"契約2号【印刷】!A272","v":269},{"$f":"契約2号【印刷】!B272","v":0},{"$f":"契約2号【印刷】!C272","v":0},{"$f":"契約2号【印刷】!D272","v":0},{"$f":"IF(契約2号【印刷】!$H$2=\"変更後注文金額\",契約2号【印刷】!E272,契約2号【印刷】!H272)","v":""},{"$f":"IF(契約2号【印刷】!$H$2=\"変更後注文金額\",契約2号【印刷】!F272,契約2号【印刷】!I272)","v":""},{"$f":"IF(契約2号【印刷】!$H$2=\"変更後注文金額\",契約2号【印刷】!G272,契約2号【印刷】!J272)","v":""},null,"",""]
[{"$f":"契約2号【印刷】!A273","v":270},{"$f":"契約2号【印刷】!B273","v":0},{"$f":"契約2号【印刷】!C273","v":0},{"$f":"契約2号【印刷】!D273","v":0},{"$f":"IF(契約2号【印刷】!$H$2=\"変更後注文金額\",契約2号【印刷】!E273,契約2号【印刷】!H273)","v":""},{"$f":"IF(契約2号【印刷】!$H$2=\"変更後注文金額\",契約2号【印刷】!F273,契約2号【印刷】!I273)","v":""},{"$f":"IF(契約2号【印刷】!$H$2=\"変更後注文金額\",契約2号【印刷】!G273,契約2号【印刷】!J273)","v":""},null,"","","⑨"]
[{"$f":"契約2号【印刷】!A274","v":271},{"$f":"契約2号【印刷】!B274","v":0},{"$f":"契約2号【印刷】!C274","v":0},{"$f":"契約2号【印刷】!D274","v":0},{"$f":"IF(契約2号【印刷】!$H$2=\"変更後注文金額\",契約2号【印刷】!E274,契約2号【印刷】!H274)","v":""},{"$f":"IF(契約2号【印刷】!$H$2=\"変更後注文金額\",契約2号【印刷】!F274,契約2号【印刷】!I274)","v":""},{"$f":"IF(契約2号【印刷】!$H$2=\"変更後注文金額\",契約2号【印刷】!G274,契約2号【印刷】!J274)","v":""},null,"",""]
[{"$f":"契約2号【印刷】!A275","v":272},{"$f":"契約2号【印刷】!B275","v":0},{"$f":"契約2号【印刷】!C275","v":0},{"$f":"契約2号【印刷】!D275","v":0},{"$f":"IF(契約2号【印刷】!$H$2=\"変更後注文金額\",契約2号【印刷】!E275,契約2号【印刷】!H275)","v":""},{"$f":"IF(契約2号【印刷】!$H$2=\"変更後注文金額\",契約2号【印刷】!F275,契約2号【印刷】!I275)","v":""},{"$f":"IF(契約2号【印刷】!$H$2=\"変更後注文金額\",契約2号【印刷】!G275,契約2号【印刷】!J275)","v":""},null,"",""]
[{"$f":"契約2号【印刷】!A276","v":273},{"$f":"契約2号【印刷】!B276","v":0},{"$f":"契約2号【印刷】!C276","v":0},{"$f":"契約2号【印刷】!D276","v":0},{"$f":"IF(契約2号【印刷】!$H$2=\"変更後注文金額\",契約2号【印刷】!E276,契約2号【印刷】!H276)","v":""},{"$f":"IF(契約2号【印刷】!$H$2=\"変更後注文金額\",契約2号【印刷】!F276,契約2号【印刷】!I276)","v":""},{"$f":"IF(契約2号【印刷】!$H$2=\"変更後注文金額\",契約2号【印刷】!G276,契約2号【印刷】!J276)","v":""},null,"",""]
[{"$f":"契約2号【印刷】!A277","v":274},{"$f":"契約2号【印刷】!B277","v":0},{"$f":"契約2号【印刷】!C277","v":0},{"$f":"契約2号【印刷】!D277","v":0},{"$f":"IF(契約2号【印刷】!$H$2=\"変更後注文金額\",契約2号【印刷】!E277,契約2号【印刷】!H277)","v":""},{"$f":"IF(契約2号【印刷】!$H$2=\"変更後注文金額\",契約2号【印刷】!F277,契約2号【印刷】!I277)","v":""},{"$f":"IF(契約2号【印刷】!$H$2=\"変更後注文金額\",契約2号【印刷】!G277,契約2号【印刷】!J277)","v":""},null,"",""]
[{"$f":"契約2号【印刷】!A278","v":275},{"$f":"契約2号【印刷】!B278","v":0},{"$f":"契約2号【印刷】!C278","v":0},{"$f":"契約2号【印刷】!D278","v":0},{"$f":"IF(契約2号【印刷】!$H$2=\"変更後注文金額\",契約2号【印刷】!E278,契約2号【印刷】!H278)","v":""},{"$f":"IF(契約2号【印刷】!$H$2=\"変更後注文金額\",契約2号【印刷】!F278,契約2号【印刷】!I278)","v":""},{"$f":"IF(契約2号【印刷】!$H$2=\"変更後注文金額\",契約2号【印刷】!G278,契約2号【印刷】!J278)","v":""},null,"",""]
[{"$f":"契約2号【印刷】!A279","v":276},{"$f":"契約2号【印刷】!B279","v":0},{"$f":"契約2号【印刷】!C279","v":0},{"$f":"契約2号【印刷】!D279","v":0},{"$f":"IF(契約2号【印刷】!$H$2=\"変更後注文金額\",契約2号【印刷】!E279,契約2号【印刷】!H279)","v":""},{"$f":"IF(契約2号【印刷】!$H$2=\"変更後注文金額\",契約2号【印刷】!F279,契約2号【印刷】!I279)","v":""},{"$f":"IF(契約2号【印刷】!$H$2=\"変更後注文金額\",契約2号【印刷】!G279,契約2号【印刷】!J279)","v":""},null,"",""]
[{"$f":"契約2号【印刷】!A280","v":277},{"$f":"契約2号【印刷】!B280","v":0},{"$f":"契約2号【印刷】!C280","v":0},{"$f":"契約2号【印刷】!D280","v":0},{"$f":"IF(契約2号【印刷】!$H$2=\"変更後注文金額\",契約2号【印刷】!E280,契約2号【印刷】!H280)","v":""},{"$f":"IF(契約2号【印刷】!$H$2=\"変更後注文金額\",契約2号【印刷】!F280,契約2号【印刷】!I280)","v":""},{"$f":"IF(契約2号【印刷】!$H$2=\"変更後注文金額\",契約2号【印刷】!G280,契約2号【印刷】!J280)","v":""},null,"",""]
[{"$f":"契約2号【印刷】!A281","v":278},{"$f":"契約2号【印刷】!B281","v":0},{"$f":"契約2号【印刷】!C281","v":0},{"$f":"契約2号【印刷】!D281","v":0},{"$f":"IF(契約2号【印刷】!$H$2=\"変更後注文金額\",契約2号【印刷】!E281,契約2号【印刷】!H281)","v":""},{"$f":"IF(契約2号【印刷】!$H$2=\"変更後注文金額\",契約2号【印刷】!F281,契約2号【印刷】!I281)","v":""},{"$f":"IF(契約2号【印刷】!$H$2=\"変更後注文金額\",契約2号【印刷】!G281,契約2号【印刷】!J281)","v":""},null,"",""]
[{"$f":"契約2号【印刷】!A282","v":279},{"$f":"契約2号【印刷】!B282","v":0},{"$f":"契約2号【印刷】!C282","v":0},{"$f":"契約2号【印刷】!D282","v":0},{"$f":"IF(契約2号【印刷】!$H$2=\"変更後注文金額\",契約2号【印刷】!E282,契約2号【印刷】!H282)","v":""},{"$f":"IF(契約2号【印刷】!$H$2=\"変更後注文金額\",契約2号【印刷】!F282,契約2号【印刷】!I282)","v":""},{"$f":"IF(契約2号【印刷】!$H$2=\"変更後注文金額\",契約2号【印刷】!G282,契約2号【印刷】!J282)","v":""},null,"",""]
[{"$f":"契約2号【印刷】!A283","v":280},{"$f":"契約2号【印刷】!B283","v":0},{"$f":"契約2号【印刷】!C283","v":0},{"$f":"契約2号【印刷】!D283","v":0},{"$f":"IF(契約2号【印刷】!$H$2=\"変更後注文金額\",契約2号【印刷】!E283,契約2号【印刷】!H283)","v":""},{"$f":"IF(契約2号【印刷】!$H$2=\"変更後注文金額\",契約2号【印刷】!F283,契約2号【印刷】!I283)","v":""},{"$f":"IF(契約2号【印刷】!$H$2=\"変更後注文金額\",契約2号【印刷】!G283,契約2号【印刷】!J283)","v":""},null,"",""]
[{"$f":"契約2号【印刷】!A284","v":281},{"$f":"契約2号【印刷】!B284","v":0},{"$f":"契約2号【印刷】!C284","v":0},{"$f":"契約2号【印刷】!D284","v":0},{"$f":"IF(契約2号【印刷】!$H$2=\"変更後注文金額\",契約2号【印刷】!E284,契約2号【印刷】!H284)","v":""},{"$f":"IF(契約2号【印刷】!$H$2=\"変更後注文金額\",契約2号【印刷】!F284,契約2号【印刷】!I284)","v":""},{"$f":"IF(契約2号【印刷】!$H$2=\"変更後注文金額\",契約2号【印刷】!G284,契約2号【印刷】!J284)","v":""},null,"",""]
[{"$f":"契約2号【印刷】!A285","v":282},{"$f":"契約2号【印刷】!B285","v":0},{"$f":"契約2号【印刷】!C285","v":0},{"$f":"契約2号【印刷】!D285","v":0},{"$f":"IF(契約2号【印刷】!$H$2=\"変更後注文金額\",契約2号【印刷】!E285,契約2号【印刷】!H285)","v":""},{"$f":"IF(契約2号【印刷】!$H$2=\"変更後注文金額\",契約2号【印刷】!F285,契約2号【印刷】!I285)","v":""},{"$f":"IF(契約2号【印刷】!$H$2=\"変更後注文金額\",契約2号【印刷】!G285,契約2号【印刷】!J285)","v":""},null,"",""]
[{"$f":"契約2号【印刷】!A286","v":283},{"$f":"契約2号【印刷】!B286","v":0},{"$f":"契約2号【印刷】!C286","v":0},{"$f":"契約2号【印刷】!D286","v":0},{"$f":"IF(契約2号【印刷】!$H$2=\"変更後注文金額\",契約2号【印刷】!E286,契約2号【印刷】!H286)","v":""},{"$f":"IF(契約2号【印刷】!$H$2=\"変更後注文金額\",契約2号【印刷】!F286,契約2号【印刷】!I286)","v":""},{"$f":"IF(契約2号【印刷】!$H$2=\"変更後注文金額\",契約2号【印刷】!G286,契約2号【印刷】!J286)","v":""},null,"",""]
[{"$f":"契約2号【印刷】!A287","v":284},{"$f":"契約2号【印刷】!B287","v":0},{"$f":"契約2号【印刷】!C287","v":0},{"$f":"契約2号【印刷】!D287","v":0},{"$f":"IF(契約2号【印刷】!$H$2=\"変更後注文金額\",契約2号【印刷】!E287,契約2号【印刷】!H287)","v":""},{"$f":"IF(契約2号【印刷】!$H$2=\"変更後注文金額\",契約2号【印刷】!F287,契約2号【印刷】!I287)","v":""},{"$f":"IF(契約2号【印刷】!$H$2=\"変更後注文金額\",契約2号【印刷】!G287,契約2号【印刷】!J287)","v":""},null,"",""]
[{"$f":"契約2号【印刷】!A288","v":285},{"$f":"契約2号【印刷】!B288","v":0},{"$f":"契約2号【印刷】!C288","v":0},{"$f":"契約2号【印刷】!D288","v":0},{"$f":"IF(契約2号【印刷】!$H$2=\"変更後注文金額\",契約2号【印刷】!E288,契約2号【印刷】!H288)","v":""},{"$f":"IF(契約2号【印刷】!$H$2=\"変更後注文金額\",契約2号【印刷】!F288,契約2号【印刷】!I288)","v":""},{"$f":"IF(契約2号【印刷】!$H$2=\"変更後注文金額\",契約2号【印刷】!G288,契約2号【印刷】!J288)","v":""},null,"",""]
[{"$f":"契約2号【印刷】!A289","v":286},{"$f":"契約2号【印刷】!B289","v":0},{"$f":"契約2号【印刷】!C289","v":0},{"$f":"契約2号【印刷】!D289","v":0},{"$f":"IF(契約2号【印刷】!$H$2=\"変更後注文金額\",契約2号【印刷】!E289,契約2号【印刷】!H289)","v":""},{"$f":"IF(契約2号【印刷】!$H$2=\"変更後注文金額\",契約2号【印刷】!F289,契約2号【印刷】!I289)","v":""},{"$f":"IF(契約2号【印刷】!$H$2=\"変更後注文金額\",契約2号【印刷】!G289,契約2号【印刷】!J289)","v":""},null,"",""]
[{"$f":"契約2号【印刷】!A290","v":287},{"$f":"契約2号【印刷】!B290","v":0},{"$f":"契約2号【印刷】!C290","v":0},{"$f":"契約2号【印刷】!D290","v":0},{"$f":"IF(契約2号【印刷】!$H$2=\"変更後注文金額\",契約2号【印刷】!E290,契約2号【印刷】!H290)","v":""},{"$f":"IF(契約2号【印刷】!$H$2=\"変更後注文金額\",契約2号【印刷】!F290,契約2号【印刷】!I290)","v":""},{"$f":"IF(契約2号【印刷】!$H$2=\"変更後注文金額\",契約2号【印刷】!G290,契約2号【印刷】!J290)","v":""},null,{"$f":"IF(OR(F290=\"\",H290=\"\"),\"\",ROUNDDOWN(F290*H290,0))","v":""},{"$f":"IF(OR(G290=\"\",I290=\"\"),\"\",I290/G290)","v":""}]
[{"$f":"契約2号【印刷】!A291","v":288},{"$f":"契約2号【印刷】!B291","v":0},{"$f":"契約2号【印刷】!C291","v":0},{"$f":"契約2号【印刷】!D291","v":0},{"$f":"IF(契約2号【印刷】!$H$2=\"変更後注文金額\",契約2号【印刷】!E291,契約2号【印刷】!H291)","v":""},{"$f":"IF(契約2号【印刷】!$H$2=\"変更後注文金額\",契約2号【印刷】!F291,契約2号【印刷】!I291)","v":""},{"$f":"IF(契約2号【印刷】!$H$2=\"変更後注文金額\",契約2号【印刷】!G291,契約2号【印刷】!J291)","v":""},null,"",""]
[{"$f":"契約2号【印刷】!A292","v":289},{"$f":"契約2号【印刷】!B292","v":0},{"$f":"契約2号【印刷】!C292","v":0},{"$f":"契約2号【印刷】!D292","v":0},{"$f":"IF(契約2号【印刷】!$H$2=\"変更後注文金額\",契約2号【印刷】!E292,契約2号【印刷】!H292)","v":""},{"$f":"IF(契約2号【印刷】!$H$2=\"変更後注文金額\",契約2号【印刷】!F292,契約2号【印刷】!I292)","v":""},{"$f":"IF(契約2号【印刷】!$H$2=\"変更後注文金額\",契約2号【印刷】!G292,契約2号【印刷】!J292)","v":""},null,"",""]
[{"$f":"契約2号【印刷】!A293","v":290},{"$f":"契約2号【印刷】!B293","v":0},{"$f":"契約2号【印刷】!C293","v":0},{"$f":"契約2号【印刷】!D293","v":0},{"$f":"IF(契約2号【印刷】!$H$2=\"変更後注文金額\",契約2号【印刷】!E293,契約2号【印刷】!H293)","v":""},{"$f":"IF(契約2号【印刷】!$H$2=\"変更後注文金額\",契約2号【印刷】!F293,契約2号【印刷】!I293)","v":""},{"$f":"IF(契約2号【印刷】!$H$2=\"変更後注文金額\",契約2号【印刷】!G293,契約2号【印刷】!J293)","v":""},null,"",""]
[{"$f":"契約2号【印刷】!A294","v":291},{"$f":"契約2号【印刷】!B294","v":0},{"$f":"契約2号【印刷】!C294","v":0},{"$f":"契約2号【印刷】!D294","v":0},{"$f":"IF(契約2号【印刷】!$H$2=\"変更後注文金額\",契約2号【印刷】!E294,契約2号【印刷】!H294)","v":""},{"$f":"IF(契約2号【印刷】!$H$2=\"変更後注文金額\",契約2号【印刷】!F294,契約2号【印刷】!I294)","v":""},{"$f":"IF(契約2号【印刷】!$H$2=\"変更後注文金額\",契約2号【印刷】!G294,契約2号【印刷】!J294)","v":""},null,"",""]
[{"$f":"契約2号【印刷】!A295","v":292},{"$f":"契約2号【印刷】!B295","v":0},{"$f":"契約2号【印刷】!C295","v":0},{"$f":"契約2号【印刷】!D295","v":0},{"$f":"IF(契約2号【印刷】!$H$2=\"変更後注文金額\",契約2号【印刷】!E295,契約2号【印刷】!H295)","v":""},{"$f":"IF(契約2号【印刷】!$H$2=\"変更後注文金額\",契約2号【印刷】!F295,契約2号【印刷】!I295)","v":""},{"$f":"IF(契約2号【印刷】!$H$2=\"変更後注文金額\",契約2号【印刷】!G295,契約2号【印刷】!J295)","v":""},null,"",""]
[{"$f":"契約2号【印刷】!A296","v":293},{"$f":"契約2号【印刷】!B296","v":0},{"$f":"契約2号【印刷】!C296","v":0},{"$f":"契約2号【印刷】!D296","v":0},{"$f":"IF(契約2号【印刷】!$H$2=\"変更後注文金額\",契約2号【印刷】!E296,契約2号【印刷】!H296)","v":""},{"$f":"IF(契約2号【印刷】!$H$2=\"変更後注文金額\",契約2号【印刷】!F296,契約2号【印刷】!I296)","v":""},{"$f":"IF(契約2号【印刷】!$H$2=\"変更後注文金額\",契約2号【印刷】!G296,契約2号【印刷】!J296)","v":""},null,"",""]
[{"$f":"契約2号【印刷】!A297","v":294},{"$f":"契約2号【印刷】!B297","v":0},{"$f":"契約2号【印刷】!C297","v":0},{"$f":"契約2号【印刷】!D297","v":0},{"$f":"IF(契約2号【印刷】!$H$2=\"変更後注文金額\",契約2号【印刷】!E297,契約2号【印刷】!H297)","v":""},{"$f":"IF(契約2号【印刷】!$H$2=\"変更後注文金額\",契約2号【印刷】!F297,契約2号【印刷】!I297)","v":""},{"$f":"IF(契約2号【印刷】!$H$2=\"変更後注文金額\",契約2号【印刷】!G297,契約2号【印刷】!J297)","v":""},null,"",""]
[{"$f":"契約2号【印刷】!A298","v":295},{"$f":"契約2号【印刷】!B298","v":0},{"$f":"契約2号【印刷】!C298","v":0},{"$f":"契約2号【印刷】!D298","v":0},{"$f":"IF(契約2号【印刷】!$H$2=\"変更後注文金額\",契約2号【印刷】!E298,契約2号【印刷】!H298)","v":""},{"$f":"IF(契約2号【印刷】!$H$2=\"変更後注文金額\",契約2号【印刷】!F298,契約2号【印刷】!I298)","v":""},{"$f":"IF(契約2号【印刷】!$H$2=\"変更後注文金額\",契約2号【印刷】!G298,契約2号【印刷】!J298)","v":""},null,"",""]
[{"$f":"契約2号【印刷】!A299","v":296},{"$f":"契約2号【印刷】!B299","v":0},{"$f":"契約2号【印刷】!C299","v":0},{"$f":"契約2号【印刷】!D299","v":0},{"$f":"IF(契約2号【印刷】!$H$2=\"変更後注文金額\",契約2号【印刷】!E299,契約2号【印刷】!H299)","v":""},{"$f":"IF(契約2号【印刷】!$H$2=\"変更後注文金額\",契約2号【印刷】!F299,契約2号【印刷】!I299)","v":""},{"$f":"IF(契約2号【印刷】!$H$2=\"変更後注文金額\",契約2号【印刷】!G299,契約2号【印刷】!J299)","v":""},null,"",""]
[{"$f":"契約2号【印刷】!A300","v":297},{"$f":"契約2号【印刷】!B300","v":0},{"$f":"契約2号【印刷】!C300","v":0},{"$f":"契約2号【印刷】!D300","v":0},{"$f":"IF(契約2号【印刷】!$H$2=\"変更後注文金額\",契約2号【印刷】!E300,契約2号【印刷】!H300)","v":""},{"$f":"IF(契約2号【印刷】!$H$2=\"変更後注文金額\",契約2号【印刷】!F300,契約2号【印刷】!I300)","v":""},{"$f":"IF(契約2号【印刷】!$H$2=\"変更後注文金額\",契約2号【印刷】!G300,契約2号【印刷】!J300)","v":""},null,"",""]
[{"$f":"契約2号【印刷】!A301","v":298},{"$f":"契約2号【印刷】!B301","v":0},{"$f":"契約2号【印刷】!C301","v":0},{"$f":"契約2号【印刷】!D301","v":0},{"$f":"IF(契約2号【印刷】!$H$2=\"変更後注文金額\",契約2号【印刷】!E301,契約2号【印刷】!H301)","v":""},{"$f":"IF(契約2号【印刷】!$H$2=\"変更後注文金額\",契約2号【印刷】!F301,契約2号【印刷】!I301)","v":""},{"$f":"IF(契約2号【印刷】!$H$2=\"変更後注文金額\",契約2号【印刷】!G301,契約2号【印刷】!J301)","v":""},null,"",""]
[{"$f":"契約2号【印刷】!A302","v":299},{"$f":"契約2号【印刷】!B302","v":0},{"$f":"契約2号【印刷】!C302","v":0},{"$f":"契約2号【印刷】!D302","v":0},{"$f":"IF(契約2号【印刷】!$H$2=\"変更後注文金額\",契約2号【印刷】!E302,契約2号【印刷】!H302)","v":""},{"$f":"IF(契約2号【印刷】!$H$2=\"変更後注文金額\",契約2号【印刷】!F302,契約2号【印刷】!I302)","v":""},{"$f":"IF(契約2号【印刷】!$H$2=\"変更後注文金額\",契約2号【印刷】!G302,契約2号【印刷】!J302)","v":""},null,"",""]
[{"$f":"契約2号【印刷】!A303","v":300},{"$f":"契約2号【印刷】!B303","v":0},{"$f":"契約2号【印刷】!C303","v":0},{"$f":"契約2号【印刷】!D303","v":0},{"$f":"IF(契約2号【印刷】!$H$2=\"変更後注文金額\",契約2号【印刷】!E303,契約2号【印刷】!H303)","v":""},{"$f":"IF(契約2号【印刷】!$H$2=\"変更後注文金額\",契約2号【印刷】!F303,契約2号【印刷】!I303)","v":""},{"$f":"IF(契約2号【印刷】!$H$2=\"変更後注文金額\",契約2号【印刷】!G303,契約2号【印刷】!J303)","v":""},null,"","","⑩"]

{"sheet":"請求4号(2)","index":13,"n_rows":93,"n_cols":11,"rows_kept":93,"cut":false,"hidden":false,"merged":[[1,7,1,9],[1,10,2,10],[1,0,2,0],[1,3,2,3],[1,1,1,2],[1,4,1,6]]}
[]
["番号","　項　　　　　目",null,"単位","注文金額（税抜）",null,null,{"$f":"出来高表紙!AJ14&出来高表紙!AJ15","v":"今回累計出来高金額(10月分)"},null,null,"備　考"]
[null,"名　　　　　称","規　　格　　・　摘　　要",null,"数　量","単　価","金　　額","数　量","金　　額","率"]
[{"$f":"'契約2号(2)【印刷】'!A4","v":1},{"$f":"'契約2号(2)【印刷】'!B4","v":0},{"$f":"'契約2号(2)【印刷】'!C4","v":0},{"$f":"'契約2号(2)【印刷】'!D4","v":0},{"$f":"IF('契約2号(2)【印刷】'!$H$2=\"変更後注文金額\",'契約2号(2)【印刷】'!E4,'契約2号(2)【印刷】'!H4)","v":""},{"$f":"IF('契約2号(2)【印刷】'!$H$2=\"変更後注文金額\",'契約2号(2)【印刷】'!F4,'契約2号(2)【印刷】'!I4)","v":""},{"$f":"IF('契約2号(2)【印刷】'!$H$2=\"変更後注文金額\",'契約2号(2)【印刷】'!G4,'契約2号(2)【印刷】'!J4)","v":""},null,{"$f":"IF(OR(F4=\"\",H4=\"\"),\"\",ROUNDDOWN(F4*H4,0))","v":""},{"$f":"IF(OR(G4=\"\",I4=\"\"),\"\",I4/G4)","v":""}]
[{"$f":"'契約2号(2)【印刷】'!A5","v":2},{"$f":"'契約2号(2)【印刷】'!B5","v":0},{"$f":"'契約2号(2)【印刷】'!C5","v":0},{"$f":"'契約2号(2)【印刷】'!D5","v":0},{"$f":"IF('契約2号(2)【印刷】'!$H$2=\"変更後注文金額\",'契約2号(2)【印刷】'!E5,'契約2号(2)【印刷】'!H5)","v":""},{"$f":"IF('契約2号(2)【印刷】'!$H$2=\"変更後注文金額\",'契約2号(2)【印刷】'!F5,'契約2号(2)【印刷】'!I5)","v":""},{"$f":"IF('契約2号(2)【印刷】'!$H$2=\"変更後注文金額\",'契約2号(2)【印刷】'!G5,'契約2号(2)【印刷】'!J5)","v":""},null,{"$f":"IF(OR(F5=\"\",H5=\"\"),\"\",ROUNDDOWN(F5*H5,0))","v":""},{"$f":"IF(OR(G5=\"\",I5=\"\"),\"\",I5/G5)","v":""}]
[{"$f":"'契約2号(2)【印刷】'!A6","v":3},{"$f":"'契約2号(2)【印刷】'!B6","v":0},{"$f":"'契約2号(2)【印刷】'!C6","v":0},{"$f":"'契約2号(2)【印刷】'!D6","v":0},{"$f":"IF('契約2号(2)【印刷】'!$H$2=\"変更後注文金額\",'契約2号(2)【印刷】'!E6,'契約2号(2)【印刷】'!H6)","v":""},{"$f":"IF('契約2号(2)【印刷】'!$H$2=\"変更後注文金額\",'契約2号(2)【印刷】'!F6,'契約2号(2)【印刷】'!I6)","v":""},{"$f":"IF('契約2号(2)【印刷】'!$H$2=\"変更後注文金額\",'契約2号(2)【印刷】'!G6,'契約2号(2)【印刷】'!J6)","v":""},null,{"$f":"IF(OR(F6=\"\",H6=\"\"),\"\",ROUNDDOWN(F6*H6,0))","v":""},{"$f":"IF(OR(G6=\"\",I6=\"\"),\"\",I6/G6)","v":""}]
[{"$f":"'契約2号(2)【印刷】'!A7","v":4},{"$f":"'契約2号(2)【印刷】'!B7","v":0},{"$f":"'契約2号(2)【印刷】'!C7","v":0},{"$f":"'契約2号(2)【印刷】'!D7","v":0},{"$f":"IF('契約2号(2)【印刷】'!$H$2=\"変更後注文金額\",'契約2号(2)【印刷】'!E7,'契約2号(2)【印刷】'!H7)","v":""},{"$f":"IF('契約2号(2)【印刷】'!$H$2=\"変更後注文金額\",'契約2号(2)【印刷】'!F7,'契約2号(2)【印刷】'!I7)","v":""},{"$f":"IF('契約2号(2)【印刷】'!$H$2=\"変更後注文金額\",'契約2号(2)【印刷】'!G7,'契約2号(2)【印刷】'!J7)","v":""},null,{"$f":"IF(OR(F7=\"\",H7=\"\"),\"\",ROUNDDOWN(F7*H7,0))","v":""},{"$f":"IF(OR(G7=\"\",I7=\"\"),\"\",I7/G7)","v":""}]
[{"$f":"'契約2号(2)【印刷】'!A8","v":5},{"$f":"'契約2号(2)【印刷】'!B8","v":0},{"$f":"'契約2号(2)【印刷】'!C8","v":0},{"$f":"'契約2号(2)【印刷】'!D8","v":0},{"$f":"IF('契約2号(2)【印刷】'!$H$2=\"変更後注文金額\",'契約2号(2)【印刷】'!E8,'契約2号(2)【印刷】'!H8)","v":""},{"$f":"IF('契約2号(2)【印刷】'!$H$2=\"変更後注文金額\",'契約2号(2)【印刷】'!F8,'契約2号(2)【印刷】'!I8)","v":""},{"$f":"IF('契約2号(2)【印刷】'!$H$2=\"変更後注文金額\",'契約2号(2)【印刷】'!G8,'契約2号(2)【印刷】'!J8)","v":""},null,{"$f":"IF(OR(F8=\"\",H8=\"\"),\"\",ROUNDDOWN(F8*H8,0))","v":""},{"$f":"IF(OR(G8=\"\",I8=\"\"),\"\",I8/G8)","v":""}]
[{"$f":"'契約2号(2)【印刷】'!A9","v":6},{"$f":"'契約2号(2)【印刷】'!B9","v":0},{"$f":"'契約2号(2)【印刷】'!C9","v":0},{"$f":"'契約2号(2)【印刷】'!D9","v":0},{"$f":"IF('契約2号(2)【印刷】'!$H$2=\"変更後注文金額\",'契約2号(2)【印刷】'!E9,'契約2号(2)【印刷】'!H9)","v":""},{"$f":"IF('契約2号(2)【印刷】'!$H$2=\"変更後注文金額\",'契約2号(2)【印刷】'!F9,'契約2号(2)【印刷】'!I9)","v":""},{"$f":"IF('契約2号(2)【印刷】'!$H$2=\"変更後注文金額\",'契約2号(2)【印刷】'!G9,'契約2号(2)【印刷】'!J9)","v":""},null,{"$f":"IF(OR(F9=\"\",H9=\"\"),\"\",ROUNDDOWN(F9*H9,0))","v":""},{"$f":"IF(OR(G9=\"\",I9=\"\"),\"\",I9/G9)","v":""}]
[{"$f":"'契約2号(2)【印刷】'!A10","v":7},{"$f":"'契約2号(2)【印刷】'!B10","v":0},{"$f":"'契約2号(2)【印刷】'!C10","v":0},{"$f":"'契約2号(2)【印刷】'!D10","v":0},{"$f":"IF('契約2号(2)【印刷】'!$H$2=\"変更後注文金額\",'契約2号(2)【印刷】'!E10,'契約2号(2)【印刷】'!H10)","v":""},{"$f":"IF('契約2号(2)【印刷】'!$H$2=\"変更後注文金額\",'契約2号(2)【印刷】'!F10,'契約2号(2)【印刷】'!I10)","v":""},{"$f":"IF('契約2号(2)【印刷】'!$H$2=\"変更後注文金額\",'契約2号(2)【印刷】'!G10,'契約2号(2)【印刷】'!J10)","v":""},null,"",""]
[{"$f":"'契約2号(2)【印刷】'!A11","v":8},{"$f":"'契約2号(2)【印刷】'!B11","v":0},{"$f":"'契約2号(2)【印刷】'!C11","v":0},{"$f":"'契約2号(2)【印刷】'!D11","v":0},{"$f":"IF('契約2号(2)【印刷】'!$H$2=\"変更後注文金額\",'契約2号(2)【印刷】'!E11,'契約2号(2)【印刷】'!H11)","v":""},{"$f":"IF('契約2号(2)【印刷】'!$H$2=\"変更後注文金額\",'契約2号(2)【印刷】'!F11,'契約2号(2)【印刷】'!I11)","v":""},{"$f":"IF('契約2号(2)【印刷】'!$H$2=\"変更後注文金額\",'契約2号(2)【印刷】'!G11,'契約2号(2)【印刷】'!J11)","v":""},null,"",""]
[{"$f":"'契約2号(2)【印刷】'!A12","v":9},{"$f":"'契約2号(2)【印刷】'!B12","v":0},{"$f":"'契約2号(2)【印刷】'!C12","v":0},{"$f":"'契約2号(2)【印刷】'!D12","v":0},{"$f":"IF('契約2号(2)【印刷】'!$H$2=\"変更後注文金額\",'契約2号(2)【印刷】'!E12,'契約2号(2)【印刷】'!H12)","v":""},{"$f":"IF('契約2号(2)【印刷】'!$H$2=\"変更後注文金額\",'契約2号(2)【印刷】'!F12,'契約2号(2)【印刷】'!I12)","v":""},{"$f":"IF('契約2号(2)【印刷】'!$H$2=\"変更後注文金額\",'契約2号(2)【印刷】'!G12,'契約2号(2)【印刷】'!J12)","v":""},null,"",""]
[{"$f":"'契約2号(2)【印刷】'!A13","v":10},{"$f":"'契約2号(2)【印刷】'!B13","v":0},{"$f":"'契約2号(2)【印刷】'!C13","v":0},{"$f":"'契約2号(2)【印刷】'!D13","v":0},{"$f":"IF('契約2号(2)【印刷】'!$H$2=\"変更後注文金額\",'契約2号(2)【印刷】'!E13,'契約2号(2)【印刷】'!H13)","v":""},{"$f":"IF('契約2号(2)【印刷】'!$H$2=\"変更後注文金額\",'契約2号(2)【印刷】'!F13,'契約2号(2)【印刷】'!I13)","v":""},{"$f":"IF('契約2号(2)【印刷】'!$H$2=\"変更後注文金額\",'契約2号(2)【印刷】'!G13,'契約2号(2)【印刷】'!J13)","v":""},null,"",""]
[{"$f":"'契約2号(2)【印刷】'!A14","v":11},{"$f":"'契約2号(2)【印刷】'!B14","v":0},{"$f":"'契約2号(2)【印刷】'!C14","v":0},{"$f":"'契約2号(2)【印刷】'!D14","v":0},{"$f":"IF('契約2号(2)【印刷】'!$H$2=\"変更後注文金額\",'契約2号(2)【印刷】'!E14,'契約2号(2)【印刷】'!H14)","v":""},{"$f":"IF('契約2号(2)【印刷】'!$H$2=\"変更後注文金額\",'契約2号(2)【印刷】'!F14,'契約2号(2)【印刷】'!I14)","v":""},{"$f":"IF('契約2号(2)【印刷】'!$H$2=\"変更後注文金額\",'契約2号(2)【印刷】'!G14,'契約2号(2)【印刷】'!J14)","v":""},null,"",""]
[{"$f":"'契約2号(2)【印刷】'!A15","v":12},{"$f":"'契約2号(2)【印刷】'!B15","v":0},{"$f":"'契約2号(2)【印刷】'!C15","v":0},{"$f":"'契約2号(2)【印刷】'!D15","v":0},{"$f":"IF('契約2号(2)【印刷】'!$H$2=\"変更後注文金額\",'契約2号(2)【印刷】'!E15,'契約2号(2)【印刷】'!H15)","v":""},{"$f":"IF('契約2号(2)【印刷】'!$H$2=\"変更後注文金額\",'契約2号(2)【印刷】'!F15,'契約2号(2)【印刷】'!I15)","v":""},{"$f":"IF('契約2号(2)【印刷】'!$H$2=\"変更後注文金額\",'契約2号(2)【印刷】'!G15,'契約2号(2)【印刷】'!J15)","v":""},null,"",""]
[{"$f":"'契約2号(2)【印刷】'!A16","v":13},{"$f":"'契約2号(2)【印刷】'!B16","v":0},{"$f":"'契約2号(2)【印刷】'!C16","v":0},{"$f":"'契約2号(2)【印刷】'!D16","v":0},{"$f":"IF('契約2号(2)【印刷】'!$H$2=\"変更後注文金額\",'契約2号(2)【印刷】'!E16,'契約2号(2)【印刷】'!H16)","v":""},{"$f":"IF('契約2号(2)【印刷】'!$H$2=\"変更後注文金額\",'契約2号(2)【印刷】'!F16,'契約2号(2)【印刷】'!I16)","v":""},{"$f":"IF('契約2号(2)【印刷】'!$H$2=\"変更後注文金額\",'契約2号(2)【印刷】'!G16,'契約2号(2)【印刷】'!J16)","v":""},null,"",""]
[{"$f":"'契約2号(2)【印刷】'!A17","v":14},{"$f":"'契約2号(2)【印刷】'!B17","v":0},{"$f":"'契約2号(2)【印刷】'!C17","v":0},{"$f":"'契約2号(2)【印刷】'!D17","v":0},{"$f":"IF('契約2号(2)【印刷】'!$H$2=\"変更後注文金額\",'契約2号(2)【印刷】'!E17,'契約2号(2)【印刷】'!H17)","v":""},{"$f":"IF('契約2号(2)【印刷】'!$H$2=\"変更後注文金額\",'契約2号(2)【印刷】'!F17,'契約2号(2)【印刷】'!I17)","v":""},{"$f":"IF('契約2号(2)【印刷】'!$H$2=\"変更後注文金額\",'契約2号(2)【印刷】'!G17,'契約2号(2)【印刷】'!J17)","v":""},null,"",""]
[{"$f":"'契約2号(2)【印刷】'!A18","v":15},{"$f":"'契約2号(2)【印刷】'!B18","v":0},{"$f":"'契約2号(2)【印刷】'!C18","v":0},{"$f":"'契約2号(2)【印刷】'!D18","v":0},{"$f":"IF('契約2号(2)【印刷】'!$H$2=\"変更後注文金額\",'契約2号(2)【印刷】'!E18,'契約2号(2)【印刷】'!H18)","v":""},{"$f":"IF('契約2号(2)【印刷】'!$H$2=\"変更後注文金額\",'契約2号(2)【印刷】'!F18,'契約2号(2)【印刷】'!I18)","v":""},{"$f":"IF('契約2号(2)【印刷】'!$H$2=\"変更後注文金額\",'契約2号(2)【印刷】'!G18,'契約2号(2)【印刷】'!J18)","v":""},null,"",""]
[{"$f":"'契約2号(2)【印刷】'!A19","v":16},{"$f":"'契約2号(2)【印刷】'!B19","v":0},{"$f":"'契約2号(2)【印刷】'!C19","v":0},{"$f":"'契約2号(2)【印刷】'!D19","v":0},{"$f":"IF('契約2号(2)【印刷】'!$H$2=\"変更後注文金額\",'契約2号(2)【印刷】'!E19,'契約2号(2)【印刷】'!H19)","v":""},{"$f":"IF('契約2号(2)【印刷】'!$H$2=\"変更後注文金額\",'契約2号(2)【印刷】'!F19,'契約2号(2)【印刷】'!I19)","v":""},{"$f":"IF('契約2号(2)【印刷】'!$H$2=\"変更後注文金額\",'契約2号(2)【印刷】'!G19,'契約2号(2)【印刷】'!J19)","v":""},null,"",""]
[{"$f":"'契約2号(2)【印刷】'!A20","v":17},{"$f":"'契約2号(2)【印刷】'!B20","v":0},{"$f":"'契約2号(2)【印刷】'!C20","v":0},{"$f":"'契約2号(2)【印刷】'!D20","v":0},{"$f":"IF('契約2号(2)【印刷】'!$H$2=\"変更後注文金額\",'契約2号(2)【印刷】'!E20,'契約2号(2)【印刷】'!H20)","v":""},{"$f":"IF('契約2号(2)【印刷】'!$H$2=\"変更後注文金額\",'契約2号(2)【印刷】'!F20,'契約2号(2)【印刷】'!I20)","v":""},{"$f":"IF('契約2号(2)【印刷】'!$H$2=\"変更後注文金額\",'契約2号(2)【印刷】'!G20,'契約2号(2)【印刷】'!J20)","v":""},null,"",""]
[{"$f":"'契約2号(2)【印刷】'!A21","v":18},{"$f":"'契約2号(2)【印刷】'!B21","v":0},{"$f":"'契約2号(2)【印刷】'!C21","v":0},{"$f":"'契約2号(2)【印刷】'!D21","v":0},{"$f":"IF('契約2号(2)【印刷】'!$H$2=\"変更後注文金額\",'契約2号(2)【印刷】'!E21,'契約2号(2)【印刷】'!H21)","v":""},{"$f":"IF('契約2号(2)【印刷】'!$H$2=\"変更後注文金額\",'契約2号(2)【印刷】'!F21,'契約2号(2)【印刷】'!I21)","v":""},{"$f":"IF('契約2号(2)【印刷】'!$H$2=\"変更後注文金額\",'契約2号(2)【印刷】'!G21,'契約2号(2)【印刷】'!J21)","v":""},null,"",""]
[{"$f":"'契約2号(2)【印刷】'!A22","v":19},{"$f":"'契約2号(2)【印刷】'!B22","v":0},{"$f":"'契約2号(2)【印刷】'!C22","v":0},{"$f":"'契約2号(2)【印刷】'!D22","v":0},{"$f":"IF('契約2号(2)【印刷】'!$H$2=\"変更後注文金額\",'契約2号(2)【印刷】'!E22,'契約2号(2)【印刷】'!H22)","v":""},{"$f":"IF('契約2号(2)【印刷】'!$H$2=\"変更後注文金額\",'契約2号(2)【印刷】'!F22,'契約2号(2)【印刷】'!I22)","v":""},{"$f":"IF('契約2号(2)【印刷】'!$H$2=\"変更後注文金額\",'契約2号(2)【印刷】'!G22,'契約2号(2)【印刷】'!J22)","v":""},null,"",""]
[{"$f":"'契約2号(2)【印刷】'!A23","v":20},{"$f":"'契約2号(2)【印刷】'!B23","v":0},{"$f":"'契約2号(2)【印刷】'!C23","v":0},{"$f":"'契約2号(2)【印刷】'!D23","v":0},{"$f":"IF('契約2号(2)【印刷】'!$H$2=\"変更後注文金額\",'契約2号(2)【印刷】'!E23,'契約2号(2)【印刷】'!H23)","v":""},{"$f":"IF('契約2号(2)【印刷】'!$H$2=\"変更後注文金額\",'契約2号(2)【印刷】'!F23,'契約2号(2)【印刷】'!I23)","v":""},{"$f":"IF('契約2号(2)【印刷】'!$H$2=\"変更後注文金額\",'契約2号(2)【印刷】'!G23,'契約2号(2)【印刷】'!J23)","v":""},null,"",""]
[{"$f":"'契約2号(2)【印刷】'!A24","v":21},{"$f":"'契約2号(2)【印刷】'!B24","v":0},{"$f":"'契約2号(2)【印刷】'!C24","v":0},{"$f":"'契約2号(2)【印刷】'!D24","v":0},{"$f":"IF('契約2号(2)【印刷】'!$H$2=\"変更後注文金額\",'契約2号(2)【印刷】'!E24,'契約2号(2)【印刷】'!H24)","v":""},{"$f":"IF('契約2号(2)【印刷】'!$H$2=\"変更後注文金額\",'契約2号(2)【印刷】'!F24,'契約2号(2)【印刷】'!I24)","v":""},{"$f":"IF('契約2号(2)【印刷】'!$H$2=\"変更後注文金額\",'契約2号(2)【印刷】'!G24,'契約2号(2)【印刷】'!J24)","v":""},null,"",""]
[{"$f":"'契約2号(2)【印刷】'!A25","v":22},{"$f":"'契約2号(2)【印刷】'!B25","v":0},{"$f":"'契約2号(2)【印刷】'!C25","v":0},{"$f":"'契約2号(2)【印刷】'!D25","v":0},{"$f":"IF('契約2号(2)【印刷】'!$H$2=\"変更後注文金額\",'契約2号(2)【印刷】'!E25,'契約2号(2)【印刷】'!H25)","v":""},{"$f":"IF('契約2号(2)【印刷】'!$H$2=\"変更後注文金額\",'契約2号(2)【印刷】'!F25,'契約2号(2)【印刷】'!I25)","v":""},{"$f":"IF('契約2号(2)【印刷】'!$H$2=\"変更後注文金額\",'契約2号(2)【印刷】'!G25,'契約2号(2)【印刷】'!J25)","v":""},null,"",""]
[{"$f":"'契約2号(2)【印刷】'!A26","v":23},{"$f":"'契約2号(2)【印刷】'!B26","v":0},{"$f":"'契約2号(2)【印刷】'!C26","v":0},{"$f":"'契約2号(2)【印刷】'!D26","v":0},{"$f":"IF('契約2号(2)【印刷】'!$H$2=\"変更後注文金額\",'契約2号(2)【印刷】'!E26,'契約2号(2)【印刷】'!H26)","v":""},{"$f":"IF('契約2号(2)【印刷】'!$H$2=\"変更後注文金額\",'契約2号(2)【印刷】'!F26,'契約2号(2)【印刷】'!I26)","v":""},{"$f":"IF('契約2号(2)【印刷】'!$H$2=\"変更後注文金額\",'契約2号(2)【印刷】'!G26,'契約2号(2)【印刷】'!J26)","v":""},null,"",""]
[{"$f":"'契約2号(2)【印刷】'!A27","v":24},{"$f":"'契約2号(2)【印刷】'!B27","v":0},{"$f":"'契約2号(2)【印刷】'!C27","v":0},{"$f":"'契約2号(2)【印刷】'!D27","v":0},{"$f":"IF('契約2号(2)【印刷】'!$H$2=\"変更後注文金額\",'契約2号(2)【印刷】'!E27,'契約2号(2)【印刷】'!H27)","v":""},{"$f":"IF('契約2号(2)【印刷】'!$H$2=\"変更後注文金額\",'契約2号(2)【印刷】'!F27,'契約2号(2)【印刷】'!I27)","v":""},{"$f":"IF('契約2号(2)【印刷】'!$H$2=\"変更後注文金額\",'契約2号(2)【印刷】'!G27,'契約2号(2)【印刷】'!J27)","v":""},null,"",""]
[{"$f":"'契約2号(2)【印刷】'!A28","v":25},{"$f":"'契約2号(2)【印刷】'!B28","v":0},{"$f":"'契約2号(2)【印刷】'!C28","v":0},{"$f":"'契約2号(2)【印刷】'!D28","v":0},{"$f":"IF('契約2号(2)【印刷】'!$H$2=\"変更後注文金額\",'契約2号(2)【印刷】'!E28,'契約2号(2)【印刷】'!H28)","v":""},{"$f":"IF('契約2号(2)【印刷】'!$H$2=\"変更後注文金額\",'契約2号(2)【印刷】'!F28,'契約2号(2)【印刷】'!I28)","v":""},{"$f":"IF('契約2号(2)【印刷】'!$H$2=\"変更後注文金額\",'契約2号(2)【印刷】'!G28,'契約2号(2)【印刷】'!J28)","v":""},null,"",""]
[{"$f":"'契約2号(2)【印刷】'!A29","v":26},{"$f":"'契約2号(2)【印刷】'!B29","v":0},{"$f":"'契約2号(2)【印刷】'!C29","v":0},{"$f":"'契約2号(2)【印刷】'!D29","v":0},{"$f":"IF('契約2号(2)【印刷】'!$H$2=\"変更後注文金額\",'契約2号(2)【印刷】'!E29,'契約2号(2)【印刷】'!H29)","v":""},{"$f":"IF('契約2号(2)【印刷】'!$H$2=\"変更後注文金額\",'契約2号(2)【印刷】'!F29,'契約2号(2)【印刷】'!I29)","v":""},{"$f":"IF('契約2号(2)【印刷】'!$H$2=\"変更後注文金額\",'契約2号(2)【印刷】'!G29,'契約2号(2)【印刷】'!J29)","v":""},null,"",""]
[{"$f":"'契約2号(2)【印刷】'!A30","v":27},{"$f":"'契約2号(2)【印刷】'!B30","v":0},{"$f":"'契約2号(2)【印刷】'!C30","v":0},{"$f":"'契約2号(2)【印刷】'!D30","v":0},{"$f":"IF('契約2号(2)【印刷】'!$H$2=\"変更後注文金額\",'契約2号(2)【印刷】'!E30,'契約2号(2)【印刷】'!H30)","v":""},{"$f":"IF('契約2号(2)【印刷】'!$H$2=\"変更後注文金額\",'契約2号(2)【印刷】'!F30,'契約2号(2)【印刷】'!I30)","v":""},{"$f":"IF('契約2号(2)【印刷】'!$H$2=\"変更後注文金額\",'契約2号(2)【印刷】'!G30,'契約2号(2)【印刷】'!J30)","v":""},null,"",""]
[{"$f":"'契約2号(2)【印刷】'!A31","v":28},{"$f":"'契約2号(2)【印刷】'!B31","v":0},{"$f":"'契約2号(2)【印刷】'!C31","v":0},{"$f":"'契約2号(2)【印刷】'!D31","v":0},{"$f":"IF('契約2号(2)【印刷】'!$H$2=\"変更後注文金額\",'契約2号(2)【印刷】'!E31,'契約2号(2)【印刷】'!H31)","v":""},{"$f":"IF('契約2号(2)【印刷】'!$H$2=\"変更後注文金額\",'契約2号(2)【印刷】'!F31,'契約2号(2)【印刷】'!I31)","v":""},{"$f":"IF('契約2号(2)【印刷】'!$H$2=\"変更後注文金額\",'契約2号(2)【印刷】'!G31,'契約2号(2)【印刷】'!J31)","v":""},null,"",""]
[{"$f":"'契約2号(2)【印刷】'!A32","v":29},{"$f":"'契約2号(2)【印刷】'!B32","v":0},{"$f":"'契約2号(2)【印刷】'!C32","v":0},{"$f":"'契約2号(2)【印刷】'!D32","v":0},{"$f":"IF('契約2号(2)【印刷】'!$H$2=\"変更後注文金額\",'契約2号(2)【印刷】'!E32,'契約2号(2)【印刷】'!H32)","v":""},{"$f":"IF('契約2号(2)【印刷】'!$H$2=\"変更後注文金額\",'契約2号(2)【印刷】'!F32,'契約2号(2)【印刷】'!I32)","v":""},{"$f":"IF('契約2号(2)【印刷】'!$H$2=\"変更後注文金額\",'契約2号(2)【印刷】'!G32,'契約2号(2)【印刷】'!J32)","v":""},null,"",""]
[{"$f":"'契約2号(2)【印刷】'!A33","v":30},{"$f":"'契約2号(2)【印刷】'!B33","v":"頁　　計"},{"$f":"'契約2号(2)【印刷】'!C33","v":"　"},{"$f":"'契約2号(2)【印刷】'!D33","v":"　"},{"$f":"IF('契約2号(2)【印刷】'!$H$2=\"変更後注文金額\",'契約2号(2)【印刷】'!E33,'契約2号(2)【印刷】'!H33)","v":""},{"$f":"IF('契約2号(2)【印刷】'!$H$2=\"変更後注文金額\",'契約2号(2)【印刷】'!F33,'契約2号(2)【印刷】'!I33)","v":""},{"$f":"IF('契約2号(2)【印刷】'!$H$2=\"変更後注文金額\",'契約2号(2)【印刷】'!G33,'契約2号(2)【印刷】'!J33)","v":0},null,{"$f":"SUM(I4:I32)","v":0},{"$f":"IFERROR(IF(OR(G33=\"\",I33=\"\"),\"\",I33/G33),)","v":0},"①"]
[{"$f":"'契約2号(2)【印刷】'!A34","v":31},{"$f":"'契約2号(2)【印刷】'!B34","v":0},{"$f":"'契約2号(2)【印刷】'!C34","v":0},{"$f":"'契約2号(2)【印刷】'!D34","v":0},{"$f":"IF('契約2号(2)【印刷】'!$H$2=\"変更後注文金額\",'契約2号(2)【印刷】'!E34,'契約2号(2)【印刷】'!H34)","v":""},{"$f":"IF('契約2号(2)【印刷】'!$H$2=\"変更後注文金額\",'契約2号(2)【印刷】'!F34,'契約2号(2)【印刷】'!I34)","v":""},{"$f":"IF('契約2号(2)【印刷】'!$H$2=\"変更後注文金額\",'契約2号(2)【印刷】'!G34,'契約2号(2)【印刷】'!J34)","v":""},null,"",""]
[{"$f":"'契約2号(2)【印刷】'!A35","v":32},{"$f":"'契約2号(2)【印刷】'!B35","v":0},{"$f":"'契約2号(2)【印刷】'!C35","v":0},{"$f":"'契約2号(2)【印刷】'!D35","v":0},{"$f":"IF('契約2号(2)【印刷】'!$H$2=\"変更後注文金額\",'契約2号(2)【印刷】'!E35,'契約2号(2)【印刷】'!H35)","v":""},{"$f":"IF('契約2号(2)【印刷】'!$H$2=\"変更後注文金額\",'契約2号(2)【印刷】'!F35,'契約2号(2)【印刷】'!I35)","v":""},{"$f":"IF('契約2号(2)【印刷】'!$H$2=\"変更後注文金額\",'契約2号(2)【印刷】'!G35,'契約2号(2)【印刷】'!J35)","v":""},null,"",""]
[{"$f":"'契約2号(2)【印刷】'!A36","v":33},{"$f":"'契約2号(2)【印刷】'!B36","v":0},{"$f":"'契約2号(2)【印刷】'!C36","v":0},{"$f":"'契約2号(2)【印刷】'!D36","v":0},{"$f":"IF('契約2号(2)【印刷】'!$H$2=\"変更後注文金額\",'契約2号(2)【印刷】'!E36,'契約2号(2)【印刷】'!H36)","v":""},{"$f":"IF('契約2号(2)【印刷】'!$H$2=\"変更後注文金額\",'契約2号(2)【印刷】'!F36,'契約2号(2)【印刷】'!I36)","v":""},{"$f":"IF('契約2号(2)【印刷】'!$H$2=\"変更後注文金額\",'契約2号(2)【印刷】'!G36,'契約2号(2)【印刷】'!J36)","v":""},null,"",""]
[{"$f":"'契約2号(2)【印刷】'!A37","v":34},{"$f":"'契約2号(2)【印刷】'!B37","v":0},{"$f":"'契約2号(2)【印刷】'!C37","v":0},{"$f":"'契約2号(2)【印刷】'!D37","v":0},{"$f":"IF('契約2号(2)【印刷】'!$H$2=\"変更後注文金額\",'契約2号(2)【印刷】'!E37,'契約2号(2)【印刷】'!H37)","v":""},{"$f":"IF('契約2号(2)【印刷】'!$H$2=\"変更後注文金額\",'契約2号(2)【印刷】'!F37,'契約2号(2)【印刷】'!I37)","v":""},{"$f":"IF('契約2号(2)【印刷】'!$H$2=\"変更後注文金額\",'契約2号(2)【印刷】'!G37,'契約2号(2)【印刷】'!J37)","v":""},null,"",""]
[{"$f":"'契約2号(2)【印刷】'!A38","v":35},{"$f":"'契約2号(2)【印刷】'!B38","v":0},{"$f":"'契約2号(2)【印刷】'!C38","v":0},{"$f":"'契約2号(2)【印刷】'!D38","v":0},{"$f":"IF('契約2号(2)【印刷】'!$H$2=\"変更後注文金額\",'契約2号(2)【印刷】'!E38,'契約2号(2)【印刷】'!H38)","v":""},{"$f":"IF('契約2号(2)【印刷】'!$H$2=\"変更後注文金額\",'契約2号(2)【印刷】'!F38,'契約2号(2)【印刷】'!I38)","v":""},{"$f":"IF('契約2号(2)【印刷】'!$H$2=\"変更後注文金額\",'契約2号(2)【印刷】'!G38,'契約2号(2)【印刷】'!J38)","v":""},null,"",""]
[{"$f":"'契約2号(2)【印刷】'!A39","v":36},{"$f":"'契約2号(2)【印刷】'!B39","v":0},{"$f":"'契約2号(2)【印刷】'!C39","v":0},{"$f":"'契約2号(2)【印刷】'!D39","v":0},{"$f":"IF('契約2号(2)【印刷】'!$H$2=\"変更後注文金額\",'契約2号(2)【印刷】'!E39,'契約2号(2)【印刷】'!H39)","v":""},{"$f":"IF('契約2号(2)【印刷】'!$H$2=\"変更後注文金額\",'契約2号(2)【印刷】'!F39,'契約2号(2)【印刷】'!I39)","v":""},{"$f":"IF('契約2号(2)【印刷】'!$H$2=\"変更後注文金額\",'契約2号(2)【印刷】'!G39,'契約2号(2)【印刷】'!J39)","v":""},null,"",""]
[{"$f":"'契約2号(2)【印刷】'!A40","v":37},{"$f":"'契約2号(2)【印刷】'!B40","v":0},{"$f":"'契約2号(2)【印刷】'!C40","v":0},{"$f":"'契約2号(2)【印刷】'!D40","v":0},{"$f":"IF('契約2号(2)【印刷】'!$H$2=\"変更後注文金額\",'契約2号(2)【印刷】'!E40,'契約2号(2)【印刷】'!H40)","v":""},{"$f":"IF('契約2号(2)【印刷】'!$H$2=\"変更後注文金額\",'契約2号(2)【印刷】'!F40,'契約2号(2)【印刷】'!I40)","v":""},{"$f":"IF('契約2号(2)【印刷】'!$H$2=\"変更後注文金額\",'契約2号(2)【印刷】'!G40,'契約2号(2)【印刷】'!J40)","v":""},null,"",""]
[{"$f":"'契約2号(2)【印刷】'!A41","v":38},{"$f":"'契約2号(2)【印刷】'!B41","v":0},{"$f":"'契約2号(2)【印刷】'!C41","v":0},{"$f":"'契約2号(2)【印刷】'!D41","v":0},{"$f":"IF('契約2号(2)【印刷】'!$H$2=\"変更後注文金額\",'契約2号(2)【印刷】'!E41,'契約2号(2)【印刷】'!H41)","v":""},{"$f":"IF('契約2号(2)【印刷】'!$H$2=\"変更後注文金額\",'契約2号(2)【印刷】'!F41,'契約2号(2)【印刷】'!I41)","v":""},{"$f":"IF('契約2号(2)【印刷】'!$H$2=\"変更後注文金額\",'契約2号(2)【印刷】'!G41,'契約2号(2)【印刷】'!J41)","v":""},null,"",""]
[{"$f":"'契約2号(2)【印刷】'!A42","v":39},{"$f":"'契約2号(2)【印刷】'!B42","v":0},{"$f":"'契約2号(2)【印刷】'!C42","v":0},{"$f":"'契約2号(2)【印刷】'!D42","v":0},{"$f":"IF('契約2号(2)【印刷】'!$H$2=\"変更後注文金額\",'契約2号(2)【印刷】'!E42,'契約2号(2)【印刷】'!H42)","v":""},{"$f":"IF('契約2号(2)【印刷】'!$H$2=\"変更後注文金額\",'契約2号(2)【印刷】'!F42,'契約2号(2)【印刷】'!I42)","v":""},{"$f":"IF('契約2号(2)【印刷】'!$H$2=\"変更後注文金額\",'契約2号(2)【印刷】'!G42,'契約2号(2)【印刷】'!J42)","v":""},null,"",""]
[{"$f":"'契約2号(2)【印刷】'!A43","v":40},{"$f":"'契約2号(2)【印刷】'!B43","v":0},{"$f":"'契約2号(2)【印刷】'!C43","v":0},{"$f":"'契約2号(2)【印刷】'!D43","v":0},{"$f":"IF('契約2号(2)【印刷】'!$H$2=\"変更後注文金額\",'契約2号(2)【印刷】'!E43,'契約2号(2)【印刷】'!H43)","v":""},{"$f":"IF('契約2号(2)【印刷】'!$H$2=\"変更後注文金額\",'契約2号(2)【印刷】'!F43,'契約2号(2)【印刷】'!I43)","v":""},{"$f":"IF('契約2号(2)【印刷】'!$H$2=\"変更後注文金額\",'契約2号(2)【印刷】'!G43,'契約2号(2)【印刷】'!J43)","v":""},null,"",""]
[{"$f":"'契約2号(2)【印刷】'!A44","v":41},{"$f":"'契約2号(2)【印刷】'!B44","v":0},{"$f":"'契約2号(2)【印刷】'!C44","v":0},{"$f":"'契約2号(2)【印刷】'!D44","v":0},{"$f":"IF('契約2号(2)【印刷】'!$H$2=\"変更後注文金額\",'契約2号(2)【印刷】'!E44,'契約2号(2)【印刷】'!H44)","v":""},{"$f":"IF('契約2号(2)【印刷】'!$H$2=\"変更後注文金額\",'契約2号(2)【印刷】'!F44,'契約2号(2)【印刷】'!I44)","v":""},{"$f":"IF('契約2号(2)【印刷】'!$H$2=\"変更後注文金額\",'契約2号(2)【印刷】'!G44,'契約2号(2)【印刷】'!J44)","v":""},null,"",""]
[{"$f":"'契約2号(2)【印刷】'!A45","v":42},{"$f":"'契約2号(2)【印刷】'!B45","v":0},{"$f":"'契約2号(2)【印刷】'!C45","v":0},{"$f":"'契約2号(2)【印刷】'!D45","v":0},{"$f":"IF('契約2号(2)【印刷】'!$H$2=\"変更後注文金額\",'契約2号(2)【印刷】'!E45,'契約2号(2)【印刷】'!H45)","v":""},{"$f":"IF('契約2号(2)【印刷】'!$H$2=\"変更後注文金額\",'契約2号(2)【印刷】'!F45,'契約2号(2)【印刷】'!I45)","v":""},{"$f":"IF('契約2号(2)【印刷】'!$H$2=\"変更後注文金額\",'契約2号(2)【印刷】'!G45,'契約2号(2)【印刷】'!J45)","v":""},null,"",""]
[{"$f":"'契約2号(2)【印刷】'!A46","v":43},{"$f":"'契約2号(2)【印刷】'!B46","v":0},{"$f":"'契約2号(2)【印刷】'!C46","v":0},{"$f":"'契約2号(2)【印刷】'!D46","v":0},{"$f":"IF('契約2号(2)【印刷】'!$H$2=\"変更後注文金額\",'契約2号(2)【印刷】'!E46,'契約2号(2)【印刷】'!H46)","v":""},{"$f":"IF('契約2号(2)【印刷】'!$H$2=\"変更後注文金額\",'契約2号(2)【印刷】'!F46,'契約2号(2)【印刷】'!I46)","v":""},{"$f":"IF('契約2号(2)【印刷】'!$H$2=\"変更後注文金額\",'契約2号(2)【印刷】'!G46,'契約2号(2)【印刷】'!J46)","v":""},null,"",""]
[{"$f":"'契約2号(2)【印刷】'!A47","v":44},{"$f":"'契約2号(2)【印刷】'!B47","v":0},{"$f":"'契約2号(2)【印刷】'!C47","v":0},{"$f":"'契約2号(2)【印刷】'!D47","v":0},{"$f":"IF('契約2号(2)【印刷】'!$H$2=\"変更後注文金額\",'契約2号(2)【印刷】'!E47,'契約2号(2)【印刷】'!H47)","v":""},{"$f":"IF('契約2号(2)【印刷】'!$H$2=\"変更後注文金額\",'契約2号(2)【印刷】'!F47,'契約2号(2)【印刷】'!I47)","v":""},{"$f":"IF('契約2号(2)【印刷】'!$H$2=\"変更後注文金額\",'契約2号(2)【印刷】'!G47,'契約2号(2)【印刷】'!J47)","v":""},null,"",""]
[{"$f":"'契約2号(2)【印刷】'!A48","v":45},{"$f":"'契約2号(2)【印刷】'!B48","v":0},{"$f":"'契約2号(2)【印刷】'!C48","v":0},{"$f":"'契約2号(2)【印刷】'!D48","v":0},{"$f":"IF('契約2号(2)【印刷】'!$H$2=\"変更後注文金額\",'契約2号(2)【印刷】'!E48,'契約2号(2)【印刷】'!H48)","v":""},{"$f":"IF('契約2号(2)【印刷】'!$H$2=\"変更後注文金額\",'契約2号(2)【印刷】'!F48,'契約2号(2)【印刷】'!I48)","v":""},{"$f":"IF('契約2号(2)【印刷】'!$H$2=\"変更後注文金額\",'契約2号(2)【印刷】'!G48,'契約2号(2)【印刷】'!J48)","v":""},null,"",""]
[{"$f":"'契約2号(2)【印刷】'!A49","v":46},{"$f":"'契約2号(2)【印刷】'!B49","v":0},{"$f":"'契約2号(2)【印刷】'!C49","v":0},{"$f":"'契約2号(2)【印刷】'!D49","v":0},{"$f":"IF('契約2号(2)【印刷】'!$H$2=\"変更後注文金額\",'契約2号(2)【印刷】'!E49,'契約2号(2)【印刷】'!H49)","v":""},{"$f":"IF('契約2号(2)【印刷】'!$H$2=\"変更後注文金額\",'契約2号(2)【印刷】'!F49,'契約2号(2)【印刷】'!I49)","v":""},{"$f":"IF('契約2号(2)【印刷】'!$H$2=\"変更後注文金額\",'契約2号(2)【印刷】'!G49,'契約2号(2)【印刷】'!J49)","v":""},null,"",""]
[{"$f":"'契約2号(2)【印刷】'!A50","v":47},{"$f":"'契約2号(2)【印刷】'!B50","v":0},{"$f":"'契約2号(2)【印刷】'!C50","v":0},{"$f":"'契約2号(2)【印刷】'!D50","v":0},{"$f":"IF('契約2号(2)【印刷】'!$H$2=\"変更後注文金額\",'契約2号(2)【印刷】'!E50,'契約2号(2)【印刷】'!H50)","v":""},{"$f":"IF('契約2号(2)【印刷】'!$H$2=\"変更後注文金額\",'契約2号(2)【印刷】'!F50,'契約2号(2)【印刷】'!I50)","v":""},{"$f":"IF('契約2号(2)【印刷】'!$H$2=\"変更後注文金額\",'契約2号(2)【印刷】'!G50,'契約2号(2)【印刷】'!J50)","v":""},null,"",""]
[{"$f":"'契約2号(2)【印刷】'!A51","v":48},{"$f":"'契約2号(2)【印刷】'!B51","v":0},{"$f":"'契約2号(2)【印刷】'!C51","v":0},{"$f":"'契約2号(2)【印刷】'!D51","v":0},{"$f":"IF('契約2号(2)【印刷】'!$H$2=\"変更後注文金額\",'契約2号(2)【印刷】'!E51,'契約2号(2)【印刷】'!H51)","v":""},{"$f":"IF('契約2号(2)【印刷】'!$H$2=\"変更後注文金額\",'契約2号(2)【印刷】'!F51,'契約2号(2)【印刷】'!I51)","v":""},{"$f":"IF('契約2号(2)【印刷】'!$H$2=\"変更後注文金額\",'契約2号(2)【印刷】'!G51,'契約2号(2)【印刷】'!J51)","v":""},null,"",""]
[{"$f":"'契約2号(2)【印刷】'!A52","v":49},{"$f":"'契約2号(2)【印刷】'!B52","v":0},{"$f":"'契約2号(2)【印刷】'!C52","v":0},{"$f":"'契約2号(2)【印刷】'!D52","v":0},{"$f":"IF('契約2号(2)【印刷】'!$H$2=\"変更後注文金額\",'契約2号(2)【印刷】'!E52,'契約2号(2)【印刷】'!H52)","v":""},{"$f":"IF('契約2号(2)【印刷】'!$H$2=\"変更後注文金額\",'契約2号(2)【印刷】'!F52,'契約2号(2)【印刷】'!I52)","v":""},{"$f":"IF('契約2号(2)【印刷】'!$H$2=\"変更後注文金額\",'契約2号(2)【印刷】'!G52,'契約2号(2)【印刷】'!J52)","v":""},null,"",""]
[{"$f":"'契約2号(2)【印刷】'!A53","v":50},{"$f":"'契約2号(2)【印刷】'!B53","v":0},{"$f":"'契約2号(2)【印刷】'!C53","v":0},{"$f":"'契約2号(2)【印刷】'!D53","v":0},{"$f":"IF('契約2号(2)【印刷】'!$H$2=\"変更後注文金額\",'契約2号(2)【印刷】'!E53,'契約2号(2)【印刷】'!H53)","v":""},{"$f":"IF('契約2号(2)【印刷】'!$H$2=\"変更後注文金額\",'契約2号(2)【印刷】'!F53,'契約2号(2)【印刷】'!I53)","v":""},{"$f":"IF('契約2号(2)【印刷】'!$H$2=\"変更後注文金額\",'契約2号(2)【印刷】'!G53,'契約2号(2)【印刷】'!J53)","v":""},null,"",""]
[{"$f":"'契約2号(2)【印刷】'!A54","v":51},{"$f":"'契約2号(2)【印刷】'!B54","v":0},{"$f":"'契約2号(2)【印刷】'!C54","v":0},{"$f":"'契約2号(2)【印刷】'!D54","v":0},{"$f":"IF('契約2号(2)【印刷】'!$H$2=\"変更後注文金額\",'契約2号(2)【印刷】'!E54,'契約2号(2)【印刷】'!H54)","v":""},{"$f":"IF('契約2号(2)【印刷】'!$H$2=\"変更後注文金額\",'契約2号(2)【印刷】'!F54,'契約2号(2)【印刷】'!I54)","v":""},{"$f":"IF('契約2号(2)【印刷】'!$H$2=\"変更後注文金額\",'契約2号(2)【印刷】'!G54,'契約2号(2)【印刷】'!J54)","v":""},null,"",""]
[{"$f":"'契約2号(2)【印刷】'!A55","v":52},{"$f":"'契約2号(2)【印刷】'!B55","v":0},{"$f":"'契約2号(2)【印刷】'!C55","v":0},{"$f":"'契約2号(2)【印刷】'!D55","v":0},{"$f":"IF('契約2号(2)【印刷】'!$H$2=\"変更後注文金額\",'契約2号(2)【印刷】'!E55,'契約2号(2)【印刷】'!H55)","v":""},{"$f":"IF('契約2号(2)【印刷】'!$H$2=\"変更後注文金額\",'契約2号(2)【印刷】'!F55,'契約2号(2)【印刷】'!I55)","v":""},{"$f":"IF('契約2号(2)【印刷】'!$H$2=\"変更後注文金額\",'契約2号(2)【印刷】'!G55,'契約2号(2)【印刷】'!J55)","v":""},null,"",""]
[{"$f":"'契約2号(2)【印刷】'!A56","v":53},{"$f":"'契約2号(2)【印刷】'!B56","v":0},{"$f":"'契約2号(2)【印刷】'!C56","v":0},{"$f":"'契約2号(2)【印刷】'!D56","v":0},{"$f":"IF('契約2号(2)【印刷】'!$H$2=\"変更後注文金額\",'契約2号(2)【印刷】'!E56,'契約2号(2)【印刷】'!H56)","v":""},{"$f":"IF('契約2号(2)【印刷】'!$H$2=\"変更後注文金額\",'契約2号(2)【印刷】'!F56,'契約2号(2)【印刷】'!I56)","v":""},{"$f":"IF('契約2号(2)【印刷】'!$H$2=\"変更後注文金額\",'契約2号(2)【印刷】'!G56,'契約2号(2)【印刷】'!J56)","v":""},null,"",""]
[{"$f":"'契約2号(2)【印刷】'!A57","v":54},{"$f":"'契約2号(2)【印刷】'!B57","v":0},{"$f":"'契約2号(2)【印刷】'!C57","v":0},{"$f":"'契約2号(2)【印刷】'!D57","v":0},{"$f":"IF('契約2号(2)【印刷】'!$H$2=\"変更後注文金額\",'契約2号(2)【印刷】'!E57,'契約2号(2)【印刷】'!H57)","v":""},{"$f":"IF('契約2号(2)【印刷】'!$H$2=\"変更後注文金額\",'契約2号(2)【印刷】'!F57,'契約2号(2)【印刷】'!I57)","v":""},{"$f":"IF('契約2号(2)【印刷】'!$H$2=\"変更後注文金額\",'契約2号(2)【印刷】'!G57,'契約2号(2)【印刷】'!J57)","v":""},null,"",""]
[{"$f":"'契約2号(2)【印刷】'!A58","v":55},{"$f":"'契約2号(2)【印刷】'!B58","v":0},{"$f":"'契約2号(2)【印刷】'!C58","v":0},{"$f":"'契約2号(2)【印刷】'!D58","v":0},{"$f":"IF('契約2号(2)【印刷】'!$H$2=\"変更後注文金額\",'契約2号(2)【印刷】'!E58,'契約2号(2)【印刷】'!H58)","v":""},{"$f":"IF('契約2号(2)【印刷】'!$H$2=\"変更後注文金額\",'契約2号(2)【印刷】'!F58,'契約2号(2)【印刷】'!I58)","v":""},{"$f":"IF('契約2号(2)【印刷】'!$H$2=\"変更後注文金額\",'契約2号(2)【印刷】'!G58,'契約2号(2)【印刷】'!J58)","v":""},null,"",""]
[{"$f":"'契約2号(2)【印刷】'!A59","v":56},{"$f":"'契約2号(2)【印刷】'!B59","v":0},{"$f":"'契約2号(2)【印刷】'!C59","v":0},{"$f":"'契約2号(2)【印刷】'!D59","v":0},{"$f":"IF('契約2号(2)【印刷】'!$H$2=\"変更後注文金額\",'契約2号(2)【印刷】'!E59,'契約2号(2)【印刷】'!H59)","v":""},{"$f":"IF('契約2号(2)【印刷】'!$H$2=\"変更後注文金額\",'契約2号(2)【印刷】'!F59,'契約2号(2)【印刷】'!I59)","v":""},{"$f":"IF('契約2号(2)【印刷】'!$H$2=\"変更後注文金額\",'契約2号(2)【印刷】'!G59,'契約2号(2)【印刷】'!J59)","v":""},null,"",""]
[{"$f":"'契約2号(2)【印刷】'!A60","v":57},{"$f":"'契約2号(2)【印刷】'!B60","v":0},{"$f":"'契約2号(2)【印刷】'!C60","v":0},{"$f":"'契約2号(2)【印刷】'!D60","v":0},{"$f":"IF('契約2号(2)【印刷】'!$H$2=\"変更後注文金額\",'契約2号(2)【印刷】'!E60,'契約2号(2)【印刷】'!H60)","v":""},{"$f":"IF('契約2号(2)【印刷】'!$H$2=\"変更後注文金額\",'契約2号(2)【印刷】'!F60,'契約2号(2)【印刷】'!I60)","v":""},{"$f":"IF('契約2号(2)【印刷】'!$H$2=\"変更後注文金額\",'契約2号(2)【印刷】'!G60,'契約2号(2)【印刷】'!J60)","v":""},null,"",""]
[{"$f":"'契約2号(2)【印刷】'!A61","v":58},{"$f":"'契約2号(2)【印刷】'!B61","v":0},{"$f":"'契約2号(2)【印刷】'!C61","v":0},{"$f":"'契約2号(2)【印刷】'!D61","v":0},{"$f":"IF('契約2号(2)【印刷】'!$H$2=\"変更後注文金額\",'契約2号(2)【印刷】'!E61,'契約2号(2)【印刷】'!H61)","v":""},{"$f":"IF('契約2号(2)【印刷】'!$H$2=\"変更後注文金額\",'契約2号(2)【印刷】'!F61,'契約2号(2)【印刷】'!I61)","v":""},{"$f":"IF('契約2号(2)【印刷】'!$H$2=\"変更後注文金額\",'契約2号(2)【印刷】'!G61,'契約2号(2)【印刷】'!J61)","v":""},null,"",""]
[{"$f":"'契約2号(2)【印刷】'!A62","v":59},{"$f":"'契約2号(2)【印刷】'!B62","v":0},{"$f":"'契約2号(2)【印刷】'!C62","v":0},{"$f":"'契約2号(2)【印刷】'!D62","v":0},{"$f":"IF('契約2号(2)【印刷】'!$H$2=\"変更後注文金額\",'契約2号(2)【印刷】'!E62,'契約2号(2)【印刷】'!H62)","v":""},{"$f":"IF('契約2号(2)【印刷】'!$H$2=\"変更後注文金額\",'契約2号(2)【印刷】'!F62,'契約2号(2)【印刷】'!I62)","v":""},{"$f":"IF('契約2号(2)【印刷】'!$H$2=\"変更後注文金額\",'契約2号(2)【印刷】'!G62,'契約2号(2)【印刷】'!J62)","v":""},null,"",""]
[{"$f":"'契約2号(2)【印刷】'!A63","v":60},{"$f":"'契約2号(2)【印刷】'!B63","v":0},{"$f":"'契約2号(2)【印刷】'!C63","v":0},{"$f":"'契約2号(2)【印刷】'!D63","v":0},{"$f":"IF('契約2号(2)【印刷】'!$H$2=\"変更後注文金額\",'契約2号(2)【印刷】'!E63,'契約2号(2)【印刷】'!H63)","v":""},{"$f":"IF('契約2号(2)【印刷】'!$H$2=\"変更後注文金額\",'契約2号(2)【印刷】'!F63,'契約2号(2)【印刷】'!I63)","v":""},{"$f":"IF('契約2号(2)【印刷】'!$H$2=\"変更後注文金額\",'契約2号(2)【印刷】'!G63,'契約2号(2)【印刷】'!J63)","v":""},null,"","","②"]
[{"$f":"'契約2号(2)【印刷】'!A64","v":61},{"$f":"'契約2号(2)【印刷】'!B64","v":0},{"$f":"'契約2号(2)【印刷】'!C64","v":0},{"$f":"'契約2号(2)【印刷】'!D64","v":0},{"$f":"IF('契約2号(2)【印刷】'!$H$2=\"変更後注文金額\",'契約2号(2)【印刷】'!E64,'契約2号(2)【印刷】'!H64)","v":""},{"$f":"IF('契約2号(2)【印刷】'!$H$2=\"変更後注文金額\",'契約2号(2)【印刷】'!F64,'契約2号(2)【印刷】'!I64)","v":""},{"$f":"IF('契約2号(2)【印刷】'!$H$2=\"変更後注文金額\",'契約2号(2)【印刷】'!G64,'契約2号(2)【印刷】'!J64)","v":""},null,"",""]
[{"$f":"'契約2号(2)【印刷】'!A65","v":62},{"$f":"'契約2号(2)【印刷】'!B65","v":0},{"$f":"'契約2号(2)【印刷】'!C65","v":0},{"$f":"'契約2号(2)【印刷】'!D65","v":0},{"$f":"IF('契約2号(2)【印刷】'!$H$2=\"変更後注文金額\",'契約2号(2)【印刷】'!E65,'契約2号(2)【印刷】'!H65)","v":""},{"$f":"IF('契約2号(2)【印刷】'!$H$2=\"変更後注文金額\",'契約2号(2)【印刷】'!F65,'契約2号(2)【印刷】'!I65)","v":""},{"$f":"IF('契約2号(2)【印刷】'!$H$2=\"変更後注文金額\",'契約2号(2)【印刷】'!G65,'契約2号(2)【印刷】'!J65)","v":""},null,"",""]
[{"$f":"'契約2号(2)【印刷】'!A66","v":63},{"$f":"'契約2号(2)【印刷】'!B66","v":0},{"$f":"'契約2号(2)【印刷】'!C66","v":0},{"$f":"'契約2号(2)【印刷】'!D66","v":0},{"$f":"IF('契約2号(2)【印刷】'!$H$2=\"変更後注文金額\",'契約2号(2)【印刷】'!E66,'契約2号(2)【印刷】'!H66)","v":""},{"$f":"IF('契約2号(2)【印刷】'!$H$2=\"変更後注文金額\",'契約2号(2)【印刷】'!F66,'契約2号(2)【印刷】'!I66)","v":""},{"$f":"IF('契約2号(2)【印刷】'!$H$2=\"変更後注文金額\",'契約2号(2)【印刷】'!G66,'契約2号(2)【印刷】'!J66)","v":""},null,"",""]
[{"$f":"'契約2号(2)【印刷】'!A67","v":64},{"$f":"'契約2号(2)【印刷】'!B67","v":0},{"$f":"'契約2号(2)【印刷】'!C67","v":0},{"$f":"'契約2号(2)【印刷】'!D67","v":0},{"$f":"IF('契約2号(2)【印刷】'!$H$2=\"変更後注文金額\",'契約2号(2)【印刷】'!E67,'契約2号(2)【印刷】'!H67)","v":""},{"$f":"IF('契約2号(2)【印刷】'!$H$2=\"変更後注文金額\",'契約2号(2)【印刷】'!F67,'契約2号(2)【印刷】'!I67)","v":""},{"$f":"IF('契約2号(2)【印刷】'!$H$2=\"変更後注文金額\",'契約2号(2)【印刷】'!G67,'契約2号(2)【印刷】'!J67)","v":""},null,"",""]
[{"$f":"'契約2号(2)【印刷】'!A68","v":65},{"$f":"'契約2号(2)【印刷】'!B68","v":0},{"$f":"'契約2号(2)【印刷】'!C68","v":0},{"$f":"'契約2号(2)【印刷】'!D68","v":0},{"$f":"IF('契約2号(2)【印刷】'!$H$2=\"変更後注文金額\",'契約2号(2)【印刷】'!E68,'契約2号(2)【印刷】'!H68)","v":""},{"$f":"IF('契約2号(2)【印刷】'!$H$2=\"変更後注文金額\",'契約2号(2)【印刷】'!F68,'契約2号(2)【印刷】'!I68)","v":""},{"$f":"IF('契約2号(2)【印刷】'!$H$2=\"変更後注文金額\",'契約2号(2)【印刷】'!G68,'契約2号(2)【印刷】'!J68)","v":""},null,"",""]
[{"$f":"'契約2号(2)【印刷】'!A69","v":66},{"$f":"'契約2号(2)【印刷】'!B69","v":0},{"$f":"'契約2号(2)【印刷】'!C69","v":0},{"$f":"'契約2号(2)【印刷】'!D69","v":0},{"$f":"IF('契約2号(2)【印刷】'!$H$2=\"変更後注文金額\",'契約2号(2)【印刷】'!E69,'契約2号(2)【印刷】'!H69)","v":""},{"$f":"IF('契約2号(2)【印刷】'!$H$2=\"変更後注文金額\",'契約2号(2)【印刷】'!F69,'契約2号(2)【印刷】'!I69)","v":""},{"$f":"IF('契約2号(2)【印刷】'!$H$2=\"変更後注文金額\",'契約2号(2)【印刷】'!G69,'契約2号(2)【印刷】'!J69)","v":""},null,"",""]
[{"$f":"'契約2号(2)【印刷】'!A70","v":67},{"$f":"'契約2号(2)【印刷】'!B70","v":0},{"$f":"'契約2号(2)【印刷】'!C70","v":0},{"$f":"'契約2号(2)【印刷】'!D70","v":0},{"$f":"IF('契約2号(2)【印刷】'!$H$2=\"変更後注文金額\",'契約2号(2)【印刷】'!E70,'契約2号(2)【印刷】'!H70)","v":""},{"$f":"IF('契約2号(2)【印刷】'!$H$2=\"変更後注文金額\",'契約2号(2)【印刷】'!F70,'契約2号(2)【印刷】'!I70)","v":""},{"$f":"IF('契約2号(2)【印刷】'!$H$2=\"変更後注文金額\",'契約2号(2)【印刷】'!G70,'契約2号(2)【印刷】'!J70)","v":""},null,"",""]
[{"$f":"'契約2号(2)【印刷】'!A71","v":68},{"$f":"'契約2号(2)【印刷】'!B71","v":0},{"$f":"'契約2号(2)【印刷】'!C71","v":0},{"$f":"'契約2号(2)【印刷】'!D71","v":0},{"$f":"IF('契約2号(2)【印刷】'!$H$2=\"変更後注文金額\",'契約2号(2)【印刷】'!E71,'契約2号(2)【印刷】'!H71)","v":""},{"$f":"IF('契約2号(2)【印刷】'!$H$2=\"変更後注文金額\",'契約2号(2)【印刷】'!F71,'契約2号(2)【印刷】'!I71)","v":""},{"$f":"IF('契約2号(2)【印刷】'!$H$2=\"変更後注文金額\",'契約2号(2)【印刷】'!G71,'契約2号(2)【印刷】'!J71)","v":""},null,"",""]
[{"$f":"'契約2号(2)【印刷】'!A72","v":69},{"$f":"'契約2号(2)【印刷】'!B72","v":0},{"$f":"'契約2号(2)【印刷】'!C72","v":0},{"$f":"'契約2号(2)【印刷】'!D72","v":0},{"$f":"IF('契約2号(2)【印刷】'!$H$2=\"変更後注文金額\",'契約2号(2)【印刷】'!E72,'契約2号(2)【印刷】'!H72)","v":""},{"$f":"IF('契約2号(2)【印刷】'!$H$2=\"変更後注文金額\",'契約2号(2)【印刷】'!F72,'契約2号(2)【印刷】'!I72)","v":""},{"$f":"IF('契約2号(2)【印刷】'!$H$2=\"変更後注文金額\",'契約2号(2)【印刷】'!G72,'契約2号(2)【印刷】'!J72)","v":""},null,"",""]
[{"$f":"'契約2号(2)【印刷】'!A73","v":70},{"$f":"'契約2号(2)【印刷】'!B73","v":0},{"$f":"'契約2号(2)【印刷】'!C73","v":0},{"$f":"'契約2号(2)【印刷】'!D73","v":0},{"$f":"IF('契約2号(2)【印刷】'!$H$2=\"変更後注文金額\",'契約2号(2)【印刷】'!E73,'契約2号(2)【印刷】'!H73)","v":""},{"$f":"IF('契約2号(2)【印刷】'!$H$2=\"変更後注文金額\",'契約2号(2)【印刷】'!F73,'契約2号(2)【印刷】'!I73)","v":""},{"$f":"IF('契約2号(2)【印刷】'!$H$2=\"変更後注文金額\",'契約2号(2)【印刷】'!G73,'契約2号(2)【印刷】'!J73)","v":""},null,{"$f":"IF(OR(F73=\"\",H73=\"\"),\"\",ROUNDDOWN(F73*H73,0))","v":""},{"$f":"IF(OR(G73=\"\",I73=\"\"),\"\",I73/G73)","v":""}]
[{"$f":"'契約2号(2)【印刷】'!A74","v":71},{"$f":"'契約2号(2)【印刷】'!B74","v":0},{"$f":"'契約2号(2)【印刷】'!C74","v":0},{"$f":"'契約2号(2)【印刷】'!D74","v":0},{"$f":"IF('契約2号(2)【印刷】'!$H$2=\"変更後注文金額\",'契約2号(2)【印刷】'!E74,'契約2号(2)【印刷】'!H74)","v":""},{"$f":"IF('契約2号(2)【印刷】'!$H$2=\"変更後注文金額\",'契約2号(2)【印刷】'!F74,'契約2号(2)【印刷】'!I74)","v":""},{"$f":"IF('契約2号(2)【印刷】'!$H$2=\"変更後注文金額\",'契約2号(2)【印刷】'!G74,'契約2号(2)【印刷】'!J74)","v":""},null,"",""]
[{"$f":"'契約2号(2)【印刷】'!A75","v":72},{"$f":"'契約2号(2)【印刷】'!B75","v":0},{"$f":"'契約2号(2)【印刷】'!C75","v":0},{"$f":"'契約2号(2)【印刷】'!D75","v":0},{"$f":"IF('契約2号(2)【印刷】'!$H$2=\"変更後注文金額\",'契約2号(2)【印刷】'!E75,'契約2号(2)【印刷】'!H75)","v":""},{"$f":"IF('契約2号(2)【印刷】'!$H$2=\"変更後注文金額\",'契約2号(2)【印刷】'!F75,'契約2号(2)【印刷】'!I75)","v":""},{"$f":"IF('契約2号(2)【印刷】'!$H$2=\"変更後注文金額\",'契約2号(2)【印刷】'!G75,'契約2号(2)【印刷】'!J75)","v":""},null,"",""]
[{"$f":"'契約2号(2)【印刷】'!A76","v":73},{"$f":"'契約2号(2)【印刷】'!B76","v":0},{"$f":"'契約2号(2)【印刷】'!C76","v":0},{"$f":"'契約2号(2)【印刷】'!D76","v":0},{"$f":"IF('契約2号(2)【印刷】'!$H$2=\"変更後注文金額\",'契約2号(2)【印刷】'!E76,'契約2号(2)【印刷】'!H76)","v":""},{"$f":"IF('契約2号(2)【印刷】'!$H$2=\"変更後注文金額\",'契約2号(2)【印刷】'!F76,'契約2号(2)【印刷】'!I76)","v":""},{"$f":"IF('契約2号(2)【印刷】'!$H$2=\"変更後注文金額\",'契約2号(2)【印刷】'!G76,'契約2号(2)【印刷】'!J76)","v":""},null,"",""]
[{"$f":"'契約2号(2)【印刷】'!A77","v":74},{"$f":"'契約2号(2)【印刷】'!B77","v":0},{"$f":"'契約2号(2)【印刷】'!C77","v":0},{"$f":"'契約2号(2)【印刷】'!D77","v":0},{"$f":"IF('契約2号(2)【印刷】'!$H$2=\"変更後注文金額\",'契約2号(2)【印刷】'!E77,'契約2号(2)【印刷】'!H77)","v":""},{"$f":"IF('契約2号(2)【印刷】'!$H$2=\"変更後注文金額\",'契約2号(2)【印刷】'!F77,'契約2号(2)【印刷】'!I77)","v":""},{"$f":"IF('契約2号(2)【印刷】'!$H$2=\"変更後注文金額\",'契約2号(2)【印刷】'!G77,'契約2号(2)【印刷】'!J77)","v":""},null,"",""]
[{"$f":"'契約2号(2)【印刷】'!A78","v":75},{"$f":"'契約2号(2)【印刷】'!B78","v":0},{"$f":"'契約2号(2)【印刷】'!C78","v":0},{"$f":"'契約2号(2)【印刷】'!D78","v":0},{"$f":"IF('契約2号(2)【印刷】'!$H$2=\"変更後注文金額\",'契約2号(2)【印刷】'!E78,'契約2号(2)【印刷】'!H78)","v":""},{"$f":"IF('契約2号(2)【印刷】'!$H$2=\"変更後注文金額\",'契約2号(2)【印刷】'!F78,'契約2号(2)【印刷】'!I78)","v":""},{"$f":"IF('契約2号(2)【印刷】'!$H$2=\"変更後注文金額\",'契約2号(2)【印刷】'!G78,'契約2号(2)【印刷】'!J78)","v":""},null,"",""]
[{"$f":"'契約2号(2)【印刷】'!A79","v":76},{"$f":"'契約2号(2)【印刷】'!B79","v":0},{"$f":"'契約2号(2)【印刷】'!C79","v":0},{"$f":"'契約2号(2)【印刷】'!D79","v":0},{"$f":"IF('契約2号(2)【印刷】'!$H$2=\"変更後注文金額\",'契約2号(2)【印刷】'!E79,'契約2号(2)【印刷】'!H79)","v":""},{"$f":"IF('契約2号(2)【印刷】'!$H$2=\"変更後注文金額\",'契約2号(2)【印刷】'!F79,'契約2号(2)【印刷】'!I79)","v":""},{"$f":"IF('契約2号(2)【印刷】'!$H$2=\"変更後注文金額\",'契約2号(2)【印刷】'!G79,'契約2号(2)【印刷】'!J79)","v":""},null,"",""]
[{"$f":"'契約2号(2)【印刷】'!A80","v":77},{"$f":"'契約2号(2)【印刷】'!B80","v":0},{"$f":"'契約2号(2)【印刷】'!C80","v":0},{"$f":"'契約2号(2)【印刷】'!D80","v":0},{"$f":"IF('契約2号(2)【印刷】'!$H$2=\"変更後注文金額\",'契約2号(2)【印刷】'!E80,'契約2号(2)【印刷】'!H80)","v":""},{"$f":"IF('契約2号(2)【印刷】'!$H$2=\"変更後注文金額\",'契約2号(2)【印刷】'!F80,'契約2号(2)【印刷】'!I80)","v":""},{"$f":"IF('契約2号(2)【印刷】'!$H$2=\"変更後注文金額\",'契約2号(2)【印刷】'!G80,'契約2号(2)【印刷】'!J80)","v":""},null,"",""]
[{"$f":"'契約2号(2)【印刷】'!A81","v":78},{"$f":"'契約2号(2)【印刷】'!B81","v":0},{"$f":"'契約2号(2)【印刷】'!C81","v":0},{"$f":"'契約2号(2)【印刷】'!D81","v":0},{"$f":"IF('契約2号(2)【印刷】'!$H$2=\"変更後注文金額\",'契約2号(2)【印刷】'!E81,'契約2号(2)【印刷】'!H81)","v":""},{"$f":"IF('契約2号(2)【印刷】'!$H$2=\"変更後注文金額\",'契約2号(2)【印刷】'!F81,'契約2号(2)【印刷】'!I81)","v":""},{"$f":"IF('契約2号(2)【印刷】'!$H$2=\"変更後注文金額\",'契約2号(2)【印刷】'!G81,'契約2号(2)【印刷】'!J81)","v":""},null,"",""]
[{"$f":"'契約2号(2)【印刷】'!A82","v":79},{"$f":"'契約2号(2)【印刷】'!B82","v":0},{"$f":"'契約2号(2)【印刷】'!C82","v":0},{"$f":"'契約2号(2)【印刷】'!D82","v":0},{"$f":"IF('契約2号(2)【印刷】'!$H$2=\"変更後注文金額\",'契約2号(2)【印刷】'!E82,'契約2号(2)【印刷】'!H82)","v":""},{"$f":"IF('契約2号(2)【印刷】'!$H$2=\"変更後注文金額\",'契約2号(2)【印刷】'!F82,'契約2号(2)【印刷】'!I82)","v":""},{"$f":"IF('契約2号(2)【印刷】'!$H$2=\"変更後注文金額\",'契約2号(2)【印刷】'!G82,'契約2号(2)【印刷】'!J82)","v":""},null,"",""]
[{"$f":"'契約2号(2)【印刷】'!A83","v":80},{"$f":"'契約2号(2)【印刷】'!B83","v":0},{"$f":"'契約2号(2)【印刷】'!C83","v":0},{"$f":"'契約2号(2)【印刷】'!D83","v":0},{"$f":"IF('契約2号(2)【印刷】'!$H$2=\"変更後注文金額\",'契約2号(2)【印刷】'!E83,'契約2号(2)【印刷】'!H83)","v":""},{"$f":"IF('契約2号(2)【印刷】'!$H$2=\"変更後注文金額\",'契約2号(2)【印刷】'!F83,'契約2号(2)【印刷】'!I83)","v":""},{"$f":"IF('契約2号(2)【印刷】'!$H$2=\"変更後注文金額\",'契約2号(2)【印刷】'!G83,'契約2号(2)【印刷】'!J83)","v":""},null,"",""]
[{"$f":"'契約2号(2)【印刷】'!A84","v":81},{"$f":"'契約2号(2)【印刷】'!B84","v":0},{"$f":"'契約2号(2)【印刷】'!C84","v":0},{"$f":"'契約2号(2)【印刷】'!D84","v":0},{"$f":"IF('契約2号(2)【印刷】'!$H$2=\"変更後注文金額\",'契約2号(2)【印刷】'!E84,'契約2号(2)【印刷】'!H84)","v":""},{"$f":"IF('契約2号(2)【印刷】'!$H$2=\"変更後注文金額\",'契約2号(2)【印刷】'!F84,'契約2号(2)【印刷】'!I84)","v":""},{"$f":"IF('契約2号(2)【印刷】'!$H$2=\"変更後注文金額\",'契約2号(2)【印刷】'!G84,'契約2号(2)【印刷】'!J84)","v":""},null,"",""]
[{"$f":"'契約2号(2)【印刷】'!A85","v":82},{"$f":"'契約2号(2)【印刷】'!B85","v":0},{"$f":"'契約2号(2)【印刷】'!C85","v":0},{"$f":"'契約2号(2)【印刷】'!D85","v":0},{"$f":"IF('契約2号(2)【印刷】'!$H$2=\"変更後注文金額\",'契約2号(2)【印刷】'!E85,'契約2号(2)【印刷】'!H85)","v":""},{"$f":"IF('契約2号(2)【印刷】'!$H$2=\"変更後注文金額\",'契約2号(2)【印刷】'!F85,'契約2号(2)【印刷】'!I85)","v":""},{"$f":"IF('契約2号(2)【印刷】'!$H$2=\"変更後注文金額\",'契約2号(2)【印刷】'!G85,'契約2号(2)【印刷】'!J85)","v":""},null,"",""]
[{"$f":"'契約2号(2)【印刷】'!A86","v":83},{"$f":"'契約2号(2)【印刷】'!B86","v":0},{"$f":"'契約2号(2)【印刷】'!C86","v":0},{"$f":"'契約2号(2)【印刷】'!D86","v":0},{"$f":"IF('契約2号(2)【印刷】'!$H$2=\"変更後注文金額\",'契約2号(2)【印刷】'!E86,'契約2号(2)【印刷】'!H86)","v":""},{"$f":"IF('契約2号(2)【印刷】'!$H$2=\"変更後注文金額\",'契約2号(2)【印刷】'!F86,'契約2号(2)【印刷】'!I86)","v":""},{"$f":"IF('契約2号(2)【印刷】'!$H$2=\"変更後注文金額\",'契約2号(2)【印刷】'!G86,'契約2号(2)【印刷】'!J86)","v":""},null,"",""]
[{"$f":"'契約2号(2)【印刷】'!A87","v":84},{"$f":"'契約2号(2)【印刷】'!B87","v":0},{"$f":"'契約2号(2)【印刷】'!C87","v":0},{"$f":"'契約2号(2)【印刷】'!D87","v":0},{"$f":"IF('契約2号(2)【印刷】'!$H$2=\"変更後注文金額\",'契約2号(2)【印刷】'!E87,'契約2号(2)【印刷】'!H87)","v":""},{"$f":"IF('契約2号(2)【印刷】'!$H$2=\"変更後注文金額\",'契約2号(2)【印刷】'!F87,'契約2号(2)【印刷】'!I87)","v":""},{"$f":"IF('契約2号(2)【印刷】'!$H$2=\"変更後注文金額\",'契約2号(2)【印刷】'!G87,'契約2号(2)【印刷】'!J87)","v":""},null,"",""]
[{"$f":"'契約2号(2)【印刷】'!A88","v":85},{"$f":"'契約2号(2)【印刷】'!B88","v":0},{"$f":"'契約2号(2)【印刷】'!C88","v":0},{"$f":"'契約2号(2)【印刷】'!D88","v":0},{"$f":"IF('契約2号(2)【印刷】'!$H$2=\"変更後注文金額\",'契約2号(2)【印刷】'!E88,'契約2号(2)【印刷】'!H88)","v":""},{"$f":"IF('契約2号(2)【印刷】'!$H$2=\"変更後注文金額\",'契約2号(2)【印刷】'!F88,'契約2号(2)【印刷】'!I88)","v":""},{"$f":"IF('契約2号(2)【印刷】'!$H$2=\"変更後注文金額\",'契約2号(2)【印刷】'!G88,'契約2号(2)【印刷】'!J88)","v":""},null,"",""]
[{"$f":"'契約2号(2)【印刷】'!A89","v":86},{"$f":"'契約2号(2)【印刷】'!B89","v":0},{"$f":"'契約2号(2)【印刷】'!C89","v":0},{"$f":"'契約2号(2)【印刷】'!D89","v":0},{"$f":"IF('契約2号(2)【印刷】'!$H$2=\"変更後注文金額\",'契約2号(2)【印刷】'!E89,'契約2号(2)【印刷】'!H89)","v":""},{"$f":"IF('契約2号(2)【印刷】'!$H$2=\"変更後注文金額\",'契約2号(2)【印刷】'!F89,'契約2号(2)【印刷】'!I89)","v":""},{"$f":"IF('契約2号(2)【印刷】'!$H$2=\"変更後注文金額\",'契約2号(2)【印刷】'!G89,'契約2号(2)【印刷】'!J89)","v":""},null,"",""]
[{"$f":"'契約2号(2)【印刷】'!A90","v":87},{"$f":"'契約2号(2)【印刷】'!B90","v":0},{"$f":"'契約2号(2)【印刷】'!C90","v":0},{"$f":"'契約2号(2)【印刷】'!D90","v":0},{"$f":"IF('契約2号(2)【印刷】'!$H$2=\"変更後注文金額\",'契約2号(2)【印刷】'!E90,'契約2号(2)【印刷】'!H90)","v":""},{"$f":"IF('契約2号(2)【印刷】'!$H$2=\"変更後注文金額\",'契約2号(2)【印刷】'!F90,'契約2号(2)【印刷】'!I90)","v":""},{"$f":"IF('契約2号(2)【印刷】'!$H$2=\"変更後注文金額\",'契約2号(2)【印刷】'!G90,'契約2号(2)【印刷】'!J90)","v":""},null,"",""]
[{"$f":"'契約2号(2)【印刷】'!A91","v":88},{"$f":"'契約2号(2)【印刷】'!B91","v":0},{"$f":"'契約2号(2)【印刷】'!C91","v":0},{"$f":"'契約2号(2)【印刷】'!D91","v":0},{"$f":"IF('契約2号(2)【印刷】'!$H$2=\"変更後注文金額\",'契約2号(2)【印刷】'!E91,'契約2号(2)【印刷】'!H91)","v":""},{"$f":"IF('契約2号(2)【印刷】'!$H$2=\"変更後注文金額\",'契約2号(2)【印刷】'!F91,'契約2号(2)【印刷】'!I91)","v":""},{"$f":"IF('契約2号(2)【印刷】'!$H$2=\"変更後注文金額\",'契約2号(2)【印刷】'!G91,'契約2号(2)【印刷】'!J91)","v":""},null,"",""]
[{"$f":"'契約2号(2)【印刷】'!A92","v":89},{"$f":"'契約2号(2)【印刷】'!B92","v":0},{"$f":"'契約2号(2)【印刷】'!C92","v":0},{"$f":"'契約2号(2)【印刷】'!D92","v":0},{"$f":"IF('契約2号(2)【印刷】'!$H$2=\"変更後注文金額\",'契約2号(2)【印刷】'!E92,'契約2号(2)【印刷】'!H92)","v":""},{"$f":"IF('契約2号(2)【印刷】'!$H$2=\"変更後注文金額\",'契約2号(2)【印刷】'!F92,'契約2号(2)【印刷】'!I92)","v":""},{"$f":"IF('契約2号(2)【印刷】'!$H$2=\"変更後注文金額\",'契約2号(2)【印刷】'!G92,'契約2号(2)【印刷】'!J92)","v":""},null,"",""]
[{"$f":"'契約2号(2)【印刷】'!A93","v":90},{"$f":"'契約2号(2)【印刷】'!B93","v":0},{"$f":"'契約2号(2)【印刷】'!C93","v":0},{"$f":"'契約2号(2)【印刷】'!D93","v":0},{"$f":"IF('契約2号(2)【印刷】'!$H$2=\"変更後注文金額\",'契約2号(2)【印刷】'!E93,'契約2号(2)【印刷】'!H93)","v":""},{"$f":"IF('契約2号(2)【印刷】'!$H$2=\"変更後注文金額\",'契約2号(2)【印刷】'!F93,'契約2号(2)【印刷】'!I93)","v":""},{"$f":"IF('契約2号(2)【印刷】'!$H$2=\"変更後注文金額\",'契約2号(2)【印刷】'!G93,'契約2号(2)【印刷】'!J93)","v":""},null,"","","③"]

{"sheet":"QR","index":14,"n_rows":6,"n_cols":4,"rows_kept":6,"cut":false,"hidden":true,"merged":[]}
["パラメータ",{"$f":"IF(請求3号!R27=請求3号!R30,\"0\",\"1\")","v":"0"}]
["仕入先CD",{"$f":"IF(D2=\"\",\"0000000\",TEXT(D2,\"0000000\"))","v":"0000000"},null,{"$f":"請求3号!AK4&請求3号!AO4&請求3号!AS4&請求3号!AW4&請求3号!BA4&請求3号!BE4&請求3号!BI4","v":"0"}]
["注文書番号",{"$f":"IF(D3=\"\",\"00000000000\",TEXT(D3,\"00000000000\"))","v":"00000000000"},null,{"$f":"請求3号!AM17&請求3号!AP17&請求3号!AS17&請求3号!AV17&請求3号!AY17&請求3号!BB17&請求3号!BE17&請求3号!BH17&請求3号!BK17&請求3号!BN17&請求3号!BQ17","v":""}]
["累計出来高",{"$f":"TEXT(請求3号!R27,\"0000000000\")","v":"0000000000"}]
["請求額",{"$f":"TEXT(請求3号!BC26,\"0000000000\")","v":"0000000000"}]
["結合",{"$f":"IF(B4=\"0000000000\",\"\",B1&B2&B3&B4&B5)","v":""}]